{"text_format":"3","workbook":"xlsx","n_sheets":8,"sheets":["专业总表 (2)","专业总表","环工16-1分数统计","环工16-1两年综测","环工16-1单算","环工62分数统计","环工62综测统计","环工62单算"],"not_rendered":{"external_links":1,"defined_names":2},"read":"whole","date_system":"1900"}

{"sheet":"专业总表 (2)","index":0,"n_rows":54,"n_cols":61,"rows_kept":54,"hidden":true,"merged":[[0,0,1,0],[0,1,1,1],[0,2,1,2]]}
["序号","姓名","学号","大一上学期",{"$nulls":7},"大一下学期",{"$nulls":9},"大二上学期",{"$nulls":10},"大二下学期",{"$nulls":11},"大三上学期"]
[{"$nulls":3},"入学教育与安全教育","军事训练（Ⅰ）","高等数学B（Ⅰ）","无机化学与分析化学 ","思想道德修养与法律基础","中国近代史纲要 ","大学英语（Ⅰ） ","大学体育（Ⅰ）","机械制图","计算机辅助绘图","VB程序设计（A）","高等数学B（Ⅱ）","无机与分析化学实验（Ⅰ）","有机化学 ","大学物理C（Ⅰ）","大学英语（Ⅱ）","大学体育（Ⅱ）","金工实习 ","物理化学（Ⅰ） ","大学物理C（Ⅱ）","大学物理实验B（Ⅰ）","毛概（Ⅰ）","马原 ","大学英语（Ⅲ）","大学体育（Ⅲ）","生物化学 ","线性代数","有机化学实验","无机与分析化学实验（Ⅱ）","化工原理（Ⅰ）","环境监测实验  ","环境监测 ","工程力学（环工） ","概率统计基础","物理化学实验（Ⅰ）","物理化学（Ⅱ）","大学物理实验B（Ⅱ）","毛概（Ⅱ）","大学英语Ⅳ","大学体育Ⅳ","认识实习","化工原理实验（Ⅰ）","化工原理（Ⅱ）","环境工程微生物学","水污染控制工程（Ⅰ）","电工学及实验","物理化学实验（Ⅱ）","项目管理与技术经济","环境工程微生物学实验","水污染控制工程（Ⅰ）课程设计","必修课加权成绩","0.7*必修课","综测一","综测二","综测总分","综测加权","0.2*综测加权","总分数"]
[1,"刘雅","2016010604",{"$f":"'环工16-1分数统计'!H8*'环工16-1分数统计'!$H$3/120","v":0.675},{"$f":"'环工16-1分数统计'!I8*'环工16-1分数统计'!$I$3/120","v":1.4666666666666666},{"$f":"'环工16-1分数统计'!J8*'环工16-1分数统计'!$J$3/120","v":4.9},{"$f":"'环工16-1分数统计'!K8*'环工16-1分数统计'!$K$3/120","v":3.4875},{"$f":"'环工16-1分数统计'!L8*'环工16-1分数统计'!$L$3/120","v":1.5},{"$f":"'环工16-1分数统计'!M8*'环工16-1分数统计'!$M$3/120","v":1.3333333333333333},{"$f":"'环工16-1分数统计'!N8*'环工16-1分数统计'!$N$3/120","v":3.4},{"$f":"'环工16-1分数统计'!O8*'环工16-1分数统计'!$O$3/121","v":0.6859504132231405},{"$f":"'环工16-1分数统计'!P8*'环工16-1分数统计'!$P$3/120","v":2},{"$f":"'环工16-1分数统计'!Q8*'环工16-1分数统计'!$Q$3/120","v":0.7},{"$f":"'环工16-1分数统计'!R8*'环工16-1分数统计'!$R$3/120","v":2.1},{"$f":"'环工16-1分数统计'!S8*'环工16-1分数统计'!$S$3/120","v":4.166666666666667},{"$f":"'环工16-1分数统计'!T8*'环工16-1分数统计'!$T$3/120","v":1.9583333333333333},{"$f":"'环工16-1分数统计'!U8*'环工16-1分数统计'!$U$3/120","v":3.1333333333333333},{"$f":"'环工16-1分数统计'!V8*'环工16-1分数统计'!$V$3/120","v":2.4},{"$f":"'环工16-1分数统计'!W8*'环工16-1分数统计'!$W$3/120","v":3.36},{"$f":"'环工16-1分数统计'!X8*'环工16-1分数统计'!$X$3/120","v":0.75},{"$f":"'环工16-1分数统计'!Y8*'环工16-1分数统计'!$Y$3/120","v":1.5},{"$f":"'环工16-1分数统计'!Z8*'环工16-1分数统计'!$Z$3/120","v":2.375},{"$f":"'环工16-1分数统计'!AA8*'环工16-1分数统计'!$AA$3/120","v":2.475},{"$f":"'环工16-1分数统计'!AB8*'环工16-1分数统计'!$AB$3/120","v":1.5333333333333334},{"$f":"'环工16-1分数统计'!AC8*'环工16-1分数统计'!$AC$3/120","v":1.45},{"$f":"'环工16-1分数统计'!AD8*'环工16-1分数统计'!$AD$3/120","v":1.4833333333333334},{"$f":"'环工16-1分数统计'!AE8*'环工16-1分数统计'!$AE$3/120","v":1.7},{"$f":"'环工16-1分数统计'!AF8*'环工16-1分数统计'!$AF$3/120","v":0.675},{"$f":"'环工16-1分数统计'!AG8*'环工16-1分数统计'!$AG$3/120","v":1.9166666666666667},{"$f":"'环工16-1分数统计'!AH8*'环工16-1分数统计'!$AH$3/120","v":2.45},{"$f":"'环工16-1分数统计'!AI8*'环工16-1分数统计'!$AI$3/120","v":1.5166666666666666},{"$f":"'环工16-1分数统计'!AJ8*'环工16-1分数统计'!$AJ$3/120","v":0.7583333333333333},{"$f":"'环工16-1分数统计'!AK8*'环工16-1分数统计'!$AK$3/120","v":2.9},{"$f":"'环工16-1分数统计'!AL8*'环工16-1分数统计'!$AL$3/120","v":1.5166666666666666},{"$f":"'环工16-1分数统计'!AM8*'环工16-1分数统计'!$AM$3/120","v":1.175},{"$f":"'环工16-1分数统计'!AN8*'环工16-1分数统计'!$AN$3/120","v":2.4},{"$f":"'环工16-1分数统计'!AO8*'环工16-1分数统计'!$AO$3/120","v":2.25},{"$f":"'环工16-1分数统计'!AP8*'环工16-1分数统计'!$AP$3/120","v":1.1125},{"$f":"'环工16-1分数统计'!AQ8*'环工16-1分数统计'!$AQ$3/120","v":2.4},{"$f":"'环工16-1分数统计'!AR8*'环工16-1分数统计'!$AR$3/120","v":1.4833333333333334},{"$f":"'环工16-1分数统计'!AS8*'环工16-1分数统计'!$AS$3/120","v":1.55},{"$f":"'环工16-1分数统计'!AT8*'环工16-1分数统计'!$AT$3/120","v":1.5524999999999998},{"$f":"'环工16-1分数统计'!AU8*'环工16-1分数统计'!$AU$3/120","v":0.7416666666666667},{"$f":"'环工16-1分数统计'!AV8*'环工16-1分数统计'!$AV$3/120","v":1.5166666666666666},{"$f":"'环工16-1分数统计'!AW8*'环工16-1分数统计'!$AW$3/120","v":0.7166666666666667},{"$f":"'环工16-1分数统计'!AX8*'环工16-1分数统计'!$AX$3/120","v":3.1666666666666665},{"$f":"'环工16-1分数统计'!AY8*'环工16-1分数统计'!$AY$3/120","v":1.5666666666666667},{"$f":"'环工16-1分数统计'!AZ8*'环工16-1分数统计'!$AZ$3/120","v":1.6166666666666667},{"$f":"'环工16-1分数统计'!BA8*'环工16-1分数统计'!$BA$3/120","v":1.6166666666666667},{"$f":"'环工16-1分数统计'!BB8*'环工16-1分数统计'!$BB$3/120","v":1.125},{"$f":"'环工16-1分数统计'!BC8*'环工16-1分数统计'!$BC$3/120","v":2.475},{"$f":"'环工16-1分数统计'!BD8*'环工16-1分数统计'!$BD$3/120","v":1.1125},{"$f":"'环工16-1分数统计'!BE8*'环工16-1分数统计'!$BE$3/120","v":1.5833333333333333},{"$f":"SUM(D3:BA3)","v":93.42761707988977},{"$f":"0.7*BB3","v":65.39933195592283},99.3886572468236,117.401859207459,{"$f":"SUM(BD3:BE3)","v":216.7905164542826},{"$f":"BF3/$BF$4*100","v":107.59571514440526},{"$f":"0.2*BG3","v":21.519143028881054},{"$f":"BH3+BC3","v":86.91847498480388}]
[2,"李异繁","2016010602",{"$f":"'环工16-1分数统计'!H6*'环工16-1分数统计'!$H$3/120","v":0.7333333333333333},{"$f":"'环工16-1分数统计'!I6*'环工16-1分数统计'!$I$3/120","v":1.5333333333333334},{"$f":"'环工16-1分数统计'!J6*'环工16-1分数统计'!$J$3/120","v":3.9},{"$f":"'环工16-1分数统计'!K6*'环工16-1分数统计'!$K$3/120","v":3.4125},{"$f":"'环工16-1分数统计'!L6*'环工16-1分数统计'!$L$3/120","v":1.4666666666666666},{"$f":"'环工16-1分数统计'!M6*'环工16-1分数统计'!$M$3/120","v":1.35},{"$f":"'环工16-1分数统计'!N6*'环工16-1分数统计'!$N$3/120","v":3.6799999999999997},{"$f":"'环工16-1分数统计'!O6*'环工16-1分数统计'!$O$3/121","v":0.6694214876033058},{"$f":"'环工16-1分数统计'!P6*'环工16-1分数统计'!$P$3/120","v":2},{"$f":"'环工16-1分数统计'!Q6*'环工16-1分数统计'!$Q$3/120","v":0.7833333333333333},{"$f":"'环工16-1分数统计'!R6*'环工16-1分数统计'!$R$3/120","v":2.15},{"$f":"'环工16-1分数统计'!S6*'环工16-1分数统计'!$S$3/120","v":3.75},{"$f":"'环工16-1分数统计'!T6*'环工16-1分数统计'!$T$3/120","v":2},{"$f":"'环工16-1分数统计'!U6*'环工16-1分数统计'!$U$3/120","v":3.1333333333333333},{"$f":"'环工16-1分数统计'!V6*'环工16-1分数统计'!$V$3/120","v":2.15},{"$f":"'环工16-1分数统计'!W6*'环工16-1分数统计'!$W$3/120","v":3.5649999999999995},{"$f":"'环工16-1分数统计'!X6*'环工16-1分数统计'!$X$3/120","v":0.8166666666666667},{"$f":"'环工16-1分数统计'!Y6*'环工16-1分数统计'!$Y$3/120","v":1.5},{"$f":"'环工16-1分数统计'!Z6*'环工16-1分数统计'!$Z$3/120","v":2.025},{"$f":"'环工16-1分数统计'!AA6*'环工16-1分数统计'!$AA$3/120","v":2.125},{"$f":"'环工16-1分数统计'!AB6*'环工16-1分数统计'!$AB$3/120","v":1.4666666666666666},{"$f":"'环工16-1分数统计'!AC6*'环工16-1分数统计'!$AC$3/120","v":1.3666666666666667},{"$f":"'环工16-1分数统计'!AD6*'环工16-1分数统计'!$AD$3/120","v":1.3333333333333333},{"$f":"'环工16-1分数统计'!AE6*'环工16-1分数统计'!$AE$3/120","v":1.7824999999999998},{"$f":"'环工16-1分数统计'!AF6*'环工16-1分数统计'!$AF$3/120","v":0.8083333333333333},{"$f":"'环工16-1分数统计'!AG6*'环工16-1分数统计'!$AG$3/120","v":1.75},{"$f":"'环工16-1分数统计'!AH6*'环工16-1分数统计'!$AH$3/120","v":2.35},{"$f":"'环工16-1分数统计'!AI6*'环工16-1分数统计'!$AI$3/120","v":1.5166666666666666},{"$f":"'环工16-1分数统计'!AJ6*'环工16-1分数统计'!$AJ$3/120","v":0.7666666666666667},{"$f":"'环工16-1分数统计'!AK6*'环工16-1分数统计'!$AK$3/120","v":2.7666666666666666},{"$f":"'环工16-1分数统计'!AL6*'环工16-1分数统计'!$AL$3/120","v":1.5333333333333334},{"$f":"'环工16-1分数统计'!AM6*'环工16-1分数统计'!$AM$3/120","v":1.125},{"$f":"'环工16-1分数统计'!AN6*'环工16-1分数统计'!$AN$3/120","v":2.25},{"$f":"'环工16-1分数统计'!AO6*'环工16-1分数统计'!$AO$3/120","v":1.95},{"$f":"'环工16-1分数统计'!AP6*'环工16-1分数统计'!$AP$3/120","v":1.1125},{"$f":"'环工16-1分数统计'!AQ6*'环工16-1分数统计'!$AQ$3/120","v":2.4},{"$f":"'环工16-1分数统计'!AR6*'环工16-1分数统计'!$AR$3/120","v":1.5166666666666666},{"$f":"'环工16-1分数统计'!AS6*'环工16-1分数统计'!$AS$3/120","v":1.5333333333333334},{"$f":"'环工16-1分数统计'!AT6*'环工16-1分数统计'!$AT$3/120","v":1.7249999999999999},{"$f":"'环工16-1分数统计'!AU6*'环工16-1分数统计'!$AU$3/120","v":0.775},{"$f":"'环工16-1分数统计'!AV6*'环工16-1分数统计'!$AV$3/120","v":1.55},{"$f":"'环工16-1分数统计'!AW6*'环工16-1分数统计'!$AW$3/120","v":0.7666666666666667},{"$f":"'环工16-1分数统计'!AX6*'环工16-1分数统计'!$AX$3/120","v":3.2333333333333334},{"$f":"'环工16-1分数统计'!AY6*'环工16-1分数统计'!$AY$3/120","v":1.5833333333333333},{"$f":"'环工16-1分数统计'!AZ6*'环工16-1分数统计'!$AZ$3/120","v":1.6333333333333333},{"$f":"'环工16-1分数统计'!BA6*'环工16-1分数统计'!$BA$3/120","v":1.6333333333333333},{"$f":"'环工16-1分数统计'!BB6*'环工16-1分数统计'!$BB$3/120","v":1.125},{"$f":"'环工16-1分数统计'!BC6*'环工16-1分数统计'!$BC$3/120","v":2.475},{"$f":"'环工16-1分数统计'!BD6*'环工16-1分数统计'!$BD$3/120","v":1.1625},{"$f":"'环工16-1分数统计'!BE6*'环工16-1分数统计'!$BE$3/120","v":1.4833333333333334},91.21775482093663,63.85242837465564,99.1933173128302,102.292881429681,201.4861987425112,100,20,83.85242837465563]
[3,"仲英杰","2016010614",{"$f":"'环工16-1分数统计'!H18*'环工16-1分数统计'!$H$3/120","v":0.75},{"$f":"'环工16-1分数统计'!I18*'环工16-1分数统计'!$I$3/120","v":1.5666666666666667},{"$f":"'环工16-1分数统计'!J18*'环工16-1分数统计'!$J$3/120","v":4.9},{"$f":"'环工16-1分数统计'!K18*'环工16-1分数统计'!$K$3/120","v":3.4875},{"$f":"'环工16-1分数统计'!L18*'环工16-1分数统计'!$L$3/120","v":1.4666666666666666},{"$f":"'环工16-1分数统计'!M18*'环工16-1分数统计'!$M$3/120","v":1.4333333333333333},{"$f":"'环工16-1分数统计'!N18*'环工16-1分数统计'!$N$3/120","v":3.1533333333333338},{"$f":"'环工16-1分数统计'!O18*'环工16-1分数统计'!$O$3/121","v":0.6528925619834711},{"$f":"'环工16-1分数统计'!P18*'环工16-1分数统计'!$P$3/120","v":1.875},{"$f":"'环工16-1分数统计'!Q18*'环工16-1分数统计'!$Q$3/120","v":0.6833333333333333},{"$f":"'环工16-1分数统计'!R18*'环工16-1分数统计'!$R$3/120","v":2.075},{"$f":"'环工16-1分数统计'!S18*'环工16-1分数统计'!$S$3/120","v":3.875},{"$f":"'环工16-1分数统计'!T18*'环工16-1分数统计'!$T$3/120","v":1.875},{"$f":"'环工16-1分数统计'!U18*'环工16-1分数统计'!$U$3/120","v":3.033333333333333},{"$f":"'环工16-1分数统计'!V18*'环工16-1分数统计'!$V$3/120","v":2.325},{"$f":"'环工16-1分数统计'!W18*'环工16-1分数统计'!$W$3/120","v":3.19},{"$f":"'环工16-1分数统计'!X18*'环工16-1分数统计'!$X$3/120","v":0.775},{"$f":"'环工16-1分数统计'!Y18*'环工16-1分数统计'!$Y$3/120","v":1.5},{"$f":"'环工16-1分数统计'!Z18*'环工16-1分数统计'!$Z$3/120","v":2.15},{"$f":"'环工16-1分数统计'!AA18*'环工16-1分数统计'!$AA$3/120","v":2.275},{"$f":"'环工16-1分数统计'!AB18*'环工16-1分数统计'!$AB$3/120","v":1.4333333333333333},{"$f":"'环工16-1分数统计'!AC18*'环工16-1分数统计'!$AC$3/120","v":1.4166666666666667},{"$f":"'环工16-1分数统计'!AD18*'环工16-1分数统计'!$AD$3/120","v":1.45},{"$f":"'环工16-1分数统计'!AE18*'环工16-1分数统计'!$AE$3/120","v":1.7233333333333334},{"$f":"'环工16-1分数统计'!AF18*'环工16-1分数统计'!$AF$3/120","v":0.775},{"$f":"'环工16-1分数统计'!AG18*'环工16-1分数统计'!$AG$3/120","v":1.625},{"$f":"'环工16-1分数统计'!AH18*'环工16-1分数统计'!$AH$3/120","v":2.15},{"$f":"'环工16-1分数统计'!AI18*'环工16-1分数统计'!$AI$3/120","v":1.5},{"$f":"'环工16-1分数统计'!AJ18*'环工16-1分数统计'!$AJ$3/120","v":0.75},{"$f":"'环工16-1分数统计'!AK18*'环工16-1分数统计'!$AK$3/120","v":2.466666666666667},{"$f":"'环工16-1分数统计'!AL18*'环工16-1分数统计'!$AL$3/120","v":1.4166666666666667},{"$f":"'环工16-1分数统计'!AM18*'环工16-1分数统计'!$AM$3/120","v":1.025},{"$f":"'环工16-1分数统计'!AN18*'环工16-1分数统计'!$AN$3/120","v":2.025},{"$f":"'环工16-1分数统计'!AO18*'环工16-1分数统计'!$AO$3/120","v":2},{"$f":"'环工16-1分数统计'!AP18*'环工16-1分数统计'!$AP$3/120","v":1.1125},{"$f":"'环工16-1分数统计'!AQ18*'环工16-1分数统计'!$AQ$3/120","v":2.15},{"$f":"'环工16-1分数统计'!AR18*'环工16-1分数统计'!$AR$3/120","v":1.4166666666666667},{"$f":"'环工16-1分数统计'!AS18*'环工16-1分数统计'!$AS$3/120","v":1.55},{"$f":"'环工16-1分数统计'!AT18*'环工16-1分数统计'!$AT$3/120","v":1.6500000000000001},{"$f":"'环工16-1分数统计'!AU18*'环工16-1分数统计'!$AU$3/120","v":0.6833333333333333},{"$f":"'环工16-1分数统计'!AV18*'环工16-1分数统计'!$AV$3/120","v":1.5166666666666666},{"$f":"'环工16-1分数统计'!AW18*'环工16-1分数统计'!$AW$3/120","v":0.7},{"$f":"'环工16-1分数统计'!AX18*'环工16-1分数统计'!$AX$3/120","v":2.6333333333333333},{"$f":"'环工16-1分数统计'!AY18*'环工16-1分数统计'!$AY$3/120","v":1.3833333333333333},{"$f":"'环工16-1分数统计'!AZ18*'环工16-1分数统计'!$AZ$3/120","v":1.5333333333333334},{"$f":"'环工16-1分数统计'!BA18*'环工16-1分数统计'!$BA$3/120","v":1.45},{"$f":"'环工16-1分数统计'!BB18*'环工16-1分数统计'!$BB$3/120","v":1.125},{"$f":"'环工16-1分数统计'!BC18*'环工16-1分数统计'!$BC$3/120","v":2.375},{"$f":"'环工16-1分数统计'!BD18*'环工16-1分数统计'!$BD$3/120","v":1.15},{"$f":"'环工16-1分数统计'!BE18*'环工16-1分数统计'!$BE$3/120","v":1.4666666666666666},88.69455922865016,62.08619146005511,98.4399223733362,105.295693550894,203.73561592423022,101.11641253632149,20.2232825072643,82.3094739673194]
[4,"陈闯","2016010617",{"$f":"'环工16-1分数统计'!H19*'环工16-1分数统计'!$H$3/120","v":0.6916666666666667},{"$f":"'环工16-1分数统计'!I19*'环工16-1分数统计'!$I$3/120","v":1.5666666666666667},{"$f":"'环工16-1分数统计'!J19*'环工16-1分数统计'!$J$3/120","v":4.55},{"$f":"'环工16-1分数统计'!K19*'环工16-1分数统计'!$K$3/120","v":3.375},{"$f":"'环工16-1分数统计'!L19*'环工16-1分数统计'!$L$3/120","v":1.4833333333333334},{"$f":"'环工16-1分数统计'!M19*'环工16-1分数统计'!$M$3/120","v":1.3},{"$f":"'环工16-1分数统计'!N19*'环工16-1分数统计'!$N$3/120","v":2.75},{"$f":"'环工16-1分数统计'!O19*'环工16-1分数统计'!$O$3/121","v":0.7768595041322314},{"$f":"'环工16-1分数统计'!P19*'环工16-1分数统计'!$P$3/120","v":1.7708333333333333},{"$f":"'环工16-1分数统计'!Q19*'环工16-1分数统计'!$Q$3/120","v":0.675},{"$f":"'环工16-1分数统计'!R19*'环工16-1分数统计'!$R$3/120","v":1.7},{"$f":"'环工16-1分数统计'!S19*'环工16-1分数统计'!$S$3/120","v":4.166666666666667},{"$f":"'环工16-1分数统计'!T19*'环工16-1分数统计'!$T$3/120","v":1.7916666666666667},{"$f":"'环工16-1分数统计'!U19*'环工16-1分数统计'!$U$3/120","v":2.7666666666666666},{"$f":"'环工16-1分数统计'!V19*'环工16-1分数统计'!$V$3/120","v":2.15},{"$f":"'环工16-1分数统计'!W19*'环工16-1分数统计'!$W$3/120","v":3.116666666666667},{"$f":"'环工16-1分数统计'!X19*'环工16-1分数统计'!$X$3/120","v":0.7833333333333333},{"$f":"'环工16-1分数统计'!Y19*'环工16-1分数统计'!$Y$3/120","v":1.6},{"$f":"'环工16-1分数统计'!Z19*'环工16-1分数统计'!$Z$3/120","v":1.8},{"$f":"'环工16-1分数统计'!AA19*'环工16-1分数统计'!$AA$3/120","v":2.3},{"$f":"'环工16-1分数统计'!AB19*'环工16-1分数统计'!$AB$3/120","v":1.3},{"$f":"'环工16-1分数统计'!AC19*'环工16-1分数统计'!$AC$3/120","v":1.4666666666666666},{"$f":"'环工16-1分数统计'!AD19*'环工16-1分数统计'!$AD$3/120","v":1.45},{"$f":"'环工16-1分数统计'!AE19*'环工16-1分数统计'!$AE$3/120","v":1.4666666666666666},{"$f":"'环工16-1分数统计'!AF19*'环工16-1分数统计'!$AF$3/120","v":0.7916666666666666},{"$f":"'环工16-1分数统计'!AG19*'环工16-1分数统计'!$AG$3/120","v":1.7916666666666667},{"$f":"'环工16-1分数统计'!AH19*'环工16-1分数统计'!$AH$3/120","v":2.35},{"$f":"'环工16-1分数统计'!AI19*'环工16-1分数统计'!$AI$3/120","v":1.4833333333333334},{"$f":"'环工16-1分数统计'!AJ19*'环工16-1分数统计'!$AJ$3/120","v":0.7666666666666667},{"$f":"'环工16-1分数统计'!AK19*'环工16-1分数统计'!$AK$3/120","v":2.4},{"$f":"'环工16-1分数统计'!AL19*'环工16-1分数统计'!$AL$3/120","v":1.4666666666666666},{"$f":"'环工16-1分数统计'!AM19*'环工16-1分数统计'!$AM$3/120","v":0.925},{"$f":"'环工16-1分数统计'!AN19*'环工16-1分数统计'!$AN$3/120","v":2.15},{"$f":"'环工16-1分数统计'!AO19*'环工16-1分数统计'!$AO$3/120","v":2.175},{"$f":"'环工16-1分数统计'!AP19*'环工16-1分数统计'!$AP$3/120","v":1.1125},{"$f":"'环工16-1分数统计'!AQ19*'环工16-1分数统计'!$AQ$3/120","v":2.25},{"$f":"'环工16-1分数统计'!AR19*'环工16-1分数统计'!$AR$3/120","v":1.4666666666666666},{"$f":"'环工16-1分数统计'!AS19*'环工16-1分数统计'!$AS$3/120","v":1.4166666666666667},{"$f":"'环工16-1分数统计'!AT19*'环工16-1分数统计'!$AT$3/120","v":1.3383333333333336},{"$f":"'环工16-1分数统计'!AU19*'环工16-1分数统计'!$AU$3/120","v":0.7833333333333333},{"$f":"'环工16-1分数统计'!AV19*'环工16-1分数统计'!$AV$3/120","v":1.4666666666666666},{"$f":"'环工16-1分数统计'!AW19*'环工16-1分数统计'!$AW$3/120","v":0.675},{"$f":"'环工16-1分数统计'!AX19*'环工16-1分数统计'!$AX$3/120","v":2.7333333333333334},{"$f":"'环工16-1分数统计'!AY19*'环工16-1分数统计'!$AY$3/120","v":1.5},{"$f":"'环工16-1分数统计'!AZ19*'环工16-1分数统计'!$AZ$3/120","v":1.5},{"$f":"'环工16-1分数统计'!BA19*'环工16-1分数统计'!$BA$3/120","v":1.4833333333333334},{"$f":"'环工16-1分数统计'!BB19*'环工16-1分数统计'!$BB$3/120","v":1.1},{"$f":"'环工16-1分数统计'!BC19*'环工16-1分数统计'!$BC$3/120","v":2.2},{"$f":"'环工16-1分数统计'!BD19*'环工16-1分数统计'!$BD$3/120","v":1.1},{"$f":"'环工16-1分数统计'!BE19*'环工16-1分数统计'!$BE$3/120","v":1.4},86.6235261707989,60.63646831955922,95.2447034184407,109.451422843823,204.6961262622637,101.59312525611475,20.318625051222952,80.95509337078218]
[5,"李佳奇","2016010622",{"$f":"'环工16-1分数统计'!H23*'环工16-1分数统计'!$H$3/120","v":0.725},{"$f":"'环工16-1分数统计'!I23*'环工16-1分数统计'!$I$3/120","v":1.5333333333333334},{"$f":"'环工16-1分数统计'!J23*'环工16-1分数统计'!$J$3/120","v":4.3},{"$f":"'环工16-1分数统计'!K23*'环工16-1分数统计'!$K$3/120","v":3.2625},{"$f":"'环工16-1分数统计'!L23*'环工16-1分数统计'!$L$3/120","v":1.45},{"$f":"'环工16-1分数统计'!M23*'环工16-1分数统计'!$M$3/120","v":1.5166666666666666},{"$f":"'环工16-1分数统计'!N23*'环工16-1分数统计'!$N$3/120","v":2.97},{"$f":"'环工16-1分数统计'!O23*'环工16-1分数统计'!$O$3/121","v":0.6859504132231405},{"$f":"'环工16-1分数统计'!P23*'环工16-1分数统计'!$P$3/120","v":1.25},{"$f":"'环工16-1分数统计'!Q23*'环工16-1分数统计'!$Q$3/120","v":0.7666666666666667},{"$f":"'环工16-1分数统计'!R23*'环工16-1分数统计'!$R$3/120","v":1.85},{"$f":"'环工16-1分数统计'!S23*'环工16-1分数统计'!$S$3/120","v":4},{"$f":"'环工16-1分数统计'!T23*'环工16-1分数统计'!$T$3/120","v":1.7291666666666667},{"$f":"'环工16-1分数统计'!U23*'环工16-1分数统计'!$U$3/120","v":2.8333333333333335},{"$f":"'环工16-1分数统计'!V23*'环工16-1分数统计'!$V$3/120","v":2.275},{"$f":"'环工16-1分数统计'!W23*'环工16-1分数统计'!$W$3/120","v":3.3000000000000003},{"$f":"'环工16-1分数统计'!X23*'环工16-1分数统计'!$X$3/120","v":0.75},{"$f":"'环工16-1分数统计'!Y23*'环工16-1分数统计'!$Y$3/120","v":1.5333333333333334},{"$f":"'环工16-1分数统计'!Z23*'环工16-1分数统计'!$Z$3/120","v":2.275},{"$f":"'环工16-1分数统计'!AA23*'环工16-1分数统计'!$AA$3/120","v":2.325},{"$f":"'环工16-1分数统计'!AB23*'环工16-1分数统计'!$AB$3/120","v":1.3333333333333333},{"$f":"'环工16-1分数统计'!AC23*'环工16-1分数统计'!$AC$3/120","v":1.4833333333333334},{"$f":"'环工16-1分数统计'!AD23*'环工16-1分数统计'!$AD$3/120","v":1.4},{"$f":"'环工16-1分数统计'!AE23*'环工16-1分数统计'!$AE$3/120","v":1.7050000000000003},{"$f":"'环工16-1分数统计'!AF23*'环工16-1分数统计'!$AF$3/120","v":0.7416666666666667},{"$f":"'环工16-1分数统计'!AG23*'环工16-1分数统计'!$AG$3/120","v":1.7291666666666667},{"$f":"'环工16-1分数统计'!AH23*'环工16-1分数统计'!$AH$3/120","v":2.175},{"$f":"'环工16-1分数统计'!AI23*'环工16-1分数统计'!$AI$3/120","v":1.5333333333333334},{"$f":"'环工16-1分数统计'!AJ23*'环工16-1分数统计'!$AJ$3/120","v":0.7416666666666667},{"$f":"'环工16-1分数统计'!AK23*'环工16-1分数统计'!$AK$3/120","v":3},{"$f":"'环工16-1分数统计'!AL23*'环工16-1分数统计'!$AL$3/120","v":1.5},{"$f":"'环工16-1分数统计'!AM23*'环工16-1分数统计'!$AM$3/120","v":1.0875},{"$f":"'环工16-1分数统计'!AN23*'环工16-1分数统计'!$AN$3/120","v":2.25},{"$f":"'环工16-1分数统计'!AO23*'环工16-1分数统计'!$AO$3/120","v":2.175},{"$f":"'环工16-1分数统计'!AP23*'环工16-1分数统计'!$AP$3/120","v":1.0875},{"$f":"'环工16-1分数统计'!AQ23*'环工16-1分数统计'!$AQ$3/120","v":2.45},{"$f":"'环工16-1分数统计'!AR23*'环工16-1分数统计'!$AR$3/120","v":1.4333333333333333},{"$f":"'环工16-1分数统计'!AS23*'环工16-1分数统计'!$AS$3/120","v":1.55},{"$f":"'环工16-1分数统计'!AT23*'环工16-1分数统计'!$AT$3/120","v":1.5766666666666669},{"$f":"'环工16-1分数统计'!AU23*'环工16-1分数统计'!$AU$3/120","v":0.7666666666666667},{"$f":"'环工16-1分数统计'!AV23*'环工16-1分数统计'!$AV$3/120","v":1.4},{"$f":"'环工16-1分数统计'!AW23*'环工16-1分数统计'!$AW$3/120","v":0.7083333333333334},{"$f":"'环工16-1分数统计'!AX23*'环工16-1分数统计'!$AX$3/120","v":2.966666666666667},{"$f":"'环工16-1分数统计'!AY23*'环工16-1分数统计'!$AY$3/120","v":1.4666666666666666},{"$f":"'环工16-1分数统计'!AZ23*'环工16-1分数统计'!$AZ$3/120","v":1.6166666666666667},{"$f":"'环工16-1分数统计'!BA23*'环工16-1分数统计'!$BA$3/120","v":1.65},{"$f":"'环工16-1分数统计'!BB23*'环工16-1分数统计'!$BB$3/120","v":1.1},{"$f":"'环工16-1分数统计'!BC23*'环工16-1分数统计'!$BC$3/120","v":2.35},{"$f":"'环工16-1分数统计'!BD23*'环工16-1分数统计'!$BD$3/120","v":1.1},{"$f":"'环工16-1分数统计'!BE23*'环工16-1分数统计'!$BE$3/120","v":1.5166666666666666},88.92511707988979,62.24758195592285,91.869901471246,95.065148096348,186.93504956759398,92.77809137016237,18.555618274032476,80.80320022995532]
[6,"程诗宇","2016010599",{"$f":"'环工16-1分数统计'!H5*'环工16-1分数统计'!$H$3/120","v":0.7083333333333334},{"$f":"'环工16-1分数统计'!I5*'环工16-1分数统计'!$I$3/120","v":1.5166666666666666},{"$f":"'环工16-1分数统计'!J5*'环工16-1分数统计'!$J$3/120","v":4.75},{"$f":"'环工16-1分数统计'!K5*'环工16-1分数统计'!$K$3/120","v":3.375},{"$f":"'环工16-1分数统计'!L5*'环工16-1分数统计'!$L$3/120","v":1.3666666666666667},{"$f":"'环工16-1分数统计'!M5*'环工16-1分数统计'!$M$3/120","v":1.2666666666666666},{"$f":"'环工16-1分数统计'!N5*'环工16-1分数统计'!$N$3/120","v":2.75},{"$f":"'环工16-1分数统计'!O5*'环工16-1分数统计'!$O$3/121","v":0.6446280991735537},{"$f":"'环工16-1分数统计'!P5*'环工16-1分数统计'!$P$3/120","v":1.9791666666666667},{"$f":"'环工16-1分数统计'!Q5*'环工16-1分数统计'!$Q$3/120","v":0.7833333333333333},{"$f":"'环工16-1分数统计'!R5*'环工16-1分数统计'!$R$3/120","v":2.025},{"$f":"'环工16-1分数统计'!S5*'环工16-1分数统计'!$S$3/120","v":3.9166666666666665},{"$f":"'环工16-1分数统计'!T5*'环工16-1分数统计'!$T$3/120","v":1.8125},{"$f":"'环工16-1分数统计'!U5*'环工16-1分数统计'!$U$3/120","v":2.9},{"$f":"'环工16-1分数统计'!V5*'环工16-1分数统计'!$V$3/120","v":2.2},{"$f":"'环工16-1分数统计'!W5*'环工16-1分数统计'!$W$3/120","v":2.97},{"$f":"'环工16-1分数统计'!X5*'环工16-1分数统计'!$X$3/120","v":0.775},{"$f":"'环工16-1分数统计'!Y5*'环工16-1分数统计'!$Y$3/120","v":1.4666666666666666},{"$f":"'环工16-1分数统计'!Z5*'环工16-1分数统计'!$Z$3/120","v":2.025},{"$f":"'环工16-1分数统计'!AA5*'环工16-1分数统计'!$AA$3/120","v":2.325},{"$f":"'环工16-1分数统计'!AB5*'环工16-1分数统计'!$AB$3/120","v":1.3},{"$f":"'环工16-1分数统计'!AC5*'环工16-1分数统计'!$AC$3/120","v":1.1166666666666667},{"$f":"'环工16-1分数统计'!AD5*'环工16-1分数统计'!$AD$3/120","v":1.3333333333333333},{"$f":"'环工16-1分数统计'!AE5*'环工16-1分数统计'!$AE$3/120","v":1.4116666666666666},{"$f":"'环工16-1分数统计'!AF5*'环工16-1分数统计'!$AF$3/120","v":0.7166666666666667},{"$f":"'环工16-1分数统计'!AG5*'环工16-1分数统计'!$AG$3/120","v":1.6666666666666667},{"$f":"'环工16-1分数统计'!AH5*'环工16-1分数统计'!$AH$3/120","v":2.05},{"$f":"'环工16-1分数统计'!AI5*'环工16-1分数统计'!$AI$3/120","v":1.5},{"$f":"'环工16-1分数统计'!AJ5*'环工16-1分数统计'!$AJ$3/120","v":0.7916666666666666},{"$f":"'环工16-1分数统计'!AK5*'环工16-1分数统计'!$AK$3/120","v":2.7333333333333334},{"$f":"'环工16-1分数统计'!AL5*'环工16-1分数统计'!$AL$3/120","v":1.4666666666666666},{"$f":"'环工16-1分数统计'!AM5*'环工16-1分数统计'!$AM$3/120","v":1.025},{"$f":"'环工16-1分数统计'!AN5*'环工16-1分数统计'!$AN$3/120","v":1.95},{"$f":"'环工16-1分数统计'!AO5*'环工16-1分数统计'!$AO$3/120","v":1.8},{"$f":"'环工16-1分数统计'!AP5*'环工16-1分数统计'!$AP$3/120","v":1.0375},{"$f":"'环工16-1分数统计'!AQ5*'环工16-1分数统计'!$AQ$3/120","v":2.025},{"$f":"'环工16-1分数统计'!AR5*'环工16-1分数统计'!$AR$3/120","v":1.4333333333333333},{"$f":"'环工16-1分数统计'!AS5*'环工16-1分数统计'!$AS$3/120","v":1.5},{"$f":"'环工16-1分数统计'!AT5*'环工16-1分数统计'!$AT$3/120","v":1.521666666666667},{"$f":"'环工16-1分数统计'!AU5*'环工16-1分数统计'!$AU$3/120","v":0.725},{"$f":"'环工16-1分数统计'!AV5*'环工16-1分数统计'!$AV$3/120","v":1.3833333333333333},{"$f":"'环工16-1分数统计'!AW5*'环工16-1分数统计'!$AW$3/120","v":0.6916666666666667},{"$f":"'环工16-1分数统计'!AX5*'环工16-1分数统计'!$AX$3/120","v":2.933333333333333},{"$f":"'环工16-1分数统计'!AY5*'环工16-1分数统计'!$AY$3/120","v":1.4333333333333333},{"$f":"'环工16-1分数统计'!AZ5*'环工16-1分数统计'!$AZ$3/120","v":1.6},{"$f":"'环工16-1分数统计'!BA5*'环工16-1分数统计'!$BA$3/120","v":1.5333333333333334},{"$f":"'环工16-1分数统计'!BB5*'环工16-1分数统计'!$BB$3/120","v":1.125},{"$f":"'环工16-1分数统计'!BC5*'环工16-1分数统计'!$BC$3/120","v":2.275},{"$f":"'环工16-1分数统计'!BD5*'环工16-1分数统计'!$BD$3/120","v":1.125},{"$f":"'环工16-1分数统计'!BE5*'环工16-1分数统计'!$BE$3/120","v":1.3333333333333333},86.09379476584022,60.26565633608815,93.6703106791668,95.0443602175602,188.714670896727,93.66133862989517,18.732267725979035,78.99792406206718]
[8,"游恋","2016010612",{"$f":"'环工16-1分数统计'!H16*'环工16-1分数统计'!$H$3/120","v":0.6416666666666667},{"$f":"'环工16-1分数统计'!I16*'环工16-1分数统计'!$I$3/120","v":1.45},{"$f":"'环工16-1分数统计'!J16*'环工16-1分数统计'!$J$3/120","v":4.2},{"$f":"'环工16-1分数统计'!K16*'环工16-1分数统计'!$K$3/120","v":3.4875},{"$f":"'环工16-1分数统计'!L16*'环工16-1分数统计'!$L$3/120","v":1.3833333333333333},{"$f":"'环工16-1分数统计'!M16*'环工16-1分数统计'!$M$3/120","v":1.3},{"$f":"'环工16-1分数统计'!N16*'环工16-1分数统计'!$N$3/120","v":2.1},{"$f":"'环工16-1分数统计'!O16*'环工16-1分数统计'!$O$3/121","v":0.7024793388429752},{"$f":"'环工16-1分数统计'!P16*'环工16-1分数统计'!$P$3/120","v":1.8125},{"$f":"'环工16-1分数统计'!Q16*'环工16-1分数统计'!$Q$3/120","v":0.7666666666666667},{"$f":"'环工16-1分数统计'!R16*'环工16-1分数统计'!$R$3/120","v":1.9},{"$f":"'环工16-1分数统计'!S16*'环工16-1分数统计'!$S$3/120","v":4.083333333333333},{"$f":"'环工16-1分数统计'!T16*'环工16-1分数统计'!$T$3/120","v":1.8958333333333333},{"$f":"'环工16-1分数统计'!U16*'环工16-1分数统计'!$U$3/120","v":3.033333333333333},{"$f":"'环工16-1分数统计'!V16*'环工16-1分数统计'!$V$3/120","v":2.375},{"$f":"'环工16-1分数统计'!W16*'环工16-1分数统计'!$W$3/120","v":2.033333333333333},{"$f":"'环工16-1分数统计'!X16*'环工16-1分数统计'!$X$3/120","v":0.775},{"$f":"'环工16-1分数统计'!Y16*'环工16-1分数统计'!$Y$3/120","v":1.55},{"$f":"'环工16-1分数统计'!Z16*'环工16-1分数统计'!$Z$3/120","v":2},{"$f":"'环工16-1分数统计'!AA16*'环工16-1分数统计'!$AA$3/120","v":2.275},{"$f":"'环工16-1分数统计'!AB16*'环工16-1分数统计'!$AB$3/120","v":1.4333333333333333},{"$f":"'环工16-1分数统计'!AC16*'环工16-1分数统计'!$AC$3/120","v":1.35},{"$f":"'环工16-1分数统计'!AD16*'环工16-1分数统计'!$AD$3/120","v":1.3166666666666667},{"$f":"'环工16-1分数统计'!AE16*'环工16-1分数统计'!$AE$3/120","v":1.2333333333333334},{"$f":"'环工16-1分数统计'!AF16*'环工16-1分数统计'!$AF$3/120","v":0.7583333333333333},{"$f":"'环工16-1分数统计'!AG16*'环工16-1分数统计'!$AG$3/120","v":1.6666666666666667},{"$f":"'环工16-1分数统计'!AH16*'环工16-1分数统计'!$AH$3/120","v":2.1},{"$f":"'环工16-1分数统计'!AI16*'环工16-1分数统计'!$AI$3/120","v":1.5},{"$f":"'环工16-1分数统计'!AJ16*'环工16-1分数统计'!$AJ$3/120","v":0.7333333333333333},{"$f":"'环工16-1分数统计'!AK16*'环工16-1分数统计'!$AK$3/120","v":2.8},{"$f":"'环工16-1分数统计'!AL16*'环工16-1分数统计'!$AL$3/120","v":1.4833333333333334},{"$f":"'环工16-1分数统计'!AM16*'环工16-1分数统计'!$AM$3/120","v":1.05},{"$f":"'环工16-1分数统计'!AN16*'环工16-1分数统计'!$AN$3/120","v":2.15},{"$f":"'环工16-1分数统计'!AO16*'环工16-1分数统计'!$AO$3/120","v":2.05},{"$f":"'环工16-1分数统计'!AP16*'环工16-1分数统计'!$AP$3/120","v":1.125},{"$f":"'环工16-1分数统计'!AQ16*'环工16-1分数统计'!$AQ$3/120","v":2.325},{"$f":"'环工16-1分数统计'!AR16*'环工16-1分数统计'!$AR$3/120","v":1.45},{"$f":"'环工16-1分数统计'!AS16*'环工16-1分数统计'!$AS$3/120","v":1.5},{"$f":"'环工16-1分数统计'!AT16*'环工16-1分数统计'!$AT$3/120","v":1.3333333333333333},{"$f":"'环工16-1分数统计'!AU16*'环工16-1分数统计'!$AU$3/120","v":0.7833333333333333},{"$f":"'环工16-1分数统计'!AV16*'环工16-1分数统计'!$AV$3/120","v":1.45},{"$f":"'环工16-1分数统计'!AW16*'环工16-1分数统计'!$AW$3/120","v":0.7083333333333334},{"$f":"'环工16-1分数统计'!AX16*'环工16-1分数统计'!$AX$3/120","v":3.033333333333333},{"$f":"'环工16-1分数统计'!AY16*'环工16-1分数统计'!$AY$3/120","v":1.4166666666666667},{"$f":"'环工16-1分数统计'!AZ16*'环工16-1分数统计'!$AZ$3/120","v":1.45},{"$f":"'环工16-1分数统计'!BA16*'环工16-1分数统计'!$BA$3/120","v":1.6166666666666667},{"$f":"'环工16-1分数统计'!BB16*'环工16-1分数统计'!$BB$3/120","v":1.1},{"$f":"'环工16-1分数统计'!BC16*'环工16-1分数统计'!$BC$3/120","v":2.1},{"$f":"'环工16-1分数统计'!BD16*'环工16-1分数统计'!$BD$3/120","v":1.1375},{"$f":"'环工16-1分数统计'!BE16*'环工16-1分数统计'!$BE$3/120","v":1.55},85.4691460055096,59.82840220385672,91.1687331544143,98.0306794094793,189.1994125638936,93.90192169225473,18.780384338450947,78.60878654230767]
[7,"齐泽丰","2016010607",{"$f":"'环工16-1分数统计'!H11*'环工16-1分数统计'!$H$3/120","v":0.7},{"$f":"'环工16-1分数统计'!I11*'环工16-1分数统计'!$I$3/120","v":1.5833333333333333},{"$f":"'环工16-1分数统计'!J11*'环工16-1分数统计'!$J$3/120","v":4.1},{"$f":"'环工16-1分数统计'!K11*'环工16-1分数统计'!$K$3/120","v":2.925},{"$f":"'环工16-1分数统计'!L11*'环工16-1分数统计'!$L$3/120","v":1.3666666666666667},{"$f":"'环工16-1分数统计'!M11*'环工16-1分数统计'!$M$3/120","v":1.4666666666666666},{"$f":"'环工16-1分数统计'!N11*'环工16-1分数统计'!$N$3/120","v":3.08},{"$f":"'环工16-1分数统计'!O11*'环工16-1分数统计'!$O$3/121","v":0.7355371900826446},{"$f":"'环工16-1分数统计'!P11*'环工16-1分数统计'!$P$3/120","v":1.8958333333333333},{"$f":"'环工16-1分数统计'!Q11*'环工16-1分数统计'!$Q$3/120","v":0.6833333333333333},{"$f":"'环工16-1分数统计'!R11*'环工16-1分数统计'!$R$3/120","v":1.775},{"$f":"'环工16-1分数统计'!S11*'环工16-1分数统计'!$S$3/120","v":3.7083333333333335},{"$f":"'环工16-1分数统计'!T11*'环工16-1分数统计'!$T$3/120","v":1.8958333333333333},{"$f":"'环工16-1分数统计'!U11*'环工16-1分数统计'!$U$3/120","v":2.7333333333333334},{"$f":"'环工16-1分数统计'!V11*'环工16-1分数统计'!$V$3/120","v":2.175},{"$f":"'环工16-1分数统计'!W11*'环工16-1分数统计'!$W$3/120","v":3.3000000000000003},{"$f":"'环工16-1分数统计'!X11*'环工16-1分数统计'!$X$3/120","v":0.8},{"$f":"'环工16-1分数统计'!Y11*'环工16-1分数统计'!$Y$3/120","v":1.5666666666666667},{"$f":"'环工16-1分数统计'!Z11*'环工16-1分数统计'!$Z$3/120","v":1.6},{"$f":"'环工16-1分数统计'!AA11*'环工16-1分数统计'!$AA$3/120","v":1.925},{"$f":"'环工16-1分数统计'!AB11*'环工16-1分数统计'!$AB$3/120","v":1.3},{"$f":"'环工16-1分数统计'!AC11*'环工16-1分数统计'!$AC$3/120","v":1.5166666666666666},{"$f":"'环工16-1分数统计'!AD11*'环工16-1分数统计'!$AD$3/120","v":1.4333333333333333},{"$f":"'环工16-1分数统计'!AE11*'环工16-1分数统计'!$AE$3/120","v":1.595},{"$f":"'环工16-1分数统计'!AF11*'环工16-1分数统计'!$AF$3/120","v":0.7666666666666667},{"$f":"'环工16-1分数统计'!AG11*'环工16-1分数统计'!$AG$3/120","v":1.6666666666666667},{"$f":"'环工16-1分数统计'!AH11*'环工16-1分数统计'!$AH$3/120","v":1.9},{"$f":"'环工16-1分数统计'!AI11*'环工16-1分数统计'!$AI$3/120","v":1.45},{"$f":"'环工16-1分数统计'!AJ11*'环工16-1分数统计'!$AJ$3/120","v":0.775},{"$f":"'环工16-1分数统计'!AK11*'环工16-1分数统计'!$AK$3/120","v":2.3333333333333335},{"$f":"'环工16-1分数统计'!AL11*'环工16-1分数统计'!$AL$3/120","v":1.45},{"$f":"'环工16-1分数统计'!AM11*'环工16-1分数统计'!$AM$3/120","v":0.875},{"$f":"'环工16-1分数统计'!AN11*'环工16-1分数统计'!$AN$3/120","v":2.025},{"$f":"'环工16-1分数统计'!AO11*'环工16-1分数统计'!$AO$3/120","v":1.6},{"$f":"'环工16-1分数统计'!AP11*'环工16-1分数统计'!$AP$3/120","v":1.1},{"$f":"'环工16-1分数统计'!AQ11*'环工16-1分数统计'!$AQ$3/120","v":2.325},{"$f":"'环工16-1分数统计'!AR11*'环工16-1分数统计'!$AR$3/120","v":1.5},{"$f":"'环工16-1分数统计'!AS11*'环工16-1分数统计'!$AS$3/120","v":1.5},{"$f":"'环工16-1分数统计'!AT11*'环工16-1分数统计'!$AT$3/120","v":1.5033333333333334},{"$f":"'环工16-1分数统计'!AU11*'环工16-1分数统计'!$AU$3/120","v":0.7583333333333333},{"$f":"'环工16-1分数统计'!AV11*'环工16-1分数统计'!$AV$3/120","v":1.6333333333333333},{"$f":"'环工16-1分数统计'!AW11*'环工16-1分数统计'!$AW$3/120","v":0.7083333333333334},{"$f":"'环工16-1分数统计'!AX11*'环工16-1分数统计'!$AX$3/120","v":2.8333333333333335},{"$f":"'环工16-1分数统计'!AY11*'环工16-1分数统计'!$AY$3/120","v":1.5166666666666666},{"$f":"'环工16-1分数统计'!AZ11*'环工16-1分数统计'!$AZ$3/120","v":1.5833333333333333},{"$f":"'环工16-1分数统计'!BA11*'环工16-1分数统计'!$BA$3/120","v":1.65},{"$f":"'环工16-1分数统计'!BB11*'环工16-1分数统计'!$BB$3/120","v":1.1},{"$f":"'环工16-1分数统计'!BC11*'环工16-1分数统计'!$BC$3/120","v":2.275},{"$f":"'环工16-1分数统计'!BD11*'环工16-1分数统计'!$BD$3/120","v":1.1},{"$f":"'环工16-1分数统计'!BE11*'环工16-1分数统计'!$BE$3/120","v":1.4333333333333333},85.2222038567493,59.655542699724506,92.9438651346124,97.8766592074591,190.8205243420715,94.70649877410717,18.941299754821436,78.59684245454594]
[9,"余美琪","2016010613",{"$f":"'环工16-1分数统计'!H17*'环工16-1分数统计'!$H$3/120","v":0.675},{"$f":"'环工16-1分数统计'!I17*'环工16-1分数统计'!$I$3/120","v":1.5166666666666666},{"$f":"'环工16-1分数统计'!J17*'环工16-1分数统计'!$J$3/120","v":4.2},{"$f":"'环工16-1分数统计'!K17*'环工16-1分数统计'!$K$3/120","v":3.0375},{"$f":"'环工16-1分数统计'!L17*'环工16-1分数统计'!$L$3/120","v":1.2833333333333334},{"$f":"'环工16-1分数统计'!M17*'环工16-1分数统计'!$M$3/120","v":1.2},{"$f":"'环工16-1分数统计'!N17*'环工16-1分数统计'!$N$3/120","v":3.4499999999999997},{"$f":"'环工16-1分数统计'!O17*'环工16-1分数统计'!$O$3/121","v":0.6528925619834711},{"$f":"'环工16-1分数统计'!P17*'环工16-1分数统计'!$P$3/120","v":1.5208333333333333},{"$f":"'环工16-1分数统计'!Q17*'环工16-1分数统计'!$Q$3/120","v":0.625},{"$f":"'环工16-1分数统计'!R17*'环工16-1分数统计'!$R$3/120","v":1.7},{"$f":"'环工16-1分数统计'!S17*'环工16-1分数统计'!$S$3/120","v":3.5416666666666665},{"$f":"'环工16-1分数统计'!T17*'环工16-1分数统计'!$T$3/120","v":1.7916666666666667},{"$f":"'环工16-1分数统计'!U17*'环工16-1分数统计'!$U$3/120","v":2.8666666666666667},{"$f":"'环工16-1分数统计'!V17*'环工16-1分数统计'!$V$3/120","v":2.225},{"$f":"'环工16-1分数统计'!W17*'环工16-1分数统计'!$W$3/120","v":3.335},{"$f":"'环工16-1分数统计'!X17*'环工16-1分数统计'!$X$3/120","v":0.7083333333333334},{"$f":"'环工16-1分数统计'!Y17*'环工16-1分数统计'!$Y$3/120","v":1.4833333333333334},{"$f":"'环工16-1分数统计'!Z17*'环工16-1分数统计'!$Z$3/120","v":2},{"$f":"'环工16-1分数统计'!AA17*'环工16-1分数统计'!$AA$3/120","v":2.25},{"$f":"'环工16-1分数统计'!AB17*'环工16-1分数统计'!$AB$3/120","v":1.4333333333333333},{"$f":"'环工16-1分数统计'!AC17*'环工16-1分数统计'!$AC$3/120","v":1.4666666666666666},{"$f":"'环工16-1分数统计'!AD17*'环工16-1分数统计'!$AD$3/120","v":1.4},{"$f":"'环工16-1分数统计'!AE17*'环工16-1分数统计'!$AE$3/120","v":1.6099999999999999},{"$f":"'环工16-1分数统计'!AF17*'环工16-1分数统计'!$AF$3/120","v":0.7416666666666667},{"$f":"'环工16-1分数统计'!AG17*'环工16-1分数统计'!$AG$3/120","v":1.5625},{"$f":"'环工16-1分数统计'!AH17*'环工16-1分数统计'!$AH$3/120","v":2.1},{"$f":"'环工16-1分数统计'!AI17*'环工16-1分数统计'!$AI$3/120","v":1.4666666666666666},{"$f":"'环工16-1分数统计'!AJ17*'环工16-1分数统计'!$AJ$3/120","v":0.725},{"$f":"'环工16-1分数统计'!AK17*'环工16-1分数统计'!$AK$3/120","v":2.6666666666666665},{"$f":"'环工16-1分数统计'!AL17*'环工16-1分数统计'!$AL$3/120","v":1.5333333333333334},{"$f":"'环工16-1分数统计'!AM17*'环工16-1分数统计'!$AM$3/120","v":0.975},{"$f":"'环工16-1分数统计'!AN17*'环工16-1分数统计'!$AN$3/120","v":2.175},{"$f":"'环工16-1分数统计'!AO17*'环工16-1分数统计'!$AO$3/120","v":2.075},{"$f":"'环工16-1分数统计'!AP17*'环工16-1分数统计'!$AP$3/120","v":1.1125},{"$f":"'环工16-1分数统计'!AQ17*'环工16-1分数统计'!$AQ$3/120","v":2.175},{"$f":"'环工16-1分数统计'!AR17*'环工16-1分数统计'!$AR$3/120","v":1.45},{"$f":"'环工16-1分数统计'!AS17*'环工16-1分数统计'!$AS$3/120","v":1.5333333333333334},{"$f":"'环工16-1分数统计'!AT17*'环工16-1分数统计'!$AT$3/120","v":1.4566666666666666},{"$f":"'环工16-1分数统计'!AU17*'环工16-1分数统计'!$AU$3/120","v":0.775},{"$f":"'环工16-1分数统计'!AV17*'环工16-1分数统计'!$AV$3/120","v":1.5},{"$f":"'环工16-1分数统计'!AW17*'环工16-1分数统计'!$AW$3/120","v":0.6666666666666666},{"$f":"'环工16-1分数统计'!AX17*'环工16-1分数统计'!$AX$3/120","v":3.066666666666667},{"$f":"'环工16-1分数统计'!AY17*'环工16-1分数统计'!$AY$3/120","v":1.5666666666666667},{"$f":"'环工16-1分数统计'!AZ17*'环工16-1分数统计'!$AZ$3/120","v":1.45},{"$f":"'环工16-1分数统计'!BA17*'环工16-1分数统计'!$BA$3/120","v":1.5166666666666666},{"$f":"'环工16-1分数统计'!BB17*'环工16-1分数统计'!$BB$3/120","v":1.0875},{"$f":"'环工16-1分数统计'!BC17*'环工16-1分数统计'!$BC$3/120","v":2.2},{"$f":"'环工16-1分数统计'!BD17*'环工16-1分数统计'!$BD$3/120","v":1.1125},{"$f":"'环工16-1分数统计'!BE17*'环工16-1分数统计'!$BE$3/120","v":1.2},85.86289256198349,60.10402479338843,89.3712150025991,90.0143682983682,179.3855833009673,89.03120135300814,17.80624027060163,77.91026506399007]
[10,"刘涵钰","2016010603",{"$f":"'环工16-1分数统计'!H7*'环工16-1分数统计'!$H$3/120","v":0.6583333333333333},{"$f":"'环工16-1分数统计'!I7*'环工16-1分数统计'!$I$3/120","v":1.5166666666666666},{"$f":"'环工16-1分数统计'!J7*'环工16-1分数统计'!$J$3/120","v":3.85},{"$f":"'环工16-1分数统计'!K7*'环工16-1分数统计'!$K$3/120","v":3.3},{"$f":"'环工16-1分数统计'!L7*'环工16-1分数统计'!$L$3/120","v":1.5166666666666666},{"$f":"'环工16-1分数统计'!M7*'环工16-1分数统计'!$M$3/120","v":1.2833333333333334},{"$f":"'环工16-1分数统计'!N7*'环工16-1分数统计'!$N$3/120","v":2.97},{"$f":"'环工16-1分数统计'!O7*'环工16-1分数统计'!$O$3/121","v":0.5950413223140496},{"$f":"'环工16-1分数统计'!P7*'环工16-1分数统计'!$P$3/120","v":1.8333333333333333},{"$f":"'环工16-1分数统计'!Q7*'环工16-1分数统计'!$Q$3/120","v":0.7666666666666667},{"$f":"'环工16-1分数统计'!R7*'环工16-1分数统计'!$R$3/120","v":2.025},{"$f":"'环工16-1分数统计'!S7*'环工16-1分数统计'!$S$3/120","v":3.9166666666666665},{"$f":"'环工16-1分数统计'!T7*'环工16-1分数统计'!$T$3/120","v":1.8333333333333333},{"$f":"'环工16-1分数统计'!U7*'环工16-1分数统计'!$U$3/120","v":2.8666666666666667},{"$f":"'环工16-1分数统计'!V7*'环工16-1分数统计'!$V$3/120","v":2.225},{"$f":"'环工16-1分数统计'!W7*'环工16-1分数统计'!$W$3/120","v":2.97},{"$f":"'环工16-1分数统计'!X7*'环工16-1分数统计'!$X$3/120","v":0.725},{"$f":"'环工16-1分数统计'!Y7*'环工16-1分数统计'!$Y$3/120","v":1.5},{"$f":"'环工16-1分数统计'!Z7*'环工16-1分数统计'!$Z$3/120","v":1.675},{"$f":"'环工16-1分数统计'!AA7*'环工16-1分数统计'!$AA$3/120","v":2.275},{"$f":"'环工16-1分数统计'!AB7*'环工16-1分数统计'!$AB$3/120","v":1.4},{"$f":"'环工16-1分数统计'!AC7*'环工16-1分数统计'!$AC$3/120","v":1.3666666666666667},{"$f":"'环工16-1分数统计'!AD7*'环工16-1分数统计'!$AD$3/120","v":1.3333333333333333},{"$f":"'环工16-1分数统计'!AE7*'环工16-1分数统计'!$AE$3/120","v":1.4116666666666666},{"$f":"'环工16-1分数统计'!AF7*'环工16-1分数统计'!$AF$3/120","v":0.6666666666666666},{"$f":"'环工16-1分数统计'!AG7*'环工16-1分数统计'!$AG$3/120","v":1.7291666666666667},{"$f":"'环工16-1分数统计'!AH7*'环工16-1分数统计'!$AH$3/120","v":2.075},{"$f":"'环工16-1分数统计'!AI7*'环工16-1分数统计'!$AI$3/120","v":1.45},{"$f":"'环工16-1分数统计'!AJ7*'环工16-1分数统计'!$AJ$3/120","v":0.7666666666666667},{"$f":"'环工16-1分数统计'!AK7*'环工16-1分数统计'!$AK$3/120","v":2.433333333333333},{"$f":"'环工16-1分数统计'!AL7*'环工16-1分数统计'!$AL$3/120","v":1.4666666666666666},{"$f":"'环工16-1分数统计'!AM7*'环工16-1分数统计'!$AM$3/120","v":1.0375},{"$f":"'环工16-1分数统计'!AN7*'环工16-1分数统计'!$AN$3/120","v":2.075},{"$f":"'环工16-1分数统计'!AO7*'环工16-1分数统计'!$AO$3/120","v":1.9},{"$f":"'环工16-1分数统计'!AP7*'环工16-1分数统计'!$AP$3/120","v":1.0875},{"$f":"'环工16-1分数统计'!AQ7*'环工16-1分数统计'!$AQ$3/120","v":2.15},{"$f":"'环工16-1分数统计'!AR7*'环工16-1分数统计'!$AR$3/120","v":1.45},{"$f":"'环工16-1分数统计'!AS7*'环工16-1分数统计'!$AS$3/120","v":1.55},{"$f":"'环工16-1分数统计'!AT7*'环工16-1分数统计'!$AT$3/120","v":1.375},{"$f":"'环工16-1分数统计'!AU7*'环工16-1分数统计'!$AU$3/120","v":0.6833333333333333},{"$f":"'环工16-1分数统计'!AV7*'环工16-1分数统计'!$AV$3/120","v":1.35},{"$f":"'环工16-1分数统计'!AW7*'环工16-1分数统计'!$AW$3/120","v":0.7333333333333333},{"$f":"'环工16-1分数统计'!AX7*'环工16-1分数统计'!$AX$3/120","v":3.1},{"$f":"'环工16-1分数统计'!AY7*'环工16-1分数统计'!$AY$3/120","v":1.45},{"$f":"'环工16-1分数统计'!AZ7*'环工16-1分数统计'!$AZ$3/120","v":1.5},{"$f":"'环工16-1分数统计'!BA7*'环工16-1分数统计'!$BA$3/120","v":1.5},{"$f":"'环工16-1分数统计'!BB7*'环工16-1分数统计'!$BB$3/120","v":1.125},{"$f":"'环工16-1分数统计'!BC7*'环工16-1分数统计'!$BC$3/120","v":2.3},{"$f":"'环工16-1分数统计'!BD7*'环工16-1分数统计'!$BD$3/120","v":1.1},{"$f":"'环工16-1分数统计'!BE7*'环工16-1分数统计'!$BE$3/120","v":1.45},85.31754132231404,59.722278925619825,90.9492381049094,90.2221258741258,181.1713639790352,89.91750557097099,17.983501114194198,77.70578003981402]
[11,"任玥辉","2016010608",{"$f":"'环工16-1分数统计'!H12*'环工16-1分数统计'!$H$3/120","v":0.7333333333333333},{"$f":"'环工16-1分数统计'!I12*'环工16-1分数统计'!$I$3/120","v":1.5666666666666667},{"$f":"'环工16-1分数统计'!J12*'环工16-1分数统计'!$J$3/120","v":4.2},{"$f":"'环工16-1分数统计'!K12*'环工16-1分数统计'!$K$3/120","v":3},{"$f":"'环工16-1分数统计'!L12*'环工16-1分数统计'!$L$3/120","v":1.4333333333333333},{"$f":"'环工16-1分数统计'!M12*'环工16-1分数统计'!$M$3/120","v":1.45},{"$f":"'环工16-1分数统计'!N12*'环工16-1分数统计'!$N$3/120","v":2.933333333333333},{"$f":"'环工16-1分数统计'!O12*'环工16-1分数统计'!$O$3/121","v":0.6611570247933884},{"$f":"'环工16-1分数统计'!P12*'环工16-1分数统计'!$P$3/120","v":1.75},{"$f":"'环工16-1分数统计'!Q12*'环工16-1分数统计'!$Q$3/120","v":0.65},{"$f":"'环工16-1分数统计'!R12*'环工16-1分数统计'!$R$3/120","v":1.875},{"$f":"'环工16-1分数统计'!S12*'环工16-1分数统计'!$S$3/120","v":3.4166666666666665},{"$f":"'环工16-1分数统计'!T12*'环工16-1分数统计'!$T$3/120","v":1.8333333333333333},{"$f":"'环工16-1分数统计'!U12*'环工16-1分数统计'!$U$3/120","v":2.7},{"$f":"'环工16-1分数统计'!V12*'环工16-1分数统计'!$V$3/120","v":1.9},{"$f":"'环工16-1分数统计'!W12*'环工16-1分数统计'!$W$3/120","v":3.336666666666667},{"$f":"'环工16-1分数统计'!X12*'环工16-1分数统计'!$X$3/120","v":0.7333333333333333},{"$f":"'环工16-1分数统计'!Y12*'环工16-1分数统计'!$Y$3/120","v":1.5},{"$f":"'环工16-1分数统计'!Z12*'环工16-1分数统计'!$Z$3/120","v":1.6},{"$f":"'环工16-1分数统计'!AA12*'环工16-1分数统计'!$AA$3/120","v":2.125},{"$f":"'环工16-1分数统计'!AB12*'环工16-1分数统计'!$AB$3/120","v":1.2666666666666666},{"$f":"'环工16-1分数统计'!AC12*'环工16-1分数统计'!$AC$3/120","v":1.4333333333333333},{"$f":"'环工16-1分数统计'!AD12*'环工16-1分数统计'!$AD$3/120","v":1.45},{"$f":"'环工16-1分数统计'!AE12*'环工16-1分数统计'!$AE$3/120","v":1.595},{"$f":"'环工16-1分数统计'!AF12*'环工16-1分数统计'!$AF$3/120","v":0.7416666666666667},{"$f":"'环工16-1分数统计'!AG12*'环工16-1分数统计'!$AG$3/120","v":1.5625},{"$f":"'环工16-1分数统计'!AH12*'环工16-1分数统计'!$AH$3/120","v":2.05},{"$f":"'环工16-1分数统计'!AI12*'环工16-1分数统计'!$AI$3/120","v":1.4833333333333334},{"$f":"'环工16-1分数统计'!AJ12*'环工16-1分数统计'!$AJ$3/120","v":0.7666666666666667},{"$f":"'环工16-1分数统计'!AK12*'环工16-1分数统计'!$AK$3/120","v":2.5},{"$f":"'环工16-1分数统计'!AL12*'环工16-1分数统计'!$AL$3/120","v":1.4833333333333334},{"$f":"'环工16-1分数统计'!AM12*'环工16-1分数统计'!$AM$3/120","v":1.0625},{"$f":"'环工16-1分数统计'!AN12*'环工16-1分数统计'!$AN$3/120","v":2.275},{"$f":"'环工16-1分数统计'!AO12*'环工16-1分数统计'!$AO$3/120","v":2.125},{"$f":"'环工16-1分数统计'!AP12*'环工16-1分数统计'!$AP$3/120","v":1.125},{"$f":"'环工16-1分数统计'!AQ12*'环工16-1分数统计'!$AQ$3/120","v":2.325},{"$f":"'环工16-1分数统计'!AR12*'环工16-1分数统计'!$AR$3/120","v":1.4666666666666666},{"$f":"'环工16-1分数统计'!AS12*'环工16-1分数统计'!$AS$3/120","v":1.55},{"$f":"'环工16-1分数统计'!AT12*'环工16-1分数统计'!$AT$3/120","v":1.6316666666666668},{"$f":"'环工16-1分数统计'!AU12*'环工16-1分数统计'!$AU$3/120","v":0.6833333333333333},{"$f":"'环工16-1分数统计'!AV12*'环工16-1分数统计'!$AV$3/120","v":1.4833333333333334},{"$f":"'环工16-1分数统计'!AW12*'环工16-1分数统计'!$AW$3/120","v":0.675},{"$f":"'环工16-1分数统计'!AX12*'环工16-1分数统计'!$AX$3/120","v":2.3333333333333335},{"$f":"'环工16-1分数统计'!AY12*'环工16-1分数统计'!$AY$3/120","v":1.4666666666666666},{"$f":"'环工16-1分数统计'!AZ12*'环工16-1分数统计'!$AZ$3/120","v":1.4166666666666667},{"$f":"'环工16-1分数统计'!BA12*'环工16-1分数统计'!$BA$3/120","v":1.45},{"$f":"'环工16-1分数统计'!BB12*'环工16-1分数统计'!$BB$3/120","v":1.125},{"$f":"'环工16-1分数统计'!BC12*'环工16-1分数统计'!$BC$3/120","v":2.125},{"$f":"'环工16-1分数统计'!BD12*'环工16-1分数统计'!$BD$3/120","v":1.1375},{"$f":"'环工16-1分数统计'!BE12*'环工16-1分数统计'!$BE$3/120","v":1.3666666666666667},84.55365702479338,59.187559917355365,92.9265846395629,91.3254874902874,184.25207212985032,91.446497715367,18.2892995430734,77.47685946042877]
[12,"刘姝羽",2016010637,0.675,1.5,4.35,3.2625,1.28333333333333,1.16666666666667,{"$f":"[1]Sheet1!H46*$J$3/120","v":2.805},0.616666666666667,1.45833333333333,0.608333333333333,1.8,4.04166666666667,1.89583333333333,2.9,1.85,{"$f":"[1]Sheet1!I46*$S$3/120","v":2.8028},0.75,1.51666666666667,2.175,2.275,1.35,1.43333333333333,1.3,{"$f":"[1]Sheet1!K46*$AA$3/120","v":1.3245833333333334},0.791666666666667,1.6875,2.35,1.45,0.775,2.76666666666667,1.51666666666667,0.9,2.1,2.075,1.1125,2,1.51666666666667,1.46666666666667,{"$f":"[1]Sheet1!J46*$AP$3/120","v":1.3092749999999997},0.758333333333333,1.41666666666667,0.675,2.66666666666667,1.36666666666667,1.28333333333333,1.6,1.1,2.15,1,1,84.7166666666667,59.3016666666667,91.0101205309542,91.4717852369852,182.481905767939,90.56794306846858,18.113588613693718,77.41525528036041]
[13,"马一凡","2016010606",{"$f":"'环工16-1分数统计'!H10*'环工16-1分数统计'!$H$3/120","v":0.6833333333333333},{"$f":"'环工16-1分数统计'!I10*'环工16-1分数统计'!$I$3/120","v":1.5},{"$f":"'环工16-1分数统计'!J10*'环工16-1分数统计'!$J$3/120","v":4.35},{"$f":"'环工16-1分数统计'!K10*'环工16-1分数统计'!$K$3/120","v":3.4125},{"$f":"'环工16-1分数统计'!L10*'环工16-1分数统计'!$L$3/120","v":1.4},{"$f":"'环工16-1分数统计'!M10*'环工16-1分数统计'!$M$3/120","v":1.2},{"$f":"'环工16-1分数统计'!N10*'环工16-1分数统计'!$N$3/120","v":3.4499999999999997},{"$f":"'环工16-1分数统计'!O10*'环工16-1分数统计'!$O$3/121","v":0.6363636363636364},{"$f":"'环工16-1分数统计'!P10*'环工16-1分数统计'!$P$3/120","v":1.875},{"$f":"'环工16-1分数统计'!Q10*'环工16-1分数统计'!$Q$3/120","v":0.6083333333333333},{"$f":"'环工16-1分数统计'!R10*'环工16-1分数统计'!$R$3/120","v":2.15},{"$f":"'环工16-1分数统计'!S10*'环工16-1分数统计'!$S$3/120","v":3.625},{"$f":"'环工16-1分数统计'!T10*'环工16-1分数统计'!$T$3/120","v":1.8125},{"$f":"'环工16-1分数统计'!U10*'环工16-1分数统计'!$U$3/120","v":3},{"$f":"'环工16-1分数统计'!V10*'环工16-1分数统计'!$V$3/120","v":2.2},{"$f":"'环工16-1分数统计'!W10*'环工16-1分数统计'!$W$3/120","v":3.258333333333333},{"$f":"'环工16-1分数统计'!X10*'环工16-1分数统计'!$X$3/120","v":0.7166666666666667},{"$f":"'环工16-1分数统计'!Y10*'环工16-1分数统计'!$Y$3/120","v":1.4666666666666666},{"$f":"'环工16-1分数统计'!Z10*'环工16-1分数统计'!$Z$3/120","v":1.5},{"$f":"'环工16-1分数统计'!AA10*'环工16-1分数统计'!$AA$3/120","v":2.15},{"$f":"'环工16-1分数统计'!AB10*'环工16-1分数统计'!$AB$3/120","v":1.1833333333333333},{"$f":"'环工16-1分数统计'!AC10*'环工16-1分数统计'!$AC$3/120","v":1.3},{"$f":"'环工16-1分数统计'!AD10*'环工16-1分数统计'!$AD$3/120","v":1.4166666666666667},{"$f":"'环工16-1分数统计'!AE10*'环工16-1分数统计'!$AE$3/120","v":1.6675},{"$f":"'环工16-1分数统计'!AF10*'环工16-1分数统计'!$AF$3/120","v":0.7416666666666667},{"$f":"'环工16-1分数统计'!AG10*'环工16-1分数统计'!$AG$3/120","v":1.6666666666666667},{"$f":"'环工16-1分数统计'!AH10*'环工16-1分数统计'!$AH$3/120","v":1.825},{"$f":"'环工16-1分数统计'!AI10*'环工16-1分数统计'!$AI$3/120","v":1.4},{"$f":"'环工16-1分数统计'!AJ10*'环工16-1分数统计'!$AJ$3/120","v":0.75},{"$f":"'环工16-1分数统计'!AK10*'环工16-1分数统计'!$AK$3/120","v":2.3333333333333335},{"$f":"'环工16-1分数统计'!AL10*'环工16-1分数统计'!$AL$3/120","v":1.2333333333333334},{"$f":"'环工16-1分数统计'!AM10*'环工16-1分数统计'!$AM$3/120","v":0.9625},{"$f":"'环工16-1分数统计'!AN10*'环工16-1分数统计'!$AN$3/120","v":1.65},{"$f":"'环工16-1分数统计'!AO10*'环工16-1分数统计'!$AO$3/120","v":1.975},{"$f":"'环工16-1分数统计'!AP10*'环工16-1分数统计'!$AP$3/120","v":1.0375},{"$f":"'环工16-1分数统计'!AQ10*'环工16-1分数统计'!$AQ$3/120","v":2.125},{"$f":"'环工16-1分数统计'!AR10*'环工16-1分数统计'!$AR$3/120","v":1.4666666666666666},{"$f":"'环工16-1分数统计'!AS10*'环工16-1分数统计'!$AS$3/120","v":1.4833333333333334},{"$f":"'环工16-1分数统计'!AT10*'环工16-1分数统计'!$AT$3/120","v":1.4183333333333332},{"$f":"'环工16-1分数统计'!AU10*'环工16-1分数统计'!$AU$3/120","v":0.75},{"$f":"'环工16-1分数统计'!AV10*'环工16-1分数统计'!$AV$3/120","v":1.5},{"$f":"'环工16-1分数统计'!AW10*'环工16-1分数统计'!$AW$3/120","v":0.6333333333333333},{"$f":"'环工16-1分数统计'!AX10*'环工16-1分数统计'!$AX$3/120","v":2.6333333333333333},{"$f":"'环工16-1分数统计'!AY10*'环工16-1分数统计'!$AY$3/120","v":1.3666666666666667},{"$f":"'环工16-1分数统计'!AZ10*'环工16-1分数统计'!$AZ$3/120","v":1.35},{"$f":"'环工16-1分数统计'!BA10*'环工16-1分数统计'!$BA$3/120","v":1.6333333333333333},{"$f":"'环工16-1分数统计'!BB10*'环工16-1分数统计'!$BB$3/120","v":1.0875},{"$f":"'环工16-1分数统计'!BC10*'环工16-1分数统计'!$BC$3/120","v":2.075},{"$f":"'环工16-1分数统计'!BD10*'环工16-1分数统计'!$BD$3/120","v":0.95},{"$f":"'环工16-1分数统计'!BE10*'环工16-1分数统计'!$BE$3/120","v":1.2666666666666666},{"$f":"SUM(D15:BA15)","v":83.87636363636365},{"$f":"0.7*BB15","v":58.71345454545455},92.1510598870876,90.7747359751359,{"$f":"SUM(BD15:BE15)","v":182.92579586222348},90.7882510086922,18.15765020173844,76.87110474719299]
[14,"唐钰琪","2016010609",{"$f":"'环工16-1分数统计'!H13*'环工16-1分数统计'!$H$3/120","v":0.6916666666666667},{"$f":"'环工16-1分数统计'!I13*'环工16-1分数统计'!$I$3/120","v":1.55},{"$f":"'环工16-1分数统计'!J13*'环工16-1分数统计'!$J$3/120","v":3.3},{"$f":"'环工16-1分数统计'!K13*'环工16-1分数统计'!$K$3/120","v":3},{"$f":"'环工16-1分数统计'!L13*'环工16-1分数统计'!$L$3/120","v":1.3666666666666667},{"$f":"'环工16-1分数统计'!M13*'环工16-1分数统计'!$M$3/120","v":1.3666666666666667},{"$f":"'环工16-1分数统计'!N13*'环工16-1分数统计'!$N$3/120","v":3.3000000000000003},{"$f":"'环工16-1分数统计'!O13*'环工16-1分数统计'!$O$3/121","v":0.7355371900826446},{"$f":"'环工16-1分数统计'!P13*'环工16-1分数统计'!$P$3/120","v":1.625},{"$f":"'环工16-1分数统计'!Q13*'环工16-1分数统计'!$Q$3/120","v":0.675},{"$f":"'环工16-1分数统计'!R13*'环工16-1分数统计'!$R$3/120","v":1.95},{"$f":"'环工16-1分数统计'!S13*'环工16-1分数统计'!$S$3/120","v":3.375},{"$f":"'环工16-1分数统计'!T13*'环工16-1分数统计'!$T$3/120","v":1.9166666666666667},{"$f":"'环工16-1分数统计'!U13*'环工16-1分数统计'!$U$3/120","v":2.2333333333333334},{"$f":"'环工16-1分数统计'!V13*'环工16-1分数统计'!$V$3/120","v":2.1},{"$f":"'环工16-1分数统计'!W13*'环工16-1分数统计'!$W$3/120","v":3.3733333333333335},{"$f":"'环工16-1分数统计'!X13*'环工16-1分数统计'!$X$3/120","v":0.7916666666666666},{"$f":"'环工16-1分数统计'!Y13*'环工16-1分数统计'!$Y$3/120","v":1.5333333333333334},{"$f":"'环工16-1分数统计'!Z13*'环工16-1分数统计'!$Z$3/120","v":2.05},{"$f":"'环工16-1分数统计'!AA13*'环工16-1分数统计'!$AA$3/120","v":2.1},{"$f":"'环工16-1分数统计'!AB13*'环工16-1分数统计'!$AB$3/120","v":1.2666666666666666},{"$f":"'环工16-1分数统计'!AC13*'环工16-1分数统计'!$AC$3/120","v":1.5333333333333334},{"$f":"'环工16-1分数统计'!AD13*'环工16-1分数统计'!$AD$3/120","v":1.45},{"$f":"'环工16-1分数统计'!AE13*'环工16-1分数统计'!$AE$3/120","v":1.6866666666666668},{"$f":"'环工16-1分数统计'!AF13*'环工16-1分数统计'!$AF$3/120","v":0.775},{"$f":"'环工16-1分数统计'!AG13*'环工16-1分数统计'!$AG$3/120","v":1.6041666666666667},{"$f":"'环工16-1分数统计'!AH13*'环工16-1分数统计'!$AH$3/120","v":2.15},{"$f":"'环工16-1分数统计'!AI13*'环工16-1分数统计'!$AI$3/120","v":1.45},{"$f":"'环工16-1分数统计'!AJ13*'环工16-1分数统计'!$AJ$3/120","v":0.7583333333333333},{"$f":"'环工16-1分数统计'!AK13*'环工16-1分数统计'!$AK$3/120","v":2.066666666666667},{"$f":"'环工16-1分数统计'!AL13*'环工16-1分数统计'!$AL$3/120","v":1.45},{"$f":"'环工16-1分数统计'!AM13*'环工16-1分数统计'!$AM$3/120","v":0.8375},{"$f":"'环工16-1分数统计'!AN13*'环工16-1分数统计'!$AN$3/120","v":2.25},{"$f":"'环工16-1分数统计'!AO13*'环工16-1分数统计'!$AO$3/120","v":1.65},{"$f":"'环工16-1分数统计'!AP13*'环工16-1分数统计'!$AP$3/120","v":1.1},{"$f":"'环工16-1分数统计'!AQ13*'环工16-1分数统计'!$AQ$3/120","v":1.825},{"$f":"'环工16-1分数统计'!AR13*'环工16-1分数统计'!$AR$3/120","v":1.4333333333333333},{"$f":"'环工16-1分数统计'!AS13*'环工16-1分数统计'!$AS$3/120","v":1.5},{"$f":"'环工16-1分数统计'!AT13*'环工16-1分数统计'!$AT$3/120","v":1.5583333333333336},{"$f":"'环工16-1分数统计'!AU13*'环工16-1分数统计'!$AU$3/120","v":0.75},{"$f":"'环工16-1分数统计'!AV13*'环工16-1分数统计'!$AV$3/120","v":1.5666666666666667},{"$f":"'环工16-1分数统计'!AW13*'环工16-1分数统计'!$AW$3/120","v":0.6833333333333333},{"$f":"'环工16-1分数统计'!AX13*'环工16-1分数统计'!$AX$3/120","v":2.566666666666667},{"$f":"'环工16-1分数统计'!AY13*'环工16-1分数统计'!$AY$3/120","v":1.6},{"$f":"'环工16-1分数统计'!AZ13*'环工16-1分数统计'!$AZ$3/120","v":1.5333333333333334},{"$f":"'环工16-1分数统计'!BA13*'环工16-1分数统计'!$BA$3/120","v":1.1666666666666667},{"$f":"'环工16-1分数统计'!BB13*'环工16-1分数统计'!$BB$3/120","v":1.1},{"$f":"'环工16-1分数统计'!BC13*'环工16-1分数统计'!$BC$3/120","v":2.1},{"$f":"'环工16-1分数统计'!BD13*'环工16-1分数统计'!$BD$3/120","v":1.1375},{"$f":"'环工16-1分数统计'!BE13*'环工16-1分数统计'!$BE$3/120","v":1.2666666666666666},{"$f":"SUM(D16:BA16)","v":82.8497038567493},{"$f":"0.7*BB16","v":57.994792699724506},92.9975449365926,94.0410066822066,{"$f":"SUM(BD16:BE16)","v":187.0385516187992},92.82946067081481,18.56589213416296,76.56068483388746]
[15,"李昕",2016010635,0.725,1.56666666666667,3.7,3.45,1.51666666666667,1.28333333333333,{"$f":"[1]Sheet1!H44*$J$3/120","v":2.6718333333333333},0.641666666666667,1.6875,0.808333333333333,2.05,3.5,1.83333333333333,2.56666666666667,2.4,{"$f":"[1]Sheet1!I44*$S$3/120","v":2.7369999999999997},0.775,1.58333333333333,1.65,2.1,1.25,1.3,1.36666666666667,{"$f":"[1]Sheet1!K44*$AA$3/120","v":1.4173749999999998},0.775,1.66666666666667,2.05,1.41666666666667,0.708333333333333,2.43333333333333,1.45,0.8,2.15,2,1.075,2.275,1.4,1.48333333333333,{"$f":"[1]Sheet1!J44*$AP$3/120","v":1.2497624999999997},0.775,1.43333333333333,0.666666666666667,2.66666666666667,1.48333333333333,1.4,1.53333333333333,1.0875,2.25,1.1,1,83.25,58.275,92.3800963262006,91.526358974359,183.90645530056,91.27496396692798,18.254992793385597,76.52999279338559]
[16,"李同","2016010624",{"$f":"'环工16-1分数统计'!H24*'环工16-1分数统计'!$H$3/120","v":0.725},{"$f":"'环工16-1分数统计'!I24*'环工16-1分数统计'!$I$3/120","v":1.5166666666666666},{"$f":"'环工16-1分数统计'!J24*'环工16-1分数统计'!$J$3/120","v":3.9},{"$f":"'环工16-1分数统计'!K24*'环工16-1分数统计'!$K$3/120","v":3.15},{"$f":"'环工16-1分数统计'!L24*'环工16-1分数统计'!$L$3/120","v":1.4666666666666666},{"$f":"'环工16-1分数统计'!M24*'环工16-1分数统计'!$M$3/120","v":1.3833333333333333},{"$f":"'环工16-1分数统计'!N24*'环工16-1分数统计'!$N$3/120","v":2.4566666666666666},{"$f":"'环工16-1分数统计'!O24*'环工16-1分数统计'!$O$3/121","v":0.5371900826446281},{"$f":"'环工16-1分数统计'!P24*'环工16-1分数统计'!$P$3/120","v":1.7291666666666667},{"$f":"'环工16-1分数统计'!Q24*'环工16-1分数统计'!$Q$3/120","v":0.5833333333333334},{"$f":"'环工16-1分数统计'!R24*'环工16-1分数统计'!$R$3/120","v":1.85},{"$f":"'环工16-1分数统计'!S24*'环工16-1分数统计'!$S$3/120","v":3.2916666666666665},{"$f":"'环工16-1分数统计'!T24*'环工16-1分数统计'!$T$3/120","v":1.875},{"$f":"'环工16-1分数统计'!U24*'环工16-1分数统计'!$U$3/120","v":2.7},{"$f":"'环工16-1分数统计'!V24*'环工16-1分数统计'!$V$3/120","v":1.975},{"$f":"'环工16-1分数统计'!W24*'环工16-1分数统计'!$W$3/120","v":2.97},{"$f":"'环工16-1分数统计'!X24*'环工16-1分数统计'!$X$3/120","v":0.6916666666666667},{"$f":"'环工16-1分数统计'!Y24*'环工16-1分数统计'!$Y$3/120","v":1.5333333333333334},{"$f":"'环工16-1分数统计'!Z24*'环工16-1分数统计'!$Z$3/120","v":1.925},{"$f":"'环工16-1分数统计'!AA24*'环工16-1分数统计'!$AA$3/120","v":2},{"$f":"'环工16-1分数统计'!AB24*'环工16-1分数统计'!$AB$3/120","v":1.2666666666666666},{"$f":"'环工16-1分数统计'!AC24*'环工16-1分数统计'!$AC$3/120","v":1.5},{"$f":"'环工16-1分数统计'!AD24*'环工16-1分数统计'!$AD$3/120","v":1.4166666666666667},{"$f":"'环工16-1分数统计'!AE24*'环工16-1分数统计'!$AE$3/120","v":1.4666666666666666},{"$f":"'环工16-1分数统计'!AF24*'环工16-1分数统计'!$AF$3/120","v":0.6916666666666667},{"$f":"'环工16-1分数统计'!AG24*'环工16-1分数统计'!$AG$3/120","v":1.7083333333333333},{"$f":"'环工16-1分数统计'!AH24*'环工16-1分数统计'!$AH$3/120","v":2.125},{"$f":"'环工16-1分数统计'!AI24*'环工16-1分数统计'!$AI$3/120","v":1.4666666666666666},{"$f":"'环工16-1分数统计'!AJ24*'环工16-1分数统计'!$AJ$3/120","v":0.7166666666666667},{"$f":"'环工16-1分数统计'!AK24*'环工16-1分数统计'!$AK$3/120","v":2.1666666666666665},{"$f":"'环工16-1分数统计'!AL24*'环工16-1分数统计'!$AL$3/120","v":1.5},{"$f":"'环工16-1分数统计'!AM24*'环工16-1分数统计'!$AM$3/120","v":0.85},{"$f":"'环工16-1分数统计'!AN24*'环工16-1分数统计'!$AN$3/120","v":2.25},{"$f":"'环工16-1分数统计'!AO24*'环工16-1分数统计'!$AO$3/120","v":1.6},{"$f":"'环工16-1分数统计'!AP24*'环工16-1分数统计'!$AP$3/120","v":1.1},{"$f":"'环工16-1分数统计'!AQ24*'环工16-1分数统计'!$AQ$3/120","v":2.175},{"$f":"'环工16-1分数统计'!AR24*'环工16-1分数统计'!$AR$3/120","v":1.45},{"$f":"'环工16-1分数统计'!AS24*'环工16-1分数统计'!$AS$3/120","v":1.5666666666666667},{"$f":"'环工16-1分数统计'!AT24*'环工16-1分数统计'!$AT$3/120","v":1.485},{"$f":"'环工16-1分数统计'!AU24*'环工16-1分数统计'!$AU$3/120","v":0.6666666666666666},{"$f":"'环工16-1分数统计'!AV24*'环工16-1分数统计'!$AV$3/120","v":1.4666666666666666},{"$f":"'环工16-1分数统计'!AW24*'环工16-1分数统计'!$AW$3/120","v":0.7083333333333334},{"$f":"'环工16-1分数统计'!AX24*'环工16-1分数统计'!$AX$3/120","v":2.9},{"$f":"'环工16-1分数统计'!AY24*'环工16-1分数统计'!$AY$3/120","v":1.5166666666666666},{"$f":"'环工16-1分数统计'!AZ24*'环工16-1分数统计'!$AZ$3/120","v":1.5333333333333334},{"$f":"'环工16-1分数统计'!BA24*'环工16-1分数统计'!$BA$3/120","v":1.5},{"$f":"'环工16-1分数统计'!BB24*'环工16-1分数统计'!$BB$3/120","v":1.0875},{"$f":"'环工16-1分数统计'!BC24*'环工16-1分数统计'!$BC$3/120","v":2.25},{"$f":"'环工16-1分数统计'!BD24*'环工16-1分数统计'!$BD$3/120","v":1.1375},{"$f":"'环工16-1分数统计'!BE24*'环工16-1分数统计'!$BE$3/120","v":1.25},{"$f":"SUM(D18:BA18)","v":82.77802341597798},{"$f":"0.7*BB18","v":57.94461639118458},89.4128948375827,90.9267602175601,{"$f":"SUM(BD18:BE18)","v":180.3396550551428},89.50471852695352,17.900943705390706,75.84556009657528]
[17,"李正映",2016010648,0.683333333333333,1.63333333333333,3.55,3.225,1.51666666666667,1.31666666666667,{"$f":"[1]Sheet1!H57*$J$3/120","v":2.7115},0.683333333333333,1.47916666666667,0.616666666666667,1.65,3.54166666666667,1.79166666666667,2.7,2.15,{"$f":"[1]Sheet1!I57*$S$3/120","v":2.5256},0.658333333333333,1.5,2.175,2,1.23333333333333,1.35,1.38333333333333,{"$f":"[1]Sheet1!K57*$AA$3/120","v":1.3869166666666668},0.783333333333333,1.70833333333333,1.875,1.43333333333333,0.741666666666667,2.3,1.46666666666667,0.95,2,1.825,1.1,2.275,1.5,1.61666666666667,{"$f":"[1]Sheet1!J57*$AP$3/120","v":1.1811937499999998},0.791666666666667,1.43333333333333,0.633333333333333,2.56666666666667,1.38333333333333,1.55,1.38333333333333,1.0625,2.075,1.1125,1.33333333333333,82.2375,57.56625,89.3765341723183,90.0273448329448,179.403879005263,89.04028172893955,17.80805634578791,75.37430634578791]
[19,"郭全弟",2016010647,0.683333333333333,1.53333333333333,4.2,3.2625,1.36666666666667,1.21666666666667,{"$f":"[1]Sheet1!H56*$J$3/120","v":2.493333333333333},0.516666666666667,1.625,0.775,1.875,3.45833333333333,1.625,2.66666666666667,2.125,{"$f":"[1]Sheet1!I56*$S$3/120","v":2.5872},0.633333333333333,1.55,1.925,2.25,1.33333333333333,1.41666666666667,1.18333333333333,{"$f":"[1]Sheet1!K56*$AA$3/120","v":1.26225},0.675,1.4375,2.15,1.43333333333333,0.725,2.26666666666667,1.51666666666667,0.9,1.7,2.1,1.1125,2.1,1.5,1.53333333333333,"·",0.633333333333333,1.4,0.7,2.66666666666667,1.31666666666667,1.46666666666667,1.53333333333333,1.075,2.025,1.0375,1.4,81.825,57.2775,88.1014736662677,85.5605529137529,173.662026580021,86.19053198872047,17.238106397744094,74.5156063977441]
[18,"陆文懿",2016010638,0.641666666666667,1.51666666666667,4.1,3.15,1.33333333333333,1.28333333333333,{"$f":"[1]Sheet1!H47*$J$3/120","v":2.5089166666666665},0.691666666666667,1.625,0.633333333333333,1.6,3.625,1.79166666666667,2.73333333333333,1.5,{"$f":"[1]Sheet1!I47*$S$3/120","v":2.576},0.683333333333333,1.5,1.9,2.25,1.2,1.13333333333333,1.31666666666667,{"$f":"[1]Sheet1!K47*$AA$3/120","v":1.401083333333333},0.741666666666667,1.60416666666667,1.975,1.38333333333333,0.75,2.66666666666667,1.45,1,2.25,2.075,1.075,2.025,1.46666666666667,1.48333333333333,{"$f":"[1]Sheet1!J47*$AP$3/120","v":1.0414687499999997},0.75,1.51666666666667,0.675,2.56666666666667,1.11666666666667,1.33333333333333,1.33333333333333,1.1,2.3,1.0625,1.3,81.0416666666666,56.7291666666666,88.5622085397551,90.0499953379953,178.61220387775,88.64736393484054,17.72947278696811,74.4586394536347]
[20,"高军政","2016010620",{"$f":"'环工16-1分数统计'!H21*'环工16-1分数统计'!$H$3/120","v":0.6416666666666667},{"$f":"'环工16-1分数统计'!I21*'环工16-1分数统计'!$I$3/120","v":1.5333333333333334},{"$f":"'环工16-1分数统计'!J21*'环工16-1分数统计'!$J$3/120","v":4},{"$f":"'环工16-1分数统计'!K21*'环工16-1分数统计'!$K$3/120","v":3.375},{"$f":"'环工16-1分数统计'!L21*'环工16-1分数统计'!$L$3/120","v":1.45},{"$f":"'环工16-1分数统计'!M21*'环工16-1分数统计'!$M$3/120","v":1.2166666666666666},{"$f":"'环工16-1分数统计'!N21*'环工16-1分数统计'!$N$3/120","v":2.4200000000000004},{"$f":"'环工16-1分数统计'!O21*'环工16-1分数统计'!$O$3/121","v":0.6115702479338843},{"$f":"'环工16-1分数统计'!P21*'环工16-1分数统计'!$P$3/120","v":1.8125},{"$f":"'环工16-1分数统计'!Q21*'环工16-1分数统计'!$Q$3/120","v":0.775},{"$f":"'环工16-1分数统计'!R21*'环工16-1分数统计'!$R$3/120","v":1.95},{"$f":"'环工16-1分数统计'!S21*'环工16-1分数统计'!$S$3/120","v":3.875},{"$f":"'环工16-1分数统计'!T21*'环工16-1分数统计'!$T$3/120","v":1.7291666666666667},{"$f":"'环工16-1分数统计'!U21*'环工16-1分数统计'!$U$3/120","v":2.6666666666666665},{"$f":"'环工16-1分数统计'!V21*'环工16-1分数统计'!$V$3/120","v":2.3},{"$f":"'环工16-1分数统计'!W21*'环工16-1分数统计'!$W$3/120","v":2.97},{"$f":"'环工16-1分数统计'!X21*'环工16-1分数统计'!$X$3/120","v":0.725},{"$f":"'环工16-1分数统计'!Y21*'环工16-1分数统计'!$Y$3/120","v":1.5},{"$f":"'环工16-1分数统计'!Z21*'环工16-1分数统计'!$Z$3/120","v":1.7},{"$f":"'环工16-1分数统计'!AA21*'环工16-1分数统计'!$AA$3/120","v":2.275},{"$f":"'环工16-1分数统计'!AB21*'环工16-1分数统计'!$AB$3/120","v":1.2833333333333334},{"$f":"'环工16-1分数统计'!AC21*'环工16-1分数统计'!$AC$3/120","v":1.3166666666666667},{"$f":"'环工16-1分数统计'!AD21*'环工16-1分数统计'!$AD$3/120","v":1.3166666666666667},{"$f":"'环工16-1分数统计'!AE21*'环工16-1分数统计'!$AE$3/120","v":1.4116666666666666},{"$f":"'环工16-1分数统计'!AF21*'环工16-1分数统计'!$AF$3/120","v":0.6583333333333333},{"$f":"'环工16-1分数统计'!AG21*'环工16-1分数统计'!$AG$3/120","v":1.4375},{"$f":"'环工16-1分数统计'!AH21*'环工16-1分数统计'!$AH$3/120","v":1.825},{"$f":"'环工16-1分数统计'!AI21*'环工16-1分数统计'!$AI$3/120","v":1.3833333333333333},{"$f":"'环工16-1分数统计'!AJ21*'环工16-1分数统计'!$AJ$3/120","v":0.7166666666666667},{"$f":"'环工16-1分数统计'!AK21*'环工16-1分数统计'!$AK$3/120","v":2},{"$f":"'环工16-1分数统计'!AL21*'环工16-1分数统计'!$AL$3/120","v":1.4333333333333333},{"$f":"'环工16-1分数统计'!AM21*'环工16-1分数统计'!$AM$3/120","v":0.8125},{"$f":"'环工16-1分数统计'!AN21*'环工16-1分数统计'!$AN$3/120","v":1.8},{"$f":"'环工16-1分数统计'!AO21*'环工16-1分数统计'!$AO$3/120","v":1.725},{"$f":"'环工16-1分数统计'!AP21*'环工16-1分数统计'!$AP$3/120","v":1.025},{"$f":"'环工16-1分数统计'!AQ21*'环工16-1分数统计'!$AQ$3/120","v":2.05},{"$f":"'环工16-1分数统计'!AR21*'环工16-1分数统计'!$AR$3/120","v":1.4333333333333333},{"$f":"'环工16-1分数统计'!AS21*'环工16-1分数统计'!$AS$3/120","v":1.3666666666666667},{"$f":"'环工16-1分数统计'!AT21*'环工16-1分数统计'!$AT$3/120","v":1.2466666666666668},{"$f":"'环工16-1分数统计'!AU21*'环工16-1分数统计'!$AU$3/120","v":0.5333333333333333},{"$f":"'环工16-1分数统计'!AV21*'环工16-1分数统计'!$AV$3/120","v":1.4666666666666666},{"$f":"'环工16-1分数统计'!AW21*'环工16-1分数统计'!$AW$3/120","v":0.6666666666666666},{"$f":"'环工16-1分数统计'!AX21*'环工16-1分数统计'!$AX$3/120","v":2.9},{"$f":"'环工16-1分数统计'!AY21*'环工16-1分数统计'!$AY$3/120","v":1.5},{"$f":"'环工16-1分数统计'!AZ21*'环工16-1分数统计'!$AZ$3/120","v":1.4833333333333334},{"$f":"'环工16-1分数统计'!BA21*'环工16-1分数统计'!$BA$3/120","v":1.6333333333333333},{"$f":"'环工16-1分数统计'!BB21*'环工16-1分数统计'!$BB$3/120","v":1.05},{"$f":"'环工16-1分数统计'!BC21*'环工16-1分数统计'!$BC$3/120","v":2.25},{"$f":"'环工16-1分数统计'!BD21*'环工16-1分数统计'!$BD$3/120","v":1.0125},{"$f":"'环工16-1分数统计'!BE21*'环工16-1分数统计'!$BE$3/120","v":1.3333333333333333},{"$f":"SUM(D22:BA22)","v":81.59740358126723},{"$f":"0.7*BB22","v":57.11818250688706},89.3930169827972,83.8704369852369,{"$f":"SUM(BD22:BE22)","v":173.26345396803413},85.99271565466165,17.198543130932332,74.31672563781939]
[21,"边泽晨",2016010629,0.7,1.61666666666667,3.85,3.3,1.5,1.31666666666667,{"$f":"[1]Sheet1!H39*$J$3/120","v":2.493333333333333},0.7,1.47916666666667,0.725,1.725,3.45833333333333,1.79166666666667,2.53333333333333,2.15,{"$f":"[1]Sheet1!I39*$S$3/120","v":2.6180000000000003},0.775,1.5,1.85,1.875,1.23333333333333,1.45,1.38333333333333,{"$f":"[1]Sheet1!K39*$AA$3/120","v":1.4336666666666666},0.733333333333333,1.625,2.15,1.38333333333333,0.716666666666667,2.2,1.41666666666667,0.875,2.075,1.725,1.1,2.25,1.41666666666667,1.53333333333333,{"$f":"[1]Sheet1!J39*$AP$3/120","v":1.2238875},0.758333333333333,1.43333333333333,0.675,2.03333333333333,1.33333333333333,1.2,1.46666666666667,1.075,2.05,1.0875,1.13333333333333,80.825,56.5775,90.5846881877199,87.145866045066,177.730554232786,88.20979071619507,17.641958143239016,74.21945814323902]
[22,"曹刘俊",2016010644,0.641666666666667,1.48333333333333,4.5,2.8125,1.4,1.25,{"$f":"[1]Sheet1!H53*$J$3/120","v":2.0966666666666667},0.533333333333333,1.70833333333333,0.8,1.85,3.45833333333333,1.625,2.53333333333333,2.1,{"$f":"[1]Sheet1!I53*$S$3/120","v":2.1},0.658333333333333,1.48333333333333,2,2.125,1.21666666666667,1.31666666666667,1.21666666666667,{"$f":"[1]Sheet1!K53*$AA$3/120","v":1.1333333333333333},0.708333333333333,1.64583333333333,2.325,1.38333333333333,0.7,2.36666666666667,1.25,0.8,2.25,2.075,1.0375,2.125,1.43333333333333,1.5,{"$f":"[1]Sheet1!J53*$AP$3/120","v":1.035},0.65,1.36666666666667,0.558333333333333,2.56666666666667,1.08333333333333,1.3,1.55,1.0125,2.2,1.025,1.35,80.6083333333333,56.4258333333333,86.8865187707782,86.571857964258,173.458376735036,86.08945814532277,17.217891629064553,73.64372496239785]
[24,"丁怀玉",2016010631,0.65,1.55,3.3,2.85,1.45,1.31666666666667,{"$f":"[1]Sheet1!H41*$J$3/120","v":2.244},0.65,1.8125,0.683333333333333,1.575,3.29166666666667,1.83333333333333,2.6,2.225,{"$f":"[1]Sheet1!I41*$S$3/120","v":2.6796},0.683333333333333,1.56666666666667,1.75,2.05,1.26666666666667,1.46666666666667,1.38333333333333,{"$f":"[1]Sheet1!K41*$AA$3/120","v":1.3090000000000002},0.766666666666667,1.75,1.825,1.41666666666667,0.783333333333333,2.33333333333333,1.46666666666667,0.925,1.75,1.625,1.1,2.025,1.41666666666667,1.53333333333333,{"$f":"[1]Sheet1!J41*$AP$3/120","v":1.2238875},0.733333333333333,1.41666666666667,0.691666666666667,2.86666666666667,1.55,1.45,1.48333333333333,1.125,2.1,1.0625,1.13333333333333,80.4166666666667,56.2916666666667,86.8964626651676,86.9341246309246,173.830587296092,86.27419067955041,17.254838135910084,73.54650480257678]
[23,"符琳",2016010632,0.658333333333333,1.55,3.65,2.55,1.38333333333333,1.3,{"$f":"[1]Sheet1!H42*$J$3/120","v":2.5868333333333333},0.55,1.79166666666667,0.775,1.575,3.83333333333333,1.83333333333333,2.7,2.125,{"$f":"[1]Sheet1!I42*$S$3/120","v":2.6796},0.666666666666667,1.46666666666667,1.9,2.025,1.28333333333333,1.35,1.31666666666667,{"$f":"[1]Sheet1!K42*$AA$3/120","v":1.2466666666666666},0.733333333333333,1.45833333333333,1.85,1.41666666666667,0.758333333333333,2.1,1.45,0.75,2.075,1.675,1.0875,2.1,1.4,1.46666666666667,{"$f":"[1]Sheet1!J42*$AP$3/120","v":1.0531125},0.708333333333333,1.51666666666667,0.666666666666667,2.3,1.55,1.33333333333333,1.3,1.0875,2.375,1.125,1.25,80.05,56.035,88.307196438545,87.8358094794095,176.143005917954,87.42187158091932,17.484374316183864,73.51937431618386]
[25,"耿錾卜",2016010646,0.608333333333333,1.53333333333333,4.25,3.075,1.31666666666667,1.18333333333333,{"$f":"[1]Sheet1!H55*$J$3/120","v":2.244},0.525,1.6875,0.816666666666667,1.725,3.75,1.625,2.83333333333333,2.025,{"$f":"[1]Sheet1!I55*$S$3/120","v":2.3408},0.6,1.51666666666667,1.625,2,1.23333333333333,1.2,1.31666666666667,{"$f":"[1]Sheet1!K55*$AA$3/120","v":1.122},0.716666666666667,1.72916666666667,2.25,1.3,0.683333333333333,2.6,1.35,0.925,1.75,1.95,1.0625,2.075,1.4,1.53333333333333,{"$f":"[1]Sheet1!J55*$AP$3/120","v":0.967725},0.633333333333333,1.36666666666667,0.633333333333333,2.86666666666667,1.13333333333333,1.33333333333333,1.45,1.0625,2.15,1.1125,1.08333333333333,79.8625,55.90375,88.0031326321643,85.1985529137529,173.201685545917,85.96205925114488,17.192411850228975,73.09616185022898]
[27,"姚泽凯","2016010626",{"$f":"'环工16-1分数统计'!H26*'环工16-1分数统计'!$H$3/120","v":0.6416666666666667},{"$f":"'环工16-1分数统计'!I26*'环工16-1分数统计'!$I$3/120","v":1.5166666666666666},{"$f":"'环工16-1分数统计'!J26*'环工16-1分数统计'!$J$3/120","v":3.45},{"$f":"'环工16-1分数统计'!K26*'环工16-1分数统计'!$K$3/120","v":2.625},{"$f":"'环工16-1分数统计'!L26*'环工16-1分数统计'!$L$3/120","v":1.4833333333333334},{"$f":"'环工16-1分数统计'!M26*'环工16-1分数统计'!$M$3/120","v":1.2833333333333334},{"$f":"'环工16-1分数统计'!N26*'环工16-1分数统计'!$N$3/120","v":3.4},{"$f":"'环工16-1分数统计'!O26*'环工16-1分数统计'!$O$3/121","v":0.7272727272727273},{"$f":"'环工16-1分数统计'!P26*'环工16-1分数统计'!$P$3/120","v":1.5833333333333333},{"$f":"'环工16-1分数统计'!Q26*'环工16-1分数统计'!$Q$3/120","v":0.725},{"$f":"'环工16-1分数统计'!R26*'环工16-1分数统计'!$R$3/120","v":1.875},{"$f":"'环工16-1分数统计'!S26*'环工16-1分数统计'!$S$3/120","v":2.9583333333333335},{"$f":"'环工16-1分数统计'!T26*'环工16-1分数统计'!$T$3/120","v":1.7291666666666667},{"$f":"'环工16-1分数统计'!U26*'环工16-1分数统计'!$U$3/120","v":2.433333333333333},{"$f":"'环工16-1分数统计'!V26*'环工16-1分数统计'!$V$3/120","v":1.975},{"$f":"'环工16-1分数统计'!W26*'环工16-1分数统计'!$W$3/120","v":3.6},{"$f":"'环工16-1分数统计'!X26*'环工16-1分数统计'!$X$3/120","v":0.7666666666666667},{"$f":"'环工16-1分数统计'!Y26*'环工16-1分数统计'!$Y$3/120","v":1.45},{"$f":"'环工16-1分数统计'!Z26*'环工16-1分数统计'!$Z$3/120","v":1.825},{"$f":"'环工16-1分数统计'!AA26*'环工16-1分数统计'!$AA$3/120","v":1.95},{"$f":"'环工16-1分数统计'!AB26*'环工16-1分数统计'!$AB$3/120","v":1.2166666666666666},{"$f":"'环工16-1分数统计'!AC26*'环工16-1分数统计'!$AC$3/120","v":1.2333333333333334},{"$f":"'环工16-1分数统计'!AD26*'环工16-1分数统计'!$AD$3/120","v":1.2166666666666666},{"$f":"'环工16-1分数统计'!AE26*'环工16-1分数统计'!$AE$3/120","v":1.7},{"$f":"'环工16-1分数统计'!AF26*'环工16-1分数统计'!$AF$3/120","v":0.7},{"$f":"'环工16-1分数统计'!AG26*'环工16-1分数统计'!$AG$3/120","v":1.5833333333333333},{"$f":"'环工16-1分数统计'!AH26*'环工16-1分数统计'!$AH$3/120","v":1.65},{"$f":"'环工16-1分数统计'!AI26*'环工16-1分数统计'!$AI$3/120","v":1.3833333333333333},{"$f":"'环工16-1分数统计'!AJ26*'环工16-1分数统计'!$AJ$3/120","v":0.6916666666666667},{"$f":"'环工16-1分数统计'!AK26*'环工16-1分数统计'!$AK$3/120","v":2},{"$f":"'环工16-1分数统计'!AL26*'环工16-1分数统计'!$AL$3/120","v":1.35},{"$f":"'环工16-1分数统计'!AM26*'环工16-1分数统计'!$AM$3/120","v":0.85},{"$f":"'环工16-1分数统计'!AN26*'环工16-1分数统计'!$AN$3/120","v":1.825},{"$f":"'环工16-1分数统计'!AO26*'环工16-1分数统计'!$AO$3/120","v":1.5},{"$f":"'环工16-1分数统计'!AP26*'环工16-1分数统计'!$AP$3/120","v":1.025},{"$f":"'环工16-1分数统计'!AQ26*'环工16-1分数统计'!$AQ$3/120","v":1.95},{"$f":"'环工16-1分数统计'!AR26*'环工16-1分数统计'!$AR$3/120","v":1.4166666666666667},{"$f":"'环工16-1分数统计'!AS26*'环工16-1分数统计'!$AS$3/120","v":1.4833333333333334},{"$f":"'环工16-1分数统计'!AT26*'环工16-1分数统计'!$AT$3/120","v":1.8},{"$f":"'环工16-1分数统计'!AU26*'环工16-1分数统计'!$AU$3/120","v":0.75},{"$f":"'环工16-1分数统计'!AV26*'环工16-1分数统计'!$AV$3/120","v":1.25},{"$f":"'环工16-1分数统计'!AW26*'环工16-1分数统计'!$AW$3/120","v":0.6666666666666666},{"$f":"'环工16-1分数统计'!AX26*'环工16-1分数统计'!$AX$3/120","v":2.4},{"$f":"'环工16-1分数统计'!AY26*'环工16-1分数统计'!$AY$3/120","v":1.2666666666666666},{"$f":"'环工16-1分数统计'!AZ26*'环工16-1分数统计'!$AZ$3/120","v":1.2833333333333334},{"$f":"'环工16-1分数统计'!BA26*'环工16-1分数统计'!$BA$3/120","v":1.2833333333333334},{"$f":"'环工16-1分数统计'!BB26*'环工16-1分数统计'!$BB$3/120","v":1.025},{"$f":"'环工16-1分数统计'!BC26*'环工16-1分数统计'!$BC$3/120","v":2.175},{"$f":"'环工16-1分数统计'!BD26*'环工16-1分数统计'!$BD$3/120","v":1.1375},{"$f":"'环工16-1分数统计'!BE26*'环工16-1分数统计'!$BE$3/120","v":1.1666666666666667},{"$f":"SUM(D28:BA28)","v":78.97727272727278},{"$f":"0.7*BB28","v":55.28409090909094},89.7781852666256,86.4013027861027,{"$f":"SUM(BD28:BE28)","v":176.1794880527283},87.43997809888529,17.48799561977706,72.772086528868]
[26,"刘吉东",2016010636,0.666666666666667,1.58333333333333,3.2,2.775,1.4,1.2,{"$f":"[1]Sheet1!H45*$J$3/120","v":2.493333333333333},0.675,1.45833333333333,0.741666666666667,1.625,3.29166666666667,1.79166666666667,2.33333333333333,1.825,{"$f":"[1]Sheet1!I45*$S$3/120","v":2.6796},0.75,1.5,1.65,1.925,1.25,1.28333333333333,1.2,{"$f":"[1]Sheet1!K45*$AA$3/120","v":1.2934166666666667},0.775,1.72916666666667,1.85,1.38333333333333,0.75,2.03333333333333,1.51666666666667,0.7875,2.25,1.7,1.1125,2.425,1.41666666666667,1.45,{"$f":"[1]Sheet1!J45*$AP$3/120","v":1.1100375},0.766666666666667,1.45,0.625,2.5,1.41666666666667,1.35,1.53333333333333,1.0875,2.2,1.05,1.35,78.8833333333333,55.2183333333333,86.0561337322743,90.7932010796221,176.849334811896,87.77243102288122,17.554486204576246,72.77281953790954]
[28,"曹佳美",2016010630,0.658333333333333,1.58333333333333,3.8,3.3,1.5,1.3,{"$f":"[1]Sheet1!H40*$J$3/120","v":2.2128333333333337},0.625,1.39583333333333,0.625,1.725,3.5,1.66666666666667,2.46666666666667,2.3,{"$f":"[1]Sheet1!I40*$S$3/120","v":2.464},0.75,1.46666666666667,1.65,2.025,1.13333333333333,1.35,1.33333333333333,{"$f":"[1]Sheet1!K40*$AA$3/120","v":1.0908333333333333},0.741666666666667,1.66666666666667,2.2,1.4,0.708333333333333,2,1.33333333333333,0.9625,1.8,1.825,1.1,1.825,1.41666666666667,1.46666666666667,{"$f":"[1]Sheet1!J40*$AP$3/120","v":0.9961874999999998},0.716666666666667,1.38333333333333,0.691666666666667,2.36666666666667,1.35,1.21666666666667,1.48333333333333,1.075,2.275,1.0625,1.23333333333333,78.8208333333333,55.1745833333333,89.6750314220433,84.027765034965,173.702796457008,86.21076656421072,17.242153312842145,72.41673664617545]
[29,"宋艳珂",2016010640,0.658333333333333,1.45,3.5,3.15,1.35,1.21666666666667,{"$f":"[1]Sheet1!H49*$J$3/120","v":2.275166666666667},0.666666666666667,1.83333333333333,0.716666666666667,1.7,3.08333333333333,1.77083333333333,2.6,1.9,{"$f":"[1]Sheet1!I49*$S$3/120","v":2.3716},0.708333333333333,1.43333333333333,1.725,1.9,1.26666666666667,1.36666666666667,1.3,{"$f":"[1]Sheet1!K49*$AA$3/120","v":1.1999166666666667},0.733333333333333,1.625,1.85,1.45,0.683333333333333,2.03333333333333,1.51666666666667,0.8375,1.875,1.85,1.0875,1.95,1.46666666666667,1.35,{"$f":"[1]Sheet1!J49*$AP$3/120","v":1.0958062499999999},0.675,1.38333333333333,0.683333333333333,2.83333333333333,1.31666666666667,1.33333333333333,1.6,1.1,2.2,1.125,1.33333333333333,78.7541666666666,55.1279166666666,86.4564593648376,85.3637367521368,171.820196116974,85.27640959495751,17.055281918991504,72.1831985856581]
[30,"丁相瑞","2016010619",{"$f":"'环工16-1分数统计'!H20*'环工16-1分数统计'!$H$3/120","v":0.675},{"$f":"'环工16-1分数统计'!I20*'环工16-1分数统计'!$I$3/120","v":1.4833333333333334},{"$f":"'环工16-1分数统计'!J20*'环工16-1分数统计'!$J$3/120","v":4.15},{"$f":"'环工16-1分数统计'!K20*'环工16-1分数统计'!$K$3/120","v":2.7375},{"$f":"'环工16-1分数统计'!L20*'环工16-1分数统计'!$L$3/120","v":1.35},{"$f":"'环工16-1分数统计'!M20*'环工16-1分数统计'!$M$3/120","v":1.3},{"$f":"'环工16-1分数统计'!N20*'环工16-1分数统计'!$N$3/120","v":2.3100000000000005},{"$f":"'环工16-1分数统计'!O20*'环工16-1分数统计'!$O$3/121","v":0.5702479338842975},{"$f":"'环工16-1分数统计'!P20*'环工16-1分数统计'!$P$3/120","v":1.625},{"$f":"'环工16-1分数统计'!Q20*'环工16-1分数统计'!$Q$3/120","v":0.7},{"$f":"'环工16-1分数统计'!R20*'环工16-1分数统计'!$R$3/120","v":1.5},{"$f":"'环工16-1分数统计'!S20*'环工16-1分数统计'!$S$3/120","v":3.75},{"$f":"'环工16-1分数统计'!T20*'环工16-1分数统计'!$T$3/120","v":1.625},{"$f":"'环工16-1分数统计'!U20*'环工16-1分数统计'!$U$3/120","v":2.566666666666667},{"$f":"'环工16-1分数统计'!V20*'环工16-1分数统计'!$V$3/120","v":1.9},{"$f":"'环工16-1分数统计'!W20*'环工16-1分数统计'!$W$3/120","v":3.08},{"$f":"'环工16-1分数统计'!X20*'环工16-1分数统计'!$X$3/120","v":0.7333333333333333},{"$f":"'环工16-1分数统计'!Y20*'环工16-1分数统计'!$Y$3/120","v":1.5666666666666667},{"$f":"'环工16-1分数统计'!Z20*'环工16-1分数统计'!$Z$3/120","v":1.55},{"$f":"'环工16-1分数统计'!AA20*'环工16-1分数统计'!$AA$3/120","v":1.85},{"$f":"'环工16-1分数统计'!AB20*'环工16-1分数统计'!$AB$3/120","v":1.25},{"$f":"'环工16-1分数统计'!AC20*'环工16-1分数统计'!$AC$3/120","v":1.3833333333333333},{"$f":"'环工16-1分数统计'!AD20*'环工16-1分数统计'!$AD$3/120","v":1.2833333333333334},{"$f":"'环工16-1分数统计'!AE20*'环工16-1分数统计'!$AE$3/120","v":1.4300000000000002},{"$f":"'环工16-1分数统计'!AF20*'环工16-1分数统计'!$AF$3/120","v":0.7333333333333333},{"$f":"'环工16-1分数统计'!AG20*'环工16-1分数统计'!$AG$3/120","v":1.6458333333333333},{"$f":"'环工16-1分数统计'!AH20*'环工16-1分数统计'!$AH$3/120","v":1.85},{"$f":"'环工16-1分数统计'!AI20*'环工16-1分数统计'!$AI$3/120","v":1.3333333333333333},{"$f":"'环工16-1分数统计'!AJ20*'环工16-1分数统计'!$AJ$3/120","v":0.7},{"$f":"'环工16-1分数统计'!AK20*'环工16-1分数统计'!$AK$3/120","v":2.1666666666666665},{"$f":"'环工16-1分数统计'!AL20*'环工16-1分数统计'!$AL$3/120","v":1.3666666666666667},{"$f":"'环工16-1分数统计'!AM20*'环工16-1分数统计'!$AM$3/120","v":0.75},{"$f":"'环工16-1分数统计'!AN20*'环工16-1分数统计'!$AN$3/120","v":2.25},{"$f":"'环工16-1分数统计'!AO20*'环工16-1分数统计'!$AO$3/120","v":2},{"$f":"'环工16-1分数统计'!AP20*'环工16-1分数统计'!$AP$3/120","v":1.025},{"$f":"'环工16-1分数统计'!AQ20*'环工16-1分数统计'!$AQ$3/120","v":1.95},{"$f":"'环工16-1分数统计'!AR20*'环工16-1分数统计'!$AR$3/120","v":1.4666666666666666},{"$f":"'环工16-1分数统计'!AS20*'环工16-1分数统计'!$AS$3/120","v":1.5166666666666666},{"$f":"'环工16-1分数统计'!AT20*'环工16-1分数统计'!$AT$3/120","v":1.3933333333333335},{"$f":"'环工16-1分数统计'!AU20*'环工16-1分数统计'!$AU$3/120","v":0.6833333333333333},{"$f":"'环工16-1分数统计'!AV20*'环工16-1分数统计'!$AV$3/120","v":1.4},{"$f":"'环工16-1分数统计'!AW20*'环工16-1分数统计'!$AW$3/120","v":0.625},{"$f":"'环工16-1分数统计'!AX20*'环工16-1分数统计'!$AX$3/120","v":2.4},{"$f":"'环工16-1分数统计'!AY20*'环工16-1分数统计'!$AY$3/120","v":1.5166666666666666},{"$f":"'环工16-1分数统计'!AZ20*'环工16-1分数统计'!$AZ$3/120","v":1.35},{"$f":"'环工16-1分数统计'!BA20*'环工16-1分数统计'!$BA$3/120","v":1.2333333333333334},{"$f":"'环工16-1分数统计'!BB20*'环工16-1分数统计'!$BB$3/120","v":1.075},{"$f":"'环工16-1分数统计'!BC20*'环工16-1分数统计'!$BC$3/120","v":2.225},{"$f":"'环工16-1分数统计'!BD20*'环工16-1分数统计'!$BD$3/120","v":1.025},{"$f":"'环工16-1分数统计'!BE20*'环工16-1分数统计'!$BE$3/120","v":1.2166666666666666},{"$f":"SUM(D32:BA32)","v":79.26691460055099},{"$f":"0.7*BB32","v":55.48684022038569},86.6118849365926,85.5783763791763,{"$f":"SUM(BD32:BE32)","v":172.1902613157689},85.46007736034518,17.092015472069036,72.57885569245472]
[31,"王存璐",2016010642,0.675,1.63333333333333,3.45,3.1125,1.33333333333333,1.2,{"$f":"[1]Sheet1!H51*$J$3/120","v":2.3375},0.55,1.29166666666667,0.6,1.6,3.5,1.72916666666667,2.33333333333333,1.6,{"$f":"[1]Sheet1!I51*$S$3/120","v":2.6488},0.733333333333333,1.46666666666667,1.725,1.675,1.25,1.35,1.41666666666667,{"$f":"[1]Sheet1!K51*$AA$3/120","v":1.2778333333333334},0.691666666666667,1.6875,1.75,1.3,0.75,2.03333333333333,1.51666666666667,0.825,1.675,1.85,1.0875,1.8,1.5,1.46666666666667,{"$f":"[1]Sheet1!J51*$AP$3/120","v":1.081575},0.725,1.48333333333333,0.675,2.43333333333333,1.45,1.28333333333333,1.38333333333333,1.0875,2.075,1.1125,1.26666666666667,77.1333333333333,53.9933333333333,85.3656254814492,85.8390013986014,171.204626880051,84.97089525166017,16.994179050332033,70.98751238366533]
[32,"贾钰森","2016010621",{"$f":"'环工16-1分数统计'!H22*'环工16-1分数统计'!$H$3/120","v":0.675},{"$f":"'环工16-1分数统计'!I22*'环工16-1分数统计'!$I$3/120","v":1.4166666666666667},{"$f":"'环工16-1分数统计'!J22*'环工16-1分数统计'!$J$3/120","v":3.05},{"$f":"'环工16-1分数统计'!K22*'环工16-1分数统计'!$K$3/120","v":2.925},{"$f":"'环工16-1分数统计'!L22*'环工16-1分数统计'!$L$3/120","v":1.35},{"$f":"'环工16-1分数统计'!M22*'环工16-1分数统计'!$M$3/120","v":1.25},{"$f":"'环工16-1分数统计'!N22*'环工16-1分数统计'!$N$3/120","v":2.2733333333333334},{"$f":"'环工16-1分数统计'!O22*'环工16-1分数统计'!$O$3/121","v":0.6776859504132231},{"$f":"'环工16-1分数统计'!P22*'环工16-1分数统计'!$P$3/120","v":1.3333333333333333},{"$f":"'环工16-1分数统计'!Q22*'环工16-1分数统计'!$Q$3/120","v":0.6916666666666667},{"$f":"'环工16-1分数统计'!R22*'环工16-1分数统计'!$R$3/120","v":1.575},{"$f":"'环工16-1分数统计'!S22*'环工16-1分数统计'!$S$3/120","v":2.8333333333333335},{"$f":"'环工16-1分数统计'!T22*'环工16-1分数统计'!$T$3/120","v":1.6875},{"$f":"'环工16-1分数统计'!U22*'环工16-1分数统计'!$U$3/120","v":2.7},{"$f":"'环工16-1分数统计'!V22*'环工16-1分数统计'!$V$3/120","v":2},{"$f":"'环工16-1分数统计'!W22*'环工16-1分数统计'!$W$3/120","v":2.8233333333333333},{"$f":"'环工16-1分数统计'!X22*'环工16-1分数统计'!$X$3/120","v":0.7583333333333333},{"$f":"'环工16-1分数统计'!Y22*'环工16-1分数统计'!$Y$3/120","v":1.4333333333333333},{"$f":"'环工16-1分数统计'!Z22*'环工16-1分数统计'!$Z$3/120","v":1.725},{"$f":"'环工16-1分数统计'!AA22*'环工16-1分数统计'!$AA$3/120","v":1.75},{"$f":"'环工16-1分数统计'!AB22*'环工16-1分数统计'!$AB$3/120","v":1.2833333333333334},{"$f":"'环工16-1分数统计'!AC22*'环工16-1分数统计'!$AC$3/120","v":1.3333333333333333},{"$f":"'环工16-1分数统计'!AD22*'环工16-1分数统计'!$AD$3/120","v":1.2166666666666666},{"$f":"'环工16-1分数统计'!AE22*'环工16-1分数统计'!$AE$3/120","v":1.3016666666666667},{"$f":"'环工16-1分数统计'!AF22*'环工16-1分数统计'!$AF$3/120","v":0.7583333333333333},{"$f":"'环工16-1分数统计'!AG22*'环工16-1分数统计'!$AG$3/120","v":1.5625},{"$f":"'环工16-1分数统计'!AH22*'环工16-1分数统计'!$AH$3/120","v":1.55},{"$f":"'环工16-1分数统计'!AI22*'环工16-1分数统计'!$AI$3/120","v":1.3833333333333333},{"$f":"'环工16-1分数统计'!AJ22*'环工16-1分数统计'!$AJ$3/120","v":0.7083333333333334},{"$f":"'环工16-1分数统计'!AK22*'环工16-1分数统计'!$AK$3/120","v":2.433333333333333},{"$f":"'环工16-1分数统计'!AL22*'环工16-1分数统计'!$AL$3/120","v":1.4333333333333333},{"$f":"'环工16-1分数统计'!AM22*'环工16-1分数统计'!$AM$3/120","v":0.95},{"$f":"'环工16-1分数统计'!AN22*'环工16-1分数统计'!$AN$3/120","v":1.775},{"$f":"'环工16-1分数统计'!AO22*'环工16-1分数统计'!$AO$3/120","v":1.6},{"$f":"'环工16-1分数统计'!AP22*'环工16-1分数统计'!$AP$3/120","v":1.075},{"$f":"'环工16-1分数统计'!AQ22*'环工16-1分数统计'!$AQ$3/120","v":2.275},{"$f":"'环工16-1分数统计'!AR22*'环工16-1分数统计'!$AR$3/120","v":1.4},{"$f":"'环工16-1分数统计'!AS22*'环工16-1分数统计'!$AS$3/120","v":1.35},{"$f":"'环工16-1分数统计'!AT22*'环工16-1分数统计'!$AT$3/120","v":1.2466666666666668},{"$f":"'环工16-1分数统计'!AU22*'环工16-1分数统计'!$AU$3/120","v":0.7333333333333333},{"$f":"'环工16-1分数统计'!AV22*'环工16-1分数统计'!$AV$3/120","v":1.2833333333333334},{"$f":"'环工16-1分数统计'!AW22*'环工16-1分数统计'!$AW$3/120","v":0.6166666666666667},{"$f":"'环工16-1分数统计'!AX22*'环工16-1分数统计'!$AX$3/120","v":2.466666666666667},{"$f":"'环工16-1分数统计'!AY22*'环工16-1分数统计'!$AY$3/120","v":1.4166666666666667},{"$f":"'环工16-1分数统计'!AZ22*'环工16-1分数统计'!$AZ$3/120","v":1.4166666666666667},{"$f":"'环工16-1分数统计'!BA22*'环工16-1分数统计'!$BA$3/120","v":1.6166666666666667},{"$f":"'环工16-1分数统计'!BB22*'环工16-1分数统计'!$BB$3/120","v":1.0375},{"$f":"'环工16-1分数统计'!BC22*'环工16-1分数统计'!$BC$3/120","v":2.275},{"$f":"'环工16-1分数统计'!BD22*'环工16-1分数统计'!$BD$3/120","v":1.0875},{"$f":"'环工16-1分数统计'!BE22*'环工16-1分数统计'!$BE$3/120","v":1.3666666666666667},{"$f":"SUM(D34:BA34)","v":76.88101928374655},{"$f":"0.7*BB34","v":53.81671349862258},85.9154987979787,84.9594066822066,{"$f":"SUM(BD34:BE34)","v":170.8749054801853},84.80725059414837,16.961450118829674,70.77816361745226]
[33,"通拉嘎",2016010641,0.708333333333333,1.53333333333333,4.15,2.5125,1.51666666666667,1.26666666666667,{"$f":"[1]Sheet1!H50*$J$3/120","v":2.649166666666667},0.666666666666667,1.58333333333333,0.641666666666667,1.7,2.70833333333333,1.77083333333333,2.1,1.5,{"$f":"[1]Sheet1!I50*$S$3/120","v":2.6796},0.583333333333333,1.5,1.65,1.75,1.16666666666667,1.4,1.46666666666667,{"$f":"[1]Sheet1!K50*$AA$3/120","v":1.4648333333333334},0.741666666666667,1.60416666666667,1.8,1.38333333333333,0.7,2.06666666666667,1.4,0.7875,1.375,1.575,1.1,1.925,1.43333333333333,1.5,{"$f":"[1]Sheet1!J50*$AP$3/120","v":1.195425},0.733333333333333,1.51666666666667,0.641666666666667,2.13333333333333,1.36666666666667,1.3,1.2,1.1,2.05,1.1,1.25,76.3583333333333,53.4508333333333,86.5799731162127,86.1209205905206,172.700893706733,{"$f":"BF35/$BF$4*100","v":85.71351029726641},{"$f":"0.2*BG35","v":17.14270205945328},{"$f":"BH35+BC35","v":70.59353539278658}]
[34,"吴航飞","2016010625",{"$f":"'环工16-1分数统计'!H25*'环工16-1分数统计'!$H$3/120","v":0.675},{"$f":"'环工16-1分数统计'!I25*'环工16-1分数统计'!$I$3/120","v":1.4166666666666667},{"$f":"'环工16-1分数统计'!J25*'环工16-1分数统计'!$J$3/120","v":3.2},{"$f":"'环工16-1分数统计'!K25*'环工16-1分数统计'!$K$3/120","v":2.7375},{"$f":"'环工16-1分数统计'!L25*'环工16-1分数统计'!$L$3/120","v":1.3},{"$f":"'环工16-1分数统计'!M25*'环工16-1分数统计'!$M$3/120","v":1.1833333333333333},{"$f":"'环工16-1分数统计'!N25*'环工16-1分数统计'!$N$3/120","v":2.4566666666666666},{"$f":"'环工16-1分数统计'!O25*'环工16-1分数统计'!$O$3/121","v":0.5537190082644629},{"$f":"'环工16-1分数统计'!P25*'环工16-1分数统计'!$P$3/120","v":1.5625},{"$f":"'环工16-1分数统计'!Q25*'环工16-1分数统计'!$Q$3/120","v":0.6416666666666667},{"$f":"'环工16-1分数统计'!R25*'环工16-1分数统计'!$R$3/120","v":1.85},{"$f":"'环工16-1分数统计'!S25*'环工16-1分数统计'!$S$3/120","v":3.375},{"$f":"'环工16-1分数统计'!T25*'环工16-1分数统计'!$T$3/120","v":1.6875},{"$f":"'环工16-1分数统计'!U25*'环工16-1分数统计'!$U$3/120","v":2.6},{"$f":"'环工16-1分数统计'!V25*'环工16-1分数统计'!$V$3/120","v":1.875},{"$f":"'环工16-1分数统计'!W25*'环工16-1分数统计'!$W$3/120","v":3.043333333333334},{"$f":"'环工16-1分数统计'!X25*'环工16-1分数统计'!$X$3/120","v":0.5833333333333334},{"$f":"'环工16-1分数统计'!Y25*'环工16-1分数统计'!$Y$3/120","v":1.4333333333333333},{"$f":"'环工16-1分数统计'!Z25*'环工16-1分数统计'!$Z$3/120","v":1.5},{"$f":"'环工16-1分数统计'!AA25*'环工16-1分数统计'!$AA$3/120","v":2.25},{"$f":"'环工16-1分数统计'!AB25*'环工16-1分数统计'!$AB$3/120","v":1.15},{"$f":"'环工16-1分数统计'!AC25*'环工16-1分数统计'!$AC$3/120","v":1.15},{"$f":"'环工16-1分数统计'!AD25*'环工16-1分数统计'!$AD$3/120","v":1.2333333333333334},{"$f":"'环工16-1分数统计'!AE25*'环工16-1分数统计'!$AE$3/120","v":1.3566666666666667},{"$f":"'环工16-1分数统计'!AF25*'环工16-1分数统计'!$AF$3/120","v":0.7416666666666667},{"$f":"'环工16-1分数统计'!AG25*'环工16-1分数统计'!$AG$3/120","v":1.5},{"$f":"'环工16-1分数统计'!AH25*'环工16-1分数统计'!$AH$3/120","v":2.375},{"$f":"'环工16-1分数统计'!AI25*'环工16-1分数统计'!$AI$3/120","v":1.3833333333333333},{"$f":"'环工16-1分数统计'!AJ25*'环工16-1分数统计'!$AJ$3/120","v":0.7166666666666667},{"$f":"'环工16-1分数统计'!AK25*'环工16-1分数统计'!$AK$3/120","v":2.2666666666666666},{"$f":"'环工16-1分数统计'!AL25*'环工16-1分数统计'!$AL$3/120","v":1.2166666666666666},{"$f":"'环工16-1分数统计'!AM25*'环工16-1分数统计'!$AM$3/120","v":0.7625},{"$f":"'环工16-1分数统计'!AN25*'环工16-1分数统计'!$AN$3/120","v":2.275},{"$f":"'环工16-1分数统计'!AO25*'环工16-1分数统计'!$AO$3/120","v":1.625},{"$f":"'环工16-1分数统计'!AP25*'环工16-1分数统计'!$AP$3/120","v":1.025},{"$f":"'环工16-1分数统计'!AQ25*'环工16-1分数统计'!$AQ$3/120","v":1.925},{"$f":"'环工16-1分数统计'!AR25*'环工16-1分数统计'!$AR$3/120","v":1.4333333333333333},{"$f":"'环工16-1分数统计'!AS25*'环工16-1分数统计'!$AS$3/120","v":1.3333333333333333},{"$f":"'环工16-1分数统计'!AT25*'环工16-1分数统计'!$AT$3/120","v":1.3566666666666667},{"$f":"'环工16-1分数统计'!AU25*'环工16-1分数统计'!$AU$3/120","v":0.6833333333333333},{"$f":"'环工16-1分数统计'!AV25*'环工16-1分数统计'!$AV$3/120","v":1.35},{"$f":"'环工16-1分数统计'!AW25*'环工16-1分数统计'!$AW$3/120","v":0.6333333333333333},{"$f":"'环工16-1分数统计'!AX25*'环工16-1分数统计'!$AX$3/120","v":2.566666666666667},{"$f":"'环工16-1分数统计'!AY25*'环工16-1分数统计'!$AY$3/120","v":1.15},{"$f":"'环工16-1分数统计'!AZ25*'环工16-1分数统计'!$AZ$3/120","v":1.3},{"$f":"'环工16-1分数统计'!BA25*'环工16-1分数统计'!$BA$3/120","v":1.45},{"$f":"'环工16-1分数统计'!BB25*'环工16-1分数统计'!$BB$3/120","v":1.0375},{"$f":"'环工16-1分数统计'!BC25*'环工16-1分数统计'!$BC$3/120","v":2.1},{"$f":"'环工16-1分数统计'!BD25*'环工16-1分数统计'!$BD$3/120","v":1.025},{"$f":"'环工16-1分数统计'!BE25*'环工16-1分数统计'!$BE$3/120","v":1.1},{"$f":"SUM(D36:BA36)","v":77.14621900826445},{"$f":"0.7*BB36","v":54.002353305785114},84.2469344745464,84.1430309246308,{"$f":"SUM(BD36:BE36)","v":168.3899653991772},83.5739452379916,16.71478904759832,70.71714235338344]
[35,"程昊",2016010645,0.5,1.26666666666667,3.8,2.475,1.13333333333333,1.11666666666667,{"$f":"[1]Sheet1!H54*$J$3/120","v":1.9323333333333332},0.516666666666667,1.54166666666667,0.783333333333333,1.85,3.375,1.5625,2.36666666666667,2.275,{"$f":"[1]Sheet1!I54*$S$3/120","v":1.9712},0.65,1.4,1.625,1.95,1.38333333333333,1.18333333333333,1.1,{"$f":"[1]Sheet1!K54*$AA$3/120","v":1.340166666666667},0.716666666666667,1.54166666666667,2.225,1.33333333333333,0.666666666666667,2.06666666666667,1.41666666666667,0.825,2,2.075,1.075,1.95,1.4,1.43333333333333,{"$f":"[1]Sheet1!J54*$AP$3/120","v":1.0531125},0.633333333333333,1.4,0.633333333333333,2.46666666666667,1.18333333333333,1.25,1.36666666666667,1,1.975,0.975,1,75.3291666666667,52.7304166666667,79.5104197608772,83.4583710955711,162.968790856448,80.8833517499199,16.17667034998398,68.90708701665068]
[36,"孙寅辉",2016010651,0.75,1.36666666666667,3.85,3.2625,1.4,1.23333333333333,{"$f":"[1]Sheet1!H59*$J$3/120","v":2.3375},0.5,1.25,0.5,1.5,3.66666666666667,1.70833333333333,2.03333333333333,1.9,{"$f":"[1]Sheet1!I59*$S$3/120","v":2.6180000000000003},0.575,1.41666666666667,1.5,2.025,1.15,1.4,1.33333333333333,{"$f":"[1]Sheet1!K59*$AA$3/120","v":1.3245833333333334},0.641666666666667,1.41666666666667,1.575,1.23333333333333,0.708333333333333,2,1.33333333333333,0.75,1.65,1.375,1.0375,1.925,1.21666666666667,1.38333333333333,{"$f":"[1]Sheet1!J59*$AP$3/120","v":1.0958062499999999},0.591666666666667,1.35,0.575,2.2,1.36666666666667,1.13333333333333,1.23333333333333,1.05,2.075,1.0125,1.01666666666667,74.2041666666667,51.9429166666667,83.4901694858497,80.4266833610834,163.916852846933,81.35388620657346,16.270777241314693,68.2136939079814]
[37,"杨玉凤","2016010611",{"$f":"'环工16-1分数统计'!H15*'环工16-1分数统计'!$H$3/120","v":0.6916666666666667},{"$f":"'环工16-1分数统计'!I15*'环工16-1分数统计'!$I$3/120","v":1.5166666666666666},{"$f":"'环工16-1分数统计'!J15*'环工16-1分数统计'!$J$3/120","v":3},{"$f":"'环工16-1分数统计'!K15*'环工16-1分数统计'!$K$3/120","v":2.325},{"$f":"'环工16-1分数统计'!L15*'环工16-1分数统计'!$L$3/120","v":1.4666666666666666},{"$f":"'环工16-1分数统计'!M15*'环工16-1分数统计'!$M$3/120","v":1.2666666666666666},{"$f":"'环工16-1分数统计'!N15*'环工16-1分数统计'!$N$3/120","v":2.2733333333333334},{"$f":"'环工16-1分数统计'!O15*'环工16-1分数统计'!$O$3/121","v":0.6942148760330579},{"$f":"'环工16-1分数统计'!P15*'环工16-1分数统计'!$P$3/120","v":1.7291666666666667},{"$f":"'环工16-1分数统计'!Q15*'环工16-1分数统计'!$Q$3/120","v":0.5833333333333334},{"$f":"'环工16-1分数统计'!R15*'环工16-1分数统计'!$R$3/120","v":1.675},{"$f":"'环工16-1分数统计'!S15*'环工16-1分数统计'!$S$3/120","v":3.4583333333333335},{"$f":"'环工16-1分数统计'!T15*'环工16-1分数统计'!$T$3/120","v":1.7916666666666667},{"$f":"'环工16-1分数统计'!U15*'环工16-1分数统计'!$U$3/120","v":2.4},{"$f":"'环工16-1分数统计'!V15*'环工16-1分数统计'!$V$3/120","v":1.5},{"$f":"'环工16-1分数统计'!W15*'环工16-1分数统计'!$W$3/120","v":2.933333333333333},{"$f":"'环工16-1分数统计'!X15*'环工16-1分数统计'!$X$3/120","v":0.75},{"$f":"'环工16-1分数统计'!Y15*'环工16-1分数统计'!$Y$3/120","v":1.55},{"$f":"'环工16-1分数统计'!Z15*'环工16-1分数统计'!$Z$3/120","v":1.525},{"$f":"'环工16-1分数统计'!AA15*'环工16-1分数统计'!$AA$3/120","v":1.6},{"$f":"'环工16-1分数统计'!AB15*'环工16-1分数统计'!$AB$3/120","v":1.3166666666666667},{"$f":"'环工16-1分数统计'!AC15*'环工16-1分数统计'!$AC$3/120","v":1.3},{"$f":"'环工16-1分数统计'!AD15*'环工16-1分数统计'!$AD$3/120","v":1.2833333333333334},{"$f":"'环工16-1分数统计'!AE15*'环工16-1分数统计'!$AE$3/120","v":1.3566666666666667},{"$f":"'环工16-1分数统计'!AF15*'环工16-1分数统计'!$AF$3/120","v":0.7666666666666667},{"$f":"'环工16-1分数统计'!AG15*'环工16-1分数统计'!$AG$3/120","v":1.6458333333333333},{"$f":"'环工16-1分数统计'!AH15*'环工16-1分数统计'!$AH$3/120","v":1.7},{"$f":"'环工16-1分数统计'!AI15*'环工16-1分数统计'!$AI$3/120","v":1.4},{"$f":"'环工16-1分数统计'!AJ15*'环工16-1分数统计'!$AJ$3/120","v":0.725},{"$f":"'环工16-1分数统计'!AK15*'环工16-1分数统计'!$AK$3/120","v":2},{"$f":"'环工16-1分数统计'!AL15*'环工16-1分数统计'!$AL$3/120","v":1.4666666666666666},{"$f":"'环工16-1分数统计'!AM15*'环工16-1分数统计'!$AM$3/120","v":0.8},{"$f":"'环工16-1分数统计'!AN15*'环工16-1分数统计'!$AN$3/120","v":1.65},{"$f":"'环工16-1分数统计'!AO15*'环工16-1分数统计'!$AO$3/120","v":1.55},{"$f":"'环工16-1分数统计'!AP15*'环工16-1分数统计'!$AP$3/120","v":1.1},{"$f":"'环工16-1分数统计'!AQ15*'环工16-1分数统计'!$AQ$3/120","v":1.675},{"$f":"'环工16-1分数统计'!AR15*'环工16-1分数统计'!$AR$3/120","v":1.4},{"$f":"'环工16-1分数统计'!AS15*'环工16-1分数统计'!$AS$3/120","v":1.5166666666666666},{"$f":"'环工16-1分数统计'!AT15*'环工16-1分数统计'!$AT$3/120","v":1.2833333333333334},{"$f":"'环工16-1分数统计'!AU15*'环工16-1分数统计'!$AU$3/120","v":0.6416666666666667},{"$f":"'环工16-1分数统计'!AV15*'环工16-1分数统计'!$AV$3/120","v":1.3833333333333333},{"$f":"'环工16-1分数统计'!AW15*'环工16-1分数统计'!$AW$3/120","v":0.6333333333333333},{"$f":"'环工16-1分数统计'!AX15*'环工16-1分数统计'!$AX$3/120","v":1.8333333333333333},{"$f":"'环工16-1分数统计'!AY15*'环工16-1分数统计'!$AY$3/120","v":1.1333333333333333},{"$f":"'环工16-1分数统计'!AZ15*'环工16-1分数统计'!$AZ$3/120","v":1.4166666666666667},{"$f":"'环工16-1分数统计'!BA15*'环工16-1分数统计'!$BA$3/120","v":1.05},{"$f":"'环工16-1分数统计'!BB15*'环工16-1分数统计'!$BB$3/120","v":1.05},{"$f":"'环工16-1分数统计'!BC15*'环工16-1分数统计'!$BC$3/120","v":1.95},{"$f":"'环工16-1分数统计'!BD15*'环工16-1分数统计'!$BD$3/120","v":1.075},{"$f":"'环工16-1分数统计'!BE15*'环工16-1分数统计'!$BE$3/120","v":1.3},{"$f":"SUM(D39:BA39)","v":74.13254820936639},{"$f":"0.7*BB39","v":51.89278374655647},80.6392876098599,82.4147329175328,{"$f":"SUM(BD39:BE39)","v":163.0540205273927},80.92565225063738,16.185130450127478,68.07791419668395]
[38,"闫玺宇","2016010610",{"$f":"'环工16-1分数统计'!H14*'环工16-1分数统计'!$H$3/120","v":0.6},{"$f":"'环工16-1分数统计'!I14*'环工16-1分数统计'!$I$3/120","v":1.45},{"$f":"'环工16-1分数统计'!J14*'环工16-1分数统计'!$J$3/120","v":3.1},{"$f":"'环工16-1分数统计'!K14*'环工16-1分数统计'!$K$3/120","v":2.4375},{"$f":"'环工16-1分数统计'!L14*'环工16-1分数统计'!$L$3/120","v":1.4166666666666667},{"$f":"'环工16-1分数统计'!M14*'环工16-1分数统计'!$M$3/120","v":1.1},{"$f":"'环工16-1分数统计'!N14*'环工16-1分数统计'!$N$3/120","v":2.676666666666667},{"$f":"'环工16-1分数统计'!O14*'环工16-1分数统计'!$O$3/121","v":0.7355371900826446},{"$f":"'环工16-1分数统计'!P14*'环工16-1分数统计'!$P$3/120","v":1.3958333333333333},{"$f":"'环工16-1分数统计'!Q14*'环工16-1分数统计'!$Q$3/120","v":0.625},{"$f":"'环工16-1分数统计'!R14*'环工16-1分数统计'!$R$3/120","v":1.525},{"$f":"'环工16-1分数统计'!S14*'环工16-1分数统计'!$S$3/120","v":2.5},{"$f":"'环工16-1分数统计'!T14*'环工16-1分数统计'!$T$3/120","v":1.6041666666666667},{"$f":"'环工16-1分数统计'!U14*'环工16-1分数统计'!$U$3/120","v":2.1666666666666665},{"$f":"'环工16-1分数统计'!V14*'环工16-1分数统计'!$V$3/120","v":1.7},{"$f":"'环工16-1分数统计'!W14*'环工16-1分数统计'!$W$3/120","v":2.933333333333333},{"$f":"'环工16-1分数统计'!X14*'环工16-1分数统计'!$X$3/120","v":0.8},{"$f":"'环工16-1分数统计'!Y14*'环工16-1分数统计'!$Y$3/120","v":1.5},{"$f":"'环工16-1分数统计'!Z14*'环工16-1分数统计'!$Z$3/120","v":1.525},{"$f":"'环工16-1分数统计'!AA14*'环工16-1分数统计'!$AA$3/120","v":1.5},{"$f":"'环工16-1分数统计'!AB14*'环工16-1分数统计'!$AB$3/120","v":1.1166666666666667},{"$f":"'环工16-1分数统计'!AC14*'环工16-1分数统计'!$AC$3/120","v":1.3},{"$f":"'环工16-1分数统计'!AD14*'环工16-1分数统计'!$AD$3/120","v":1.2666666666666666},{"$f":"'环工16-1分数统计'!AE14*'环工16-1分数统计'!$AE$3/120","v":1.5033333333333334},{"$f":"'环工16-1分数统计'!AF14*'环工16-1分数统计'!$AF$3/120","v":0.75},{"$f":"'环工16-1分数统计'!AG14*'环工16-1分数统计'!$AG$3/120","v":1.7291666666666667},{"$f":"'环工16-1分数统计'!AH14*'环工16-1分数统计'!$AH$3/120","v":2.075},{"$f":"'环工16-1分数统计'!AI14*'环工16-1分数统计'!$AI$3/120","v":1.3333333333333333},{"$f":"'环工16-1分数统计'!AJ14*'环工16-1分数统计'!$AJ$3/120","v":0.7583333333333333},{"$f":"'环工16-1分数统计'!AK14*'环工16-1分数统计'!$AK$3/120","v":1.9},{"$f":"'环工16-1分数统计'!AL14*'环工16-1分数统计'!$AL$3/120","v":1.3833333333333333},{"$f":"'环工16-1分数统计'!AM14*'环工16-1分数统计'!$AM$3/120","v":0.75},{"$f":"'环工16-1分数统计'!AN14*'环工16-1分数统计'!$AN$3/120","v":2.05},{"$f":"'环工16-1分数统计'!AO14*'环工16-1分数统计'!$AO$3/120","v":2.35},{"$f":"'环工16-1分数统计'!AP14*'环工16-1分数统计'!$AP$3/120","v":1.075},{"$f":"'环工16-1分数统计'!AQ14*'环工16-1分数统计'!$AQ$3/120","v":1.5},{"$f":"'环工16-1分数统计'!AR14*'环工16-1分数统计'!$AR$3/120","v":1.4166666666666667},{"$f":"'环工16-1分数统计'!AS14*'环工16-1分数统计'!$AS$3/120","v":1.4333333333333333},{"$f":"'环工16-1分数统计'!AT14*'环工16-1分数统计'!$AT$3/120","v":1.32},{"$f":"'环工16-1分数统计'!AU14*'环工16-1分数统计'!$AU$3/120","v":0.7333333333333333},{"$f":"'环工16-1分数统计'!AV14*'环工16-1分数统计'!$AV$3/120","v":1.3333333333333333},{"$f":"'环工16-1分数统计'!AW14*'环工16-1分数统计'!$AW$3/120","v":0.5666666666666667},{"$f":"'环工16-1分数统计'!AX14*'环工16-1分数统计'!$AX$3/120","v":2},{"$f":"'环工16-1分数统计'!AY14*'环工16-1分数统计'!$AY$3/120","v":1.4166666666666667},{"$f":"'环工16-1分数统计'!AZ14*'环工16-1分数统计'!$AZ$3/120","v":1.1166666666666667},{"$f":"'环工16-1分数统计'!BA14*'环工16-1分数统计'!$BA$3/120","v":1.1833333333333333},{"$f":"'环工16-1分数统计'!BB14*'环工16-1分数统计'!$BB$3/120","v":1.0125},{"$f":"'环工16-1分数统计'!BC14*'环工16-1分数统计'!$BC$3/120","v":1.425},{"$f":"'环工16-1分数统计'!BD14*'环工16-1分数统计'!$BD$3/120","v":1.0625},{"$f":"'环工16-1分数统计'!BE14*'环工16-1分数统计'!$BE$3/120","v":1.1333333333333333},{"$f":"SUM(D40:BA40)","v":73.28553719008265},{"$f":"0.7*BB40","v":51.29987603305785},82.6514130224011,84.651742035742,{"$f":"SUM(BD40:BE40)","v":167.3031550581431},83.03454832256166,16.606909664512333,67.90678569757019]
[39,"于鹏","2016010627",{"$f":"'环工16-1分数统计'!H27*'环工16-1分数统计'!$H$3/120","v":0.6666666666666666},{"$f":"'环工16-1分数统计'!I27*'环工16-1分数统计'!$I$3/120","v":1.5333333333333334},{"$f":"'环工16-1分数统计'!J27*'环工16-1分数统计'!$J$3/120","v":3.7},{"$f":"'环工16-1分数统计'!K27*'环工16-1分数统计'!$K$3/120","v":2.85},{"$f":"'环工16-1分数统计'!L27*'环工16-1分数统计'!$L$3/120","v":1.3833333333333333},{"$f":"'环工16-1分数统计'!M27*'环工16-1分数统计'!$M$3/120","v":1.3},{"$f":"'环工16-1分数统计'!N27*'环工16-1分数统计'!$N$3/120","v":2.533333333333333},{"$f":"'环工16-1分数统计'!O27*'环工16-1分数统计'!$O$3/121","v":0.6446280991735537},{"$f":"'环工16-1分数统计'!P27*'环工16-1分数统计'!$P$3/120","v":1.3125},{"$f":"'环工16-1分数统计'!Q27*'环工16-1分数统计'!$Q$3/120","v":0.6166666666666667},{"$f":"'环工16-1分数统计'!R27*'环工16-1分数统计'!$R$3/120","v":1.6},{"$f":"'环工16-1分数统计'!S27*'环工16-1分数统计'!$S$3/120","v":3.1666666666666665},{"$f":"'环工16-1分数统计'!T27*'环工16-1分数统计'!$T$3/120","v":1.6875},{"$f":"'环工16-1分数统计'!U27*'环工16-1分数统计'!$U$3/120","v":2.2333333333333334},{"$f":"'环工16-1分数统计'!V27*'环工16-1分数统计'!$V$3/120","v":1.675},{"$f":"'环工16-1分数统计'!W27*'环工16-1分数统计'!$W$3/120","v":2.1333333333333333},{"$f":"'环工16-1分数统计'!X27*'环工16-1分数统计'!$X$3/120","v":0.6666666666666666},{"$f":"'环工16-1分数统计'!Y27*'环工16-1分数统计'!$Y$3/120","v":1.4166666666666667},{"$f":"'环工16-1分数统计'!Z27*'环工16-1分数统计'!$Z$3/120","v":1.5},{"$f":"'环工16-1分数统计'!AA27*'环工16-1分数统计'!$AA$3/120","v":1.875},{"$f":"'环工16-1分数统计'!AB27*'环工16-1分数统计'!$AB$3/120","v":1.15},{"$f":"'环工16-1分数统计'!AC27*'环工16-1分数统计'!$AC$3/120","v":1.2833333333333334},{"$f":"'环工16-1分数统计'!AD27*'环工16-1分数统计'!$AD$3/120","v":1.3166666666666667},{"$f":"'环工16-1分数统计'!AE27*'环工16-1分数统计'!$AE$3/120","v":1.1166666666666667},{"$f":"'环工16-1分数统计'!AF27*'环工16-1分数统计'!$AF$3/120","v":0.7583333333333333},{"$f":"'环工16-1分数统计'!AG27*'环工16-1分数统计'!$AG$3/120","v":1.5208333333333333},{"$f":"'环工16-1分数统计'!AH27*'环工16-1分数统计'!$AH$3/120","v":1.675},{"$f":"'环工16-1分数统计'!AI27*'环工16-1分数统计'!$AI$3/120","v":1.3833333333333333},{"$f":"'环工16-1分数统计'!AJ27*'环工16-1分数统计'!$AJ$3/120","v":0.7},{"$f":"'环工16-1分数统计'!AK27*'环工16-1分数统计'!$AK$3/120","v":2.2333333333333334},{"$f":"'环工16-1分数统计'!AL27*'环工16-1分数统计'!$AL$3/120","v":1.2333333333333334},{"$f":"'环工16-1分数统计'!AM27*'环工16-1分数统计'!$AM$3/120","v":0.775},{"$f":"'环工16-1分数统计'!AN27*'环工16-1分数统计'!$AN$3/120","v":1.5},{"$f":"'环工16-1分数统计'!AO27*'环工16-1分数统计'!$AO$3/120","v":1.675},{"$f":"'环工16-1分数统计'!AP27*'环工16-1分数统计'!$AP$3/120","v":0.9875},{"$f":"'环工16-1分数统计'!AQ27*'环工16-1分数统计'!$AQ$3/120","v":1.65},{"$f":"'环工16-1分数统计'!AR27*'环工16-1分数统计'!$AR$3/120","v":1.4166666666666667},{"$f":"'环工16-1分数统计'!AS27*'环工16-1分数统计'!$AS$3/120","v":1.4166666666666667},{"$f":"'环工16-1分数统计'!AT27*'环工16-1分数统计'!$AT$3/120","v":1.25},{"$f":"'环工16-1分数统计'!AU27*'环工16-1分数统计'!$AU$3/120","v":0.675},{"$f":"'环工16-1分数统计'!AV27*'环工16-1分数统计'!$AV$3/120","v":1.4},{"$f":"'环工16-1分数统计'!AW27*'环工16-1分数统计'!$AW$3/120","v":0.6},{"$f":"'环工16-1分数统计'!AX27*'环工16-1分数统计'!$AX$3/120","v":2.2666666666666666},{"$f":"'环工16-1分数统计'!AY27*'环工16-1分数统计'!$AY$3/120","v":1.0833333333333333},{"$f":"'环工16-1分数统计'!AZ27*'环工16-1分数统计'!$AZ$3/120","v":1.25},{"$f":"'环工16-1分数统计'!BA27*'环工16-1分数统计'!$BA$3/120","v":1.3166666666666667},{"$f":"'环工16-1分数统计'!BB27*'环工16-1分数统计'!$BB$3/120","v":1},{"$f":"'环工16-1分数统计'!BC27*'环工16-1分数统计'!$BC$3/120","v":2.05},{"$f":"'环工16-1分数统计'!BD27*'环工16-1分数统计'!$BD$3/120","v":0.975},{"$f":"'环工16-1分数统计'!BE27*'环工16-1分数统计'!$BE$3/120","v":1.4},{"$f":"SUM(D41:BA41)","v":73.55296143250688},{"$f":"0.7*BB41","v":51.48707300275481},81.665825530652,80.5780127428126,{"$f":"SUM(BD41:BE41)","v":162.2438382734646},80.52354914929123,16.104709829858248,67.59178283261306]
[40,"张婷婷",2016010643,0.65,1.41666666666667,3,2.25,1.43333333333333,1.18333333333333,{"$f":"[1]Sheet1!H52*$J$3/120","v":2.0570000000000004},0.516666666666667,1.5625,0.608333333333333,1.6,2.75,1.66666666666667,2.36666666666667,1.625,{"$f":"[1]Sheet1!I52*$S$3/120","v":2.3716},0.675,1.41666666666667,1.5,1.675,1.08333333333333,1.3,1.2,{"$f":"[1]Sheet1!K52*$AA$3/120","v":1.1843333333333335},0.758333333333333,1.5625,1.7,1.25,0.675,2,1.43333333333333,0.75,2,1.65,1.05,1.5,1.41666666666667,1.41666666666667,{"$f":"[1]Sheet1!J52*$AP$3/120","v":1.0531125},0.758333333333333,1.38333333333333,0.641666666666667,2.43333333333333,1.36666666666667,1.28333333333333,1.4,1.0625,1.9,1.05,1.11666666666667,72.3041666666666,50.6129166666666,79.2901238312842,81.5075986139986,160.797722445283,79.80582464150513,15.961164928301026,66.57408159496762]
[41,"李桂存",2016010634,0.558333333333333,1.48333333333333,3,2.3625,1.33333333333333,1.21666666666667,{"$f":"[1]Sheet1!H43*$J$3/120","v":2.04},0.625,1.29166666666667,0.5,1.5,2.5,1.6875,2.36666666666667,1.5,{"$f":"[1]Sheet1!I43*$S$3/120","v":1.932},0.691666666666667,1.53333333333333,1.5,2,1.16666666666667,1.36666666666667,1.21666666666667,{"$f":"[1]Sheet1!K43*$AA$3/120","v":1.1475},0.716666666666667,1.625,1.8,1.33333333333333,0.7,2,1.36666666666667,0.75,1.675,1.725,1.075,1.825,1.43333333333333,1.38333333333333,{"$f":"[1]Sheet1!J43*$AP$3/120","v":0.9961874999999998},0.691666666666667,1.41666666666667,0.633333333333333,2.36666666666667,1.36666666666667,1.2,1.18333333333333,1.075,1.95,1.05,1.16666666666667,72.2416666666667,50.5691666666667,78.099501169018,82.0522716180371,160.151772787055,79.48523213330387,15.897046426660774,66.46621309332748]
[42,"穆合塔巴尔·玉素甫",2016010639,0.641666666666667,1.36666666666667,3,2.2875,1.28333333333333,1.1,{"$f":"[1]Sheet1!H48*$J$3/120","v":2.3063333333333333},0.6,1.25,0.5,1.5,2.5,1.66666666666667,2.13333333333333,1.625,{"$f":"[1]Sheet1!I48*$S$3/120","v":2.464},0.758333333333333,1.51666666666667,1.525,2.05,1.2,1.28333333333333,1.45,{"$f":"[1]Sheet1!K48*$AA$3/120","v":1.2466666666666666},0.708333333333333,1.625,1.55,1.33333333333333,0.7,2,1.33333333333333,0.8125,1.925,1.5,1.1,1.85,1.46666666666667,1.38333333333333,{"$f":"[1]Sheet1!J48*$AP$3/120","v":1.0958062499999999},0.591666666666667,1.38333333333333,0.675,2.2,1.1,1.36666666666667,1.25,1.1,1.775,1.0375,1.16666666666667,71.9208333333333,50.3445833333333,80.991099628864,80.9324114996115,161.923511128475,80.36456697235367,16.072913394470735,66.41749672780404]
[43,"依斯安·喀迪尔",2016010657,0.625,1.46666666666667,3,2.25,1.33333333333333,1.35,{"$f":"[1]Sheet1!H63*$J$3/120","v":2.0683333333333334},0.591666666666667,1.5,0.675,2.075,2.5,1.5,2.26666666666667,1.5,{"$f":"[1]Sheet1!I63*$S$3/120","v":2.016},0.741666666666667,1.46666666666667,1.7,1.325,1.08333333333333,1.2,1.3,{"$f":"[1]Sheet1!K63*$AA$3/120","v":1.0766666666666667},0.708333333333333,1.64583333333333,2.025,1.23333333333333,0.733333333333333,2,1.26666666666667,0.8375,1.65,1.825,1,1.775,1.46666666666667,1.36666666666667,{"$f":"[1]Sheet1!J63*$AP$3/120","v":0.9832499999999998},0.725,1.45,0.616666666666667,1.63333333333333,1.25,1.2,1.13333333333333,1.0375,1.825,1.0625,1.25,71.5333333333333,50.0733333333333,81.0280875276539,83.0688761460761,164.09696367373,81.4432773549107,16.288655470982143,66.36198880431544]
[44,"马晓红","2016010605",{"$f":"'环工16-1分数统计'!H9*'环工16-1分数统计'!$H$3/120","v":0.6416666666666667},{"$f":"'环工16-1分数统计'!I9*'环工16-1分数统计'!$I$3/120","v":1.45},{"$f":"'环工16-1分数统计'!J9*'环工16-1分数统计'!$J$3/120","v":3.45},{"$f":"'环工16-1分数统计'!K9*'环工16-1分数统计'!$K$3/120","v":2.475},{"$f":"'环工16-1分数统计'!L9*'环工16-1分数统计'!$L$3/120","v":1.3333333333333333},{"$f":"'环工16-1分数统计'!M9*'环工16-1分数统计'!$M$3/120","v":1.2166666666666666},{"$f":"'环工16-1分数统计'!N9*'环工16-1分数统计'!$N$3/120","v":2.2},{"$f":"'环工16-1分数统计'!O9*'环工16-1分数统计'!$O$3/121","v":0.6363636363636364},{"$f":"'环工16-1分数统计'!P9*'环工16-1分数统计'!$P$3/120","v":1.4166666666666667},{"$f":"'环工16-1分数统计'!Q9*'环工16-1分数统计'!$Q$3/120","v":0.5916666666666667},{"$f":"'环工16-1分数统计'!R9*'环工16-1分数统计'!$R$3/120","v":1.5},{"$f":"'环工16-1分数统计'!S9*'环工16-1分数统计'!$S$3/120","v":2.5},{"$f":"'环工16-1分数统计'!T9*'环工16-1分数统计'!$T$3/120","v":1.625},{"$f":"'环工16-1分数统计'!U9*'环工16-1分数统计'!$U$3/120","v":2.3},{"$f":"'环工16-1分数统计'!V9*'环工16-1分数统计'!$V$3/120","v":1.5},{"$f":"'环工16-1分数统计'!W9*'环工16-1分数统计'!$W$3/120","v":2.7133333333333334},{"$f":"'环工16-1分数统计'!X9*'环工16-1分数统计'!$X$3/120","v":0.675},{"$f":"'环工16-1分数统计'!Y9*'环工16-1分数统计'!$Y$3/120","v":1.5333333333333334},{"$f":"'环工16-1分数统计'!Z9*'环工16-1分数统计'!$Z$3/120","v":1.525},{"$f":"'环工16-1分数统计'!AA9*'环工16-1分数统计'!$AA$3/120","v":1.525},{"$f":"'环工16-1分数统计'!AB9*'环工16-1分数统计'!$AB$3/120","v":1.0666666666666667},{"$f":"'环工16-1分数统计'!AC9*'环工16-1分数统计'!$AC$3/120","v":1.1666666666666667},{"$f":"'环工16-1分数统计'!AD9*'环工16-1分数统计'!$AD$3/120","v":1.2},{"$f":"'环工16-1分数统计'!AE9*'环工16-1分数统计'!$AE$3/120","v":1.3383333333333336},{"$f":"'环工16-1分数统计'!AF9*'环工16-1分数统计'!$AF$3/120","v":0.7166666666666667},{"$f":"'环工16-1分数统计'!AG9*'环工16-1分数统计'!$AG$3/120","v":1.5833333333333333},{"$f":"'环工16-1分数统计'!AH9*'环工16-1分数统计'!$AH$3/120","v":1.775},{"$f":"'环工16-1分数统计'!AI9*'环工16-1分数统计'!$AI$3/120","v":1.3333333333333333},{"$f":"'环工16-1分数统计'!AJ9*'环工16-1分数统计'!$AJ$3/120","v":0.75},{"$f":"'环工16-1分数统计'!AK9*'环工16-1分数统计'!$AK$3/120","v":2.1},{"$f":"'环工16-1分数统计'!AL9*'环工16-1分数统计'!$AL$3/120","v":1.2166666666666666},{"$f":"'环工16-1分数统计'!AM9*'环工16-1分数统计'!$AM$3/120","v":0.75},{"$f":"'环工16-1分数统计'!AN9*'环工16-1分数统计'!$AN$3/120","v":1.525},{"$f":"'环工16-1分数统计'!AO9*'环工16-1分数统计'!$AO$3/120","v":1.725},{"$f":"'环工16-1分数统计'!AP9*'环工16-1分数统计'!$AP$3/120","v":1.075},{"$f":"'环工16-1分数统计'!AQ9*'环工16-1分数统计'!$AQ$3/120","v":1.65},{"$f":"'环工16-1分数统计'!AR9*'环工16-1分数统计'!$AR$3/120","v":1.4166666666666667},{"$f":"'环工16-1分数统计'!AS9*'环工16-1分数统计'!$AS$3/120","v":1.45},{"$f":"'环工16-1分数统计'!AT9*'环工16-1分数统计'!$AT$3/120","v":1.2833333333333334},{"$f":"'环工16-1分数统计'!AU9*'环工16-1分数统计'!$AU$3/120","v":0.6916666666666667},{"$f":"'环工16-1分数统计'!AV9*'环工16-1分数统计'!$AV$3/120","v":1.3666666666666667},{"$f":"'环工16-1分数统计'!AW9*'环工16-1分数统计'!$AW$3/120","v":0.6166666666666667},{"$f":"'环工16-1分数统计'!AX9*'环工16-1分数统计'!$AX$3/120","v":2.3333333333333335},{"$f":"'环工16-1分数统计'!AY9*'环工16-1分数统计'!$AY$3/120","v":1.2333333333333334},{"$f":"'环工16-1分数统计'!AZ9*'环工16-1分数统计'!$AZ$3/120","v":1.3666666666666667},{"$f":"'环工16-1分数统计'!BA9*'环工16-1分数统计'!$BA$3/120","v":1.25},{"$f":"'环工16-1分数统计'!BB9*'环工16-1分数统计'!$BB$3/120","v":1.0625},{"$f":"'环工16-1分数统计'!BC9*'环工16-1分数统计'!$BC$3/120","v":2.15},{"$f":"'环工16-1分数统计'!BD9*'环工16-1分数统计'!$BD$3/120","v":1.0625},{"$f":"'环工16-1分数统计'!BE9*'环工16-1分数统计'!$BE$3/120","v":1.1666666666666667},{"$f":"SUM(D46:BA46)","v":72.22969696969699},{"$f":"0.7*BB46","v":50.56078787878789},79.6107529563945,80.311129025641,{"$f":"SUM(BD46:BE46)","v":159.9218819820355},79.37113458892898,15.874226917785798,66.43501479657368]
[45,"於越",2016010658,0.625,1.36666666666667,3,2.55,1.33333333333333,1.11666666666667,{"$f":"[1]Sheet1!H64*$J$3/120","v":2.929666666666667},0.558333333333333,1.3125,0.7625,1.85,2.5,1.58333333333333,2.03333333333333,1.5,{"$f":"[1]Sheet1!I64*$S$3/120","v":2.8028},0.658333333333333,1.35,1.7,1.5,1.1,1.13333333333333,1.2,{"$f":"[1]Sheet1!K64*$AA$3/120","v":1.496},0.591666666666667,1.64583333333333,2.15,1.13333333333333,0.683333333333333,2,1.36666666666667,0.75,1.5,1.525,0.95,1.65,1.25,1.38333333333333,{"$f":"[1]Sheet1!J64*$AP$3/120","v":1.26658125},0,1.41666666666667,0.516666666666667,1.23333333333333,1.43333333333333,0.916666666666667,1.11666666666667,0.975,1.7,1.0375,1.11666666666667,70.025,49.0175,78.5774934682479,74.2525044289044,152.829997897152,75.8513480580676,15.17026961161352,64.18776961161352]
[46,"王昆",2016010653,0.691666666666667,1.26666666666667,3.7,2.25,1.41666666666667,1.33333333333333,{"$f":"[1]Sheet1!H60*$J$3/120","v":1.9635000000000002},0.541666666666667,0.5625,0.5,1.5,3,1.66666666666667,2.03333333333333,1.825,{"$f":"[1]Sheet1!I60*$S$3/120","v":2.3716},0.641666666666667,1.36666666666667,1.5,1.5,1,1.35,1.33333333333333,{"$f":"[1]Sheet1!K60*$AA$3/120","v":0.9973333333333334},0.641666666666667,1.4375,1.6,1.2,0.708333333333333,2,1.23333333333333,0.75,1.675,1.775,1,1.675,1.45,1.41666666666667,{"$f":"[1]Sheet1!J60*$AP$3/120","v":0.9961874999999998},0.625,1.4,0.566666666666667,2,1.18333333333333,1.05,1.08333333333333,0.9875,1.95,0.9375,1.21666666666667,69.4416666666667,48.6091666666667,79.2692921481159,74.287062004662,153.556354152778,76.21184731814559,15.242369463629117,63.85153613029582]
[47,"肖耀",2016010656,0.675,1.53333333333333,3.6,2.25,1.43333333333333,1.25,{"$f":"[1]Sheet1!H62*$J$3/120","v":1.7141666666666668},0.516666666666667,1.39583333333333,0.741666666666667,1.5,2.5,1.41666666666667,2.06666666666667,1.5,{"$f":"[1]Sheet1!I62*$S$3/120","v":1.9404000000000003},0.641666666666667,1.43333333333333,1.5,1.5,1.03333333333333,1.33333333333333,1.25,{"$f":"[1]Sheet1!K62*$AA$3/120","v":0.9505833333333334},0.708333333333333,1.375,1.5,1.18333333333333,0.716666666666667,1.83333333333333,1.35,0.7625,1.5,1.525,1.025,1.65,1.45,1.46666666666667,{"$f":"[1]Sheet1!J62*$AP$3/120","v":0.8538749999999999},0.641666666666667,1.38333333333333,0.666666666666667,2.2,1.2,1.08333333333333,1.1,1.0625,1.95,0.925,1.05,68.3291666666667,47.8304166666667,77.9693152504261,74.2237084693085,152.193023719735,75.53521018788474,15.10704203757695,62.93745870424365]
[48,"马学成",2016010649,0.633333333333333,1.46666666666667,3,2.4,1.18333333333333,1.1,{"$f":"[1]Sheet1!H58*$J$3/120","v":1.8983333333333332},0.591666666666667,1.25,0.641666666666667,1.5,2.5,1.58333333333333,2,1.575,{"$f":"[1]Sheet1!I58*$S$3/120","v":1.736},0.616666666666667,1.46666666666667,1.5,1.5,1.15,1.26666666666667,1.21666666666667,{"$f":"[1]Sheet1!K58*$AA$3/120","v":1.1333333333333333},0.633333333333333,1.41666666666667,1.55,1.28333333333333,0.683333333333333,2,1.23333333333333,0.75,1.2,1.425,1.0375,1.6,1.33333333333333,1.4,{"$f":"[1]Sheet1!J58*$AP$3/120","v":0.8668124999999999},0.725,1.38333333333333,0.566666666666667,2,1.13333333333333,1.01666666666667,1.18333333333333,0.975,1.7,0.9125,1.01666666666667,67.05,46.935,75.0326309819993,76.0366724878725,151.069303469872,74.97749444513103,14.995498889026207,61.93049888902621]
[49,"温博",2016010655,0.541666666666667,1.26666666666667,3.5,2.25,1.38333333333333,1.1,{"$f":"[1]Sheet1!H61*$J$3/120","v":1.9946666666666668},0.525,1.25,0.5,1.5,2.5,1.41666666666667,2,1.625,{"$f":"[1]Sheet1!I61*$S$3/120","v":2.0636},0.608333333333333,1.45,1.5,1.525,1,1.38333333333333,1.25,{"$f":"[1]Sheet1!K61*$AA$3/120","v":0.935},0.65,1.47916666666667,1.925,1.2,0.675,1.4,1.21666666666667,0.75,1.75,1.55,1,1.5,1.45,1.35,{"$f":"[1]Sheet1!J61*$AP$3/120","v":0.9250312499999999},0.708333333333333,1.38333333333333,0.558333333333333,1.1,1.11666666666667,0.9,0.866666666666667,1.05,1.7,0.925,1.06666666666667,65.7958333333333,46.0570833333333,75.786296548556,78.3910914418914,154.177387990447,76.52007380787286,15.304014761574573,61.361098094907874]
[50,"高信中","2015010676",{"$f":"'环工16-1分数统计'!H4*'环工16-1分数统计'!$H$3/120","v":0.5666666666666667},{"$f":"'环工16-1分数统计'!I4*'环工16-1分数统计'!$I$3/120","v":1.4666666666666666},{"$f":"'环工16-1分数统计'!J4*'环工16-1分数统计'!$J$3/120","v":3},{"$f":"'环工16-1分数统计'!K4*'环工16-1分数统计'!$K$3/120","v":2.25},{"$f":"'环工16-1分数统计'!L4*'环工16-1分数统计'!$L$3/120","v":1.5},{"$f":"'环工16-1分数统计'!M4*'环工16-1分数统计'!$M$3/120","v":1},{"$f":"'环工16-1分数统计'!N4*'环工16-1分数统计'!$N$3/120","v":2.933333333333333},{"$f":"'环工16-1分数统计'!O4*'环工16-1分数统计'!$O$3/120","v":0.6666666666666666},{"$f":"'环工16-1分数统计'!P4*'环工16-1分数统计'!$P$3/120","v":1.6458333333333333},{"$f":"'环工16-1分数统计'!Q4*'环工16-1分数统计'!$Q$3/120","v":0.7166666666666667},{"$f":"'环工16-1分数统计'!R4*'环工16-1分数统计'!$R$3/120","v":1.575},{"$f":"'环工16-1分数统计'!S4*'环工16-1分数统计'!$S$3/120","v":2.5416666666666665},{"$f":"'环工16-1分数统计'!T4*'环工16-1分数统计'!$T$3/120","v":1.625},{"$f":"'环工16-1分数统计'!U4*'环工16-1分数统计'!$U$3/120","v":2.3},{"$f":"'环工16-1分数统计'!V4*'环工16-1分数统计'!$V$3/120","v":1.95},{"$f":"'环工16-1分数统计'!W4*'环工16-1分数统计'!$W$3/120","v":3.116666666666667},{"$f":"'环工16-1分数统计'!X4*'环工16-1分数统计'!$X$3/120","v":0.7083333333333334},{"$f":"'环工16-1分数统计'!Y4*'环工16-1分数统计'!$Y$3/120","v":1.4833333333333334},{"$f":"'环工16-1分数统计'!Z4*'环工16-1分数统计'!$Z$3/120","v":0.55},{"$f":"'环工16-1分数统计'!AA4*'环工16-1分数统计'!$AA$3/120","v":1.525},{"$f":"'环工16-1分数统计'!AB4*'环工16-1分数统计'!$AB$3/120","v":1.1666666666666667},{"$f":"'环工16-1分数统计'!AC4*'环工16-1分数统计'!$AC$3/120","v":1.3666666666666667},{"$f":"'环工16-1分数统计'!AD4*'环工16-1分数统计'!$AD$3/120","v":1.35},{"$f":"'环工16-1分数统计'!AE4*'环工16-1分数统计'!$AE$3/120","v":1.5583333333333336},{"$f":"'环工16-1分数统计'!AF4*'环工16-1分数统计'!$AF$3/120","v":0.7666666666666667},{"$f":"'环工16-1分数统计'!AG4*'环工16-1分数统计'!$AG$3/120","v":1.625},{"$f":"'环工16-1分数统计'!AH4*'环工16-1分数统计'!$AH$3/120","v":1.175},{"$f":"'环工16-1分数统计'!AI4*'环工16-1分数统计'!$AI$3/120","v":1.2666666666666666},{"$f":"'环工16-1分数统计'!AJ4*'环工16-1分数统计'!$AJ$3/120","v":0.6916666666666667},{"$f":"'环工16-1分数统计'!AK4*'环工16-1分数统计'!$AK$3/120","v":0.4666666666666667},{"$f":"'环工16-1分数统计'!AL4*'环工16-1分数统计'!$AL$3/120","v":1.2666666666666666},{"$f":"'环工16-1分数统计'!AM4*'环工16-1分数统计'!$AM$3/120","v":0.75},{"$f":"'环工16-1分数统计'!AN4*'环工16-1分数统计'!$AN$3/120","v":1.5},{"$f":"'环工16-1分数统计'!AO4*'环工16-1分数统计'!$AO$3/120","v":1.5},{"$f":"'环工16-1分数统计'!AP4*'环工16-1分数统计'!$AP$3/120","v":0.9375},{"$f":"'环工16-1分数统计'!AQ4*'环工16-1分数统计'!$AQ$3/120","v":0.65},{"$f":"'环工16-1分数统计'!AR4*'环工16-1分数统计'!$AR$3/120","v":1.3666666666666667},{"$f":"'环工16-1分数统计'!AS4*'环工16-1分数统计'!$AS$3/120","v":1.4833333333333334},{"$f":"'环工16-1分数统计'!AT4*'环工16-1分数统计'!$AT$3/120","v":1.6500000000000001},{"$f":"'环工16-1分数统计'!AU4*'环工16-1分数统计'!$AU$3/120","v":0.7166666666666667},{"$f":"'环工16-1分数统计'!AV4*'环工16-1分数统计'!$AV$3/120","v":1.0166666666666666},{"$f":"'环工16-1分数统计'!AW4*'环工16-1分数统计'!$AW$3/120","v":0.5},{"$f":"'环工16-1分数统计'!AX4*'环工16-1分数统计'!$AX$3/120","v":0.4666666666666667},{"$f":"'环工16-1分数统计'!AY4*'环工16-1分数统计'!$AY$3/120","v":1.1166666666666667},{"$f":"'环工16-1分数统计'!AZ4*'环工16-1分数统计'!$AZ$3/120","v":0.7166666666666667},{"$f":"'环工16-1分数统计'!BA4*'环工16-1分数统计'!$BA$3/120","v":1},{"$f":"'环工16-1分数统计'!BB4*'环工16-1分数统计'!$BB$3/120","v":0.9375},{"$f":"'环工16-1分数统计'!BC4*'环工16-1分数统计'!$BC$3/120","v":1.525},{"$f":"'环工16-1分数统计'!BD4*'环工16-1分数统计'!$BD$3/120","v":0.8625},{"$f":"'环工16-1分数统计'!BE4*'环工16-1分数统计'!$BE$3/120","v":1},{"$f":"SUM(D52:BA52)","v":65.51666666666667},{"$f":"0.7*BB52","v":45.861666666666665},81.9647009329398,71.6693097125097,{"$f":"SUM(BD52:BE52)","v":153.6340106454495},76.25038916029466,15.250077832058933,61.1117444987256]
[51,"扎西多吉","2016010628",{"$f":"'环工16-1分数统计'!H28*'环工16-1分数统计'!$H$3/120","v":0.5},{"$f":"'环工16-1分数统计'!I28*'环工16-1分数统计'!$I$3/120","v":1.25},{"$f":"'环工16-1分数统计'!J28*'环工16-1分数统计'!$J$3/120","v":3},{"$f":"'环工16-1分数统计'!K28*'环工16-1分数统计'!$K$3/120","v":1.6875},{"$f":"'环工16-1分数统计'!L28*'环工16-1分数统计'!$L$3/120","v":1},{"$f":"'环工16-1分数统计'!M28*'环工16-1分数统计'!$M$3/120","v":1},{"$f":"'环工16-1分数统计'!N28*'环工16-1分数统计'!$N$3/120","v":1.45},{"$f":"'环工16-1分数统计'!O28*'环工16-1分数统计'!$O$3/121","v":0.6115702479338843},{"$f":"'环工16-1分数统计'!P28*'环工16-1分数统计'!$P$3/120","v":1.125},{"$f":"'环工16-1分数统计'!Q28*'环工16-1分数统计'!$Q$3/120","v":0.375},{"$f":"'环工16-1分数统计'!R28*'环工16-1分数统计'!$R$3/120","v":1.025},{"$f":"'环工16-1分数统计'!S28*'环工16-1分数统计'!$S$3/120","v":2.5},{"$f":"'环工16-1分数统计'!T28*'环工16-1分数统计'!$T$3/120","v":1.4166666666666667},{"$f":"'环工16-1分数统计'!U28*'环工16-1分数统计'!$U$3/120","v":1.5333333333333334},{"$f":"'环工16-1分数统计'!V28*'环工16-1分数统计'!$V$3/120","v":1.5},{"$f":"'环工16-1分数统计'!W28*'环工16-1分数统计'!$W$3/120","v":1.3666666666666667},{"$f":"'环工16-1分数统计'!X28*'环工16-1分数统计'!$X$3/120","v":0.675},{"$f":"'环工16-1分数统计'!Y28*'环工16-1分数统计'!$Y$3/120","v":1.4333333333333333},{"$f":"'环工16-1分数统计'!Z28*'环工16-1分数统计'!$Z$3/121","v":1.0165289256198347},{"$f":"'环工16-1分数统计'!AA28*'环工16-1分数统计'!$AA$3/120","v":1.525},{"$f":"'环工16-1分数统计'!AB28*'环工16-1分数统计'!$AB$3/120","v":1},{"$f":"'环工16-1分数统计'!AC28*'环工16-1分数统计'!$AC$3/120","v":1.1166666666666667},{"$f":"'环工16-1分数统计'!AD28*'环工16-1分数统计'!$AD$3/120","v":1},{"$f":"'环工16-1分数统计'!AE28*'环工16-1分数统计'!$AE$3/120","v":1},{"$f":"'环工16-1分数统计'!AF28*'环工16-1分数统计'!$AF$3/120","v":0.7416666666666667},{"$f":"'环工16-1分数统计'!AG28*'环工16-1分数统计'!$AG$3/120","v":1.4166666666666667},{"$f":"'环工16-1分数统计'!AH28*'环工16-1分数统计'!$AH$3/120","v":1.5},{"$f":"'环工16-1分数统计'!AI28*'环工16-1分数统计'!$AI$3/120","v":1.2666666666666666},{"$f":"'环工16-1分数统计'!AJ28*'环工16-1分数统计'!$AJ$3/120","v":0.7},{"$f":"'环工16-1分数统计'!AK28*'环工16-1分数统计'!$AK$3/120","v":1.3333333333333333},{"$f":"'环工16-1分数统计'!AL28*'环工16-1分数统计'!$AL$3/120","v":1.25},{"$f":"'环工16-1分数统计'!AM28*'环工16-1分数统计'!$AM$3/120","v":0.6625},{"$f":"'环工16-1分数统计'!AN28*'环工16-1分数统计'!$AN$3/120","v":1.225},{"$f":"'环工16-1分数统计'!AO28*'环工16-1分数统计'!$AO$3/120","v":1.65},{"$f":"'环工16-1分数统计'!AP28*'环工16-1分数统计'!$AP$3/120","v":1.05},{"$f":"'环工16-1分数统计'!AQ28*'环工16-1分数统计'!$AQ$3/120","v":1.15},{"$f":"'环工16-1分数统计'!AR28*'环工16-1分数统计'!$AR$3/121","v":1.43801652892562},{"$f":"'环工16-1分数统计'!AS28*'环工16-1分数统计'!$AS$3/120","v":1},{"$f":"'环工16-1分数统计'!AT28*'环工16-1分数统计'!$AT$3/120","v":0.85},{"$f":"'环工16-1分数统计'!AU28*'环工16-1分数统计'!$AU$3/120","v":0.775},{"$f":"'环工16-1分数统计'!AV28*'环工16-1分数统计'!$AV$3/120","v":1.1666666666666667},{"$f":"'环工16-1分数统计'!AW28*'环工16-1分数统计'!$AW$3/120","v":0.5333333333333333},{"$f":"'环工16-1分数统计'!AX28*'环工16-1分数统计'!$AX$3/120","v":1.1666666666666667},{"$f":"'环工16-1分数统计'!AY28*'环工16-1分数统计'!$AY$3/120","v":1},{"$f":"'环工16-1分数统计'!AZ28*'环工16-1分数统计'!$AZ$3/120","v":0.9},{"$f":"'环工16-1分数统计'!BA28*'环工16-1分数统计'!$BA$3/120","v":0.8333333333333334},{"$f":"'环工16-1分数统计'!BB28*'环工16-1分数统计'!$BB$3/121","v":1.0165289256198347},{"$f":"'环工16-1分数统计'!BC28*'环工16-1分数统计'!$BC$3/120","v":1.6},{"$f":"'环工16-1分数统计'!BD28*'环工16-1分数统计'!$BD$3/120","v":1.0125},{"$f":"'环工16-1分数统计'!BE28*'环工16-1分数统计'!$BE$3/120","v":1.15},{"$f":"SUM(D53:BA53)","v":58.495144628099176},{"$f":"0.7*BB53","v":40.94660123966942},64.8911093920381,75.7160975912975,{"$f":"SUM(BD53:BE53)","v":140.6072069833356},69.7850313623834,13.957006272476683,54.9036075121461]
[{"$nulls":3},1,2,6,4.5,2,2,4,1,2.5,1,3,5,2.5,4,3,4,1,2,3,3,2,2,2,2,1,2.5,3,2,1,4,2,1.5,3,3,1.5,3,2,2,2,1,2,1,4,2,2,2,1.5,3,1.5,2]

{"sheet":"专业总表","index":1,"n_rows":52,"n_cols":11,"rows_kept":52}
["姓名","学号","必修课加权成绩","0.7*必修课加权成绩","大一综测","大二综测","大三综测","三年综测总分","综测加权分数","0.2*综测加权分数","总分"]
["高信中","2015010676",{"$f":"'环工16-1单算'!BG4","v":66.09615384615384},{"$f":"C2*0.7","v":46.26730769230768},{"$f":"'环工16-1单算'!BI4","v":81.9647009329398},{"$f":"'环工16-1单算'!BJ4","v":71.6693097125097},{"$f":"'环工16-1单算'!BK4","v":64.57319300699301},{"$f":"SUM(E2:G2)","v":218.2072036524425},{"$f":"H2/$H$6*100","v":63.11976982563819},{"$f":"I2*0.2","v":12.623953965127638},{"$f":"D2+J2","v":58.89126165743532}]
["程诗宇","2016010599",{"$f":"'环工16-1单算'!BG5","v":86.27230769230768},{"$f":"C3*0.7","v":60.39061538461537},{"$f":"'环工16-1单算'!BI5","v":93.6703106791668},{"$f":"'环工16-1单算'!BJ5","v":95.0443602175602},{"$f":"'环工16-1单算'!BK5","v":102.97725570291777},{"$f":"SUM(E3:G3)","v":291.6919265996448},{"$f":"H3/$H$6*100","v":84.37634944578714},{"$f":"I3*0.2","v":16.87526988915743},{"$f":"D3+J3","v":77.2658852737728}]
["李异繁","2016010602",{"$f":"'环工16-1单算'!BG6","v":91.44846153846153},{"$f":"C4*0.7","v":64.01392307692306},{"$f":"'环工16-1单算'!BI6","v":99.1933173128302},{"$f":"'环工16-1单算'!BJ6","v":102.292881429681},{"$f":"'环工16-1单算'!BK6","v":119.85435915119362},{"$f":"SUM(E4:G4)","v":321.34055789370484},{"$f":"H4/$H$6*100","v":92.95266934541358},{"$f":"I4*0.2","v":18.590533869082716},{"$f":"D4+J4","v":82.60445694600578}]
["刘涵钰","2016010603",{"$f":"'环工16-1单算'!BG7","v":85.75153846153847},{"$f":"C5*0.7","v":60.02607692307693},{"$f":"'环工16-1单算'!BI7","v":90.9492381049094},{"$f":"'环工16-1单算'!BJ7","v":90.2221258741258},{"$f":"'环工16-1单算'!BK7","v":96.55614771626593},{"$f":"SUM(E5:G5)","v":277.72751169530113},{"$f":"H5/$H$6*100","v":80.33692893281538},{"$f":"I5*0.2","v":16.067385786563076},{"$f":"D5+J5","v":76.09346270964001}]
["刘雅","2016010604",{"$f":"'环工16-1单算'!BG8","v":93.40384615384615},{"$f":"C6*0.7","v":65.3826923076923},{"$f":"'环工16-1单算'!BI8","v":99.3886572468236},{"$f":"'环工16-1单算'!BJ8","v":117.401859207459},{"$f":"'环工16-1单算'!BK8","v":128.91290460573907},{"$f":"SUM(E6:G6)","v":345.7034210600217},{"$f":"H6/$H$6*100","v":100},{"$f":"I6*0.2","v":20},{"$f":"D6+J6","v":85.3826923076923}]
["马晓红","2016010605",{"$f":"'环工16-1单算'!BG9","v":72.4592307692308},{"$f":"C7*0.7","v":50.721461538461554},{"$f":"'环工16-1单算'!BI9","v":79.6107529563945},{"$f":"'环工16-1单算'!BJ9","v":80.311129025641},{"$f":"'环工16-1单算'!BK9","v":83.06909164858129},{"$f":"SUM(E7:G7)","v":242.9909736306168},{"$f":"H7/$H$6*100","v":70.28885421079713},{"$f":"I7*0.2","v":14.057770842159426},{"$f":"D7+J7","v":64.77923238062098}]
["马一凡","2016010606",{"$f":"'环工16-1单算'!BG10","v":83.43307692307694},{"$f":"C8*0.7","v":58.403153846153856},{"$f":"'环工16-1单算'!BI10","v":92.1510598870876},{"$f":"'环工16-1单算'!BJ10","v":90.7747359751359},{"$f":"'环工16-1单算'!BK10","v":106.23491087533158},{"$f":"SUM(E8:G8)","v":289.1607067375551},{"$f":"H8/$H$6*100","v":83.64415540086611},{"$f":"I8*0.2","v":16.728831080173222},{"$f":"D8+J8","v":75.13198492632708}]
["齐泽丰","2016010607",{"$f":"'环工16-1单算'!BG11","v":85.60307692307696},{"$f":"C9*0.7","v":59.92215384615386},{"$f":"'环工16-1单算'!BI11","v":92.9438651346124},{"$f":"'环工16-1单算'!BJ11","v":97.8766592074591},{"$f":"'环工16-1单算'!BK11","v":119.40926719717065},{"$f":"SUM(E9:G9)","v":310.22979153924217},{"$f":"H9/$H$6*100","v":89.73871030491755},{"$f":"I9*0.2","v":17.94774206098351},{"$f":"D9+J9","v":77.86989590713738}]
["任玥辉","2016010608",{"$f":"'环工16-1单算'!BG12","v":84.95461538461538},{"$f":"C10*0.7","v":59.468230769230765},{"$f":"'环工16-1单算'!BI12","v":92.9265846395629},{"$f":"'环工16-1单算'!BJ12","v":91.3254874902874},{"$f":"'环工16-1单算'!BK12","v":98.33694535809019},{"$f":"SUM(E10:G10)","v":282.5890174879405},{"$f":"H10/$H$6*100","v":81.74319381088128},{"$f":"I10*0.2","v":16.348638762176257},{"$f":"D10+J10","v":75.81686953140702}]
["唐钰琪","2016010609",{"$f":"'环工16-1单算'!BG13","v":81.20153846153846},{"$f":"C11*0.7","v":56.84107692307692},{"$f":"'环工16-1单算'!BI13","v":92.9975449365926},{"$f":"'环工16-1单算'!BJ13","v":94.0410066822066},{"$f":"'环工16-1单算'!BK13","v":100.01054120532785},{"$f":"SUM(E11:G11)","v":287.04909282412706},{"$f":"H11/$H$6*100","v":83.03333879194938},{"$f":"I11*0.2","v":16.606667758389875},{"$f":"D11+J11","v":73.44774468146679}]
["闫玺宇","2016010610",{"$f":"'环工16-1单算'!BG14","v":72.78076923076921},{"$f":"C12*0.7","v":50.946538461538445},{"$f":"'环工16-1单算'!BI14","v":82.6514130224011},{"$f":"'环工16-1单算'!BJ14","v":84.651742035742},{"$f":"'环工16-1单算'!BK14","v":80.2561020979021},{"$f":"SUM(E12:G12)","v":247.5592571560452},{"$f":"H12/$H$6*100","v":71.61030006499804},{"$f":"I12*0.2","v":14.322060012999609},{"$f":"D12+J12","v":65.26859847453805}]
["杨玉凤","2016010611",{"$f":"'环工16-1单算'!BG15","v":74.60076923076922},{"$f":"C13*0.7","v":52.220538461538446},{"$f":"'环工16-1单算'!BI15","v":80.6392876098599},{"$f":"'环工16-1单算'!BJ15","v":82.4147329175328},{"$f":"'环工16-1单算'!BK15","v":83.49705234665834},{"$f":"SUM(E13:G13)","v":246.55107287405104},{"$f":"H13/$H$6*100","v":71.3186673473053},{"$f":"I13*0.2","v":14.263733469461059},{"$f":"D13+J13","v":66.48427193099951}]
["游恋","2016010612",{"$f":"'环工16-1单算'!BG16","v":85.92307692307695},{"$f":"C14*0.7","v":60.14615384615386},{"$f":"'环工16-1单算'!BI16","v":91.1687331544143},{"$f":"'环工16-1单算'!BJ16","v":98.0306794094793},{"$f":"'环工16-1单算'!BK16","v":94.45784190981432},{"$f":"SUM(E14:G14)","v":283.6572544737079},{"$f":"H14/$H$6*100","v":82.05219769128601},{"$f":"I14*0.2","v":16.410439538257204},{"$f":"D14+J14","v":76.55659338441106}]
["余美琪","2016010613",{"$f":"'环工16-1单算'!BG17","v":86.23615384615388},{"$f":"C15*0.7","v":60.36530769230772},{"$f":"'环工16-1单算'!BI17","v":89.3712150025991},{"$f":"'环工16-1单算'!BJ17","v":90.0143682983682},{"$f":"'环工16-1单算'!BK17","v":96.20658590145487},{"$f":"SUM(E15:G15)","v":275.59216920242216},{"$f":"H15/$H$6*100","v":79.71924846950627},{"$f":"I15*0.2","v":15.943849693901255},{"$f":"D15+J15","v":76.30915738620897}]
["仲英杰","2016010614",{"$f":"'环工16-1单算'!BG18","v":88.96923076923078},{"$f":"C16*0.7","v":62.27846153846154},{"$f":"'环工16-1单算'!BI18","v":98.4399223733362},{"$f":"'环工16-1单算'!BJ18","v":105.295693550894},{"$f":"'环工16-1单算'!BK18","v":111.15358196286473},{"$f":"SUM(E16:G16)","v":314.88919788709495},{"$f":"H16/$H$6*100","v":91.08651482868122},{"$f":"I16*0.2","v":18.217302965736245},{"$f":"D16+J16","v":80.49576450419778}]
["陈闯","2016010617",{"$f":"'环工16-1单算'!BG19","v":86.77},{"$f":"C17*0.7","v":60.73899999999999},{"$f":"'环工16-1单算'!BI19","v":95.2447034184407},{"$f":"'环工16-1单算'!BJ19","v":109.451422843823},{"$f":"'环工16-1单算'!BK19","v":107.46141662245802},{"$f":"SUM(E17:G17)","v":312.1575428847217},{"$f":"H17/$H$6*100","v":90.29634185498104},{"$f":"I17*0.2","v":18.059268370996207},{"$f":"D17+J17","v":78.7982683709962}]
["丁相瑞","2016010619",{"$f":"'环工16-1单算'!BG20","v":79.26615384615386},{"$f":"C18*0.7","v":55.4863076923077},{"$f":"'环工16-1单算'!BI20","v":86.6118849365926},{"$f":"'环工16-1单算'!BJ20","v":85.5783763791763},{"$f":"'环工16-1单算'!BK20","v":88.37967785547785},{"$f":"SUM(E18:G18)","v":260.56993917124674},{"$f":"H18/$H$6*100","v":75.37383875816667},{"$f":"I18*0.2","v":15.074767751633335},{"$f":"D18+J18","v":70.56107544394104}]
["高军政","2016010620",{"$f":"'环工16-1单算'!BG21","v":81.94846153846154},{"$f":"C19*0.7","v":57.36392307692308},{"$f":"'环工16-1单算'!BI21","v":89.3930169827972},{"$f":"'环工16-1单算'!BJ21","v":83.8704369852369},{"$f":"'环工16-1单算'!BK21","v":90.68818673740051},{"$f":"SUM(E19:G19)","v":263.95164070543467},{"$f":"H19/$H$6*100","v":76.35204762975339},{"$f":"I19*0.2","v":15.270409525950678},{"$f":"D19+J19","v":72.63433260287376}]
["贾钰森","2016010621",{"$f":"'环工16-1单算'!BG22","v":75.24153846153847},{"$f":"C20*0.7","v":52.66907692307692},{"$f":"'环工16-1单算'!BI22","v":85.9154987979787},{"$f":"'环工16-1单算'!BJ22","v":84.9594066822066},{"$f":"'环工16-1单算'!BK22","v":82.98329018567638},{"$f":"SUM(E20:G20)","v":253.85819566586167},{"$f":"H20/$H$6*100","v":73.43236433341119},{"$f":"I20*0.2","v":14.686472866682237},{"$f":"D20+J20","v":67.35554978975915}]
["李佳奇","2016010622",{"$f":"'环工16-1单算'!BG23","v":89.2592307692308},{"$f":"C21*0.7","v":62.48146153846155},{"$f":"'环工16-1单算'!BI23","v":91.869901471246},{"$f":"'环工16-1单算'!BJ23","v":95.065148096348},{"$f":"'环工16-1单算'!BK23","v":102.03221009668863},{"$f":"SUM(E21:G21)","v":288.9672596642826},{"$f":"H21/$H$6*100","v":83.58819787731044},{"$f":"I21*0.2","v":16.717639575462087},{"$f":"D21+J21","v":79.19910111392363}]
["李同","2016010624",{"$f":"'环工16-1单算'!BG24","v":83.35692307692314},{"$f":"C22*0.7","v":58.349846153846194},{"$f":"'环工16-1单算'!BI24","v":89.4128948375827},{"$f":"'环工16-1单算'!BJ24","v":90.9267602175601},{"$f":"'环工16-1单算'!BK24","v":93.04822122015916},{"$f":"SUM(E22:G22)","v":273.38787627530195},{"$f":"H22/$H$6*100","v":79.08162303890994},{"$f":"I22*0.2","v":15.816324607781988},{"$f":"D22+J22","v":74.16617076162818}]
["吴航飞","2016010625",{"$f":"'环工16-1单算'!BG25","v":77.06230769230771},{"$f":"C23*0.7","v":53.9436153846154},{"$f":"'环工16-1单算'!BI25","v":84.2469344745464},{"$f":"'环工16-1单算'!BJ25","v":84.1430309246308},{"$f":"'环工16-1单算'!BK25","v":82.57951934731933},{"$f":"SUM(E23:G23)","v":250.96948474649656},{"$f":"H23/$H$6*100","v":72.59676053449374},{"$f":"I23*0.2","v":14.519352106898749},{"$f":"D23+J23","v":68.46296749151415}]
["姚泽凯","2016010626",{"$f":"'环工16-1单算'!BG26","v":79.12307692307691},{"$f":"C24*0.7","v":55.38615384615383},{"$f":"'环工16-1单算'!BI26","v":89.7781852666256},{"$f":"'环工16-1单算'!BJ26","v":86.4013027861027},{"$f":"'环工16-1单算'!BK26","v":86.9013647129289},{"$f":"SUM(E24:G24)","v":263.0808527656572},{"$f":"H24/$H$6*100","v":76.100158904699},{"$f":"I24*0.2","v":15.2200317809398},{"$f":"D24+J24","v":70.60618562709364}]
["于鹏","2016010627",{"$f":"'环工16-1单算'!BG27","v":73.75000000000001},{"$f":"C25*0.7","v":51.62500000000001},{"$f":"'环工16-1单算'!BI27","v":81.665825530652},{"$f":"'环工16-1单算'!BJ27","v":80.5780127428126},{"$f":"'环工16-1单算'!BK27","v":85.83872836052836},{"$f":"SUM(E25:G25)","v":248.08256663399297},{"$f":"H25/$H$6*100","v":71.76167533237121},{"$f":"I25*0.2","v":14.352335066474243},{"$f":"D25+J25","v":65.97733506647425}]
["扎西多吉","2016010628",{"$f":"'环工16-1单算'!BG28","v":58.73076923076921},{"$f":"C26*0.7","v":41.111538461538444},{"$f":"'环工16-1单算'!BI28","v":64.8911093920381},{"$f":"'环工16-1单算'!BJ28","v":75.7160975912975},{"$f":"'环工16-1单算'!BK28","v":73.09373233658951},{"$f":"SUM(E26:G26)","v":213.7009393199251},{"$f":"H26/$H$6*100","v":61.816263971198005},{"$f":"I26*0.2","v":12.363252794239601},{"$f":"D26+J26","v":53.474791255778044}]
["边泽晨",2016010629,{"$f":"环工62单算!BH4","v":81.69692307692304},{"$f":"C27*0.7","v":57.187846153846124},{"$f":"环工62单算!BJ4","v":90.5846881877199},{"$f":"环工62单算!BK4","v":87.145866045066},{"$f":"环工62单算!BL4","v":84.0212489992766},{"$f":"SUM(E27:G27)","v":261.75180323206246},{"$f":"H27/$H$6*100","v":75.71571100727309},{"$f":"I27*0.2","v":15.143142201454618},{"$f":"D27+J27","v":72.33098835530075}]
["曹佳美",2016010630,{"$f":"环工62单算!BH5","v":79.79923076923077},{"$f":"C28*0.7","v":55.85946153846154},{"$f":"环工62单算!BJ5","v":89.6750314220433},{"$f":"环工62单算!BK5","v":84.027765034965},{"$f":"环工62单算!BL5","v":86.49036498673739},{"$f":"SUM(E28:G28)","v":260.1931614437457},{"$f":"H28/$H$6*100","v":75.26485003993363},{"$f":"I28*0.2","v":15.052970007986728},{"$f":"D28+J28","v":70.91243154644826}]
["丁怀玉",2016010631,{"$f":"环工62单算!BH6","v":81.92384615384611},{"$f":"C29*0.7","v":57.34669230769227},{"$f":"环工62单算!BJ6","v":86.8964626651676},{"$f":"环工62单算!BK6","v":86.9341246309246},{"$f":"环工62单算!BL6","v":90.67990981432361},{"$f":"SUM(E29:G29)","v":264.5104971104158},{"$f":"H29/$H$6*100","v":76.5137053892478},{"$f":"I29*0.2","v":15.30274107784956},{"$f":"D29+J29","v":72.64943338554184}]
["符琳",2016010632,{"$f":"环工62单算!BH7","v":80.76384615384617},{"$f":"C30*0.7","v":56.53469230769232},{"$f":"环工62单算!BJ7","v":88.307196438545},{"$f":"环工62单算!BK7","v":87.8358094794095},{"$f":"环工62单算!BL7","v":86.08283019049917},{"$f":"SUM(E30:G30)","v":262.2258361084537},{"$f":"H30/$H$6*100","v":75.85283226425622},{"$f":"I30*0.2","v":15.170566452851245},{"$f":"D30+J30","v":71.70525876054356}]
["李桂存",2016010634,{"$f":"环工62单算!BH8","v":70.8076923076923},{"$f":"C31*0.7","v":49.56538461538461},{"$f":"环工62单算!BJ8","v":78.099501169018},{"$f":"环工62单算!BK8","v":82.0522716180371},{"$f":"环工62单算!BL8","v":75.6991925729443},{"$f":"SUM(E31:G31)","v":235.8509653599994},{"$f":"H31/$H$6*100","v":68.22349765495971},{"$f":"I31*0.2","v":13.644699530991943},{"$f":"D31+J31","v":63.21008414637655}]
["李昕",2016010635,{"$f":"环工62单算!BH9","v":84.54615384615386},{"$f":"C32*0.7","v":59.182307692307695},{"$f":"环工62单算!BJ9","v":92.3800963262006},{"$f":"环工62单算!BK9","v":91.526358974359},{"$f":"环工62单算!BL9","v":90.09754659593281},{"$f":"SUM(E32:G32)","v":274.0040018964924},{"$f":"H32/$H$6*100","v":79.25984679478174},{"$f":"I32*0.2","v":15.851969358956348},{"$f":"D32+J32","v":75.03427705126404}]
["刘吉东",2016010636,{"$f":"环工62单算!BH10","v":80.06153846153846},{"$f":"C33*0.7","v":56.04307692307692},{"$f":"环工62单算!BJ10","v":86.0561337322743},{"$f":"环工62单算!BK10","v":90.7932010796221},{"$f":"环工62单算!BL10","v":87.10569048353564},{"$f":"SUM(E33:G33)","v":263.95502529543205},{"$f":"H33/$H$6*100","v":76.3530266741571},{"$f":"I33*0.2","v":15.270605334831423},{"$f":"D33+J33","v":71.31368225790834}]
["刘姝羽",2016010637,{"$f":"环工62单算!BH11","v":85.97923076923077},{"$f":"C34*0.7","v":60.18546153846153},{"$f":"环工62单算!BJ11","v":91.0101205309542},{"$f":"环工62单算!BK11","v":91.4717852369852},{"$f":"环工62单算!BL11","v":93.66411671087533},{"$f":"SUM(E34:G34)","v":276.14602247881476},{"$f":"H34/$H$6*100","v":79.87945899756362},{"$f":"I34*0.2","v":15.975891799512723},{"$f":"D34+J34","v":76.16135333797425}]
["陆文懿",2016010638,{"$f":"环工62单算!BH12","v":82.76923076923075},{"$f":"C35*0.7","v":57.93846153846152},{"$f":"环工62单算!BJ12","v":88.5622085397551},{"$f":"环工62单算!BK12","v":90.0499953379953},{"$f":"环工62单算!BL12","v":92.54855702914439},{"$f":"SUM(E35:G35)","v":271.1607609068948},{"$f":"H35/$H$6*100","v":78.43739586823914},{"$f":"I35*0.2","v":15.687479173647828},{"$f":"D35+J35","v":73.62594071210934}]
["穆合塔巴尔·玉素甫",2016010639,{"$f":"环工62单算!BH13","v":73.12307692307695},{"$f":"C36*0.7","v":51.186153846153864},{"$f":"环工62单算!BJ13","v":80.991099628864},{"$f":"环工62单算!BK13","v":80.9324114996115},{"$f":"环工62单算!BL13","v":82.09913740053052},{"$f":"SUM(E36:G36)","v":244.02264852900606},{"$f":"H36/$H$6*100","v":70.58728194843012},{"$f":"I36*0.2","v":14.117456389686025},{"$f":"D36+J36","v":65.30361023583988}]
["宋艳珂",2016010640,{"$f":"环工62单算!BH14","v":80.30999999999997},{"$f":"C37*0.7","v":56.21699999999998},{"$f":"环工62单算!BJ14","v":86.4564593648376},{"$f":"环工62单算!BK14","v":85.3637367521368},{"$f":"环工62单算!BL14","v":90.59895809018568},{"$f":"SUM(E37:G37)","v":262.4191542071601},{"$f":"H37/$H$6*100","v":75.90875247994678},{"$f":"I37*0.2","v":15.181750495989357},{"$f":"D37+J37","v":71.39875049598933}]
["通拉嘎",2016010641,{"$f":"环工62单算!BH15","v":77.59538461538465},{"$f":"C38*0.7","v":54.316769230769246},{"$f":"环工62单算!BJ15","v":86.5799731162127},{"$f":"环工62单算!BK15","v":86.1209205905206},{"$f":"环工62单算!BL15","v":85.00287800119791},{"$f":"SUM(E38:G38)","v":257.7037717079312},{"$f":"H38/$H$6*100","v":74.54475599857838},{"$f":"I38*0.2","v":14.908951199715677},{"$f":"D38+J38","v":69.22572043048493}]
["王存璐",2016010642,{"$f":"环工62单算!BH16","v":78.65},{"$f":"C39*0.7","v":55.055},{"$f":"环工62单算!BJ16","v":85.3656254814492},{"$f":"环工62单算!BK16","v":85.8390013986014},{"$f":"环工62单算!BL16","v":89.19013916476467},{"$f":"SUM(E39:G39)","v":260.39476604481524},{"$f":"H39/$H$6*100","v":75.32316725312505},{"$f":"I39*0.2","v":15.06463345062501},{"$f":"D39+J39","v":70.119633450625}]
["张婷婷",2016010643,{"$f":"环工62单算!BH17","v":73.43230769230772},{"$f":"C40*0.7","v":51.4026153846154},{"$f":"环工62单算!BJ17","v":79.2901238312842},{"$f":"环工62单算!BK17","v":81.5075986139986},{"$f":"环工62单算!BL17","v":83.78346843501326},{"$f":"SUM(E40:G40)","v":244.58119088029605},{"$f":"H40/$H$6*100","v":70.74884886309279},{"$f":"I40*0.2","v":14.149769772618559},{"$f":"D40+J40","v":65.55238515723396}]
["曹刘俊",2016010644,{"$f":"环工62单算!BH18","v":80.83461538461538},{"$f":"C41*0.7","v":56.58423076923076},{"$f":"环工62单算!BJ18","v":86.8865187707782},{"$f":"环工62单算!BK18","v":86.571857964258},{"$f":"环工62单算!BL18","v":84.53665426912325},{"$f":"SUM(E41:G41)","v":257.99503100415944},{"$f":"H41/$H$6*100","v":74.62900720307476},{"$f":"I41*0.2","v":14.925801440614954},{"$f":"D41+J41","v":71.51003220984572}]
["程昊",2016010645,{"$f":"环工62单算!BH19","v":76.39538461538461},{"$f":"C42*0.7","v":53.47676923076923},{"$f":"环工62单算!BJ19","v":79.5104197608772},{"$f":"环工62单算!BK19","v":83.4583710955711},{"$f":"环工62单算!BL19","v":82.3031202636444},{"$f":"SUM(E42:G42)","v":245.27191112009268},{"$f":"H42/$H$6*100","v":70.94865025287328},{"$f":"I42*0.2","v":14.189730050574656},{"$f":"D42+J42","v":67.66649928134389}]
["耿錾卜",2016010646,{"$f":"环工62单算!BH20","v":80.59000000000003},{"$f":"C43*0.7","v":56.41300000000002},{"$f":"环工62单算!BJ20","v":88.0031326321643},{"$f":"环工62单算!BK20","v":85.1985529137529},{"$f":"环工62单算!BL20","v":85.20407533156497},{"$f":"SUM(E43:G43)","v":258.4057608774822},{"$f":"H43/$H$6*100","v":74.74781709858095},{"$f":"I43*0.2","v":14.949563419716192},{"$f":"D43+J43","v":71.36256341971621}]
["郭全弟",2016010647,{"$f":"环工62单算!BH21","v":82.88384615384616},{"$f":"C44*0.7","v":58.01869230769231},{"$f":"环工62单算!BJ21","v":88.1014736662677},{"$f":"环工62单算!BK21","v":85.5605529137529},{"$f":"环工62单算!BL21","v":87.65693050397878},{"$f":"SUM(E44:G44)","v":261.3189570839994},{"$f":"H44/$H$6*100","v":75.59050364116261},{"$f":"I44*0.2","v":15.118100728232523},{"$f":"D44+J44","v":73.13679303592484}]
["李正映",2016010648,{"$f":"环工62单算!BH22","v":83.39615384615387},{"$f":"C45*0.7","v":58.3773076923077},{"$f":"环工62单算!BJ22","v":89.3765341723183},{"$f":"环工62单算!BK22","v":90.0273448329448},{"$f":"环工62单算!BL22","v":93.45552331395677},{"$f":"SUM(E45:G45)","v":272.85940231921984},{"$f":"H45/$H$6*100","v":78.92875386727674},{"$f":"I45*0.2","v":15.785750773455348},{"$f":"D45+J45","v":74.16305846576304}]
["马学成",2016010649,{"$f":"环工62单算!BH23","v":67.21153846153848},{"$f":"C46*0.7","v":47.048076923076934},{"$f":"环工62单算!BJ23","v":75.0326309819993},{"$f":"环工62单算!BK23","v":76.0366724878725},{"$f":"环工62单算!BL23","v":72.69288734491315},{"$f":"SUM(E46:G46)","v":223.76219081478493},{"$f":"H46/$H$6*100","v":64.72663479252492},{"$f":"I46*0.2","v":12.945326958504985},{"$f":"D46+J46","v":59.99340388158192}]
["孙寅辉",2016010651,{"$f":"环工62单算!BH24","v":74.96076923076923},{"$f":"C47*0.7","v":52.472538461538456},{"$f":"环工62单算!BJ24","v":83.4901694858497},{"$f":"环工62单算!BK24","v":80.4266833610834},{"$f":"环工62单算!BL24","v":77.17632533156498},{"$f":"SUM(E47:G47)","v":241.0931781784981},{"$f":"H47/$H$6*100","v":69.73988786088381},{"$f":"I47*0.2","v":13.947977572176763},{"$f":"D47+J47","v":66.42051603371522}]
["王昆",2016010653,{"$f":"环工62单算!BH25","v":69.63692307692311},{"$f":"C48*0.7","v":48.74584615384617},{"$f":"环工62单算!BJ25","v":79.2692921481159},{"$f":"环工62单算!BK25","v":74.287062004662},{"$f":"环工62单算!BL25","v":72.67771977600943},{"$f":"SUM(E48:G48)","v":226.23407392878732},{"$f":"H48/$H$6*100","v":65.44166477586235},{"$f":"I48*0.2","v":13.08833295517247},{"$f":"D48+J48","v":61.83417910901864}]
["温博",2016010655,{"$f":"环工62单算!BH26","v":66.00307692307693},{"$f":"C49*0.7","v":46.20215384615385},{"$f":"环工62单算!BJ26","v":75.786296548556},{"$f":"环工62单算!BK26","v":78.3910914418914},{"$f":"环工62单算!BL26","v":69.72549184149184},{"$f":"SUM(E49:G49)","v":223.90287983193926},{"$f":"H49/$H$6*100","v":64.7673312417307},{"$f":"I49*0.2","v":12.95346624834614},{"$f":"D49+J49","v":59.15562009449999}]
["肖耀",2016010656,{"$f":"环工62单算!BH27","v":69.12615384615387},{"$f":"C50*0.7","v":48.388307692307706},{"$f":"环工62单算!BJ27","v":77.9693152504261},{"$f":"环工62单算!BK27","v":74.2237084693085},{"$f":"环工62单算!BL27","v":76.83740323125151},{"$f":"SUM(E50:G50)","v":229.0304269509861},{"$f":"H50/$H$6*100","v":66.25055264096487},{"$f":"I50*0.2","v":13.250110528192975},{"$f":"D50+J50","v":61.63841822050068}]
["依斯安·喀迪尔",2016010657,{"$f":"环工62单算!BH28","v":72.77307692307694},{"$f":"C51*0.7","v":50.94115384615386},{"$f":"环工62单算!BJ28","v":81.0280875276539},{"$f":"环工62单算!BK28","v":83.0688761460761},{"$f":"环工62单算!BL28","v":81.37057062937063},{"$f":"SUM(E51:G51)","v":245.46753430310062},{"$f":"H51/$H$6*100","v":71.00523724944048},{"$f":"I51*0.2","v":14.201047449888097},{"$f":"D51+J51","v":65.14220129604196}]
["於越",2016010658,{"$f":"环工62单算!BH29","v":69.98076923076923},{"$f":"C52*0.7","v":48.98653846153846},{"$f":"环工62单算!BJ29","v":78.5774934682479},{"$f":"环工62单算!BK29","v":74.2525044289044},{"$f":"环工62单算!BL29","v":74.04335809018568},{"$f":"SUM(E52:G52)","v":226.87335598733796},{"$f":"H52/$H$6*100","v":65.62658688527927},{"$f":"I52*0.2","v":13.125317377055854},{"$f":"D52+J52","v":62.11185583859431}]

{"sheet":"环工16-1分数统计","index":2,"n_rows":54,"n_cols":67,"rows_kept":54}
["序号","姓名","学号","挂科情况统计（填有或无）",{"$nulls":3},"大一上学期",{"$nulls":7},"大一下学期",{"$nulls":9},"大二上学期",{"$nulls":10},"大二下学期",{"$nulls":11},"大三上学期"]
[{"$nulls":3},"必修课挂科","选修课挂科","四级至今没过","体测至今没过","入学教育与安全教育","军事训练（Ⅰ）","高等数学B（Ⅰ）","无机化学与分析化学 ","思想道德修养与法律基础","中国近代史纲要 ","大学英语（Ⅰ） ","大学体育（Ⅰ）","机械制图","计算机辅助绘图","VB程序设计（A）","高等数学B（Ⅱ）","无机与分析化学实验（Ⅰ）","有机化学 ","大学物理C（Ⅰ）","大学英语（Ⅱ）","大学体育（Ⅱ）","金工实习 ","物理化学（Ⅰ） ","大学物理C（Ⅱ）","大学物理实验B（Ⅰ）","毛概（Ⅰ）","马原 ","大学英语（Ⅲ）","大学体育（Ⅲ）","生物化学 ","线性代数","有机化学实验","无机与分析化学实验（Ⅱ）","化工原理（Ⅰ）","环境监测实验  ","环境监测 ","工程力学（环工） ","概率统计基础","物理化学实验（Ⅰ）","物理化学（Ⅱ）","大学物理实验B（Ⅱ）","毛概（Ⅱ）","大学英语Ⅳ","大学体育Ⅳ","认识实习","化工原理实验（Ⅰ）","化工原理（Ⅱ）","环境工程微生物学","水污染控制工程（Ⅰ）","电工学及实验","物理化学实验（Ⅱ）","项目管理与技术经济","环境工程微生物学实验","水污染控制工程（Ⅰ）课程设计","化工原理实验（II）          ","大气污染控制工程实验          ","水污染控制工程（II）课程设计               ","大气污染控制工程        ","水污染控制工程（Ⅱ）          ","就业指导    ","总学分","优秀门数","总门数","优良率"]
[{"$nulls":7},1,2,6,4.5,2,2,4,1,2.5,1,3,5,2.5,4,3,4,1,2,3,3,2,2,2,2,1,2.5,3,2,1,4,2,1.5,3,3,1.5,3,2,2,2,1,2,1,4,2,2,2,1.5,3,1.5,2,"1 ","0.5   ","2 ","2.5   ","3 ","1 ",130]
[1,"高信中   ","2015010676          ","有","有","无","无",68,88,60,60,90,60,{"$f":"N30*1.1","v":88},80,79,86,63,61,78,69,78,{"$f":"W30*1.1","v":93.50000000000001},85,89,22,61,70,82,81,{"$f":"AE30*1.1","v":93.50000000000001},92,78,47,76,83,14,76,60,60,60,75,26,82,89,{"$f":"AT30*1.1","v":99.00000000000001},86,61,60,14,67,43,60,75,61,69,60,"60.0    ","81.0    ","77.0    ","68.0    ","82.0    ","60.0    ",null,{"$f":"COUNTIF(H4:BK4,\">=80\")","v":17},{"$f":"COUNTIF(H4:BK4,\">=0\")","v":50},{"$f":"BM4/BN4","v":{"v":0.34,"d":"34.00%"}}]
[2,"程诗宇   ","2016010599          ","无","无","无","无",85,91,95,90,82,76,{"$f":"N31*1.1","v":82.5},78,95,94,81,94,87,87,88,{"$f":"W31*1.1","v":89.10000000000001},93,88,81,93,78,67,80,{"$f":"AE31*1.1","v":84.7},86,80,82,90,95,82,88,82,78,72,83,81,86,90,{"$f":"AT31*1.1","v":91.30000000000001},87,83,83,88,86,96,92,90,91,90,80,"91.0    ","90.0    ","90.0    ","87.0    ","89.0    ","83.0    ",null,{"$f":"COUNTIF(H5:BK5,\">=80\")","v":44},{"$f":"COUNTIF(H5:BK5,\">=0\")","v":50},{"$f":"BM5/BN5","v":{"v":0.88,"d":"88.00%"}}]
[3,"李异繁   ","2016010602          ","无","无","无","无",88,92,78,91,88,81,{"$f":"N32*1.15","v":110.39999999999999},81,96,94,86,90,96,94,86,{"$f":"W32*1.15","v":106.94999999999999},98,90,81,85,88,82,80,{"$f":"AE32*1.15","v":106.94999999999999},97,84,94,91,92,83,92,90,90,78,89,96,91,92,{"$f":"AT32*1.15","v":103.49999999999999},93,93,92,97,95,98,98,90,99,93,89,"94.0    ","93.0    ","90.0    ","94.0    ","98.0    ","92.0    ",null,48,50,{"v":0.96,"d":"96.00%"}]
[4,"刘涵钰   ","2016010603          ","无","无","无","无",79,91,77,88,91,77,{"$f":"N33*1.1","v":89.10000000000001},72,88,92,81,94,88,86,89,{"$f":"W33*1.1","v":89.10000000000001},87,90,67,91,84,82,80,{"$f":"AE33*1.1","v":84.7},80,83,83,87,92,73,88,83,83,76,87,86,87,93,{"$f":"AT33*1.1","v":82.5},82,81,88,93,87,90,90,90,92,88,87,"94.0    ","92.0    ","92.0    ","88.0    ","92.0    ","89.0    ",null,43,50,{"v":0.86,"d":"86.00%"}]
[5,"刘雅  ","2016010604          ","无","无","无","无",81,88,98,93,90,80,{"$f":"N34*1.2","v":102},83,96,84,84,100,94,94,96,{"$f":"W34*1.2","v":100.8},90,90,95,99,92,87,89,{"$f":"AE34*1.2","v":102},81,92,98,91,91,87,91,94,96,90,89,96,89,93,{"$f":"AT34*1.15","v":93.14999999999999},89,91,86,95,94,97,97,90,99,89,95,"91.0    ","94.0    ","85.0    ","97.0    ","97.0    ","89.0    ",null,50,50,{"v":1,"d":"100.00%"}]
[6,"马晓红   ","2016010605          ","有","无","有","无",77,87,69,66,80,73,{"$f":"N35*1.1","v":66},77,68,71,60,60,78,69,60,{"$f":"W35*1.1","v":81.4},81,92,61,61,64,70,72,{"$f":"AE35*1.1","v":80.30000000000001},86,76,71,80,90,63,73,60,61,69,86,66,85,87,{"$f":"AT35*1.1","v":77},83,82,74,70,74,82,75,85,86,85,70,"85.0    ","89.0    ","73.0    ","74.0    ","76.0    ","63.0    ",null,18,50,{"v":0.36,"d":"36.00%"}]
[7,"马一凡   ","2016010606          ","无","无","无","无",82,90,87,91,84,72,{"$f":"N36*1.15","v":103.49999999999999},77,90,73,86,87,87,90,88,{"$f":"W36*1.15","v":97.74999999999999},86,88,60,86,71,78,85,{"$f":"AE36*1.15","v":100.05},89,80,73,84,90,70,74,77,66,79,83,85,88,89,{"$f":"AT36*1.15","v":85.1},90,90,76,79,82,81,98,87,83,76,76,"87.0    ","87.0    ","81.0    ","84.0    ","67.0    ","77.0    ",null,34,50,{"v":0.68,"d":"68.00%"}]
[8,"齐泽丰   ","2016010607          ","无","无","无","无",84,95,82,78,82,88,{"$f":"N37*1.1","v":92.4},89,91,82,71,89,91,82,87,{"$f":"W37*1.1","v":99.00000000000001},96,94,64,77,78,91,86,{"$f":"AE37*1.1","v":95.7},92,80,76,87,93,70,87,70,81,64,88,93,90,90,{"$f":"AT37*1.1","v":90.2},91,98,85,85,91,95,99,88,91,88,86,"94.0    ","90.0    ","90.0    ","92.0    ","89.0    ","85.0    ",null,41,50,{"v":0.82,"d":"82.00%"}]
[9,"任玥辉   ","2016010608          ","无","无","无","无",88,94,84,80,86,87,{"$f":"N38*1.1","v":88},80,84,78,75,82,88,81,76,{"$f":"W38*1.1","v":100.10000000000001},88,90,64,85,76,86,87,{"$f":"AE38*1.1","v":95.7},89,75,82,89,92,75,89,85,91,85,90,93,88,93,{"$f":"AT38*1.1","v":97.9},82,89,81,70,88,85,87,90,85,91,82,"90.0    ","91.0    ","93.0    ","85.0    ","91.0    ","90.0    ",null,42,50,{"v":0.84,"d":"84.00%"}]
[10,"唐钰琪   ","2016010609          ","有","无","无","无",83,93,66,80,82,82,{"$f":"N39*1.1","v":99.00000000000001},89,78,81,78,81,92,67,84,{"$f":"W39*1.1","v":101.2},95,92,82,84,76,92,87,{"$f":"AE39*1.1","v":101.2},93,77,86,87,91,62,87,67,90,66,88,73,86,90,{"$f":"AT39*1.1","v":93.50000000000001},90,94,82,77,96,92,70,88,84,91,76,"93.0    ","91.0    ","91.0    ","84.0    ","0 ","83.0    ",null,37,50,{"v":0.74,"d":"74.00%"}]
[11,"闫玺宇   ","2016010610          ","有","无","无","无",72,87,62,65,85,66,{"$f":"N40*1.1","v":80.30000000000001},89,67,75,61,60,77,65,68,{"$f":"W40*1.1","v":88},96,90,61,60,67,78,76,{"$f":"AE40*1.1","v":90.2},90,83,83,80,91,57,83,60,82,94,86,60,85,86,{"$f":"AT40*1.1","v":79.2},88,80,68,60,85,67,71,81,57,85,68,"78.0    ","91.0    ","60.0    ","64.0    ","64.0    ","71.0    ",null,24,50,{"v":0.48,"d":"48.00%"}]
[12,"杨玉凤   ","2016010611          ","有","无","无","无",83,91,60,62,88,76,{"$f":"N41*1.1","v":68.2},84,83,70,67,83,86,72,60,{"$f":"W41*1.1","v":88},90,93,61,64,79,78,77,{"$f":"AE41*1.1","v":81.4},92,79,68,84,87,60,88,64,66,62,88,67,84,91,{"$f":"AT41*1.1","v":77},77,83,76,55,68,85,63,84,78,86,78,"91.0    ","90.0    ","81.0    ","81.0    ","75.0    ","76.0    ",null,22,50,{"v":0.44,"d":"44.00%"}]
[13,"游恋  ","2016010612          ","无","无","有","无",77,87,84,93,83,78,{"$f":"N42","v":63},85,87,92,76,98,91,91,95,{"$f":"W42","v":61},93,93,80,91,86,81,79,{"$f":"AE42","v":74},91,80,84,90,88,84,89,84,86,82,90,93,87,90,{"$f":"AT42","v":80},94,87,85,91,85,87,97,88,84,91,93,"90.0    ","91.0    ","94.0    ","85.0    ","96.0    ","89.0    ",null,43,50,{"v":0.86,"d":"86.00%"}]
[14,"余美琪   ","2016010613          ","无","无","无","无",81,91,84,81,77,72,{"$f":"N43*1.15","v":103.49999999999999},79,73,75,68,85,86,86,89,{"$f":"W43*1.15","v":100.05},85,89,80,90,86,88,84,{"$f":"AE43*1.15","v":96.6},89,75,84,88,87,80,92,78,87,83,89,87,87,92,{"$f":"AT43*1.15","v":87.39999999999999},93,90,80,92,94,87,91,87,88,89,72,"96.0    ","91.0    ","93.0    ","90.0    ","90.0    ","84.0    ",null,41,50,{"v":0.82,"d":"82.00%"}]
[15,"仲英杰   ","2016010614          ","无","无","无","无",90,94,98,93,88,86,{"$f":"N44*1.1","v":94.60000000000001},79,90,82,83,93,90,91,93,{"$f":"W44*1.1","v":95.7},93,90,86,91,86,85,87,{"$f":"AE44*1.1","v":103.4},93,78,86,90,90,74,85,82,81,80,89,86,85,93,{"$f":"AT44*1.1","v":99.00000000000001},82,91,84,79,83,92,87,90,95,92,88,"90.0    ","94.0    ","91.0    ","94.0    ","94.0    ","86.0    ",null,46,50,{"v":0.92,"d":"92.00%"}]
[16,"陈闯  ","2016010617          ","无","无","无","无",83,94,91,90,89,78,{"$f":"N45*1.1","v":82.5},94,85,81,68,100,86,83,86,{"$f":"W45*1.1","v":93.50000000000001},94,96,72,92,78,88,87,{"$f":"AE45*1.1","v":88},95,86,94,89,92,72,88,74,86,87,89,90,88,85,{"$f":"AT45*1.1","v":80.30000000000001},94,88,81,82,90,90,89,88,88,88,84,"88.0    ","91.0    ","90.0    ","90.0    ","86.0    ","88.0    ",null,44,50,{"v":0.88,"d":"88.00%"}]
[17,"丁相瑞   ","2016010619          ","有","无","无","无",81,89,83,73,81,78,69.30000000000001,69,78,84,60,90,78,77,76,92.4,88,94,62,74,75,83,77,85.80000000000001,88,79,74,80,84,65,82,60,90,80,82,78,88,91,83.60000000000001,82,84,75,72,91,81,74,86,89,82,73,"84.0    ","88.0    ","88.0    ","76.0    ","75.0    ","73.0    ",null,28,50,{"v":0.56,"d":"56.00%"}]
[18,"高军政   ","2016010620          ","无","无","无","无",77,92,80,90,87,73,72.60000000000001,74,87,93,78,93,83,80,92,89.10000000000001,87,90,68,91,77,79,79,84.7,79,69,73,83,86,60,86,65,72,69,82,82,86,82,74.80000000000001,64,88,80,87,90,89,98,84,90,81,80,"88.0    ","87.0    ","85.0    ","87.0    ","88.0    ","78.0    ",null,32,50,{"v":0.64,"d":"64.00%"}]
[19,"贾钰森   ","2016010621          ","有","无","无","无",81,85,61,78,81,75,68.2,82,64,83,63,68,81,81,80,84.7,91,86,69,70,77,80,73,78.10000000000001,91,75,62,83,85,73,86,76,71,64,86,91,84,81,74.80000000000001,88,77,74,74,85,85,97,83,91,87,82,"82.0    ","87.0    ","84.0    ","73.0    ","0 ","79.0    ",null,28,50,{"v":0.56,"d":"56.00%"}]
[20,"李佳奇   ","2016010622          ","无","无","无","无",87,92,86,87,87,91,89.10000000000001,83,60,92,74,96,83,85,91,99.00000000000001,90,92,91,93,80,89,84,102.30000000000001,89,83,87,92,89,90,90,87,90,87,87,98,86,93,94.60000000000001,92,84,85,89,88,97,99,88,94,88,91,"88.0    ","93.0    ","96.0    ","95.0    ","94.0    ","86.0    ",null,48,50,{"v":0.96,"d":"96.00%"}]
[21,"李同  ","2016010624          ","无","无","无","无",87,91,78,84,88,83,73.7,65,83,70,74,79,90,81,79,89.10000000000001,83,92,77,80,76,90,85,88,83,82,85,88,86,65,90,68,90,64,88,87,87,94,89.10000000000001,80,88,85,87,91,92,90,87,90,91,75,"89.0    ","89.0    ","94.0    ","92.0    ","89.0    ","84.0    ",null,37,50,{"v":0.74,"d":"74.00%"}]
[22,"吴航飞   ","2016010625          ","有","无","无","无",81,85,64,73,78,71,73.7,67,75,77,74,81,81,78,75,91.30000000000001,70,86,60,90,69,69,74,81.4,89,72,95,83,86,68,73,61,91,65,82,77,86,80,81.4,82,81,76,77,69,78,87,83,84,82,66,"78.0    ","86.0    ","76.0    ","66.0    ","84.0    ","70.0    ",null,23,50,{"v":0.46,"d":"46.00%"}]
[23,"姚泽凯   ","2016010626          ","有","无","无","无",77,91,69,70,89,77,{"$f":"N52*1.2","v":102},88,76,87,75,71,83,73,79,{"$f":"W52*1.2","v":108},92,87,73,78,73,74,73,{"$f":"AE52*1.2","v":102},84,76,66,83,83,60,81,68,73,60,82,78,85,89,{"$f":"AT52*1.2","v":108},90,75,80,72,76,77,77,82,87,91,70,"80.0    ","87.0    ","82.0    ","77.0    ","86.0    ","70.0    ",null,23,50,{"v":0.46,"d":"46.00%"}]
[24,"于鹏  ","2016010627          ","有","有","有","无",80,92,74,76,83,78,{"$f":"N53","v":76},78,63,74,64,76,81,67,67,{"$f":"W53","v":64},80,85,60,75,69,77,79,{"$f":"AE53","v":67},91,73,67,83,84,67,74,62,60,67,79,66,85,85,{"$f":"AT53","v":75},81,84,72,68,65,75,79,80,82,78,84,"74.0    ","84.0    ","79.0    ","75.0    ","75.0    ","74.0    ",null,16,50,{"v":0.32,"d":"32.00%"}]
[25,"扎西多吉    ","2016010628          ","有","无","有","无",60,75,60,45,60,60,{"$f":"N54","v":43.5},74,54,45,41,60,68,46,60,{"$f":"W54","v":41},81,86,41,61,60,67,60,{"$f":"AE54","v":60},89,68,60,76,84,40,75,53,49,66,84,46,87,60,{"$f":"AT54","v":51},93,70,64,35,60,54,50,82,64,81,69,"68.0    ","79.0    ","67.0    ","52.0    ","57.0    ","69.0    ",null,9,50,{"v":0.18,"d":"18.00%"}]
[]
[null,"英语","英语A精英班",{"$nulls":5},"核对无误成绩",{"$nulls":4},80,{"$nulls":8},85,{"$nulls":7},85,{"$nulls":14},90]
[null,null,"英语A班",{"$nulls":5},"补考通过",{"$nulls":4},75,{"$nulls":8},81,{"$nulls":7},77,{"$nulls":14},83]
[null,null,"英语B班",{"$nulls":5},"核对过后发先原来分数错误，按照成绩单纠正的分数。请再次核对。",{"$nulls":4},{"$f":"96","v":96},{"$nulls":8},{"$f":"93","v":93},{"$nulls":7},{"$f":"93","v":93},{"$nulls":14},{"$f":"90","v":90}]
[null,null,"英语C班",{"$nulls":10},81,{"$nulls":8},81,{"$nulls":7},77,{"$nulls":14},75]
[{"$nulls":13},{"$f":"85","v":85},{"$nulls":8},{"$f":"84","v":84},{"$nulls":7},{"$f":"85","v":85},{"$nulls":14},{"$f":"81","v":81}]
[{"$nulls":13},60,{"$nulls":8},74,{"$nulls":7},73,{"$nulls":14},70]
[{"$nulls":13},{"$f":"90","v":90},{"$nulls":8},{"$f":"85","v":85},{"$nulls":7},{"$f":"87","v":87},{"$nulls":14},{"$f":"74","v":74}]
[{"$nulls":13},84,{"$nulls":8},90,{"$nulls":7},87,{"$nulls":14},82]
[{"$nulls":13},80,{"$nulls":8},91,{"$nulls":7},87,{"$nulls":14},89]
[{"$nulls":13},90,{"$nulls":8},92,{"$nulls":7},92,{"$nulls":14},85]
[{"$nulls":13},73,{"$nulls":8},80,{"$nulls":7},82,{"$nulls":14},72]
[{"$nulls":13},62,{"$nulls":8},80,{"$nulls":7},74,{"$nulls":14},70]
[{"$nulls":13},63,{"$nulls":8},61,{"$nulls":7},74,{"$nulls":14},80]
[{"$nulls":13},{"$f":"90","v":90},{"$nulls":8},{"$f":"87","v":87},{"$nulls":7},{"$f":"84","v":84},{"$nulls":14},{"$f":"76","v":76}]
[{"$nulls":13},86,{"$nulls":8},87,{"$nulls":7},94,{"$nulls":14},90]
[{"$nulls":13},75,{"$nulls":8},85,{"$nulls":7},80,{"$nulls":14},73]
[{"$nulls":13},63,{"$nulls":8},84,{"$nulls":7},78,{"$nulls":14},76]
[{"$nulls":13},66,{"$nulls":8},81,{"$nulls":7},77,{"$nulls":14},68]
[{"$nulls":13},62,{"$nulls":8},77,{"$nulls":7},71,{"$nulls":14},68]
[{"$nulls":13},81,{"$nulls":8},90,{"$nulls":7},93,{"$nulls":14},86]
[{"$nulls":13},67,{"$nulls":8},81,{"$nulls":7},80,{"$nulls":14},81]
[{"$nulls":13},67,{"$nulls":8},83,{"$nulls":7},74,{"$nulls":14},74]
[{"$nulls":13},{"$f":"85","v":85},{"$nulls":8},{"$f":"90","v":90},{"$nulls":7},{"$f":"85","v":85},{"$nulls":14},{"$f":"90","v":90}]
[{"$nulls":13},76,{"$nulls":8},64,{"$nulls":7},67,{"$nulls":14},75]
[{"$nulls":13},43.5,{"$nulls":8},41,{"$nulls":7},60,{"$nulls":14},51]

{"sheet":"环工16-1两年综测","index":3,"n_rows":28,"n_cols":61,"rows_kept":28,"merged":[[0,0,2,0],[0,1,2,1],[0,2,2,2],[0,3,0,10],[0,11,0,20],[0,21,0,31],[0,32,0,43],[0,44,0,52],[1,54,2,54],[1,55,2,55],[1,56,2,56],[1,57,2,57],[1,58,2,58],[1,59,2,59],[1,60,2,60]]}
["序号","姓名","学号","大一上学期",{"$nulls":7},"大一下学期",{"$nulls":9},"大二上学期",{"$nulls":10},"大二下学期",{"$nulls":11},"大三上学期"]
[{"$nulls":3},"入学教育与安全教育","军事训练（Ⅰ）","高等数学B（Ⅰ）","无机化学与分析化学 ","思想道德修养与法律基础","中国近代史纲要 ","大学英语（Ⅰ） ","大学体育（Ⅰ）","机械制图","计算机辅助绘图","VB程序设计（A）","高等数学B（Ⅱ）","无机与分析化学实验（Ⅰ）","有机化学 ","大学物理C（Ⅰ）","大学英语（Ⅱ）","大学体育（Ⅱ）","金工实习 ","物理化学（Ⅰ） ","大学物理C（Ⅱ）","大学物理实验B（Ⅰ）","毛概（Ⅰ）","马原 ","大学英语（Ⅲ）","大学体育（Ⅲ）","生物化学 ","线性代数","有机化学实验","无机与分析化学实验（Ⅱ）","化工原理（Ⅰ）","环境监测实验  ","环境监测 ","工程力学（环工） ","概率统计基础","物理化学实验（Ⅰ）","物理化学（Ⅱ）","大学物理实验B（Ⅱ）","毛概（Ⅱ）","大学英语Ⅳ","大学体育Ⅳ","认识实习","化工原理实验（Ⅰ）","化工原理（Ⅱ）","环境工程微生物学","水污染控制工程（Ⅰ）","电工学及实验","物理化学实验（Ⅱ）","项目管理与技术经济","环境工程微生物学实验","水污染控制工程（Ⅰ）课程设计","总学分","优良率","综测一","综测二","综测三","综测总分","综测加权","0.2*综测加权"]
[{"$nulls":3},1,2,6,4.5,2,2,4,1,2.5,1,3,5,2.5,4,3,4,1,2,3,3,2,2,2,2,1,2.5,3,2,1,4,2,1.5,3,3,1.5,3,2,2,2,1,2,1,4,2,2,2,1.5,3,1.5,2,120]
[null,"高信中   ","2015010676          ",{"$f":"'环工16-1分数统计'!H4*'环工16-1分数统计'!$H$3/120","v":0.5666666666666667},{"$f":"'环工16-1分数统计'!I4*'环工16-1分数统计'!$I$3/120","v":1.4666666666666666},{"$f":"'环工16-1分数统计'!J4*'环工16-1分数统计'!$J$3/120","v":3},{"$f":"'环工16-1分数统计'!K4*'环工16-1分数统计'!$K$3/120","v":2.25},{"$f":"'环工16-1分数统计'!L4*'环工16-1分数统计'!$L$3/120","v":1.5},{"$f":"'环工16-1分数统计'!M4*'环工16-1分数统计'!$M$3/120","v":1},{"$f":"'环工16-1分数统计'!N4*'环工16-1分数统计'!$N$3/120","v":2.933333333333333},{"$f":"'环工16-1分数统计'!O4*'环工16-1分数统计'!$O$3/120","v":0.6666666666666666},{"$f":"'环工16-1分数统计'!P4*'环工16-1分数统计'!$P$3/120","v":1.6458333333333333},{"$f":"'环工16-1分数统计'!Q4*'环工16-1分数统计'!$Q$3/120","v":0.7166666666666667},{"$f":"'环工16-1分数统计'!R4*'环工16-1分数统计'!$R$3/120","v":1.575},{"$f":"'环工16-1分数统计'!S4*'环工16-1分数统计'!$S$3/120","v":2.5416666666666665},{"$f":"'环工16-1分数统计'!T4*'环工16-1分数统计'!$T$3/120","v":1.625},{"$f":"'环工16-1分数统计'!U4*'环工16-1分数统计'!$U$3/120","v":2.3},{"$f":"'环工16-1分数统计'!V4*'环工16-1分数统计'!$V$3/120","v":1.95},{"$f":"'环工16-1分数统计'!W4*'环工16-1分数统计'!$W$3/120","v":3.116666666666667},{"$f":"'环工16-1分数统计'!X4*'环工16-1分数统计'!$X$3/120","v":0.7083333333333334},{"$f":"'环工16-1分数统计'!Y4*'环工16-1分数统计'!$Y$3/120","v":1.4833333333333334},{"$f":"'环工16-1分数统计'!Z4*'环工16-1分数统计'!$Z$3/120","v":0.55},{"$f":"'环工16-1分数统计'!AA4*'环工16-1分数统计'!$AA$3/120","v":1.525},{"$f":"'环工16-1分数统计'!AB4*'环工16-1分数统计'!$AB$3/120","v":1.1666666666666667},{"$f":"'环工16-1分数统计'!AC4*'环工16-1分数统计'!$AC$3/120","v":1.3666666666666667},{"$f":"'环工16-1分数统计'!AD4*'环工16-1分数统计'!$AD$3/120","v":1.35},{"$f":"'环工16-1分数统计'!AE4*'环工16-1分数统计'!$AE$3/120","v":1.5583333333333336},{"$f":"'环工16-1分数统计'!AF4*'环工16-1分数统计'!$AF$3/120","v":0.7666666666666667},{"$f":"'环工16-1分数统计'!AG4*'环工16-1分数统计'!$AG$3/120","v":1.625},{"$f":"'环工16-1分数统计'!AH4*'环工16-1分数统计'!$AH$3/120","v":1.175},{"$f":"'环工16-1分数统计'!AI4*'环工16-1分数统计'!$AI$3/120","v":1.2666666666666666},{"$f":"'环工16-1分数统计'!AJ4*'环工16-1分数统计'!$AJ$3/120","v":0.6916666666666667},{"$f":"'环工16-1分数统计'!AK4*'环工16-1分数统计'!$AK$3/120","v":0.4666666666666667},{"$f":"'环工16-1分数统计'!AL4*'环工16-1分数统计'!$AL$3/120","v":1.2666666666666666},{"$f":"'环工16-1分数统计'!AM4*'环工16-1分数统计'!$AM$3/120","v":0.75},{"$f":"'环工16-1分数统计'!AN4*'环工16-1分数统计'!$AN$3/120","v":1.5},{"$f":"'环工16-1分数统计'!AO4*'环工16-1分数统计'!$AO$3/120","v":1.5},{"$f":"'环工16-1分数统计'!AP4*'环工16-1分数统计'!$AP$3/120","v":0.9375},{"$f":"'环工16-1分数统计'!AQ4*'环工16-1分数统计'!$AQ$3/120","v":0.65},{"$f":"'环工16-1分数统计'!AR4*'环工16-1分数统计'!$AR$3/120","v":1.3666666666666667},{"$f":"'环工16-1分数统计'!AS4*'环工16-1分数统计'!$AS$3/120","v":1.4833333333333334},{"$f":"'环工16-1分数统计'!AT4*'环工16-1分数统计'!$AT$3/120","v":1.6500000000000001},{"$f":"'环工16-1分数统计'!AU4*'环工16-1分数统计'!$AU$3/120","v":0.7166666666666667},{"$f":"'环工16-1分数统计'!AV4*'环工16-1分数统计'!$AV$3/120","v":1.0166666666666666},{"$f":"'环工16-1分数统计'!AW4*'环工16-1分数统计'!$AW$3/120","v":0.5},{"$f":"'环工16-1分数统计'!AX4*'环工16-1分数统计'!$AX$3/120","v":0.4666666666666667},{"$f":"'环工16-1分数统计'!AY4*'环工16-1分数统计'!$AY$3/120","v":1.1166666666666667},{"$f":"'环工16-1分数统计'!AZ4*'环工16-1分数统计'!$AZ$3/120","v":0.7166666666666667},{"$f":"'环工16-1分数统计'!BA4*'环工16-1分数统计'!$BA$3/120","v":1},{"$f":"'环工16-1分数统计'!BB4*'环工16-1分数统计'!$BB$3/120","v":0.9375},{"$f":"'环工16-1分数统计'!BC4*'环工16-1分数统计'!$BC$3/120","v":1.525},{"$f":"'环工16-1分数统计'!BD4*'环工16-1分数统计'!$BD$3/120","v":0.8625},{"$f":"'环工16-1分数统计'!BE4*'环工16-1分数统计'!$BE$3/120","v":1},null,null,81.9647009329398,71.6693097125097,64.57319300699301,{"$f":"SUM(BD4:BF4)","v":218.2072036524425},{"$f":"BG4/$BG$8*100","v":63.11976982563819},{"$f":"0.2*BH4","v":12.623953965127638}]
[null,"程诗宇   ","2016010599          ",{"$f":"'环工16-1分数统计'!H5*'环工16-1分数统计'!$H$3/120","v":0.7083333333333334},{"$f":"'环工16-1分数统计'!I5*'环工16-1分数统计'!$I$3/120","v":1.5166666666666666},{"$f":"'环工16-1分数统计'!J5*'环工16-1分数统计'!$J$3/120","v":4.75},{"$f":"'环工16-1分数统计'!K5*'环工16-1分数统计'!$K$3/120","v":3.375},{"$f":"'环工16-1分数统计'!L5*'环工16-1分数统计'!$L$3/120","v":1.3666666666666667},{"$f":"'环工16-1分数统计'!M5*'环工16-1分数统计'!$M$3/120","v":1.2666666666666666},{"$f":"'环工16-1分数统计'!N5*'环工16-1分数统计'!$N$3/120","v":2.75},{"$f":"'环工16-1分数统计'!O5*'环工16-1分数统计'!$O$3/121","v":0.6446280991735537},{"$f":"'环工16-1分数统计'!P5*'环工16-1分数统计'!$P$3/120","v":1.9791666666666667},{"$f":"'环工16-1分数统计'!Q5*'环工16-1分数统计'!$Q$3/120","v":0.7833333333333333},{"$f":"'环工16-1分数统计'!R5*'环工16-1分数统计'!$R$3/120","v":2.025},{"$f":"'环工16-1分数统计'!S5*'环工16-1分数统计'!$S$3/120","v":3.9166666666666665},{"$f":"'环工16-1分数统计'!T5*'环工16-1分数统计'!$T$3/120","v":1.8125},{"$f":"'环工16-1分数统计'!U5*'环工16-1分数统计'!$U$3/120","v":2.9},{"$f":"'环工16-1分数统计'!V5*'环工16-1分数统计'!$V$3/120","v":2.2},{"$f":"'环工16-1分数统计'!W5*'环工16-1分数统计'!$W$3/120","v":2.97},{"$f":"'环工16-1分数统计'!X5*'环工16-1分数统计'!$X$3/120","v":0.775},{"$f":"'环工16-1分数统计'!Y5*'环工16-1分数统计'!$Y$3/120","v":1.4666666666666666},{"$f":"'环工16-1分数统计'!Z5*'环工16-1分数统计'!$Z$3/120","v":2.025},{"$f":"'环工16-1分数统计'!AA5*'环工16-1分数统计'!$AA$3/120","v":2.325},{"$f":"'环工16-1分数统计'!AB5*'环工16-1分数统计'!$AB$3/120","v":1.3},{"$f":"'环工16-1分数统计'!AC5*'环工16-1分数统计'!$AC$3/120","v":1.1166666666666667},{"$f":"'环工16-1分数统计'!AD5*'环工16-1分数统计'!$AD$3/120","v":1.3333333333333333},{"$f":"'环工16-1分数统计'!AE5*'环工16-1分数统计'!$AE$3/120","v":1.4116666666666666},{"$f":"'环工16-1分数统计'!AF5*'环工16-1分数统计'!$AF$3/120","v":0.7166666666666667},{"$f":"'环工16-1分数统计'!AG5*'环工16-1分数统计'!$AG$3/120","v":1.6666666666666667},{"$f":"'环工16-1分数统计'!AH5*'环工16-1分数统计'!$AH$3/120","v":2.05},{"$f":"'环工16-1分数统计'!AI5*'环工16-1分数统计'!$AI$3/120","v":1.5},{"$f":"'环工16-1分数统计'!AJ5*'环工16-1分数统计'!$AJ$3/120","v":0.7916666666666666},{"$f":"'环工16-1分数统计'!AK5*'环工16-1分数统计'!$AK$3/120","v":2.7333333333333334},{"$f":"'环工16-1分数统计'!AL5*'环工16-1分数统计'!$AL$3/120","v":1.4666666666666666},{"$f":"'环工16-1分数统计'!AM5*'环工16-1分数统计'!$AM$3/120","v":1.025},{"$f":"'环工16-1分数统计'!AN5*'环工16-1分数统计'!$AN$3/120","v":1.95},{"$f":"'环工16-1分数统计'!AO5*'环工16-1分数统计'!$AO$3/120","v":1.8},{"$f":"'环工16-1分数统计'!AP5*'环工16-1分数统计'!$AP$3/120","v":1.0375},{"$f":"'环工16-1分数统计'!AQ5*'环工16-1分数统计'!$AQ$3/120","v":2.025},{"$f":"'环工16-1分数统计'!AR5*'环工16-1分数统计'!$AR$3/120","v":1.4333333333333333},{"$f":"'环工16-1分数统计'!AS5*'环工16-1分数统计'!$AS$3/120","v":1.5},{"$f":"'环工16-1分数统计'!AT5*'环工16-1分数统计'!$AT$3/120","v":1.521666666666667},{"$f":"'环工16-1分数统计'!AU5*'环工16-1分数统计'!$AU$3/120","v":0.725},{"$f":"'环工16-1分数统计'!AV5*'环工16-1分数统计'!$AV$3/120","v":1.3833333333333333},{"$f":"'环工16-1分数统计'!AW5*'环工16-1分数统计'!$AW$3/120","v":0.6916666666666667},{"$f":"'环工16-1分数统计'!AX5*'环工16-1分数统计'!$AX$3/120","v":2.933333333333333},{"$f":"'环工16-1分数统计'!AY5*'环工16-1分数统计'!$AY$3/120","v":1.4333333333333333},{"$f":"'环工16-1分数统计'!AZ5*'环工16-1分数统计'!$AZ$3/120","v":1.6},{"$f":"'环工16-1分数统计'!BA5*'环工16-1分数统计'!$BA$3/120","v":1.5333333333333334},{"$f":"'环工16-1分数统计'!BB5*'环工16-1分数统计'!$BB$3/120","v":1.125},{"$f":"'环工16-1分数统计'!BC5*'环工16-1分数统计'!$BC$3/120","v":2.275},{"$f":"'环工16-1分数统计'!BD5*'环工16-1分数统计'!$BD$3/120","v":1.125},{"$f":"'环工16-1分数统计'!BE5*'环工16-1分数统计'!$BE$3/120","v":1.3333333333333333},null,null,93.6703106791668,95.0443602175602,102.97725570291777,{"$f":"SUM(BD5:BF5)","v":291.6919265996448},84.37634944578714,{"$f":"0.2*BH5","v":16.87526988915743}]
[null,"李异繁   ","2016010602          ",{"$f":"'环工16-1分数统计'!H6*'环工16-1分数统计'!$H$3/120","v":0.7333333333333333},{"$f":"'环工16-1分数统计'!I6*'环工16-1分数统计'!$I$3/120","v":1.5333333333333334},{"$f":"'环工16-1分数统计'!J6*'环工16-1分数统计'!$J$3/120","v":3.9},{"$f":"'环工16-1分数统计'!K6*'环工16-1分数统计'!$K$3/120","v":3.4125},{"$f":"'环工16-1分数统计'!L6*'环工16-1分数统计'!$L$3/120","v":1.4666666666666666},{"$f":"'环工16-1分数统计'!M6*'环工16-1分数统计'!$M$3/120","v":1.35},{"$f":"'环工16-1分数统计'!N6*'环工16-1分数统计'!$N$3/120","v":3.6799999999999997},{"$f":"'环工16-1分数统计'!O6*'环工16-1分数统计'!$O$3/121","v":0.6694214876033058},{"$f":"'环工16-1分数统计'!P6*'环工16-1分数统计'!$P$3/120","v":2},{"$f":"'环工16-1分数统计'!Q6*'环工16-1分数统计'!$Q$3/120","v":0.7833333333333333},{"$f":"'环工16-1分数统计'!R6*'环工16-1分数统计'!$R$3/120","v":2.15},{"$f":"'环工16-1分数统计'!S6*'环工16-1分数统计'!$S$3/120","v":3.75},{"$f":"'环工16-1分数统计'!T6*'环工16-1分数统计'!$T$3/120","v":2},{"$f":"'环工16-1分数统计'!U6*'环工16-1分数统计'!$U$3/120","v":3.1333333333333333},{"$f":"'环工16-1分数统计'!V6*'环工16-1分数统计'!$V$3/120","v":2.15},{"$f":"'环工16-1分数统计'!W6*'环工16-1分数统计'!$W$3/120","v":3.5649999999999995},{"$f":"'环工16-1分数统计'!X6*'环工16-1分数统计'!$X$3/120","v":0.8166666666666667},{"$f":"'环工16-1分数统计'!Y6*'环工16-1分数统计'!$Y$3/120","v":1.5},{"$f":"'环工16-1分数统计'!Z6*'环工16-1分数统计'!$Z$3/120","v":2.025},{"$f":"'环工16-1分数统计'!AA6*'环工16-1分数统计'!$AA$3/120","v":2.125},{"$f":"'环工16-1分数统计'!AB6*'环工16-1分数统计'!$AB$3/120","v":1.4666666666666666},{"$f":"'环工16-1分数统计'!AC6*'环工16-1分数统计'!$AC$3/120","v":1.3666666666666667},{"$f":"'环工16-1分数统计'!AD6*'环工16-1分数统计'!$AD$3/120","v":1.3333333333333333},{"$f":"'环工16-1分数统计'!AE6*'环工16-1分数统计'!$AE$3/120","v":1.7824999999999998},{"$f":"'环工16-1分数统计'!AF6*'环工16-1分数统计'!$AF$3/120","v":0.8083333333333333},{"$f":"'环工16-1分数统计'!AG6*'环工16-1分数统计'!$AG$3/120","v":1.75},{"$f":"'环工16-1分数统计'!AH6*'环工16-1分数统计'!$AH$3/120","v":2.35},{"$f":"'环工16-1分数统计'!AI6*'环工16-1分数统计'!$AI$3/120","v":1.5166666666666666},{"$f":"'环工16-1分数统计'!AJ6*'环工16-1分数统计'!$AJ$3/120","v":0.7666666666666667},{"$f":"'环工16-1分数统计'!AK6*'环工16-1分数统计'!$AK$3/120","v":2.7666666666666666},{"$f":"'环工16-1分数统计'!AL6*'环工16-1分数统计'!$AL$3/120","v":1.5333333333333334},{"$f":"'环工16-1分数统计'!AM6*'环工16-1分数统计'!$AM$3/120","v":1.125},{"$f":"'环工16-1分数统计'!AN6*'环工16-1分数统计'!$AN$3/120","v":2.25},{"$f":"'环工16-1分数统计'!AO6*'环工16-1分数统计'!$AO$3/120","v":1.95},{"$f":"'环工16-1分数统计'!AP6*'环工16-1分数统计'!$AP$3/120","v":1.1125},{"$f":"'环工16-1分数统计'!AQ6*'环工16-1分数统计'!$AQ$3/120","v":2.4},{"$f":"'环工16-1分数统计'!AR6*'环工16-1分数统计'!$AR$3/120","v":1.5166666666666666},{"$f":"'环工16-1分数统计'!AS6*'环工16-1分数统计'!$AS$3/120","v":1.5333333333333334},{"$f":"'环工16-1分数统计'!AT6*'环工16-1分数统计'!$AT$3/120","v":1.7249999999999999},{"$f":"'环工16-1分数统计'!AU6*'环工16-1分数统计'!$AU$3/120","v":0.775},{"$f":"'环工16-1分数统计'!AV6*'环工16-1分数统计'!$AV$3/120","v":1.55},{"$f":"'环工16-1分数统计'!AW6*'环工16-1分数统计'!$AW$3/120","v":0.7666666666666667},{"$f":"'环工16-1分数统计'!AX6*'环工16-1分数统计'!$AX$3/120","v":3.2333333333333334},{"$f":"'环工16-1分数统计'!AY6*'环工16-1分数统计'!$AY$3/120","v":1.5833333333333333},{"$f":"'环工16-1分数统计'!AZ6*'环工16-1分数统计'!$AZ$3/120","v":1.6333333333333333},{"$f":"'环工16-1分数统计'!BA6*'环工16-1分数统计'!$BA$3/120","v":1.6333333333333333},{"$f":"'环工16-1分数统计'!BB6*'环工16-1分数统计'!$BB$3/120","v":1.125},{"$f":"'环工16-1分数统计'!BC6*'环工16-1分数统计'!$BC$3/120","v":2.475},{"$f":"'环工16-1分数统计'!BD6*'环工16-1分数统计'!$BD$3/120","v":1.1625},{"$f":"'环工16-1分数统计'!BE6*'环工16-1分数统计'!$BE$3/120","v":1.4833333333333334},null,null,99.1933173128302,102.292881429681,119.85435915119362,321.34055789370484,92.95266934541358,18.590533869082716]
[null,"刘涵钰   ","2016010603          ",{"$f":"'环工16-1分数统计'!H7*'环工16-1分数统计'!$H$3/120","v":0.6583333333333333},{"$f":"'环工16-1分数统计'!I7*'环工16-1分数统计'!$I$3/120","v":1.5166666666666666},{"$f":"'环工16-1分数统计'!J7*'环工16-1分数统计'!$J$3/120","v":3.85},{"$f":"'环工16-1分数统计'!K7*'环工16-1分数统计'!$K$3/120","v":3.3},{"$f":"'环工16-1分数统计'!L7*'环工16-1分数统计'!$L$3/120","v":1.5166666666666666},{"$f":"'环工16-1分数统计'!M7*'环工16-1分数统计'!$M$3/120","v":1.2833333333333334},{"$f":"'环工16-1分数统计'!N7*'环工16-1分数统计'!$N$3/120","v":2.97},{"$f":"'环工16-1分数统计'!O7*'环工16-1分数统计'!$O$3/121","v":0.5950413223140496},{"$f":"'环工16-1分数统计'!P7*'环工16-1分数统计'!$P$3/120","v":1.8333333333333333},{"$f":"'环工16-1分数统计'!Q7*'环工16-1分数统计'!$Q$3/120","v":0.7666666666666667},{"$f":"'环工16-1分数统计'!R7*'环工16-1分数统计'!$R$3/120","v":2.025},{"$f":"'环工16-1分数统计'!S7*'环工16-1分数统计'!$S$3/120","v":3.9166666666666665},{"$f":"'环工16-1分数统计'!T7*'环工16-1分数统计'!$T$3/120","v":1.8333333333333333},{"$f":"'环工16-1分数统计'!U7*'环工16-1分数统计'!$U$3/120","v":2.8666666666666667},{"$f":"'环工16-1分数统计'!V7*'环工16-1分数统计'!$V$3/120","v":2.225},{"$f":"'环工16-1分数统计'!W7*'环工16-1分数统计'!$W$3/120","v":2.97},{"$f":"'环工16-1分数统计'!X7*'环工16-1分数统计'!$X$3/120","v":0.725},{"$f":"'环工16-1分数统计'!Y7*'环工16-1分数统计'!$Y$3/120","v":1.5},{"$f":"'环工16-1分数统计'!Z7*'环工16-1分数统计'!$Z$3/120","v":1.675},{"$f":"'环工16-1分数统计'!AA7*'环工16-1分数统计'!$AA$3/120","v":2.275},{"$f":"'环工16-1分数统计'!AB7*'环工16-1分数统计'!$AB$3/120","v":1.4},{"$f":"'环工16-1分数统计'!AC7*'环工16-1分数统计'!$AC$3/120","v":1.3666666666666667},{"$f":"'环工16-1分数统计'!AD7*'环工16-1分数统计'!$AD$3/120","v":1.3333333333333333},{"$f":"'环工16-1分数统计'!AE7*'环工16-1分数统计'!$AE$3/120","v":1.4116666666666666},{"$f":"'环工16-1分数统计'!AF7*'环工16-1分数统计'!$AF$3/120","v":0.6666666666666666},{"$f":"'环工16-1分数统计'!AG7*'环工16-1分数统计'!$AG$3/120","v":1.7291666666666667},{"$f":"'环工16-1分数统计'!AH7*'环工16-1分数统计'!$AH$3/120","v":2.075},{"$f":"'环工16-1分数统计'!AI7*'环工16-1分数统计'!$AI$3/120","v":1.45},{"$f":"'环工16-1分数统计'!AJ7*'环工16-1分数统计'!$AJ$3/120","v":0.7666666666666667},{"$f":"'环工16-1分数统计'!AK7*'环工16-1分数统计'!$AK$3/120","v":2.433333333333333},{"$f":"'环工16-1分数统计'!AL7*'环工16-1分数统计'!$AL$3/120","v":1.4666666666666666},{"$f":"'环工16-1分数统计'!AM7*'环工16-1分数统计'!$AM$3/120","v":1.0375},{"$f":"'环工16-1分数统计'!AN7*'环工16-1分数统计'!$AN$3/120","v":2.075},{"$f":"'环工16-1分数统计'!AO7*'环工16-1分数统计'!$AO$3/120","v":1.9},{"$f":"'环工16-1分数统计'!AP7*'环工16-1分数统计'!$AP$3/120","v":1.0875},{"$f":"'环工16-1分数统计'!AQ7*'环工16-1分数统计'!$AQ$3/120","v":2.15},{"$f":"'环工16-1分数统计'!AR7*'环工16-1分数统计'!$AR$3/120","v":1.45},{"$f":"'环工16-1分数统计'!AS7*'环工16-1分数统计'!$AS$3/120","v":1.55},{"$f":"'环工16-1分数统计'!AT7*'环工16-1分数统计'!$AT$3/120","v":1.375},{"$f":"'环工16-1分数统计'!AU7*'环工16-1分数统计'!$AU$3/120","v":0.6833333333333333},{"$f":"'环工16-1分数统计'!AV7*'环工16-1分数统计'!$AV$3/120","v":1.35},{"$f":"'环工16-1分数统计'!AW7*'环工16-1分数统计'!$AW$3/120","v":0.7333333333333333},{"$f":"'环工16-1分数统计'!AX7*'环工16-1分数统计'!$AX$3/120","v":3.1},{"$f":"'环工16-1分数统计'!AY7*'环工16-1分数统计'!$AY$3/120","v":1.45},{"$f":"'环工16-1分数统计'!AZ7*'环工16-1分数统计'!$AZ$3/120","v":1.5},{"$f":"'环工16-1分数统计'!BA7*'环工16-1分数统计'!$BA$3/120","v":1.5},{"$f":"'环工16-1分数统计'!BB7*'环工16-1分数统计'!$BB$3/120","v":1.125},{"$f":"'环工16-1分数统计'!BC7*'环工16-1分数统计'!$BC$3/120","v":2.3},{"$f":"'环工16-1分数统计'!BD7*'环工16-1分数统计'!$BD$3/120","v":1.1},{"$f":"'环工16-1分数统计'!BE7*'环工16-1分数统计'!$BE$3/120","v":1.45},null,null,90.9492381049094,90.2221258741258,96.55614771626593,277.72751169530113,80.33692893281538,16.067385786563076]
[null,"刘雅  ","2016010604          ",{"$f":"'环工16-1分数统计'!H8*'环工16-1分数统计'!$H$3/120","v":0.675},{"$f":"'环工16-1分数统计'!I8*'环工16-1分数统计'!$I$3/120","v":1.4666666666666666},{"$f":"'环工16-1分数统计'!J8*'环工16-1分数统计'!$J$3/120","v":4.9},{"$f":"'环工16-1分数统计'!K8*'环工16-1分数统计'!$K$3/120","v":3.4875},{"$f":"'环工16-1分数统计'!L8*'环工16-1分数统计'!$L$3/120","v":1.5},{"$f":"'环工16-1分数统计'!M8*'环工16-1分数统计'!$M$3/120","v":1.3333333333333333},{"$f":"'环工16-1分数统计'!N8*'环工16-1分数统计'!$N$3/120","v":3.4},{"$f":"'环工16-1分数统计'!O8*'环工16-1分数统计'!$O$3/121","v":0.6859504132231405},{"$f":"'环工16-1分数统计'!P8*'环工16-1分数统计'!$P$3/120","v":2},{"$f":"'环工16-1分数统计'!Q8*'环工16-1分数统计'!$Q$3/120","v":0.7},{"$f":"'环工16-1分数统计'!R8*'环工16-1分数统计'!$R$3/120","v":2.1},{"$f":"'环工16-1分数统计'!S8*'环工16-1分数统计'!$S$3/120","v":4.166666666666667},{"$f":"'环工16-1分数统计'!T8*'环工16-1分数统计'!$T$3/120","v":1.9583333333333333},{"$f":"'环工16-1分数统计'!U8*'环工16-1分数统计'!$U$3/120","v":3.1333333333333333},{"$f":"'环工16-1分数统计'!V8*'环工16-1分数统计'!$V$3/120","v":2.4},{"$f":"'环工16-1分数统计'!W8*'环工16-1分数统计'!$W$3/120","v":3.36},{"$f":"'环工16-1分数统计'!X8*'环工16-1分数统计'!$X$3/120","v":0.75},{"$f":"'环工16-1分数统计'!Y8*'环工16-1分数统计'!$Y$3/120","v":1.5},{"$f":"'环工16-1分数统计'!Z8*'环工16-1分数统计'!$Z$3/120","v":2.375},{"$f":"'环工16-1分数统计'!AA8*'环工16-1分数统计'!$AA$3/120","v":2.475},{"$f":"'环工16-1分数统计'!AB8*'环工16-1分数统计'!$AB$3/120","v":1.5333333333333334},{"$f":"'环工16-1分数统计'!AC8*'环工16-1分数统计'!$AC$3/120","v":1.45},{"$f":"'环工16-1分数统计'!AD8*'环工16-1分数统计'!$AD$3/120","v":1.4833333333333334},{"$f":"'环工16-1分数统计'!AE8*'环工16-1分数统计'!$AE$3/120","v":1.7},{"$f":"'环工16-1分数统计'!AF8*'环工16-1分数统计'!$AF$3/120","v":0.675},{"$f":"'环工16-1分数统计'!AG8*'环工16-1分数统计'!$AG$3/120","v":1.9166666666666667},{"$f":"'环工16-1分数统计'!AH8*'环工16-1分数统计'!$AH$3/120","v":2.45},{"$f":"'环工16-1分数统计'!AI8*'环工16-1分数统计'!$AI$3/120","v":1.5166666666666666},{"$f":"'环工16-1分数统计'!AJ8*'环工16-1分数统计'!$AJ$3/120","v":0.7583333333333333},{"$f":"'环工16-1分数统计'!AK8*'环工16-1分数统计'!$AK$3/120","v":2.9},{"$f":"'环工16-1分数统计'!AL8*'环工16-1分数统计'!$AL$3/120","v":1.5166666666666666},{"$f":"'环工16-1分数统计'!AM8*'环工16-1分数统计'!$AM$3/120","v":1.175},{"$f":"'环工16-1分数统计'!AN8*'环工16-1分数统计'!$AN$3/120","v":2.4},{"$f":"'环工16-1分数统计'!AO8*'环工16-1分数统计'!$AO$3/120","v":2.25},{"$f":"'环工16-1分数统计'!AP8*'环工16-1分数统计'!$AP$3/120","v":1.1125},{"$f":"'环工16-1分数统计'!AQ8*'环工16-1分数统计'!$AQ$3/120","v":2.4},{"$f":"'环工16-1分数统计'!AR8*'环工16-1分数统计'!$AR$3/120","v":1.4833333333333334},{"$f":"'环工16-1分数统计'!AS8*'环工16-1分数统计'!$AS$3/120","v":1.55},{"$f":"'环工16-1分数统计'!AT8*'环工16-1分数统计'!$AT$3/120","v":1.5524999999999998},{"$f":"'环工16-1分数统计'!AU8*'环工16-1分数统计'!$AU$3/120","v":0.7416666666666667},{"$f":"'环工16-1分数统计'!AV8*'环工16-1分数统计'!$AV$3/120","v":1.5166666666666666},{"$f":"'环工16-1分数统计'!AW8*'环工16-1分数统计'!$AW$3/120","v":0.7166666666666667},{"$f":"'环工16-1分数统计'!AX8*'环工16-1分数统计'!$AX$3/120","v":3.1666666666666665},{"$f":"'环工16-1分数统计'!AY8*'环工16-1分数统计'!$AY$3/120","v":1.5666666666666667},{"$f":"'环工16-1分数统计'!AZ8*'环工16-1分数统计'!$AZ$3/120","v":1.6166666666666667},{"$f":"'环工16-1分数统计'!BA8*'环工16-1分数统计'!$BA$3/120","v":1.6166666666666667},{"$f":"'环工16-1分数统计'!BB8*'环工16-1分数统计'!$BB$3/120","v":1.125},{"$f":"'环工16-1分数统计'!BC8*'环工16-1分数统计'!$BC$3/120","v":2.475},{"$f":"'环工16-1分数统计'!BD8*'环工16-1分数统计'!$BD$3/120","v":1.1125},{"$f":"'环工16-1分数统计'!BE8*'环工16-1分数统计'!$BE$3/120","v":1.5833333333333333},null,null,99.3886572468236,117.401859207459,128.91290460573907,345.7034210600217,{"$f":"BG8/$BG$8*100","v":100},20]
[null,"马晓红   ","2016010605          ",{"$f":"'环工16-1分数统计'!H9*'环工16-1分数统计'!$H$3/120","v":0.6416666666666667},{"$f":"'环工16-1分数统计'!I9*'环工16-1分数统计'!$I$3/120","v":1.45},{"$f":"'环工16-1分数统计'!J9*'环工16-1分数统计'!$J$3/120","v":3.45},{"$f":"'环工16-1分数统计'!K9*'环工16-1分数统计'!$K$3/120","v":2.475},{"$f":"'环工16-1分数统计'!L9*'环工16-1分数统计'!$L$3/120","v":1.3333333333333333},{"$f":"'环工16-1分数统计'!M9*'环工16-1分数统计'!$M$3/120","v":1.2166666666666666},{"$f":"'环工16-1分数统计'!N9*'环工16-1分数统计'!$N$3/120","v":2.2},{"$f":"'环工16-1分数统计'!O9*'环工16-1分数统计'!$O$3/121","v":0.6363636363636364},{"$f":"'环工16-1分数统计'!P9*'环工16-1分数统计'!$P$3/120","v":1.4166666666666667},{"$f":"'环工16-1分数统计'!Q9*'环工16-1分数统计'!$Q$3/120","v":0.5916666666666667},{"$f":"'环工16-1分数统计'!R9*'环工16-1分数统计'!$R$3/120","v":1.5},{"$f":"'环工16-1分数统计'!S9*'环工16-1分数统计'!$S$3/120","v":2.5},{"$f":"'环工16-1分数统计'!T9*'环工16-1分数统计'!$T$3/120","v":1.625},{"$f":"'环工16-1分数统计'!U9*'环工16-1分数统计'!$U$3/120","v":2.3},{"$f":"'环工16-1分数统计'!V9*'环工16-1分数统计'!$V$3/120","v":1.5},{"$f":"'环工16-1分数统计'!W9*'环工16-1分数统计'!$W$3/120","v":2.7133333333333334},{"$f":"'环工16-1分数统计'!X9*'环工16-1分数统计'!$X$3/120","v":0.675},{"$f":"'环工16-1分数统计'!Y9*'环工16-1分数统计'!$Y$3/120","v":1.5333333333333334},{"$f":"'环工16-1分数统计'!Z9*'环工16-1分数统计'!$Z$3/120","v":1.525},{"$f":"'环工16-1分数统计'!AA9*'环工16-1分数统计'!$AA$3/120","v":1.525},{"$f":"'环工16-1分数统计'!AB9*'环工16-1分数统计'!$AB$3/120","v":1.0666666666666667},{"$f":"'环工16-1分数统计'!AC9*'环工16-1分数统计'!$AC$3/120","v":1.1666666666666667},{"$f":"'环工16-1分数统计'!AD9*'环工16-1分数统计'!$AD$3/120","v":1.2},{"$f":"'环工16-1分数统计'!AE9*'环工16-1分数统计'!$AE$3/120","v":1.3383333333333336},{"$f":"'环工16-1分数统计'!AF9*'环工16-1分数统计'!$AF$3/120","v":0.7166666666666667},{"$f":"'环工16-1分数统计'!AG9*'环工16-1分数统计'!$AG$3/120","v":1.5833333333333333},{"$f":"'环工16-1分数统计'!AH9*'环工16-1分数统计'!$AH$3/120","v":1.775},{"$f":"'环工16-1分数统计'!AI9*'环工16-1分数统计'!$AI$3/120","v":1.3333333333333333},{"$f":"'环工16-1分数统计'!AJ9*'环工16-1分数统计'!$AJ$3/120","v":0.75},{"$f":"'环工16-1分数统计'!AK9*'环工16-1分数统计'!$AK$3/120","v":2.1},{"$f":"'环工16-1分数统计'!AL9*'环工16-1分数统计'!$AL$3/120","v":1.2166666666666666},{"$f":"'环工16-1分数统计'!AM9*'环工16-1分数统计'!$AM$3/120","v":0.75},{"$f":"'环工16-1分数统计'!AN9*'环工16-1分数统计'!$AN$3/120","v":1.525},{"$f":"'环工16-1分数统计'!AO9*'环工16-1分数统计'!$AO$3/120","v":1.725},{"$f":"'环工16-1分数统计'!AP9*'环工16-1分数统计'!$AP$3/120","v":1.075},{"$f":"'环工16-1分数统计'!AQ9*'环工16-1分数统计'!$AQ$3/120","v":1.65},{"$f":"'环工16-1分数统计'!AR9*'环工16-1分数统计'!$AR$3/120","v":1.4166666666666667},{"$f":"'环工16-1分数统计'!AS9*'环工16-1分数统计'!$AS$3/120","v":1.45},{"$f":"'环工16-1分数统计'!AT9*'环工16-1分数统计'!$AT$3/120","v":1.2833333333333334},{"$f":"'环工16-1分数统计'!AU9*'环工16-1分数统计'!$AU$3/120","v":0.6916666666666667},{"$f":"'环工16-1分数统计'!AV9*'环工16-1分数统计'!$AV$3/120","v":1.3666666666666667},{"$f":"'环工16-1分数统计'!AW9*'环工16-1分数统计'!$AW$3/120","v":0.6166666666666667},{"$f":"'环工16-1分数统计'!AX9*'环工16-1分数统计'!$AX$3/120","v":2.3333333333333335},{"$f":"'环工16-1分数统计'!AY9*'环工16-1分数统计'!$AY$3/120","v":1.2333333333333334},{"$f":"'环工16-1分数统计'!AZ9*'环工16-1分数统计'!$AZ$3/120","v":1.3666666666666667},{"$f":"'环工16-1分数统计'!BA9*'环工16-1分数统计'!$BA$3/120","v":1.25},{"$f":"'环工16-1分数统计'!BB9*'环工16-1分数统计'!$BB$3/120","v":1.0625},{"$f":"'环工16-1分数统计'!BC9*'环工16-1分数统计'!$BC$3/120","v":2.15},{"$f":"'环工16-1分数统计'!BD9*'环工16-1分数统计'!$BD$3/120","v":1.0625},{"$f":"'环工16-1分数统计'!BE9*'环工16-1分数统计'!$BE$3/120","v":1.1666666666666667},null,null,79.6107529563945,80.311129025641,83.06909164858129,242.9909736306168,{"$f":"BG9/$BG$8*100","v":70.28885421079713},14.057770842159426]
[null,"马一凡   ","2016010606          ",{"$f":"'环工16-1分数统计'!H10*'环工16-1分数统计'!$H$3/120","v":0.6833333333333333},{"$f":"'环工16-1分数统计'!I10*'环工16-1分数统计'!$I$3/120","v":1.5},{"$f":"'环工16-1分数统计'!J10*'环工16-1分数统计'!$J$3/120","v":4.35},{"$f":"'环工16-1分数统计'!K10*'环工16-1分数统计'!$K$3/120","v":3.4125},{"$f":"'环工16-1分数统计'!L10*'环工16-1分数统计'!$L$3/120","v":1.4},{"$f":"'环工16-1分数统计'!M10*'环工16-1分数统计'!$M$3/120","v":1.2},{"$f":"'环工16-1分数统计'!N10*'环工16-1分数统计'!$N$3/120","v":3.4499999999999997},{"$f":"'环工16-1分数统计'!O10*'环工16-1分数统计'!$O$3/121","v":0.6363636363636364},{"$f":"'环工16-1分数统计'!P10*'环工16-1分数统计'!$P$3/120","v":1.875},{"$f":"'环工16-1分数统计'!Q10*'环工16-1分数统计'!$Q$3/120","v":0.6083333333333333},{"$f":"'环工16-1分数统计'!R10*'环工16-1分数统计'!$R$3/120","v":2.15},{"$f":"'环工16-1分数统计'!S10*'环工16-1分数统计'!$S$3/120","v":3.625},{"$f":"'环工16-1分数统计'!T10*'环工16-1分数统计'!$T$3/120","v":1.8125},{"$f":"'环工16-1分数统计'!U10*'环工16-1分数统计'!$U$3/120","v":3},{"$f":"'环工16-1分数统计'!V10*'环工16-1分数统计'!$V$3/120","v":2.2},{"$f":"'环工16-1分数统计'!W10*'环工16-1分数统计'!$W$3/120","v":3.258333333333333},{"$f":"'环工16-1分数统计'!X10*'环工16-1分数统计'!$X$3/120","v":0.7166666666666667},{"$f":"'环工16-1分数统计'!Y10*'环工16-1分数统计'!$Y$3/120","v":1.4666666666666666},{"$f":"'环工16-1分数统计'!Z10*'环工16-1分数统计'!$Z$3/120","v":1.5},{"$f":"'环工16-1分数统计'!AA10*'环工16-1分数统计'!$AA$3/120","v":2.15},{"$f":"'环工16-1分数统计'!AB10*'环工16-1分数统计'!$AB$3/120","v":1.1833333333333333},{"$f":"'环工16-1分数统计'!AC10*'环工16-1分数统计'!$AC$3/120","v":1.3},{"$f":"'环工16-1分数统计'!AD10*'环工16-1分数统计'!$AD$3/120","v":1.4166666666666667},{"$f":"'环工16-1分数统计'!AE10*'环工16-1分数统计'!$AE$3/120","v":1.6675},{"$f":"'环工16-1分数统计'!AF10*'环工16-1分数统计'!$AF$3/120","v":0.7416666666666667},{"$f":"'环工16-1分数统计'!AG10*'环工16-1分数统计'!$AG$3/120","v":1.6666666666666667},{"$f":"'环工16-1分数统计'!AH10*'环工16-1分数统计'!$AH$3/120","v":1.825},{"$f":"'环工16-1分数统计'!AI10*'环工16-1分数统计'!$AI$3/120","v":1.4},{"$f":"'环工16-1分数统计'!AJ10*'环工16-1分数统计'!$AJ$3/120","v":0.75},{"$f":"'环工16-1分数统计'!AK10*'环工16-1分数统计'!$AK$3/120","v":2.3333333333333335},{"$f":"'环工16-1分数统计'!AL10*'环工16-1分数统计'!$AL$3/120","v":1.2333333333333334},{"$f":"'环工16-1分数统计'!AM10*'环工16-1分数统计'!$AM$3/120","v":0.9625},{"$f":"'环工16-1分数统计'!AN10*'环工16-1分数统计'!$AN$3/120","v":1.65},{"$f":"'环工16-1分数统计'!AO10*'环工16-1分数统计'!$AO$3/120","v":1.975},{"$f":"'环工16-1分数统计'!AP10*'环工16-1分数统计'!$AP$3/120","v":1.0375},{"$f":"'环工16-1分数统计'!AQ10*'环工16-1分数统计'!$AQ$3/120","v":2.125},{"$f":"'环工16-1分数统计'!AR10*'环工16-1分数统计'!$AR$3/120","v":1.4666666666666666},{"$f":"'环工16-1分数统计'!AS10*'环工16-1分数统计'!$AS$3/120","v":1.4833333333333334},{"$f":"'环工16-1分数统计'!AT10*'环工16-1分数统计'!$AT$3/120","v":1.4183333333333332},{"$f":"'环工16-1分数统计'!AU10*'环工16-1分数统计'!$AU$3/120","v":0.75},{"$f":"'环工16-1分数统计'!AV10*'环工16-1分数统计'!$AV$3/120","v":1.5},{"$f":"'环工16-1分数统计'!AW10*'环工16-1分数统计'!$AW$3/120","v":0.6333333333333333},{"$f":"'环工16-1分数统计'!AX10*'环工16-1分数统计'!$AX$3/120","v":2.6333333333333333},{"$f":"'环工16-1分数统计'!AY10*'环工16-1分数统计'!$AY$3/120","v":1.3666666666666667},{"$f":"'环工16-1分数统计'!AZ10*'环工16-1分数统计'!$AZ$3/120","v":1.35},{"$f":"'环工16-1分数统计'!BA10*'环工16-1分数统计'!$BA$3/120","v":1.6333333333333333},{"$f":"'环工16-1分数统计'!BB10*'环工16-1分数统计'!$BB$3/120","v":1.0875},{"$f":"'环工16-1分数统计'!BC10*'环工16-1分数统计'!$BC$3/120","v":2.075},{"$f":"'环工16-1分数统计'!BD10*'环工16-1分数统计'!$BD$3/120","v":0.95},{"$f":"'环工16-1分数统计'!BE10*'环工16-1分数统计'!$BE$3/120","v":1.2666666666666666},null,null,92.1510598870876,90.7747359751359,106.23491087533158,289.1607067375551,83.64415540086611,16.728831080173222]
[null,"齐泽丰   ","2016010607          ",{"$f":"'环工16-1分数统计'!H11*'环工16-1分数统计'!$H$3/120","v":0.7},{"$f":"'环工16-1分数统计'!I11*'环工16-1分数统计'!$I$3/120","v":1.5833333333333333},{"$f":"'环工16-1分数统计'!J11*'环工16-1分数统计'!$J$3/120","v":4.1},{"$f":"'环工16-1分数统计'!K11*'环工16-1分数统计'!$K$3/120","v":2.925},{"$f":"'环工16-1分数统计'!L11*'环工16-1分数统计'!$L$3/120","v":1.3666666666666667},{"$f":"'环工16-1分数统计'!M11*'环工16-1分数统计'!$M$3/120","v":1.4666666666666666},{"$f":"'环工16-1分数统计'!N11*'环工16-1分数统计'!$N$3/120","v":3.08},{"$f":"'环工16-1分数统计'!O11*'环工16-1分数统计'!$O$3/121","v":0.7355371900826446},{"$f":"'环工16-1分数统计'!P11*'环工16-1分数统计'!$P$3/120","v":1.8958333333333333},{"$f":"'环工16-1分数统计'!Q11*'环工16-1分数统计'!$Q$3/120","v":0.6833333333333333},{"$f":"'环工16-1分数统计'!R11*'环工16-1分数统计'!$R$3/120","v":1.775},{"$f":"'环工16-1分数统计'!S11*'环工16-1分数统计'!$S$3/120","v":3.7083333333333335},{"$f":"'环工16-1分数统计'!T11*'环工16-1分数统计'!$T$3/120","v":1.8958333333333333},{"$f":"'环工16-1分数统计'!U11*'环工16-1分数统计'!$U$3/120","v":2.7333333333333334},{"$f":"'环工16-1分数统计'!V11*'环工16-1分数统计'!$V$3/120","v":2.175},{"$f":"'环工16-1分数统计'!W11*'环工16-1分数统计'!$W$3/120","v":3.3000000000000003},{"$f":"'环工16-1分数统计'!X11*'环工16-1分数统计'!$X$3/120","v":0.8},{"$f":"'环工16-1分数统计'!Y11*'环工16-1分数统计'!$Y$3/120","v":1.5666666666666667},{"$f":"'环工16-1分数统计'!Z11*'环工16-1分数统计'!$Z$3/120","v":1.6},{"$f":"'环工16-1分数统计'!AA11*'环工16-1分数统计'!$AA$3/120","v":1.925},{"$f":"'环工16-1分数统计'!AB11*'环工16-1分数统计'!$AB$3/120","v":1.3},{"$f":"'环工16-1分数统计'!AC11*'环工16-1分数统计'!$AC$3/120","v":1.5166666666666666},{"$f":"'环工16-1分数统计'!AD11*'环工16-1分数统计'!$AD$3/120","v":1.4333333333333333},{"$f":"'环工16-1分数统计'!AE11*'环工16-1分数统计'!$AE$3/120","v":1.595},{"$f":"'环工16-1分数统计'!AF11*'环工16-1分数统计'!$AF$3/120","v":0.7666666666666667},{"$f":"'环工16-1分数统计'!AG11*'环工16-1分数统计'!$AG$3/120","v":1.6666666666666667},{"$f":"'环工16-1分数统计'!AH11*'环工16-1分数统计'!$AH$3/120","v":1.9},{"$f":"'环工16-1分数统计'!AI11*'环工16-1分数统计'!$AI$3/120","v":1.45},{"$f":"'环工16-1分数统计'!AJ11*'环工16-1分数统计'!$AJ$3/120","v":0.775},{"$f":"'环工16-1分数统计'!AK11*'环工16-1分数统计'!$AK$3/120","v":2.3333333333333335},{"$f":"'环工16-1分数统计'!AL11*'环工16-1分数统计'!$AL$3/120","v":1.45},{"$f":"'环工16-1分数统计'!AM11*'环工16-1分数统计'!$AM$3/120","v":0.875},{"$f":"'环工16-1分数统计'!AN11*'环工16-1分数统计'!$AN$3/120","v":2.025},{"$f":"'环工16-1分数统计'!AO11*'环工16-1分数统计'!$AO$3/120","v":1.6},{"$f":"'环工16-1分数统计'!AP11*'环工16-1分数统计'!$AP$3/120","v":1.1},{"$f":"'环工16-1分数统计'!AQ11*'环工16-1分数统计'!$AQ$3/120","v":2.325},{"$f":"'环工16-1分数统计'!AR11*'环工16-1分数统计'!$AR$3/120","v":1.5},{"$f":"'环工16-1分数统计'!AS11*'环工16-1分数统计'!$AS$3/120","v":1.5},{"$f":"'环工16-1分数统计'!AT11*'环工16-1分数统计'!$AT$3/120","v":1.5033333333333334},{"$f":"'环工16-1分数统计'!AU11*'环工16-1分数统计'!$AU$3/120","v":0.7583333333333333},{"$f":"'环工16-1分数统计'!AV11*'环工16-1分数统计'!$AV$3/120","v":1.6333333333333333},{"$f":"'环工16-1分数统计'!AW11*'环工16-1分数统计'!$AW$3/120","v":0.7083333333333334},{"$f":"'环工16-1分数统计'!AX11*'环工16-1分数统计'!$AX$3/120","v":2.8333333333333335},{"$f":"'环工16-1分数统计'!AY11*'环工16-1分数统计'!$AY$3/120","v":1.5166666666666666},{"$f":"'环工16-1分数统计'!AZ11*'环工16-1分数统计'!$AZ$3/120","v":1.5833333333333333},{"$f":"'环工16-1分数统计'!BA11*'环工16-1分数统计'!$BA$3/120","v":1.65},{"$f":"'环工16-1分数统计'!BB11*'环工16-1分数统计'!$BB$3/120","v":1.1},{"$f":"'环工16-1分数统计'!BC11*'环工16-1分数统计'!$BC$3/120","v":2.275},{"$f":"'环工16-1分数统计'!BD11*'环工16-1分数统计'!$BD$3/120","v":1.1},{"$f":"'环工16-1分数统计'!BE11*'环工16-1分数统计'!$BE$3/120","v":1.4333333333333333},null,null,92.9438651346124,97.8766592074591,119.40926719717065,310.22979153924217,89.73871030491755,17.94774206098351]
[null,"任玥辉   ","2016010608          ",{"$f":"'环工16-1分数统计'!H12*'环工16-1分数统计'!$H$3/120","v":0.7333333333333333},{"$f":"'环工16-1分数统计'!I12*'环工16-1分数统计'!$I$3/120","v":1.5666666666666667},{"$f":"'环工16-1分数统计'!J12*'环工16-1分数统计'!$J$3/120","v":4.2},{"$f":"'环工16-1分数统计'!K12*'环工16-1分数统计'!$K$3/120","v":3},{"$f":"'环工16-1分数统计'!L12*'环工16-1分数统计'!$L$3/120","v":1.4333333333333333},{"$f":"'环工16-1分数统计'!M12*'环工16-1分数统计'!$M$3/120","v":1.45},{"$f":"'环工16-1分数统计'!N12*'环工16-1分数统计'!$N$3/120","v":2.933333333333333},{"$f":"'环工16-1分数统计'!O12*'环工16-1分数统计'!$O$3/121","v":0.6611570247933884},{"$f":"'环工16-1分数统计'!P12*'环工16-1分数统计'!$P$3/120","v":1.75},{"$f":"'环工16-1分数统计'!Q12*'环工16-1分数统计'!$Q$3/120","v":0.65},{"$f":"'环工16-1分数统计'!R12*'环工16-1分数统计'!$R$3/120","v":1.875},{"$f":"'环工16-1分数统计'!S12*'环工16-1分数统计'!$S$3/120","v":3.4166666666666665},{"$f":"'环工16-1分数统计'!T12*'环工16-1分数统计'!$T$3/120","v":1.8333333333333333},{"$f":"'环工16-1分数统计'!U12*'环工16-1分数统计'!$U$3/120","v":2.7},{"$f":"'环工16-1分数统计'!V12*'环工16-1分数统计'!$V$3/120","v":1.9},{"$f":"'环工16-1分数统计'!W12*'环工16-1分数统计'!$W$3/120","v":3.336666666666667},{"$f":"'环工16-1分数统计'!X12*'环工16-1分数统计'!$X$3/120","v":0.7333333333333333},{"$f":"'环工16-1分数统计'!Y12*'环工16-1分数统计'!$Y$3/120","v":1.5},{"$f":"'环工16-1分数统计'!Z12*'环工16-1分数统计'!$Z$3/120","v":1.6},{"$f":"'环工16-1分数统计'!AA12*'环工16-1分数统计'!$AA$3/120","v":2.125},{"$f":"'环工16-1分数统计'!AB12*'环工16-1分数统计'!$AB$3/120","v":1.2666666666666666},{"$f":"'环工16-1分数统计'!AC12*'环工16-1分数统计'!$AC$3/120","v":1.4333333333333333},{"$f":"'环工16-1分数统计'!AD12*'环工16-1分数统计'!$AD$3/120","v":1.45},{"$f":"'环工16-1分数统计'!AE12*'环工16-1分数统计'!$AE$3/120","v":1.595},{"$f":"'环工16-1分数统计'!AF12*'环工16-1分数统计'!$AF$3/120","v":0.7416666666666667},{"$f":"'环工16-1分数统计'!AG12*'环工16-1分数统计'!$AG$3/120","v":1.5625},{"$f":"'环工16-1分数统计'!AH12*'环工16-1分数统计'!$AH$3/120","v":2.05},{"$f":"'环工16-1分数统计'!AI12*'环工16-1分数统计'!$AI$3/120","v":1.4833333333333334},{"$f":"'环工16-1分数统计'!AJ12*'环工16-1分数统计'!$AJ$3/120","v":0.7666666666666667},{"$f":"'环工16-1分数统计'!AK12*'环工16-1分数统计'!$AK$3/120","v":2.5},{"$f":"'环工16-1分数统计'!AL12*'环工16-1分数统计'!$AL$3/120","v":1.4833333333333334},{"$f":"'环工16-1分数统计'!AM12*'环工16-1分数统计'!$AM$3/120","v":1.0625},{"$f":"'环工16-1分数统计'!AN12*'环工16-1分数统计'!$AN$3/120","v":2.275},{"$f":"'环工16-1分数统计'!AO12*'环工16-1分数统计'!$AO$3/120","v":2.125},{"$f":"'环工16-1分数统计'!AP12*'环工16-1分数统计'!$AP$3/120","v":1.125},{"$f":"'环工16-1分数统计'!AQ12*'环工16-1分数统计'!$AQ$3/120","v":2.325},{"$f":"'环工16-1分数统计'!AR12*'环工16-1分数统计'!$AR$3/120","v":1.4666666666666666},{"$f":"'环工16-1分数统计'!AS12*'环工16-1分数统计'!$AS$3/120","v":1.55},{"$f":"'环工16-1分数统计'!AT12*'环工16-1分数统计'!$AT$3/120","v":1.6316666666666668},{"$f":"'环工16-1分数统计'!AU12*'环工16-1分数统计'!$AU$3/120","v":0.6833333333333333},{"$f":"'环工16-1分数统计'!AV12*'环工16-1分数统计'!$AV$3/120","v":1.4833333333333334},{"$f":"'环工16-1分数统计'!AW12*'环工16-1分数统计'!$AW$3/120","v":0.675},{"$f":"'环工16-1分数统计'!AX12*'环工16-1分数统计'!$AX$3/120","v":2.3333333333333335},{"$f":"'环工16-1分数统计'!AY12*'环工16-1分数统计'!$AY$3/120","v":1.4666666666666666},{"$f":"'环工16-1分数统计'!AZ12*'环工16-1分数统计'!$AZ$3/120","v":1.4166666666666667},{"$f":"'环工16-1分数统计'!BA12*'环工16-1分数统计'!$BA$3/120","v":1.45},{"$f":"'环工16-1分数统计'!BB12*'环工16-1分数统计'!$BB$3/120","v":1.125},{"$f":"'环工16-1分数统计'!BC12*'环工16-1分数统计'!$BC$3/120","v":2.125},{"$f":"'环工16-1分数统计'!BD12*'环工16-1分数统计'!$BD$3/120","v":1.1375},{"$f":"'环工16-1分数统计'!BE12*'环工16-1分数统计'!$BE$3/120","v":1.3666666666666667},null,null,92.9265846395629,91.3254874902874,98.33694535809019,282.5890174879405,81.74319381088128,16.348638762176257]
[null,"唐钰琪   ","2016010609          ",{"$f":"'环工16-1分数统计'!H13*'环工16-1分数统计'!$H$3/120","v":0.6916666666666667},{"$f":"'环工16-1分数统计'!I13*'环工16-1分数统计'!$I$3/120","v":1.55},{"$f":"'环工16-1分数统计'!J13*'环工16-1分数统计'!$J$3/120","v":3.3},{"$f":"'环工16-1分数统计'!K13*'环工16-1分数统计'!$K$3/120","v":3},{"$f":"'环工16-1分数统计'!L13*'环工16-1分数统计'!$L$3/120","v":1.3666666666666667},{"$f":"'环工16-1分数统计'!M13*'环工16-1分数统计'!$M$3/120","v":1.3666666666666667},{"$f":"'环工16-1分数统计'!N13*'环工16-1分数统计'!$N$3/120","v":3.3000000000000003},{"$f":"'环工16-1分数统计'!O13*'环工16-1分数统计'!$O$3/121","v":0.7355371900826446},{"$f":"'环工16-1分数统计'!P13*'环工16-1分数统计'!$P$3/120","v":1.625},{"$f":"'环工16-1分数统计'!Q13*'环工16-1分数统计'!$Q$3/120","v":0.675},{"$f":"'环工16-1分数统计'!R13*'环工16-1分数统计'!$R$3/120","v":1.95},{"$f":"'环工16-1分数统计'!S13*'环工16-1分数统计'!$S$3/120","v":3.375},{"$f":"'环工16-1分数统计'!T13*'环工16-1分数统计'!$T$3/120","v":1.9166666666666667},{"$f":"'环工16-1分数统计'!U13*'环工16-1分数统计'!$U$3/120","v":2.2333333333333334},{"$f":"'环工16-1分数统计'!V13*'环工16-1分数统计'!$V$3/120","v":2.1},{"$f":"'环工16-1分数统计'!W13*'环工16-1分数统计'!$W$3/120","v":3.3733333333333335},{"$f":"'环工16-1分数统计'!X13*'环工16-1分数统计'!$X$3/120","v":0.7916666666666666},{"$f":"'环工16-1分数统计'!Y13*'环工16-1分数统计'!$Y$3/120","v":1.5333333333333334},{"$f":"'环工16-1分数统计'!Z13*'环工16-1分数统计'!$Z$3/120","v":2.05},{"$f":"'环工16-1分数统计'!AA13*'环工16-1分数统计'!$AA$3/120","v":2.1},{"$f":"'环工16-1分数统计'!AB13*'环工16-1分数统计'!$AB$3/120","v":1.2666666666666666},{"$f":"'环工16-1分数统计'!AC13*'环工16-1分数统计'!$AC$3/120","v":1.5333333333333334},{"$f":"'环工16-1分数统计'!AD13*'环工16-1分数统计'!$AD$3/120","v":1.45},{"$f":"'环工16-1分数统计'!AE13*'环工16-1分数统计'!$AE$3/120","v":1.6866666666666668},{"$f":"'环工16-1分数统计'!AF13*'环工16-1分数统计'!$AF$3/120","v":0.775},{"$f":"'环工16-1分数统计'!AG13*'环工16-1分数统计'!$AG$3/120","v":1.6041666666666667},{"$f":"'环工16-1分数统计'!AH13*'环工16-1分数统计'!$AH$3/120","v":2.15},{"$f":"'环工16-1分数统计'!AI13*'环工16-1分数统计'!$AI$3/120","v":1.45},{"$f":"'环工16-1分数统计'!AJ13*'环工16-1分数统计'!$AJ$3/120","v":0.7583333333333333},{"$f":"'环工16-1分数统计'!AK13*'环工16-1分数统计'!$AK$3/120","v":2.066666666666667},{"$f":"'环工16-1分数统计'!AL13*'环工16-1分数统计'!$AL$3/120","v":1.45},{"$f":"'环工16-1分数统计'!AM13*'环工16-1分数统计'!$AM$3/120","v":0.8375},{"$f":"'环工16-1分数统计'!AN13*'环工16-1分数统计'!$AN$3/120","v":2.25},{"$f":"'环工16-1分数统计'!AO13*'环工16-1分数统计'!$AO$3/120","v":1.65},{"$f":"'环工16-1分数统计'!AP13*'环工16-1分数统计'!$AP$3/120","v":1.1},{"$f":"'环工16-1分数统计'!AQ13*'环工16-1分数统计'!$AQ$3/120","v":1.825},{"$f":"'环工16-1分数统计'!AR13*'环工16-1分数统计'!$AR$3/120","v":1.4333333333333333},{"$f":"'环工16-1分数统计'!AS13*'环工16-1分数统计'!$AS$3/120","v":1.5},{"$f":"'环工16-1分数统计'!AT13*'环工16-1分数统计'!$AT$3/120","v":1.5583333333333336},{"$f":"'环工16-1分数统计'!AU13*'环工16-1分数统计'!$AU$3/120","v":0.75},{"$f":"'环工16-1分数统计'!AV13*'环工16-1分数统计'!$AV$3/120","v":1.5666666666666667},{"$f":"'环工16-1分数统计'!AW13*'环工16-1分数统计'!$AW$3/120","v":0.6833333333333333},{"$f":"'环工16-1分数统计'!AX13*'环工16-1分数统计'!$AX$3/120","v":2.566666666666667},{"$f":"'环工16-1分数统计'!AY13*'环工16-1分数统计'!$AY$3/120","v":1.6},{"$f":"'环工16-1分数统计'!AZ13*'环工16-1分数统计'!$AZ$3/120","v":1.5333333333333334},{"$f":"'环工16-1分数统计'!BA13*'环工16-1分数统计'!$BA$3/120","v":1.1666666666666667},{"$f":"'环工16-1分数统计'!BB13*'环工16-1分数统计'!$BB$3/120","v":1.1},{"$f":"'环工16-1分数统计'!BC13*'环工16-1分数统计'!$BC$3/120","v":2.1},{"$f":"'环工16-1分数统计'!BD13*'环工16-1分数统计'!$BD$3/120","v":1.1375},{"$f":"'环工16-1分数统计'!BE13*'环工16-1分数统计'!$BE$3/120","v":1.2666666666666666},null,null,92.9975449365926,94.0410066822066,100.01054120532785,287.04909282412706,83.03333879194938,16.606667758389875]
[null,"闫玺宇   ","2016010610          ",{"$f":"'环工16-1分数统计'!H14*'环工16-1分数统计'!$H$3/120","v":0.6},{"$f":"'环工16-1分数统计'!I14*'环工16-1分数统计'!$I$3/120","v":1.45},{"$f":"'环工16-1分数统计'!J14*'环工16-1分数统计'!$J$3/120","v":3.1},{"$f":"'环工16-1分数统计'!K14*'环工16-1分数统计'!$K$3/120","v":2.4375},{"$f":"'环工16-1分数统计'!L14*'环工16-1分数统计'!$L$3/120","v":1.4166666666666667},{"$f":"'环工16-1分数统计'!M14*'环工16-1分数统计'!$M$3/120","v":1.1},{"$f":"'环工16-1分数统计'!N14*'环工16-1分数统计'!$N$3/120","v":2.676666666666667},{"$f":"'环工16-1分数统计'!O14*'环工16-1分数统计'!$O$3/121","v":0.7355371900826446},{"$f":"'环工16-1分数统计'!P14*'环工16-1分数统计'!$P$3/120","v":1.3958333333333333},{"$f":"'环工16-1分数统计'!Q14*'环工16-1分数统计'!$Q$3/120","v":0.625},{"$f":"'环工16-1分数统计'!R14*'环工16-1分数统计'!$R$3/120","v":1.525},{"$f":"'环工16-1分数统计'!S14*'环工16-1分数统计'!$S$3/120","v":2.5},{"$f":"'环工16-1分数统计'!T14*'环工16-1分数统计'!$T$3/120","v":1.6041666666666667},{"$f":"'环工16-1分数统计'!U14*'环工16-1分数统计'!$U$3/120","v":2.1666666666666665},{"$f":"'环工16-1分数统计'!V14*'环工16-1分数统计'!$V$3/120","v":1.7},{"$f":"'环工16-1分数统计'!W14*'环工16-1分数统计'!$W$3/120","v":2.933333333333333},{"$f":"'环工16-1分数统计'!X14*'环工16-1分数统计'!$X$3/120","v":0.8},{"$f":"'环工16-1分数统计'!Y14*'环工16-1分数统计'!$Y$3/120","v":1.5},{"$f":"'环工16-1分数统计'!Z14*'环工16-1分数统计'!$Z$3/120","v":1.525},{"$f":"'环工16-1分数统计'!AA14*'环工16-1分数统计'!$AA$3/120","v":1.5},{"$f":"'环工16-1分数统计'!AB14*'环工16-1分数统计'!$AB$3/120","v":1.1166666666666667},{"$f":"'环工16-1分数统计'!AC14*'环工16-1分数统计'!$AC$3/120","v":1.3},{"$f":"'环工16-1分数统计'!AD14*'环工16-1分数统计'!$AD$3/120","v":1.2666666666666666},{"$f":"'环工16-1分数统计'!AE14*'环工16-1分数统计'!$AE$3/120","v":1.5033333333333334},{"$f":"'环工16-1分数统计'!AF14*'环工16-1分数统计'!$AF$3/120","v":0.75},{"$f":"'环工16-1分数统计'!AG14*'环工16-1分数统计'!$AG$3/120","v":1.7291666666666667},{"$f":"'环工16-1分数统计'!AH14*'环工16-1分数统计'!$AH$3/120","v":2.075},{"$f":"'环工16-1分数统计'!AI14*'环工16-1分数统计'!$AI$3/120","v":1.3333333333333333},{"$f":"'环工16-1分数统计'!AJ14*'环工16-1分数统计'!$AJ$3/120","v":0.7583333333333333},{"$f":"'环工16-1分数统计'!AK14*'环工16-1分数统计'!$AK$3/120","v":1.9},{"$f":"'环工16-1分数统计'!AL14*'环工16-1分数统计'!$AL$3/120","v":1.3833333333333333},{"$f":"'环工16-1分数统计'!AM14*'环工16-1分数统计'!$AM$3/120","v":0.75},{"$f":"'环工16-1分数统计'!AN14*'环工16-1分数统计'!$AN$3/120","v":2.05},{"$f":"'环工16-1分数统计'!AO14*'环工16-1分数统计'!$AO$3/120","v":2.35},{"$f":"'环工16-1分数统计'!AP14*'环工16-1分数统计'!$AP$3/120","v":1.075},{"$f":"'环工16-1分数统计'!AQ14*'环工16-1分数统计'!$AQ$3/120","v":1.5},{"$f":"'环工16-1分数统计'!AR14*'环工16-1分数统计'!$AR$3/120","v":1.4166666666666667},{"$f":"'环工16-1分数统计'!AS14*'环工16-1分数统计'!$AS$3/120","v":1.4333333333333333},{"$f":"'环工16-1分数统计'!AT14*'环工16-1分数统计'!$AT$3/120","v":1.32},{"$f":"'环工16-1分数统计'!AU14*'环工16-1分数统计'!$AU$3/120","v":0.7333333333333333},{"$f":"'环工16-1分数统计'!AV14*'环工16-1分数统计'!$AV$3/120","v":1.3333333333333333},{"$f":"'环工16-1分数统计'!AW14*'环工16-1分数统计'!$AW$3/120","v":0.5666666666666667},{"$f":"'环工16-1分数统计'!AX14*'环工16-1分数统计'!$AX$3/120","v":2},{"$f":"'环工16-1分数统计'!AY14*'环工16-1分数统计'!$AY$3/120","v":1.4166666666666667},{"$f":"'环工16-1分数统计'!AZ14*'环工16-1分数统计'!$AZ$3/120","v":1.1166666666666667},{"$f":"'环工16-1分数统计'!BA14*'环工16-1分数统计'!$BA$3/120","v":1.1833333333333333},{"$f":"'环工16-1分数统计'!BB14*'环工16-1分数统计'!$BB$3/120","v":1.0125},{"$f":"'环工16-1分数统计'!BC14*'环工16-1分数统计'!$BC$3/120","v":1.425},{"$f":"'环工16-1分数统计'!BD14*'环工16-1分数统计'!$BD$3/120","v":1.0625},{"$f":"'环工16-1分数统计'!BE14*'环工16-1分数统计'!$BE$3/120","v":1.1333333333333333},null,null,82.6514130224011,84.651742035742,80.2561020979021,247.5592571560452,71.61030006499804,14.322060012999609]
[null,"杨玉凤   ","2016010611          ",{"$f":"'环工16-1分数统计'!H15*'环工16-1分数统计'!$H$3/120","v":0.6916666666666667},{"$f":"'环工16-1分数统计'!I15*'环工16-1分数统计'!$I$3/120","v":1.5166666666666666},{"$f":"'环工16-1分数统计'!J15*'环工16-1分数统计'!$J$3/120","v":3},{"$f":"'环工16-1分数统计'!K15*'环工16-1分数统计'!$K$3/120","v":2.325},{"$f":"'环工16-1分数统计'!L15*'环工16-1分数统计'!$L$3/120","v":1.4666666666666666},{"$f":"'环工16-1分数统计'!M15*'环工16-1分数统计'!$M$3/120","v":1.2666666666666666},{"$f":"'环工16-1分数统计'!N15*'环工16-1分数统计'!$N$3/120","v":2.2733333333333334},{"$f":"'环工16-1分数统计'!O15*'环工16-1分数统计'!$O$3/121","v":0.6942148760330579},{"$f":"'环工16-1分数统计'!P15*'环工16-1分数统计'!$P$3/120","v":1.7291666666666667},{"$f":"'环工16-1分数统计'!Q15*'环工16-1分数统计'!$Q$3/120","v":0.5833333333333334},{"$f":"'环工16-1分数统计'!R15*'环工16-1分数统计'!$R$3/120","v":1.675},{"$f":"'环工16-1分数统计'!S15*'环工16-1分数统计'!$S$3/120","v":3.4583333333333335},{"$f":"'环工16-1分数统计'!T15*'环工16-1分数统计'!$T$3/120","v":1.7916666666666667},{"$f":"'环工16-1分数统计'!U15*'环工16-1分数统计'!$U$3/120","v":2.4},{"$f":"'环工16-1分数统计'!V15*'环工16-1分数统计'!$V$3/120","v":1.5},{"$f":"'环工16-1分数统计'!W15*'环工16-1分数统计'!$W$3/120","v":2.933333333333333},{"$f":"'环工16-1分数统计'!X15*'环工16-1分数统计'!$X$3/120","v":0.75},{"$f":"'环工16-1分数统计'!Y15*'环工16-1分数统计'!$Y$3/120","v":1.55},{"$f":"'环工16-1分数统计'!Z15*'环工16-1分数统计'!$Z$3/120","v":1.525},{"$f":"'环工16-1分数统计'!AA15*'环工16-1分数统计'!$AA$3/120","v":1.6},{"$f":"'环工16-1分数统计'!AB15*'环工16-1分数统计'!$AB$3/120","v":1.3166666666666667},{"$f":"'环工16-1分数统计'!AC15*'环工16-1分数统计'!$AC$3/120","v":1.3},{"$f":"'环工16-1分数统计'!AD15*'环工16-1分数统计'!$AD$3/120","v":1.2833333333333334},{"$f":"'环工16-1分数统计'!AE15*'环工16-1分数统计'!$AE$3/120","v":1.3566666666666667},{"$f":"'环工16-1分数统计'!AF15*'环工16-1分数统计'!$AF$3/120","v":0.7666666666666667},{"$f":"'环工16-1分数统计'!AG15*'环工16-1分数统计'!$AG$3/120","v":1.6458333333333333},{"$f":"'环工16-1分数统计'!AH15*'环工16-1分数统计'!$AH$3/120","v":1.7},{"$f":"'环工16-1分数统计'!AI15*'环工16-1分数统计'!$AI$3/120","v":1.4},{"$f":"'环工16-1分数统计'!AJ15*'环工16-1分数统计'!$AJ$3/120","v":0.725},{"$f":"'环工16-1分数统计'!AK15*'环工16-1分数统计'!$AK$3/120","v":2},{"$f":"'环工16-1分数统计'!AL15*'环工16-1分数统计'!$AL$3/120","v":1.4666666666666666},{"$f":"'环工16-1分数统计'!AM15*'环工16-1分数统计'!$AM$3/120","v":0.8},{"$f":"'环工16-1分数统计'!AN15*'环工16-1分数统计'!$AN$3/120","v":1.65},{"$f":"'环工16-1分数统计'!AO15*'环工16-1分数统计'!$AO$3/120","v":1.55},{"$f":"'环工16-1分数统计'!AP15*'环工16-1分数统计'!$AP$3/120","v":1.1},{"$f":"'环工16-1分数统计'!AQ15*'环工16-1分数统计'!$AQ$3/120","v":1.675},{"$f":"'环工16-1分数统计'!AR15*'环工16-1分数统计'!$AR$3/120","v":1.4},{"$f":"'环工16-1分数统计'!AS15*'环工16-1分数统计'!$AS$3/120","v":1.5166666666666666},{"$f":"'环工16-1分数统计'!AT15*'环工16-1分数统计'!$AT$3/120","v":1.2833333333333334},{"$f":"'环工16-1分数统计'!AU15*'环工16-1分数统计'!$AU$3/120","v":0.6416666666666667},{"$f":"'环工16-1分数统计'!AV15*'环工16-1分数统计'!$AV$3/120","v":1.3833333333333333},{"$f":"'环工16-1分数统计'!AW15*'环工16-1分数统计'!$AW$3/120","v":0.6333333333333333},{"$f":"'环工16-1分数统计'!AX15*'环工16-1分数统计'!$AX$3/120","v":1.8333333333333333},{"$f":"'环工16-1分数统计'!AY15*'环工16-1分数统计'!$AY$3/120","v":1.1333333333333333},{"$f":"'环工16-1分数统计'!AZ15*'环工16-1分数统计'!$AZ$3/120","v":1.4166666666666667},{"$f":"'环工16-1分数统计'!BA15*'环工16-1分数统计'!$BA$3/120","v":1.05},{"$f":"'环工16-1分数统计'!BB15*'环工16-1分数统计'!$BB$3/120","v":1.05},{"$f":"'环工16-1分数统计'!BC15*'环工16-1分数统计'!$BC$3/120","v":1.95},{"$f":"'环工16-1分数统计'!BD15*'环工16-1分数统计'!$BD$3/120","v":1.075},{"$f":"'环工16-1分数统计'!BE15*'环工16-1分数统计'!$BE$3/120","v":1.3},null,null,80.6392876098599,82.4147329175328,83.49705234665834,246.55107287405104,71.3186673473053,14.263733469461059]
[null,"游恋  ","2016010612          ",{"$f":"'环工16-1分数统计'!H16*'环工16-1分数统计'!$H$3/120","v":0.6416666666666667},{"$f":"'环工16-1分数统计'!I16*'环工16-1分数统计'!$I$3/120","v":1.45},{"$f":"'环工16-1分数统计'!J16*'环工16-1分数统计'!$J$3/120","v":4.2},{"$f":"'环工16-1分数统计'!K16*'环工16-1分数统计'!$K$3/120","v":3.4875},{"$f":"'环工16-1分数统计'!L16*'环工16-1分数统计'!$L$3/120","v":1.3833333333333333},{"$f":"'环工16-1分数统计'!M16*'环工16-1分数统计'!$M$3/120","v":1.3},{"$f":"'环工16-1分数统计'!N16*'环工16-1分数统计'!$N$3/120","v":2.1},{"$f":"'环工16-1分数统计'!O16*'环工16-1分数统计'!$O$3/121","v":0.7024793388429752},{"$f":"'环工16-1分数统计'!P16*'环工16-1分数统计'!$P$3/120","v":1.8125},{"$f":"'环工16-1分数统计'!Q16*'环工16-1分数统计'!$Q$3/120","v":0.7666666666666667},{"$f":"'环工16-1分数统计'!R16*'环工16-1分数统计'!$R$3/120","v":1.9},{"$f":"'环工16-1分数统计'!S16*'环工16-1分数统计'!$S$3/120","v":4.083333333333333},{"$f":"'环工16-1分数统计'!T16*'环工16-1分数统计'!$T$3/120","v":1.8958333333333333},{"$f":"'环工16-1分数统计'!U16*'环工16-1分数统计'!$U$3/120","v":3.033333333333333},{"$f":"'环工16-1分数统计'!V16*'环工16-1分数统计'!$V$3/120","v":2.375},{"$f":"'环工16-1分数统计'!W16*'环工16-1分数统计'!$W$3/120","v":2.033333333333333},{"$f":"'环工16-1分数统计'!X16*'环工16-1分数统计'!$X$3/120","v":0.775},{"$f":"'环工16-1分数统计'!Y16*'环工16-1分数统计'!$Y$3/120","v":1.55},{"$f":"'环工16-1分数统计'!Z16*'环工16-1分数统计'!$Z$3/120","v":2},{"$f":"'环工16-1分数统计'!AA16*'环工16-1分数统计'!$AA$3/120","v":2.275},{"$f":"'环工16-1分数统计'!AB16*'环工16-1分数统计'!$AB$3/120","v":1.4333333333333333},{"$f":"'环工16-1分数统计'!AC16*'环工16-1分数统计'!$AC$3/120","v":1.35},{"$f":"'环工16-1分数统计'!AD16*'环工16-1分数统计'!$AD$3/120","v":1.3166666666666667},{"$f":"'环工16-1分数统计'!AE16*'环工16-1分数统计'!$AE$3/120","v":1.2333333333333334},{"$f":"'环工16-1分数统计'!AF16*'环工16-1分数统计'!$AF$3/120","v":0.7583333333333333},{"$f":"'环工16-1分数统计'!AG16*'环工16-1分数统计'!$AG$3/120","v":1.6666666666666667},{"$f":"'环工16-1分数统计'!AH16*'环工16-1分数统计'!$AH$3/120","v":2.1},{"$f":"'环工16-1分数统计'!AI16*'环工16-1分数统计'!$AI$3/120","v":1.5},{"$f":"'环工16-1分数统计'!AJ16*'环工16-1分数统计'!$AJ$3/120","v":0.7333333333333333},{"$f":"'环工16-1分数统计'!AK16*'环工16-1分数统计'!$AK$3/120","v":2.8},{"$f":"'环工16-1分数统计'!AL16*'环工16-1分数统计'!$AL$3/120","v":1.4833333333333334},{"$f":"'环工16-1分数统计'!AM16*'环工16-1分数统计'!$AM$3/120","v":1.05},{"$f":"'环工16-1分数统计'!AN16*'环工16-1分数统计'!$AN$3/120","v":2.15},{"$f":"'环工16-1分数统计'!AO16*'环工16-1分数统计'!$AO$3/120","v":2.05},{"$f":"'环工16-1分数统计'!AP16*'环工16-1分数统计'!$AP$3/120","v":1.125},{"$f":"'环工16-1分数统计'!AQ16*'环工16-1分数统计'!$AQ$3/120","v":2.325},{"$f":"'环工16-1分数统计'!AR16*'环工16-1分数统计'!$AR$3/120","v":1.45},{"$f":"'环工16-1分数统计'!AS16*'环工16-1分数统计'!$AS$3/120","v":1.5},{"$f":"'环工16-1分数统计'!AT16*'环工16-1分数统计'!$AT$3/120","v":1.3333333333333333},{"$f":"'环工16-1分数统计'!AU16*'环工16-1分数统计'!$AU$3/120","v":0.7833333333333333},{"$f":"'环工16-1分数统计'!AV16*'环工16-1分数统计'!$AV$3/120","v":1.45},{"$f":"'环工16-1分数统计'!AW16*'环工16-1分数统计'!$AW$3/120","v":0.7083333333333334},{"$f":"'环工16-1分数统计'!AX16*'环工16-1分数统计'!$AX$3/120","v":3.033333333333333},{"$f":"'环工16-1分数统计'!AY16*'环工16-1分数统计'!$AY$3/120","v":1.4166666666666667},{"$f":"'环工16-1分数统计'!AZ16*'环工16-1分数统计'!$AZ$3/120","v":1.45},{"$f":"'环工16-1分数统计'!BA16*'环工16-1分数统计'!$BA$3/120","v":1.6166666666666667},{"$f":"'环工16-1分数统计'!BB16*'环工16-1分数统计'!$BB$3/120","v":1.1},{"$f":"'环工16-1分数统计'!BC16*'环工16-1分数统计'!$BC$3/120","v":2.1},{"$f":"'环工16-1分数统计'!BD16*'环工16-1分数统计'!$BD$3/120","v":1.1375},{"$f":"'环工16-1分数统计'!BE16*'环工16-1分数统计'!$BE$3/120","v":1.55},null,null,91.1687331544143,98.0306794094793,94.45784190981432,283.6572544737079,82.05219769128601,16.410439538257204]
[null,"余美琪   ","2016010613          ",{"$f":"'环工16-1分数统计'!H17*'环工16-1分数统计'!$H$3/120","v":0.675},{"$f":"'环工16-1分数统计'!I17*'环工16-1分数统计'!$I$3/120","v":1.5166666666666666},{"$f":"'环工16-1分数统计'!J17*'环工16-1分数统计'!$J$3/120","v":4.2},{"$f":"'环工16-1分数统计'!K17*'环工16-1分数统计'!$K$3/120","v":3.0375},{"$f":"'环工16-1分数统计'!L17*'环工16-1分数统计'!$L$3/120","v":1.2833333333333334},{"$f":"'环工16-1分数统计'!M17*'环工16-1分数统计'!$M$3/120","v":1.2},{"$f":"'环工16-1分数统计'!N17*'环工16-1分数统计'!$N$3/120","v":3.4499999999999997},{"$f":"'环工16-1分数统计'!O17*'环工16-1分数统计'!$O$3/121","v":0.6528925619834711},{"$f":"'环工16-1分数统计'!P17*'环工16-1分数统计'!$P$3/120","v":1.5208333333333333},{"$f":"'环工16-1分数统计'!Q17*'环工16-1分数统计'!$Q$3/120","v":0.625},{"$f":"'环工16-1分数统计'!R17*'环工16-1分数统计'!$R$3/120","v":1.7},{"$f":"'环工16-1分数统计'!S17*'环工16-1分数统计'!$S$3/120","v":3.5416666666666665},{"$f":"'环工16-1分数统计'!T17*'环工16-1分数统计'!$T$3/120","v":1.7916666666666667},{"$f":"'环工16-1分数统计'!U17*'环工16-1分数统计'!$U$3/120","v":2.8666666666666667},{"$f":"'环工16-1分数统计'!V17*'环工16-1分数统计'!$V$3/120","v":2.225},{"$f":"'环工16-1分数统计'!W17*'环工16-1分数统计'!$W$3/120","v":3.335},{"$f":"'环工16-1分数统计'!X17*'环工16-1分数统计'!$X$3/120","v":0.7083333333333334},{"$f":"'环工16-1分数统计'!Y17*'环工16-1分数统计'!$Y$3/120","v":1.4833333333333334},{"$f":"'环工16-1分数统计'!Z17*'环工16-1分数统计'!$Z$3/120","v":2},{"$f":"'环工16-1分数统计'!AA17*'环工16-1分数统计'!$AA$3/120","v":2.25},{"$f":"'环工16-1分数统计'!AB17*'环工16-1分数统计'!$AB$3/120","v":1.4333333333333333},{"$f":"'环工16-1分数统计'!AC17*'环工16-1分数统计'!$AC$3/120","v":1.4666666666666666},{"$f":"'环工16-1分数统计'!AD17*'环工16-1分数统计'!$AD$3/120","v":1.4},{"$f":"'环工16-1分数统计'!AE17*'环工16-1分数统计'!$AE$3/120","v":1.6099999999999999},{"$f":"'环工16-1分数统计'!AF17*'环工16-1分数统计'!$AF$3/120","v":0.7416666666666667},{"$f":"'环工16-1分数统计'!AG17*'环工16-1分数统计'!$AG$3/120","v":1.5625},{"$f":"'环工16-1分数统计'!AH17*'环工16-1分数统计'!$AH$3/120","v":2.1},{"$f":"'环工16-1分数统计'!AI17*'环工16-1分数统计'!$AI$3/120","v":1.4666666666666666},{"$f":"'环工16-1分数统计'!AJ17*'环工16-1分数统计'!$AJ$3/120","v":0.725},{"$f":"'环工16-1分数统计'!AK17*'环工16-1分数统计'!$AK$3/120","v":2.6666666666666665},{"$f":"'环工16-1分数统计'!AL17*'环工16-1分数统计'!$AL$3/120","v":1.5333333333333334},{"$f":"'环工16-1分数统计'!AM17*'环工16-1分数统计'!$AM$3/120","v":0.975},{"$f":"'环工16-1分数统计'!AN17*'环工16-1分数统计'!$AN$3/120","v":2.175},{"$f":"'环工16-1分数统计'!AO17*'环工16-1分数统计'!$AO$3/120","v":2.075},{"$f":"'环工16-1分数统计'!AP17*'环工16-1分数统计'!$AP$3/120","v":1.1125},{"$f":"'环工16-1分数统计'!AQ17*'环工16-1分数统计'!$AQ$3/120","v":2.175},{"$f":"'环工16-1分数统计'!AR17*'环工16-1分数统计'!$AR$3/120","v":1.45},{"$f":"'环工16-1分数统计'!AS17*'环工16-1分数统计'!$AS$3/120","v":1.5333333333333334},{"$f":"'环工16-1分数统计'!AT17*'环工16-1分数统计'!$AT$3/120","v":1.4566666666666666},{"$f":"'环工16-1分数统计'!AU17*'环工16-1分数统计'!$AU$3/120","v":0.775},{"$f":"'环工16-1分数统计'!AV17*'环工16-1分数统计'!$AV$3/120","v":1.5},{"$f":"'环工16-1分数统计'!AW17*'环工16-1分数统计'!$AW$3/120","v":0.6666666666666666},{"$f":"'环工16-1分数统计'!AX17*'环工16-1分数统计'!$AX$3/120","v":3.066666666666667},{"$f":"'环工16-1分数统计'!AY17*'环工16-1分数统计'!$AY$3/120","v":1.5666666666666667},{"$f":"'环工16-1分数统计'!AZ17*'环工16-1分数统计'!$AZ$3/120","v":1.45},{"$f":"'环工16-1分数统计'!BA17*'环工16-1分数统计'!$BA$3/120","v":1.5166666666666666},{"$f":"'环工16-1分数统计'!BB17*'环工16-1分数统计'!$BB$3/120","v":1.0875},{"$f":"'环工16-1分数统计'!BC17*'环工16-1分数统计'!$BC$3/120","v":2.2},{"$f":"'环工16-1分数统计'!BD17*'环工16-1分数统计'!$BD$3/120","v":1.1125},{"$f":"'环工16-1分数统计'!BE17*'环工16-1分数统计'!$BE$3/120","v":1.2},null,null,89.3712150025991,90.0143682983682,96.20658590145487,275.59216920242216,79.71924846950627,15.943849693901255]
[null,"仲英杰   ","2016010614          ",{"$f":"'环工16-1分数统计'!H18*'环工16-1分数统计'!$H$3/120","v":0.75},{"$f":"'环工16-1分数统计'!I18*'环工16-1分数统计'!$I$3/120","v":1.5666666666666667},{"$f":"'环工16-1分数统计'!J18*'环工16-1分数统计'!$J$3/120","v":4.9},{"$f":"'环工16-1分数统计'!K18*'环工16-1分数统计'!$K$3/120","v":3.4875},{"$f":"'环工16-1分数统计'!L18*'环工16-1分数统计'!$L$3/120","v":1.4666666666666666},{"$f":"'环工16-1分数统计'!M18*'环工16-1分数统计'!$M$3/120","v":1.4333333333333333},{"$f":"'环工16-1分数统计'!N18*'环工16-1分数统计'!$N$3/120","v":3.1533333333333338},{"$f":"'环工16-1分数统计'!O18*'环工16-1分数统计'!$O$3/121","v":0.6528925619834711},{"$f":"'环工16-1分数统计'!P18*'环工16-1分数统计'!$P$3/120","v":1.875},{"$f":"'环工16-1分数统计'!Q18*'环工16-1分数统计'!$Q$3/120","v":0.6833333333333333},{"$f":"'环工16-1分数统计'!R18*'环工16-1分数统计'!$R$3/120","v":2.075},{"$f":"'环工16-1分数统计'!S18*'环工16-1分数统计'!$S$3/120","v":3.875},{"$f":"'环工16-1分数统计'!T18*'环工16-1分数统计'!$T$3/120","v":1.875},{"$f":"'环工16-1分数统计'!U18*'环工16-1分数统计'!$U$3/120","v":3.033333333333333},{"$f":"'环工16-1分数统计'!V18*'环工16-1分数统计'!$V$3/120","v":2.325},{"$f":"'环工16-1分数统计'!W18*'环工16-1分数统计'!$W$3/120","v":3.19},{"$f":"'环工16-1分数统计'!X18*'环工16-1分数统计'!$X$3/120","v":0.775},{"$f":"'环工16-1分数统计'!Y18*'环工16-1分数统计'!$Y$3/120","v":1.5},{"$f":"'环工16-1分数统计'!Z18*'环工16-1分数统计'!$Z$3/120","v":2.15},{"$f":"'环工16-1分数统计'!AA18*'环工16-1分数统计'!$AA$3/120","v":2.275},{"$f":"'环工16-1分数统计'!AB18*'环工16-1分数统计'!$AB$3/120","v":1.4333333333333333},{"$f":"'环工16-1分数统计'!AC18*'环工16-1分数统计'!$AC$3/120","v":1.4166666666666667},{"$f":"'环工16-1分数统计'!AD18*'环工16-1分数统计'!$AD$3/120","v":1.45},{"$f":"'环工16-1分数统计'!AE18*'环工16-1分数统计'!$AE$3/120","v":1.7233333333333334},{"$f":"'环工16-1分数统计'!AF18*'环工16-1分数统计'!$AF$3/120","v":0.775},{"$f":"'环工16-1分数统计'!AG18*'环工16-1分数统计'!$AG$3/120","v":1.625},{"$f":"'环工16-1分数统计'!AH18*'环工16-1分数统计'!$AH$3/120","v":2.15},{"$f":"'环工16-1分数统计'!AI18*'环工16-1分数统计'!$AI$3/120","v":1.5},{"$f":"'环工16-1分数统计'!AJ18*'环工16-1分数统计'!$AJ$3/120","v":0.75},{"$f":"'环工16-1分数统计'!AK18*'环工16-1分数统计'!$AK$3/120","v":2.466666666666667},{"$f":"'环工16-1分数统计'!AL18*'环工16-1分数统计'!$AL$3/120","v":1.4166666666666667},{"$f":"'环工16-1分数统计'!AM18*'环工16-1分数统计'!$AM$3/120","v":1.025},{"$f":"'环工16-1分数统计'!AN18*'环工16-1分数统计'!$AN$3/120","v":2.025},{"$f":"'环工16-1分数统计'!AO18*'环工16-1分数统计'!$AO$3/120","v":2},{"$f":"'环工16-1分数统计'!AP18*'环工16-1分数统计'!$AP$3/120","v":1.1125},{"$f":"'环工16-1分数统计'!AQ18*'环工16-1分数统计'!$AQ$3/120","v":2.15},{"$f":"'环工16-1分数统计'!AR18*'环工16-1分数统计'!$AR$3/120","v":1.4166666666666667},{"$f":"'环工16-1分数统计'!AS18*'环工16-1分数统计'!$AS$3/120","v":1.55},{"$f":"'环工16-1分数统计'!AT18*'环工16-1分数统计'!$AT$3/120","v":1.6500000000000001},{"$f":"'环工16-1分数统计'!AU18*'环工16-1分数统计'!$AU$3/120","v":0.6833333333333333},{"$f":"'环工16-1分数统计'!AV18*'环工16-1分数统计'!$AV$3/120","v":1.5166666666666666},{"$f":"'环工16-1分数统计'!AW18*'环工16-1分数统计'!$AW$3/120","v":0.7},{"$f":"'环工16-1分数统计'!AX18*'环工16-1分数统计'!$AX$3/120","v":2.6333333333333333},{"$f":"'环工16-1分数统计'!AY18*'环工16-1分数统计'!$AY$3/120","v":1.3833333333333333},{"$f":"'环工16-1分数统计'!AZ18*'环工16-1分数统计'!$AZ$3/120","v":1.5333333333333334},{"$f":"'环工16-1分数统计'!BA18*'环工16-1分数统计'!$BA$3/120","v":1.45},{"$f":"'环工16-1分数统计'!BB18*'环工16-1分数统计'!$BB$3/120","v":1.125},{"$f":"'环工16-1分数统计'!BC18*'环工16-1分数统计'!$BC$3/120","v":2.375},{"$f":"'环工16-1分数统计'!BD18*'环工16-1分数统计'!$BD$3/120","v":1.15},{"$f":"'环工16-1分数统计'!BE18*'环工16-1分数统计'!$BE$3/120","v":1.4666666666666666},null,null,98.4399223733362,105.295693550894,111.15358196286473,314.88919788709495,91.08651482868122,18.217302965736245]
[null,"陈闯  ","2016010617          ",{"$f":"'环工16-1分数统计'!H19*'环工16-1分数统计'!$H$3/120","v":0.6916666666666667},{"$f":"'环工16-1分数统计'!I19*'环工16-1分数统计'!$I$3/120","v":1.5666666666666667},{"$f":"'环工16-1分数统计'!J19*'环工16-1分数统计'!$J$3/120","v":4.55},{"$f":"'环工16-1分数统计'!K19*'环工16-1分数统计'!$K$3/120","v":3.375},{"$f":"'环工16-1分数统计'!L19*'环工16-1分数统计'!$L$3/120","v":1.4833333333333334},{"$f":"'环工16-1分数统计'!M19*'环工16-1分数统计'!$M$3/120","v":1.3},{"$f":"'环工16-1分数统计'!N19*'环工16-1分数统计'!$N$3/120","v":2.75},{"$f":"'环工16-1分数统计'!O19*'环工16-1分数统计'!$O$3/121","v":0.7768595041322314},{"$f":"'环工16-1分数统计'!P19*'环工16-1分数统计'!$P$3/120","v":1.7708333333333333},{"$f":"'环工16-1分数统计'!Q19*'环工16-1分数统计'!$Q$3/120","v":0.675},{"$f":"'环工16-1分数统计'!R19*'环工16-1分数统计'!$R$3/120","v":1.7},{"$f":"'环工16-1分数统计'!S19*'环工16-1分数统计'!$S$3/120","v":4.166666666666667},{"$f":"'环工16-1分数统计'!T19*'环工16-1分数统计'!$T$3/120","v":1.7916666666666667},{"$f":"'环工16-1分数统计'!U19*'环工16-1分数统计'!$U$3/120","v":2.7666666666666666},{"$f":"'环工16-1分数统计'!V19*'环工16-1分数统计'!$V$3/120","v":2.15},{"$f":"'环工16-1分数统计'!W19*'环工16-1分数统计'!$W$3/120","v":3.116666666666667},{"$f":"'环工16-1分数统计'!X19*'环工16-1分数统计'!$X$3/120","v":0.7833333333333333},{"$f":"'环工16-1分数统计'!Y19*'环工16-1分数统计'!$Y$3/120","v":1.6},{"$f":"'环工16-1分数统计'!Z19*'环工16-1分数统计'!$Z$3/120","v":1.8},{"$f":"'环工16-1分数统计'!AA19*'环工16-1分数统计'!$AA$3/120","v":2.3},{"$f":"'环工16-1分数统计'!AB19*'环工16-1分数统计'!$AB$3/120","v":1.3},{"$f":"'环工16-1分数统计'!AC19*'环工16-1分数统计'!$AC$3/120","v":1.4666666666666666},{"$f":"'环工16-1分数统计'!AD19*'环工16-1分数统计'!$AD$3/120","v":1.45},{"$f":"'环工16-1分数统计'!AE19*'环工16-1分数统计'!$AE$3/120","v":1.4666666666666666},{"$f":"'环工16-1分数统计'!AF19*'环工16-1分数统计'!$AF$3/120","v":0.7916666666666666},{"$f":"'环工16-1分数统计'!AG19*'环工16-1分数统计'!$AG$3/120","v":1.7916666666666667},{"$f":"'环工16-1分数统计'!AH19*'环工16-1分数统计'!$AH$3/120","v":2.35},{"$f":"'环工16-1分数统计'!AI19*'环工16-1分数统计'!$AI$3/120","v":1.4833333333333334},{"$f":"'环工16-1分数统计'!AJ19*'环工16-1分数统计'!$AJ$3/120","v":0.7666666666666667},{"$f":"'环工16-1分数统计'!AK19*'环工16-1分数统计'!$AK$3/120","v":2.4},{"$f":"'环工16-1分数统计'!AL19*'环工16-1分数统计'!$AL$3/120","v":1.4666666666666666},{"$f":"'环工16-1分数统计'!AM19*'环工16-1分数统计'!$AM$3/120","v":0.925},{"$f":"'环工16-1分数统计'!AN19*'环工16-1分数统计'!$AN$3/120","v":2.15},{"$f":"'环工16-1分数统计'!AO19*'环工16-1分数统计'!$AO$3/120","v":2.175},{"$f":"'环工16-1分数统计'!AP19*'环工16-1分数统计'!$AP$3/120","v":1.1125},{"$f":"'环工16-1分数统计'!AQ19*'环工16-1分数统计'!$AQ$3/120","v":2.25},{"$f":"'环工16-1分数统计'!AR19*'环工16-1分数统计'!$AR$3/120","v":1.4666666666666666},{"$f":"'环工16-1分数统计'!AS19*'环工16-1分数统计'!$AS$3/120","v":1.4166666666666667},{"$f":"'环工16-1分数统计'!AT19*'环工16-1分数统计'!$AT$3/120","v":1.3383333333333336},{"$f":"'环工16-1分数统计'!AU19*'环工16-1分数统计'!$AU$3/120","v":0.7833333333333333},{"$f":"'环工16-1分数统计'!AV19*'环工16-1分数统计'!$AV$3/120","v":1.4666666666666666},{"$f":"'环工16-1分数统计'!AW19*'环工16-1分数统计'!$AW$3/120","v":0.675},{"$f":"'环工16-1分数统计'!AX19*'环工16-1分数统计'!$AX$3/120","v":2.7333333333333334},{"$f":"'环工16-1分数统计'!AY19*'环工16-1分数统计'!$AY$3/120","v":1.5},{"$f":"'环工16-1分数统计'!AZ19*'环工16-1分数统计'!$AZ$3/120","v":1.5},{"$f":"'环工16-1分数统计'!BA19*'环工16-1分数统计'!$BA$3/120","v":1.4833333333333334},{"$f":"'环工16-1分数统计'!BB19*'环工16-1分数统计'!$BB$3/120","v":1.1},{"$f":"'环工16-1分数统计'!BC19*'环工16-1分数统计'!$BC$3/120","v":2.2},{"$f":"'环工16-1分数统计'!BD19*'环工16-1分数统计'!$BD$3/120","v":1.1},{"$f":"'环工16-1分数统计'!BE19*'环工16-1分数统计'!$BE$3/120","v":1.4},null,null,95.2447034184407,109.451422843823,107.46141662245802,312.1575428847217,90.29634185498104,18.059268370996207]
[null,"丁相瑞   ","2016010619          ",{"$f":"'环工16-1分数统计'!H20*'环工16-1分数统计'!$H$3/120","v":0.675},{"$f":"'环工16-1分数统计'!I20*'环工16-1分数统计'!$I$3/120","v":1.4833333333333334},{"$f":"'环工16-1分数统计'!J20*'环工16-1分数统计'!$J$3/120","v":4.15},{"$f":"'环工16-1分数统计'!K20*'环工16-1分数统计'!$K$3/120","v":2.7375},{"$f":"'环工16-1分数统计'!L20*'环工16-1分数统计'!$L$3/120","v":1.35},{"$f":"'环工16-1分数统计'!M20*'环工16-1分数统计'!$M$3/120","v":1.3},{"$f":"'环工16-1分数统计'!N20*'环工16-1分数统计'!$N$3/120","v":2.3100000000000005},{"$f":"'环工16-1分数统计'!O20*'环工16-1分数统计'!$O$3/121","v":0.5702479338842975},{"$f":"'环工16-1分数统计'!P20*'环工16-1分数统计'!$P$3/120","v":1.625},{"$f":"'环工16-1分数统计'!Q20*'环工16-1分数统计'!$Q$3/120","v":0.7},{"$f":"'环工16-1分数统计'!R20*'环工16-1分数统计'!$R$3/120","v":1.5},{"$f":"'环工16-1分数统计'!S20*'环工16-1分数统计'!$S$3/120","v":3.75},{"$f":"'环工16-1分数统计'!T20*'环工16-1分数统计'!$T$3/120","v":1.625},{"$f":"'环工16-1分数统计'!U20*'环工16-1分数统计'!$U$3/120","v":2.566666666666667},{"$f":"'环工16-1分数统计'!V20*'环工16-1分数统计'!$V$3/120","v":1.9},{"$f":"'环工16-1分数统计'!W20*'环工16-1分数统计'!$W$3/120","v":3.08},{"$f":"'环工16-1分数统计'!X20*'环工16-1分数统计'!$X$3/120","v":0.7333333333333333},{"$f":"'环工16-1分数统计'!Y20*'环工16-1分数统计'!$Y$3/120","v":1.5666666666666667},{"$f":"'环工16-1分数统计'!Z20*'环工16-1分数统计'!$Z$3/120","v":1.55},{"$f":"'环工16-1分数统计'!AA20*'环工16-1分数统计'!$AA$3/120","v":1.85},{"$f":"'环工16-1分数统计'!AB20*'环工16-1分数统计'!$AB$3/120","v":1.25},{"$f":"'环工16-1分数统计'!AC20*'环工16-1分数统计'!$AC$3/120","v":1.3833333333333333},{"$f":"'环工16-1分数统计'!AD20*'环工16-1分数统计'!$AD$3/120","v":1.2833333333333334},{"$f":"'环工16-1分数统计'!AE20*'环工16-1分数统计'!$AE$3/120","v":1.4300000000000002},{"$f":"'环工16-1分数统计'!AF20*'环工16-1分数统计'!$AF$3/120","v":0.7333333333333333},{"$f":"'环工16-1分数统计'!AG20*'环工16-1分数统计'!$AG$3/120","v":1.6458333333333333},{"$f":"'环工16-1分数统计'!AH20*'环工16-1分数统计'!$AH$3/120","v":1.85},{"$f":"'环工16-1分数统计'!AI20*'环工16-1分数统计'!$AI$3/120","v":1.3333333333333333},{"$f":"'环工16-1分数统计'!AJ20*'环工16-1分数统计'!$AJ$3/120","v":0.7},{"$f":"'环工16-1分数统计'!AK20*'环工16-1分数统计'!$AK$3/120","v":2.1666666666666665},{"$f":"'环工16-1分数统计'!AL20*'环工16-1分数统计'!$AL$3/120","v":1.3666666666666667},{"$f":"'环工16-1分数统计'!AM20*'环工16-1分数统计'!$AM$3/120","v":0.75},{"$f":"'环工16-1分数统计'!AN20*'环工16-1分数统计'!$AN$3/120","v":2.25},{"$f":"'环工16-1分数统计'!AO20*'环工16-1分数统计'!$AO$3/120","v":2},{"$f":"'环工16-1分数统计'!AP20*'环工16-1分数统计'!$AP$3/120","v":1.025},{"$f":"'环工16-1分数统计'!AQ20*'环工16-1分数统计'!$AQ$3/120","v":1.95},{"$f":"'环工16-1分数统计'!AR20*'环工16-1分数统计'!$AR$3/120","v":1.4666666666666666},{"$f":"'环工16-1分数统计'!AS20*'环工16-1分数统计'!$AS$3/120","v":1.5166666666666666},{"$f":"'环工16-1分数统计'!AT20*'环工16-1分数统计'!$AT$3/120","v":1.3933333333333335},{"$f":"'环工16-1分数统计'!AU20*'环工16-1分数统计'!$AU$3/120","v":0.6833333333333333},{"$f":"'环工16-1分数统计'!AV20*'环工16-1分数统计'!$AV$3/120","v":1.4},{"$f":"'环工16-1分数统计'!AW20*'环工16-1分数统计'!$AW$3/120","v":0.625},{"$f":"'环工16-1分数统计'!AX20*'环工16-1分数统计'!$AX$3/120","v":2.4},{"$f":"'环工16-1分数统计'!AY20*'环工16-1分数统计'!$AY$3/120","v":1.5166666666666666},{"$f":"'环工16-1分数统计'!AZ20*'环工16-1分数统计'!$AZ$3/120","v":1.35},{"$f":"'环工16-1分数统计'!BA20*'环工16-1分数统计'!$BA$3/120","v":1.2333333333333334},{"$f":"'环工16-1分数统计'!BB20*'环工16-1分数统计'!$BB$3/120","v":1.075},{"$f":"'环工16-1分数统计'!BC20*'环工16-1分数统计'!$BC$3/120","v":2.225},{"$f":"'环工16-1分数统计'!BD20*'环工16-1分数统计'!$BD$3/120","v":1.025},{"$f":"'环工16-1分数统计'!BE20*'环工16-1分数统计'!$BE$3/120","v":1.2166666666666666},null,null,86.6118849365926,85.5783763791763,88.37967785547785,260.56993917124674,75.37383875816667,15.074767751633335]
[null,"高军政   ","2016010620          ",{"$f":"'环工16-1分数统计'!H21*'环工16-1分数统计'!$H$3/120","v":0.6416666666666667},{"$f":"'环工16-1分数统计'!I21*'环工16-1分数统计'!$I$3/120","v":1.5333333333333334},{"$f":"'环工16-1分数统计'!J21*'环工16-1分数统计'!$J$3/120","v":4},{"$f":"'环工16-1分数统计'!K21*'环工16-1分数统计'!$K$3/120","v":3.375},{"$f":"'环工16-1分数统计'!L21*'环工16-1分数统计'!$L$3/120","v":1.45},{"$f":"'环工16-1分数统计'!M21*'环工16-1分数统计'!$M$3/120","v":1.2166666666666666},{"$f":"'环工16-1分数统计'!N21*'环工16-1分数统计'!$N$3/120","v":2.4200000000000004},{"$f":"'环工16-1分数统计'!O21*'环工16-1分数统计'!$O$3/121","v":0.6115702479338843},{"$f":"'环工16-1分数统计'!P21*'环工16-1分数统计'!$P$3/120","v":1.8125},{"$f":"'环工16-1分数统计'!Q21*'环工16-1分数统计'!$Q$3/120","v":0.775},{"$f":"'环工16-1分数统计'!R21*'环工16-1分数统计'!$R$3/120","v":1.95},{"$f":"'环工16-1分数统计'!S21*'环工16-1分数统计'!$S$3/120","v":3.875},{"$f":"'环工16-1分数统计'!T21*'环工16-1分数统计'!$T$3/120","v":1.7291666666666667},{"$f":"'环工16-1分数统计'!U21*'环工16-1分数统计'!$U$3/120","v":2.6666666666666665},{"$f":"'环工16-1分数统计'!V21*'环工16-1分数统计'!$V$3/120","v":2.3},{"$f":"'环工16-1分数统计'!W21*'环工16-1分数统计'!$W$3/120","v":2.97},{"$f":"'环工16-1分数统计'!X21*'环工16-1分数统计'!$X$3/120","v":0.725},{"$f":"'环工16-1分数统计'!Y21*'环工16-1分数统计'!$Y$3/120","v":1.5},{"$f":"'环工16-1分数统计'!Z21*'环工16-1分数统计'!$Z$3/120","v":1.7},{"$f":"'环工16-1分数统计'!AA21*'环工16-1分数统计'!$AA$3/120","v":2.275},{"$f":"'环工16-1分数统计'!AB21*'环工16-1分数统计'!$AB$3/120","v":1.2833333333333334},{"$f":"'环工16-1分数统计'!AC21*'环工16-1分数统计'!$AC$3/120","v":1.3166666666666667},{"$f":"'环工16-1分数统计'!AD21*'环工16-1分数统计'!$AD$3/120","v":1.3166666666666667},{"$f":"'环工16-1分数统计'!AE21*'环工16-1分数统计'!$AE$3/120","v":1.4116666666666666},{"$f":"'环工16-1分数统计'!AF21*'环工16-1分数统计'!$AF$3/120","v":0.6583333333333333},{"$f":"'环工16-1分数统计'!AG21*'环工16-1分数统计'!$AG$3/120","v":1.4375},{"$f":"'环工16-1分数统计'!AH21*'环工16-1分数统计'!$AH$3/120","v":1.825},{"$f":"'环工16-1分数统计'!AI21*'环工16-1分数统计'!$AI$3/120","v":1.3833333333333333},{"$f":"'环工16-1分数统计'!AJ21*'环工16-1分数统计'!$AJ$3/120","v":0.7166666666666667},{"$f":"'环工16-1分数统计'!AK21*'环工16-1分数统计'!$AK$3/120","v":2},{"$f":"'环工16-1分数统计'!AL21*'环工16-1分数统计'!$AL$3/120","v":1.4333333333333333},{"$f":"'环工16-1分数统计'!AM21*'环工16-1分数统计'!$AM$3/120","v":0.8125},{"$f":"'环工16-1分数统计'!AN21*'环工16-1分数统计'!$AN$3/120","v":1.8},{"$f":"'环工16-1分数统计'!AO21*'环工16-1分数统计'!$AO$3/120","v":1.725},{"$f":"'环工16-1分数统计'!AP21*'环工16-1分数统计'!$AP$3/120","v":1.025},{"$f":"'环工16-1分数统计'!AQ21*'环工16-1分数统计'!$AQ$3/120","v":2.05},{"$f":"'环工16-1分数统计'!AR21*'环工16-1分数统计'!$AR$3/120","v":1.4333333333333333},{"$f":"'环工16-1分数统计'!AS21*'环工16-1分数统计'!$AS$3/120","v":1.3666666666666667},{"$f":"'环工16-1分数统计'!AT21*'环工16-1分数统计'!$AT$3/120","v":1.2466666666666668},{"$f":"'环工16-1分数统计'!AU21*'环工16-1分数统计'!$AU$3/120","v":0.5333333333333333},{"$f":"'环工16-1分数统计'!AV21*'环工16-1分数统计'!$AV$3/120","v":1.4666666666666666},{"$f":"'环工16-1分数统计'!AW21*'环工16-1分数统计'!$AW$3/120","v":0.6666666666666666},{"$f":"'环工16-1分数统计'!AX21*'环工16-1分数统计'!$AX$3/120","v":2.9},{"$f":"'环工16-1分数统计'!AY21*'环工16-1分数统计'!$AY$3/120","v":1.5},{"$f":"'环工16-1分数统计'!AZ21*'环工16-1分数统计'!$AZ$3/120","v":1.4833333333333334},{"$f":"'环工16-1分数统计'!BA21*'环工16-1分数统计'!$BA$3/120","v":1.6333333333333333},{"$f":"'环工16-1分数统计'!BB21*'环工16-1分数统计'!$BB$3/120","v":1.05},{"$f":"'环工16-1分数统计'!BC21*'环工16-1分数统计'!$BC$3/120","v":2.25},{"$f":"'环工16-1分数统计'!BD21*'环工16-1分数统计'!$BD$3/120","v":1.0125},{"$f":"'环工16-1分数统计'!BE21*'环工16-1分数统计'!$BE$3/120","v":1.3333333333333333},null,null,89.3930169827972,83.8704369852369,90.68818673740051,263.95164070543467,76.35204762975339,15.270409525950678]
[null,"贾钰森   ","2016010621          ",{"$f":"'环工16-1分数统计'!H22*'环工16-1分数统计'!$H$3/120","v":0.675},{"$f":"'环工16-1分数统计'!I22*'环工16-1分数统计'!$I$3/120","v":1.4166666666666667},{"$f":"'环工16-1分数统计'!J22*'环工16-1分数统计'!$J$3/120","v":3.05},{"$f":"'环工16-1分数统计'!K22*'环工16-1分数统计'!$K$3/120","v":2.925},{"$f":"'环工16-1分数统计'!L22*'环工16-1分数统计'!$L$3/120","v":1.35},{"$f":"'环工16-1分数统计'!M22*'环工16-1分数统计'!$M$3/120","v":1.25},{"$f":"'环工16-1分数统计'!N22*'环工16-1分数统计'!$N$3/120","v":2.2733333333333334},{"$f":"'环工16-1分数统计'!O22*'环工16-1分数统计'!$O$3/121","v":0.6776859504132231},{"$f":"'环工16-1分数统计'!P22*'环工16-1分数统计'!$P$3/120","v":1.3333333333333333},{"$f":"'环工16-1分数统计'!Q22*'环工16-1分数统计'!$Q$3/120","v":0.6916666666666667},{"$f":"'环工16-1分数统计'!R22*'环工16-1分数统计'!$R$3/120","v":1.575},{"$f":"'环工16-1分数统计'!S22*'环工16-1分数统计'!$S$3/120","v":2.8333333333333335},{"$f":"'环工16-1分数统计'!T22*'环工16-1分数统计'!$T$3/120","v":1.6875},{"$f":"'环工16-1分数统计'!U22*'环工16-1分数统计'!$U$3/120","v":2.7},{"$f":"'环工16-1分数统计'!V22*'环工16-1分数统计'!$V$3/120","v":2},{"$f":"'环工16-1分数统计'!W22*'环工16-1分数统计'!$W$3/120","v":2.8233333333333333},{"$f":"'环工16-1分数统计'!X22*'环工16-1分数统计'!$X$3/120","v":0.7583333333333333},{"$f":"'环工16-1分数统计'!Y22*'环工16-1分数统计'!$Y$3/120","v":1.4333333333333333},{"$f":"'环工16-1分数统计'!Z22*'环工16-1分数统计'!$Z$3/120","v":1.725},{"$f":"'环工16-1分数统计'!AA22*'环工16-1分数统计'!$AA$3/120","v":1.75},{"$f":"'环工16-1分数统计'!AB22*'环工16-1分数统计'!$AB$3/120","v":1.2833333333333334},{"$f":"'环工16-1分数统计'!AC22*'环工16-1分数统计'!$AC$3/120","v":1.3333333333333333},{"$f":"'环工16-1分数统计'!AD22*'环工16-1分数统计'!$AD$3/120","v":1.2166666666666666},{"$f":"'环工16-1分数统计'!AE22*'环工16-1分数统计'!$AE$3/120","v":1.3016666666666667},{"$f":"'环工16-1分数统计'!AF22*'环工16-1分数统计'!$AF$3/120","v":0.7583333333333333},{"$f":"'环工16-1分数统计'!AG22*'环工16-1分数统计'!$AG$3/120","v":1.5625},{"$f":"'环工16-1分数统计'!AH22*'环工16-1分数统计'!$AH$3/120","v":1.55},{"$f":"'环工16-1分数统计'!AI22*'环工16-1分数统计'!$AI$3/120","v":1.3833333333333333},{"$f":"'环工16-1分数统计'!AJ22*'环工16-1分数统计'!$AJ$3/120","v":0.7083333333333334},{"$f":"'环工16-1分数统计'!AK22*'环工16-1分数统计'!$AK$3/120","v":2.433333333333333},{"$f":"'环工16-1分数统计'!AL22*'环工16-1分数统计'!$AL$3/120","v":1.4333333333333333},{"$f":"'环工16-1分数统计'!AM22*'环工16-1分数统计'!$AM$3/120","v":0.95},{"$f":"'环工16-1分数统计'!AN22*'环工16-1分数统计'!$AN$3/120","v":1.775},{"$f":"'环工16-1分数统计'!AO22*'环工16-1分数统计'!$AO$3/120","v":1.6},{"$f":"'环工16-1分数统计'!AP22*'环工16-1分数统计'!$AP$3/120","v":1.075},{"$f":"'环工16-1分数统计'!AQ22*'环工16-1分数统计'!$AQ$3/120","v":2.275},{"$f":"'环工16-1分数统计'!AR22*'环工16-1分数统计'!$AR$3/120","v":1.4},{"$f":"'环工16-1分数统计'!AS22*'环工16-1分数统计'!$AS$3/120","v":1.35},{"$f":"'环工16-1分数统计'!AT22*'环工16-1分数统计'!$AT$3/120","v":1.2466666666666668},{"$f":"'环工16-1分数统计'!AU22*'环工16-1分数统计'!$AU$3/120","v":0.7333333333333333},{"$f":"'环工16-1分数统计'!AV22*'环工16-1分数统计'!$AV$3/120","v":1.2833333333333334},{"$f":"'环工16-1分数统计'!AW22*'环工16-1分数统计'!$AW$3/120","v":0.6166666666666667},{"$f":"'环工16-1分数统计'!AX22*'环工16-1分数统计'!$AX$3/120","v":2.466666666666667},{"$f":"'环工16-1分数统计'!AY22*'环工16-1分数统计'!$AY$3/120","v":1.4166666666666667},{"$f":"'环工16-1分数统计'!AZ22*'环工16-1分数统计'!$AZ$3/120","v":1.4166666666666667},{"$f":"'环工16-1分数统计'!BA22*'环工16-1分数统计'!$BA$3/120","v":1.6166666666666667},{"$f":"'环工16-1分数统计'!BB22*'环工16-1分数统计'!$BB$3/120","v":1.0375},{"$f":"'环工16-1分数统计'!BC22*'环工16-1分数统计'!$BC$3/120","v":2.275},{"$f":"'环工16-1分数统计'!BD22*'环工16-1分数统计'!$BD$3/120","v":1.0875},{"$f":"'环工16-1分数统计'!BE22*'环工16-1分数统计'!$BE$3/120","v":1.3666666666666667},null,null,85.9154987979787,84.9594066822066,82.98329018567638,253.85819566586167,73.43236433341119,14.686472866682237]
[null,"李佳奇   ","2016010622          ",{"$f":"'环工16-1分数统计'!H23*'环工16-1分数统计'!$H$3/120","v":0.725},{"$f":"'环工16-1分数统计'!I23*'环工16-1分数统计'!$I$3/120","v":1.5333333333333334},{"$f":"'环工16-1分数统计'!J23*'环工16-1分数统计'!$J$3/120","v":4.3},{"$f":"'环工16-1分数统计'!K23*'环工16-1分数统计'!$K$3/120","v":3.2625},{"$f":"'环工16-1分数统计'!L23*'环工16-1分数统计'!$L$3/120","v":1.45},{"$f":"'环工16-1分数统计'!M23*'环工16-1分数统计'!$M$3/120","v":1.5166666666666666},{"$f":"'环工16-1分数统计'!N23*'环工16-1分数统计'!$N$3/120","v":2.97},{"$f":"'环工16-1分数统计'!O23*'环工16-1分数统计'!$O$3/121","v":0.6859504132231405},{"$f":"'环工16-1分数统计'!P23*'环工16-1分数统计'!$P$3/120","v":1.25},{"$f":"'环工16-1分数统计'!Q23*'环工16-1分数统计'!$Q$3/120","v":0.7666666666666667},{"$f":"'环工16-1分数统计'!R23*'环工16-1分数统计'!$R$3/120","v":1.85},{"$f":"'环工16-1分数统计'!S23*'环工16-1分数统计'!$S$3/120","v":4},{"$f":"'环工16-1分数统计'!T23*'环工16-1分数统计'!$T$3/120","v":1.7291666666666667},{"$f":"'环工16-1分数统计'!U23*'环工16-1分数统计'!$U$3/120","v":2.8333333333333335},{"$f":"'环工16-1分数统计'!V23*'环工16-1分数统计'!$V$3/120","v":2.275},{"$f":"'环工16-1分数统计'!W23*'环工16-1分数统计'!$W$3/120","v":3.3000000000000003},{"$f":"'环工16-1分数统计'!X23*'环工16-1分数统计'!$X$3/120","v":0.75},{"$f":"'环工16-1分数统计'!Y23*'环工16-1分数统计'!$Y$3/120","v":1.5333333333333334},{"$f":"'环工16-1分数统计'!Z23*'环工16-1分数统计'!$Z$3/120","v":2.275},{"$f":"'环工16-1分数统计'!AA23*'环工16-1分数统计'!$AA$3/120","v":2.325},{"$f":"'环工16-1分数统计'!AB23*'环工16-1分数统计'!$AB$3/120","v":1.3333333333333333},{"$f":"'环工16-1分数统计'!AC23*'环工16-1分数统计'!$AC$3/120","v":1.4833333333333334},{"$f":"'环工16-1分数统计'!AD23*'环工16-1分数统计'!$AD$3/120","v":1.4},{"$f":"'环工16-1分数统计'!AE23*'环工16-1分数统计'!$AE$3/120","v":1.7050000000000003},{"$f":"'环工16-1分数统计'!AF23*'环工16-1分数统计'!$AF$3/120","v":0.7416666666666667},{"$f":"'环工16-1分数统计'!AG23*'环工16-1分数统计'!$AG$3/120","v":1.7291666666666667},{"$f":"'环工16-1分数统计'!AH23*'环工16-1分数统计'!$AH$3/120","v":2.175},{"$f":"'环工16-1分数统计'!AI23*'环工16-1分数统计'!$AI$3/120","v":1.5333333333333334},{"$f":"'环工16-1分数统计'!AJ23*'环工16-1分数统计'!$AJ$3/120","v":0.7416666666666667},{"$f":"'环工16-1分数统计'!AK23*'环工16-1分数统计'!$AK$3/120","v":3},{"$f":"'环工16-1分数统计'!AL23*'环工16-1分数统计'!$AL$3/120","v":1.5},{"$f":"'环工16-1分数统计'!AM23*'环工16-1分数统计'!$AM$3/120","v":1.0875},{"$f":"'环工16-1分数统计'!AN23*'环工16-1分数统计'!$AN$3/120","v":2.25},{"$f":"'环工16-1分数统计'!AO23*'环工16-1分数统计'!$AO$3/120","v":2.175},{"$f":"'环工16-1分数统计'!AP23*'环工16-1分数统计'!$AP$3/120","v":1.0875},{"$f":"'环工16-1分数统计'!AQ23*'环工16-1分数统计'!$AQ$3/120","v":2.45},{"$f":"'环工16-1分数统计'!AR23*'环工16-1分数统计'!$AR$3/120","v":1.4333333333333333},{"$f":"'环工16-1分数统计'!AS23*'环工16-1分数统计'!$AS$3/120","v":1.55},{"$f":"'环工16-1分数统计'!AT23*'环工16-1分数统计'!$AT$3/120","v":1.5766666666666669},{"$f":"'环工16-1分数统计'!AU23*'环工16-1分数统计'!$AU$3/120","v":0.7666666666666667},{"$f":"'环工16-1分数统计'!AV23*'环工16-1分数统计'!$AV$3/120","v":1.4},{"$f":"'环工16-1分数统计'!AW23*'环工16-1分数统计'!$AW$3/120","v":0.7083333333333334},{"$f":"'环工16-1分数统计'!AX23*'环工16-1分数统计'!$AX$3/120","v":2.966666666666667},{"$f":"'环工16-1分数统计'!AY23*'环工16-1分数统计'!$AY$3/120","v":1.4666666666666666},{"$f":"'环工16-1分数统计'!AZ23*'环工16-1分数统计'!$AZ$3/120","v":1.6166666666666667},{"$f":"'环工16-1分数统计'!BA23*'环工16-1分数统计'!$BA$3/120","v":1.65},{"$f":"'环工16-1分数统计'!BB23*'环工16-1分数统计'!$BB$3/120","v":1.1},{"$f":"'环工16-1分数统计'!BC23*'环工16-1分数统计'!$BC$3/120","v":2.35},{"$f":"'环工16-1分数统计'!BD23*'环工16-1分数统计'!$BD$3/120","v":1.1},{"$f":"'环工16-1分数统计'!BE23*'环工16-1分数统计'!$BE$3/120","v":1.5166666666666666},null,null,91.869901471246,95.065148096348,102.03221009668863,288.9672596642826,83.58819787731044,16.717639575462087]
[null,"李同  ","2016010624          ",{"$f":"'环工16-1分数统计'!H24*'环工16-1分数统计'!$H$3/120","v":0.725},{"$f":"'环工16-1分数统计'!I24*'环工16-1分数统计'!$I$3/120","v":1.5166666666666666},{"$f":"'环工16-1分数统计'!J24*'环工16-1分数统计'!$J$3/120","v":3.9},{"$f":"'环工16-1分数统计'!K24*'环工16-1分数统计'!$K$3/120","v":3.15},{"$f":"'环工16-1分数统计'!L24*'环工16-1分数统计'!$L$3/120","v":1.4666666666666666},{"$f":"'环工16-1分数统计'!M24*'环工16-1分数统计'!$M$3/120","v":1.3833333333333333},{"$f":"'环工16-1分数统计'!N24*'环工16-1分数统计'!$N$3/120","v":2.4566666666666666},{"$f":"'环工16-1分数统计'!O24*'环工16-1分数统计'!$O$3/121","v":0.5371900826446281},{"$f":"'环工16-1分数统计'!P24*'环工16-1分数统计'!$P$3/120","v":1.7291666666666667},{"$f":"'环工16-1分数统计'!Q24*'环工16-1分数统计'!$Q$3/120","v":0.5833333333333334},{"$f":"'环工16-1分数统计'!R24*'环工16-1分数统计'!$R$3/120","v":1.85},{"$f":"'环工16-1分数统计'!S24*'环工16-1分数统计'!$S$3/120","v":3.2916666666666665},{"$f":"'环工16-1分数统计'!T24*'环工16-1分数统计'!$T$3/120","v":1.875},{"$f":"'环工16-1分数统计'!U24*'环工16-1分数统计'!$U$3/120","v":2.7},{"$f":"'环工16-1分数统计'!V24*'环工16-1分数统计'!$V$3/120","v":1.975},{"$f":"'环工16-1分数统计'!W24*'环工16-1分数统计'!$W$3/120","v":2.97},{"$f":"'环工16-1分数统计'!X24*'环工16-1分数统计'!$X$3/120","v":0.6916666666666667},{"$f":"'环工16-1分数统计'!Y24*'环工16-1分数统计'!$Y$3/120","v":1.5333333333333334},{"$f":"'环工16-1分数统计'!Z24*'环工16-1分数统计'!$Z$3/120","v":1.925},{"$f":"'环工16-1分数统计'!AA24*'环工16-1分数统计'!$AA$3/120","v":2},{"$f":"'环工16-1分数统计'!AB24*'环工16-1分数统计'!$AB$3/120","v":1.2666666666666666},{"$f":"'环工16-1分数统计'!AC24*'环工16-1分数统计'!$AC$3/120","v":1.5},{"$f":"'环工16-1分数统计'!AD24*'环工16-1分数统计'!$AD$3/120","v":1.4166666666666667},{"$f":"'环工16-1分数统计'!AE24*'环工16-1分数统计'!$AE$3/120","v":1.4666666666666666},{"$f":"'环工16-1分数统计'!AF24*'环工16-1分数统计'!$AF$3/120","v":0.6916666666666667},{"$f":"'环工16-1分数统计'!AG24*'环工16-1分数统计'!$AG$3/120","v":1.7083333333333333},{"$f":"'环工16-1分数统计'!AH24*'环工16-1分数统计'!$AH$3/120","v":2.125},{"$f":"'环工16-1分数统计'!AI24*'环工16-1分数统计'!$AI$3/120","v":1.4666666666666666},{"$f":"'环工16-1分数统计'!AJ24*'环工16-1分数统计'!$AJ$3/120","v":0.7166666666666667},{"$f":"'环工16-1分数统计'!AK24*'环工16-1分数统计'!$AK$3/120","v":2.1666666666666665},{"$f":"'环工16-1分数统计'!AL24*'环工16-1分数统计'!$AL$3/120","v":1.5},{"$f":"'环工16-1分数统计'!AM24*'环工16-1分数统计'!$AM$3/120","v":0.85},{"$f":"'环工16-1分数统计'!AN24*'环工16-1分数统计'!$AN$3/120","v":2.25},{"$f":"'环工16-1分数统计'!AO24*'环工16-1分数统计'!$AO$3/120","v":1.6},{"$f":"'环工16-1分数统计'!AP24*'环工16-1分数统计'!$AP$3/120","v":1.1},{"$f":"'环工16-1分数统计'!AQ24*'环工16-1分数统计'!$AQ$3/120","v":2.175},{"$f":"'环工16-1分数统计'!AR24*'环工16-1分数统计'!$AR$3/120","v":1.45},{"$f":"'环工16-1分数统计'!AS24*'环工16-1分数统计'!$AS$3/120","v":1.5666666666666667},{"$f":"'环工16-1分数统计'!AT24*'环工16-1分数统计'!$AT$3/120","v":1.485},{"$f":"'环工16-1分数统计'!AU24*'环工16-1分数统计'!$AU$3/120","v":0.6666666666666666},{"$f":"'环工16-1分数统计'!AV24*'环工16-1分数统计'!$AV$3/120","v":1.4666666666666666},{"$f":"'环工16-1分数统计'!AW24*'环工16-1分数统计'!$AW$3/120","v":0.7083333333333334},{"$f":"'环工16-1分数统计'!AX24*'环工16-1分数统计'!$AX$3/120","v":2.9},{"$f":"'环工16-1分数统计'!AY24*'环工16-1分数统计'!$AY$3/120","v":1.5166666666666666},{"$f":"'环工16-1分数统计'!AZ24*'环工16-1分数统计'!$AZ$3/120","v":1.5333333333333334},{"$f":"'环工16-1分数统计'!BA24*'环工16-1分数统计'!$BA$3/120","v":1.5},{"$f":"'环工16-1分数统计'!BB24*'环工16-1分数统计'!$BB$3/120","v":1.0875},{"$f":"'环工16-1分数统计'!BC24*'环工16-1分数统计'!$BC$3/120","v":2.25},{"$f":"'环工16-1分数统计'!BD24*'环工16-1分数统计'!$BD$3/120","v":1.1375},{"$f":"'环工16-1分数统计'!BE24*'环工16-1分数统计'!$BE$3/120","v":1.25},null,null,89.4128948375827,90.9267602175601,93.04822122015916,273.38787627530195,79.08162303890994,15.816324607781988]
[null,"吴航飞   ","2016010625          ",{"$f":"'环工16-1分数统计'!H25*'环工16-1分数统计'!$H$3/120","v":0.675},{"$f":"'环工16-1分数统计'!I25*'环工16-1分数统计'!$I$3/120","v":1.4166666666666667},{"$f":"'环工16-1分数统计'!J25*'环工16-1分数统计'!$J$3/120","v":3.2},{"$f":"'环工16-1分数统计'!K25*'环工16-1分数统计'!$K$3/120","v":2.7375},{"$f":"'环工16-1分数统计'!L25*'环工16-1分数统计'!$L$3/120","v":1.3},{"$f":"'环工16-1分数统计'!M25*'环工16-1分数统计'!$M$3/120","v":1.1833333333333333},{"$f":"'环工16-1分数统计'!N25*'环工16-1分数统计'!$N$3/120","v":2.4566666666666666},{"$f":"'环工16-1分数统计'!O25*'环工16-1分数统计'!$O$3/121","v":0.5537190082644629},{"$f":"'环工16-1分数统计'!P25*'环工16-1分数统计'!$P$3/120","v":1.5625},{"$f":"'环工16-1分数统计'!Q25*'环工16-1分数统计'!$Q$3/120","v":0.6416666666666667},{"$f":"'环工16-1分数统计'!R25*'环工16-1分数统计'!$R$3/120","v":1.85},{"$f":"'环工16-1分数统计'!S25*'环工16-1分数统计'!$S$3/120","v":3.375},{"$f":"'环工16-1分数统计'!T25*'环工16-1分数统计'!$T$3/120","v":1.6875},{"$f":"'环工16-1分数统计'!U25*'环工16-1分数统计'!$U$3/120","v":2.6},{"$f":"'环工16-1分数统计'!V25*'环工16-1分数统计'!$V$3/120","v":1.875},{"$f":"'环工16-1分数统计'!W25*'环工16-1分数统计'!$W$3/120","v":3.043333333333334},{"$f":"'环工16-1分数统计'!X25*'环工16-1分数统计'!$X$3/120","v":0.5833333333333334},{"$f":"'环工16-1分数统计'!Y25*'环工16-1分数统计'!$Y$3/120","v":1.4333333333333333},{"$f":"'环工16-1分数统计'!Z25*'环工16-1分数统计'!$Z$3/120","v":1.5},{"$f":"'环工16-1分数统计'!AA25*'环工16-1分数统计'!$AA$3/120","v":2.25},{"$f":"'环工16-1分数统计'!AB25*'环工16-1分数统计'!$AB$3/120","v":1.15},{"$f":"'环工16-1分数统计'!AC25*'环工16-1分数统计'!$AC$3/120","v":1.15},{"$f":"'环工16-1分数统计'!AD25*'环工16-1分数统计'!$AD$3/120","v":1.2333333333333334},{"$f":"'环工16-1分数统计'!AE25*'环工16-1分数统计'!$AE$3/120","v":1.3566666666666667},{"$f":"'环工16-1分数统计'!AF25*'环工16-1分数统计'!$AF$3/120","v":0.7416666666666667},{"$f":"'环工16-1分数统计'!AG25*'环工16-1分数统计'!$AG$3/120","v":1.5},{"$f":"'环工16-1分数统计'!AH25*'环工16-1分数统计'!$AH$3/120","v":2.375},{"$f":"'环工16-1分数统计'!AI25*'环工16-1分数统计'!$AI$3/120","v":1.3833333333333333},{"$f":"'环工16-1分数统计'!AJ25*'环工16-1分数统计'!$AJ$3/120","v":0.7166666666666667},{"$f":"'环工16-1分数统计'!AK25*'环工16-1分数统计'!$AK$3/120","v":2.2666666666666666},{"$f":"'环工16-1分数统计'!AL25*'环工16-1分数统计'!$AL$3/120","v":1.2166666666666666},{"$f":"'环工16-1分数统计'!AM25*'环工16-1分数统计'!$AM$3/120","v":0.7625},{"$f":"'环工16-1分数统计'!AN25*'环工16-1分数统计'!$AN$3/120","v":2.275},{"$f":"'环工16-1分数统计'!AO25*'环工16-1分数统计'!$AO$3/120","v":1.625},{"$f":"'环工16-1分数统计'!AP25*'环工16-1分数统计'!$AP$3/120","v":1.025},{"$f":"'环工16-1分数统计'!AQ25*'环工16-1分数统计'!$AQ$3/120","v":1.925},{"$f":"'环工16-1分数统计'!AR25*'环工16-1分数统计'!$AR$3/120","v":1.4333333333333333},{"$f":"'环工16-1分数统计'!AS25*'环工16-1分数统计'!$AS$3/120","v":1.3333333333333333},{"$f":"'环工16-1分数统计'!AT25*'环工16-1分数统计'!$AT$3/120","v":1.3566666666666667},{"$f":"'环工16-1分数统计'!AU25*'环工16-1分数统计'!$AU$3/120","v":0.6833333333333333},{"$f":"'环工16-1分数统计'!AV25*'环工16-1分数统计'!$AV$3/120","v":1.35},{"$f":"'环工16-1分数统计'!AW25*'环工16-1分数统计'!$AW$3/120","v":0.6333333333333333},{"$f":"'环工16-1分数统计'!AX25*'环工16-1分数统计'!$AX$3/120","v":2.566666666666667},{"$f":"'环工16-1分数统计'!AY25*'环工16-1分数统计'!$AY$3/120","v":1.15},{"$f":"'环工16-1分数统计'!AZ25*'环工16-1分数统计'!$AZ$3/120","v":1.3},{"$f":"'环工16-1分数统计'!BA25*'环工16-1分数统计'!$BA$3/120","v":1.45},{"$f":"'环工16-1分数统计'!BB25*'环工16-1分数统计'!$BB$3/120","v":1.0375},{"$f":"'环工16-1分数统计'!BC25*'环工16-1分数统计'!$BC$3/120","v":2.1},{"$f":"'环工16-1分数统计'!BD25*'环工16-1分数统计'!$BD$3/120","v":1.025},{"$f":"'环工16-1分数统计'!BE25*'环工16-1分数统计'!$BE$3/120","v":1.1},null,null,84.2469344745464,84.1430309246308,82.57951934731933,250.96948474649656,72.59676053449374,14.519352106898749]
[null,"姚泽凯   ","2016010626          ",{"$f":"'环工16-1分数统计'!H26*'环工16-1分数统计'!$H$3/120","v":0.6416666666666667},{"$f":"'环工16-1分数统计'!I26*'环工16-1分数统计'!$I$3/120","v":1.5166666666666666},{"$f":"'环工16-1分数统计'!J26*'环工16-1分数统计'!$J$3/120","v":3.45},{"$f":"'环工16-1分数统计'!K26*'环工16-1分数统计'!$K$3/120","v":2.625},{"$f":"'环工16-1分数统计'!L26*'环工16-1分数统计'!$L$3/120","v":1.4833333333333334},{"$f":"'环工16-1分数统计'!M26*'环工16-1分数统计'!$M$3/120","v":1.2833333333333334},{"$f":"'环工16-1分数统计'!N26*'环工16-1分数统计'!$N$3/120","v":3.4},{"$f":"'环工16-1分数统计'!O26*'环工16-1分数统计'!$O$3/121","v":0.7272727272727273},{"$f":"'环工16-1分数统计'!P26*'环工16-1分数统计'!$P$3/120","v":1.5833333333333333},{"$f":"'环工16-1分数统计'!Q26*'环工16-1分数统计'!$Q$3/120","v":0.725},{"$f":"'环工16-1分数统计'!R26*'环工16-1分数统计'!$R$3/120","v":1.875},{"$f":"'环工16-1分数统计'!S26*'环工16-1分数统计'!$S$3/120","v":2.9583333333333335},{"$f":"'环工16-1分数统计'!T26*'环工16-1分数统计'!$T$3/120","v":1.7291666666666667},{"$f":"'环工16-1分数统计'!U26*'环工16-1分数统计'!$U$3/120","v":2.433333333333333},{"$f":"'环工16-1分数统计'!V26*'环工16-1分数统计'!$V$3/120","v":1.975},{"$f":"'环工16-1分数统计'!W26*'环工16-1分数统计'!$W$3/120","v":3.6},{"$f":"'环工16-1分数统计'!X26*'环工16-1分数统计'!$X$3/120","v":0.7666666666666667},{"$f":"'环工16-1分数统计'!Y26*'环工16-1分数统计'!$Y$3/120","v":1.45},{"$f":"'环工16-1分数统计'!Z26*'环工16-1分数统计'!$Z$3/120","v":1.825},{"$f":"'环工16-1分数统计'!AA26*'环工16-1分数统计'!$AA$3/120","v":1.95},{"$f":"'环工16-1分数统计'!AB26*'环工16-1分数统计'!$AB$3/120","v":1.2166666666666666},{"$f":"'环工16-1分数统计'!AC26*'环工16-1分数统计'!$AC$3/120","v":1.2333333333333334},{"$f":"'环工16-1分数统计'!AD26*'环工16-1分数统计'!$AD$3/120","v":1.2166666666666666},{"$f":"'环工16-1分数统计'!AE26*'环工16-1分数统计'!$AE$3/120","v":1.7},{"$f":"'环工16-1分数统计'!AF26*'环工16-1分数统计'!$AF$3/120","v":0.7},{"$f":"'环工16-1分数统计'!AG26*'环工16-1分数统计'!$AG$3/120","v":1.5833333333333333},{"$f":"'环工16-1分数统计'!AH26*'环工16-1分数统计'!$AH$3/120","v":1.65},{"$f":"'环工16-1分数统计'!AI26*'环工16-1分数统计'!$AI$3/120","v":1.3833333333333333},{"$f":"'环工16-1分数统计'!AJ26*'环工16-1分数统计'!$AJ$3/120","v":0.6916666666666667},{"$f":"'环工16-1分数统计'!AK26*'环工16-1分数统计'!$AK$3/120","v":2},{"$f":"'环工16-1分数统计'!AL26*'环工16-1分数统计'!$AL$3/120","v":1.35},{"$f":"'环工16-1分数统计'!AM26*'环工16-1分数统计'!$AM$3/120","v":0.85},{"$f":"'环工16-1分数统计'!AN26*'环工16-1分数统计'!$AN$3/120","v":1.825},{"$f":"'环工16-1分数统计'!AO26*'环工16-1分数统计'!$AO$3/120","v":1.5},{"$f":"'环工16-1分数统计'!AP26*'环工16-1分数统计'!$AP$3/120","v":1.025},{"$f":"'环工16-1分数统计'!AQ26*'环工16-1分数统计'!$AQ$3/120","v":1.95},{"$f":"'环工16-1分数统计'!AR26*'环工16-1分数统计'!$AR$3/120","v":1.4166666666666667},{"$f":"'环工16-1分数统计'!AS26*'环工16-1分数统计'!$AS$3/120","v":1.4833333333333334},{"$f":"'环工16-1分数统计'!AT26*'环工16-1分数统计'!$AT$3/120","v":1.8},{"$f":"'环工16-1分数统计'!AU26*'环工16-1分数统计'!$AU$3/120","v":0.75},{"$f":"'环工16-1分数统计'!AV26*'环工16-1分数统计'!$AV$3/120","v":1.25},{"$f":"'环工16-1分数统计'!AW26*'环工16-1分数统计'!$AW$3/120","v":0.6666666666666666},{"$f":"'环工16-1分数统计'!AX26*'环工16-1分数统计'!$AX$3/120","v":2.4},{"$f":"'环工16-1分数统计'!AY26*'环工16-1分数统计'!$AY$3/120","v":1.2666666666666666},{"$f":"'环工16-1分数统计'!AZ26*'环工16-1分数统计'!$AZ$3/120","v":1.2833333333333334},{"$f":"'环工16-1分数统计'!BA26*'环工16-1分数统计'!$BA$3/120","v":1.2833333333333334},{"$f":"'环工16-1分数统计'!BB26*'环工16-1分数统计'!$BB$3/120","v":1.025},{"$f":"'环工16-1分数统计'!BC26*'环工16-1分数统计'!$BC$3/120","v":2.175},{"$f":"'环工16-1分数统计'!BD26*'环工16-1分数统计'!$BD$3/120","v":1.1375},{"$f":"'环工16-1分数统计'!BE26*'环工16-1分数统计'!$BE$3/120","v":1.1666666666666667},null,null,89.7781852666256,86.4013027861027,86.9013647129289,263.0808527656572,76.100158904699,15.2200317809398]
[null,"于鹏  ","2016010627          ",{"$f":"'环工16-1分数统计'!H27*'环工16-1分数统计'!$H$3/120","v":0.6666666666666666},{"$f":"'环工16-1分数统计'!I27*'环工16-1分数统计'!$I$3/120","v":1.5333333333333334},{"$f":"'环工16-1分数统计'!J27*'环工16-1分数统计'!$J$3/120","v":3.7},{"$f":"'环工16-1分数统计'!K27*'环工16-1分数统计'!$K$3/120","v":2.85},{"$f":"'环工16-1分数统计'!L27*'环工16-1分数统计'!$L$3/120","v":1.3833333333333333},{"$f":"'环工16-1分数统计'!M27*'环工16-1分数统计'!$M$3/120","v":1.3},{"$f":"'环工16-1分数统计'!N27*'环工16-1分数统计'!$N$3/120","v":2.533333333333333},{"$f":"'环工16-1分数统计'!O27*'环工16-1分数统计'!$O$3/121","v":0.6446280991735537},{"$f":"'环工16-1分数统计'!P27*'环工16-1分数统计'!$P$3/120","v":1.3125},{"$f":"'环工16-1分数统计'!Q27*'环工16-1分数统计'!$Q$3/120","v":0.6166666666666667},{"$f":"'环工16-1分数统计'!R27*'环工16-1分数统计'!$R$3/120","v":1.6},{"$f":"'环工16-1分数统计'!S27*'环工16-1分数统计'!$S$3/120","v":3.1666666666666665},{"$f":"'环工16-1分数统计'!T27*'环工16-1分数统计'!$T$3/120","v":1.6875},{"$f":"'环工16-1分数统计'!U27*'环工16-1分数统计'!$U$3/120","v":2.2333333333333334},{"$f":"'环工16-1分数统计'!V27*'环工16-1分数统计'!$V$3/120","v":1.675},{"$f":"'环工16-1分数统计'!W27*'环工16-1分数统计'!$W$3/120","v":2.1333333333333333},{"$f":"'环工16-1分数统计'!X27*'环工16-1分数统计'!$X$3/120","v":0.6666666666666666},{"$f":"'环工16-1分数统计'!Y27*'环工16-1分数统计'!$Y$3/120","v":1.4166666666666667},{"$f":"'环工16-1分数统计'!Z27*'环工16-1分数统计'!$Z$3/120","v":1.5},{"$f":"'环工16-1分数统计'!AA27*'环工16-1分数统计'!$AA$3/120","v":1.875},{"$f":"'环工16-1分数统计'!AB27*'环工16-1分数统计'!$AB$3/120","v":1.15},{"$f":"'环工16-1分数统计'!AC27*'环工16-1分数统计'!$AC$3/120","v":1.2833333333333334},{"$f":"'环工16-1分数统计'!AD27*'环工16-1分数统计'!$AD$3/120","v":1.3166666666666667},{"$f":"'环工16-1分数统计'!AE27*'环工16-1分数统计'!$AE$3/120","v":1.1166666666666667},{"$f":"'环工16-1分数统计'!AF27*'环工16-1分数统计'!$AF$3/120","v":0.7583333333333333},{"$f":"'环工16-1分数统计'!AG27*'环工16-1分数统计'!$AG$3/120","v":1.5208333333333333},{"$f":"'环工16-1分数统计'!AH27*'环工16-1分数统计'!$AH$3/120","v":1.675},{"$f":"'环工16-1分数统计'!AI27*'环工16-1分数统计'!$AI$3/120","v":1.3833333333333333},{"$f":"'环工16-1分数统计'!AJ27*'环工16-1分数统计'!$AJ$3/120","v":0.7},{"$f":"'环工16-1分数统计'!AK27*'环工16-1分数统计'!$AK$3/120","v":2.2333333333333334},{"$f":"'环工16-1分数统计'!AL27*'环工16-1分数统计'!$AL$3/120","v":1.2333333333333334},{"$f":"'环工16-1分数统计'!AM27*'环工16-1分数统计'!$AM$3/120","v":0.775},{"$f":"'环工16-1分数统计'!AN27*'环工16-1分数统计'!$AN$3/120","v":1.5},{"$f":"'环工16-1分数统计'!AO27*'环工16-1分数统计'!$AO$3/120","v":1.675},{"$f":"'环工16-1分数统计'!AP27*'环工16-1分数统计'!$AP$3/120","v":0.9875},{"$f":"'环工16-1分数统计'!AQ27*'环工16-1分数统计'!$AQ$3/120","v":1.65},{"$f":"'环工16-1分数统计'!AR27*'环工16-1分数统计'!$AR$3/120","v":1.4166666666666667},{"$f":"'环工16-1分数统计'!AS27*'环工16-1分数统计'!$AS$3/120","v":1.4166666666666667},{"$f":"'环工16-1分数统计'!AT27*'环工16-1分数统计'!$AT$3/120","v":1.25},{"$f":"'环工16-1分数统计'!AU27*'环工16-1分数统计'!$AU$3/120","v":0.675},{"$f":"'环工16-1分数统计'!AV27*'环工16-1分数统计'!$AV$3/120","v":1.4},{"$f":"'环工16-1分数统计'!AW27*'环工16-1分数统计'!$AW$3/120","v":0.6},{"$f":"'环工16-1分数统计'!AX27*'环工16-1分数统计'!$AX$3/120","v":2.2666666666666666},{"$f":"'环工16-1分数统计'!AY27*'环工16-1分数统计'!$AY$3/120","v":1.0833333333333333},{"$f":"'环工16-1分数统计'!AZ27*'环工16-1分数统计'!$AZ$3/120","v":1.25},{"$f":"'环工16-1分数统计'!BA27*'环工16-1分数统计'!$BA$3/120","v":1.3166666666666667},{"$f":"'环工16-1分数统计'!BB27*'环工16-1分数统计'!$BB$3/120","v":1},{"$f":"'环工16-1分数统计'!BC27*'环工16-1分数统计'!$BC$3/120","v":2.05},{"$f":"'环工16-1分数统计'!BD27*'环工16-1分数统计'!$BD$3/120","v":0.975},{"$f":"'环工16-1分数统计'!BE27*'环工16-1分数统计'!$BE$3/120","v":1.4},null,null,81.665825530652,80.5780127428126,85.83872836052836,248.08256663399297,71.76167533237121,14.352335066474243]
[null,"扎西多吉    ","2016010628          ",{"$f":"'环工16-1分数统计'!H28*'环工16-1分数统计'!$H$3/120","v":0.5},{"$f":"'环工16-1分数统计'!I28*'环工16-1分数统计'!$I$3/120","v":1.25},{"$f":"'环工16-1分数统计'!J28*'环工16-1分数统计'!$J$3/120","v":3},{"$f":"'环工16-1分数统计'!K28*'环工16-1分数统计'!$K$3/120","v":1.6875},{"$f":"'环工16-1分数统计'!L28*'环工16-1分数统计'!$L$3/120","v":1},{"$f":"'环工16-1分数统计'!M28*'环工16-1分数统计'!$M$3/120","v":1},{"$f":"'环工16-1分数统计'!N28*'环工16-1分数统计'!$N$3/120","v":1.45},{"$f":"'环工16-1分数统计'!O28*'环工16-1分数统计'!$O$3/121","v":0.6115702479338843},{"$f":"'环工16-1分数统计'!P28*'环工16-1分数统计'!$P$3/120","v":1.125},{"$f":"'环工16-1分数统计'!Q28*'环工16-1分数统计'!$Q$3/120","v":0.375},{"$f":"'环工16-1分数统计'!R28*'环工16-1分数统计'!$R$3/120","v":1.025},{"$f":"'环工16-1分数统计'!S28*'环工16-1分数统计'!$S$3/120","v":2.5},{"$f":"'环工16-1分数统计'!T28*'环工16-1分数统计'!$T$3/120","v":1.4166666666666667},{"$f":"'环工16-1分数统计'!U28*'环工16-1分数统计'!$U$3/120","v":1.5333333333333334},{"$f":"'环工16-1分数统计'!V28*'环工16-1分数统计'!$V$3/120","v":1.5},{"$f":"'环工16-1分数统计'!W28*'环工16-1分数统计'!$W$3/120","v":1.3666666666666667},{"$f":"'环工16-1分数统计'!X28*'环工16-1分数统计'!$X$3/120","v":0.675},{"$f":"'环工16-1分数统计'!Y28*'环工16-1分数统计'!$Y$3/120","v":1.4333333333333333},{"$f":"'环工16-1分数统计'!Z28*'环工16-1分数统计'!$Z$3/121","v":1.0165289256198347},{"$f":"'环工16-1分数统计'!AA28*'环工16-1分数统计'!$AA$3/120","v":1.525},{"$f":"'环工16-1分数统计'!AB28*'环工16-1分数统计'!$AB$3/120","v":1},{"$f":"'环工16-1分数统计'!AC28*'环工16-1分数统计'!$AC$3/120","v":1.1166666666666667},{"$f":"'环工16-1分数统计'!AD28*'环工16-1分数统计'!$AD$3/120","v":1},{"$f":"'环工16-1分数统计'!AE28*'环工16-1分数统计'!$AE$3/120","v":1},{"$f":"'环工16-1分数统计'!AF28*'环工16-1分数统计'!$AF$3/120","v":0.7416666666666667},{"$f":"'环工16-1分数统计'!AG28*'环工16-1分数统计'!$AG$3/120","v":1.4166666666666667},{"$f":"'环工16-1分数统计'!AH28*'环工16-1分数统计'!$AH$3/120","v":1.5},{"$f":"'环工16-1分数统计'!AI28*'环工16-1分数统计'!$AI$3/120","v":1.2666666666666666},{"$f":"'环工16-1分数统计'!AJ28*'环工16-1分数统计'!$AJ$3/120","v":0.7},{"$f":"'环工16-1分数统计'!AK28*'环工16-1分数统计'!$AK$3/120","v":1.3333333333333333},{"$f":"'环工16-1分数统计'!AL28*'环工16-1分数统计'!$AL$3/120","v":1.25},{"$f":"'环工16-1分数统计'!AM28*'环工16-1分数统计'!$AM$3/120","v":0.6625},{"$f":"'环工16-1分数统计'!AN28*'环工16-1分数统计'!$AN$3/120","v":1.225},{"$f":"'环工16-1分数统计'!AO28*'环工16-1分数统计'!$AO$3/120","v":1.65},{"$f":"'环工16-1分数统计'!AP28*'环工16-1分数统计'!$AP$3/120","v":1.05},{"$f":"'环工16-1分数统计'!AQ28*'环工16-1分数统计'!$AQ$3/120","v":1.15},{"$f":"'环工16-1分数统计'!AR28*'环工16-1分数统计'!$AR$3/121","v":1.43801652892562},{"$f":"'环工16-1分数统计'!AS28*'环工16-1分数统计'!$AS$3/120","v":1},{"$f":"'环工16-1分数统计'!AT28*'环工16-1分数统计'!$AT$3/120","v":0.85},{"$f":"'环工16-1分数统计'!AU28*'环工16-1分数统计'!$AU$3/120","v":0.775},{"$f":"'环工16-1分数统计'!AV28*'环工16-1分数统计'!$AV$3/120","v":1.1666666666666667},{"$f":"'环工16-1分数统计'!AW28*'环工16-1分数统计'!$AW$3/120","v":0.5333333333333333},{"$f":"'环工16-1分数统计'!AX28*'环工16-1分数统计'!$AX$3/120","v":1.1666666666666667},{"$f":"'环工16-1分数统计'!AY28*'环工16-1分数统计'!$AY$3/120","v":1},{"$f":"'环工16-1分数统计'!AZ28*'环工16-1分数统计'!$AZ$3/120","v":0.9},{"$f":"'环工16-1分数统计'!BA28*'环工16-1分数统计'!$BA$3/120","v":0.8333333333333334},{"$f":"'环工16-1分数统计'!BB28*'环工16-1分数统计'!$BB$3/121","v":1.0165289256198347},{"$f":"'环工16-1分数统计'!BC28*'环工16-1分数统计'!$BC$3/120","v":1.6},{"$f":"'环工16-1分数统计'!BD28*'环工16-1分数统计'!$BD$3/120","v":1.0125},{"$f":"'环工16-1分数统计'!BE28*'环工16-1分数统计'!$BE$3/120","v":1.15},null,null,64.8911093920381,75.7160975912975,73.09373233658951,213.7009393199251,61.816263971198005,12.363252794239601]

{"sheet":"环工16-1单算","index":4,"n_rows":28,"n_cols":67,"rows_kept":28,"merged":[[2,52,2,57]]}
[null,null,"入学教育与安全教育","军事训练（Ⅰ）","高等数学B（Ⅰ）","无机化学与分析化学 ","思想道德修养与法律基础","中国近代史纲要 ","大学英语（Ⅰ） ","大学体育（Ⅰ）","机械制图","计算机辅助绘图","VB程序设计（A）","高等数学B（Ⅱ）","无机与分析化学实验（Ⅰ）","有机化学 ","大学物理C（Ⅰ）","大学英语（Ⅱ）","大学体育（Ⅱ）","金工实习 ","物理化学（Ⅰ） ","大学物理C（Ⅱ）","大学物理实验B（Ⅰ）","毛概（Ⅰ）","马原 ","大学英语（Ⅲ）","大学体育（Ⅲ）","生物化学 ","线性代数","有机化学实验","无机与分析化学实验（Ⅱ）","化工原理（Ⅰ）","环境监测实验  ","环境监测 ","工程力学（环工） ","概率统计基础","物理化学实验（Ⅰ）","物理化学（Ⅱ）","大学物理实验B（Ⅱ）","毛概（Ⅱ）","大学英语Ⅳ","大学体育Ⅳ","认识实习","化工原理实验（Ⅰ）","化工原理（Ⅱ）","环境工程微生物学","水污染控制工程（Ⅰ）","电工学及实验","物理化学实验（Ⅱ）","项目管理与技术经济","环境工程微生物学实验","水污染控制工程（Ⅰ）课程设计","化工原理实验（II）          ","大气污染控制工程实验          ","水污染控制工程（II）课程设计               ","大气污染控制工程        ","水污染控制工程（Ⅱ）          ","就业指导    "]
[null,null,1,2,6,4.5,2,2,4,1,2.5,1,3,5,2.5,4,3,4,1,2,3,3,2,2,2,2,1,2.5,3,2,1,4,2,1.5,3,3,1.5,3,2,2,2,1,2,1,4,2,2,2,1.5,3,1.5,2,"1 ","0.5   ","2 ","2.5   ","3 ","1 "]
["姓名","学号","大一上学期",{"$nulls":7},"大一下学期",{"$nulls":9},"大二上学期",{"$nulls":10},"大二下学期",{"$nulls":11},"大三上学期",{"$nulls":8},"大三下学期",{"$nulls":5},"必修课加权总分","必修课加权*0.7","第一年综测","第二年综测","第三年综测","三年综测加和","综测加权","综测加权*0.2","总分（必修课＋综测）"]
["高信中","2015010676",{"$f":"'环工16-1分数统计'!H4*'环工16-1分数统计'!H$3/130","v":0.5230769230769231},{"$f":"'环工16-1分数统计'!I4*'环工16-1分数统计'!I$3/130","v":1.353846153846154},{"$f":"'环工16-1分数统计'!J4*'环工16-1分数统计'!J$3/130","v":2.769230769230769},{"$f":"'环工16-1分数统计'!K4*'环工16-1分数统计'!K$3/130","v":2.076923076923077},{"$f":"'环工16-1分数统计'!L4*'环工16-1分数统计'!L$3/130","v":1.3846153846153846},{"$f":"'环工16-1分数统计'!M4*'环工16-1分数统计'!M$3/130","v":0.9230769230769231},{"$f":"'环工16-1分数统计'!N4*'环工16-1分数统计'!N$3/130","v":2.707692307692308},{"$f":"'环工16-1分数统计'!O4*'环工16-1分数统计'!O$3/130","v":0.6153846153846154},{"$f":"'环工16-1分数统计'!P4*'环工16-1分数统计'!P$3/130","v":1.5192307692307692},{"$f":"'环工16-1分数统计'!Q4*'环工16-1分数统计'!Q$3/130","v":0.6615384615384615},{"$f":"'环工16-1分数统计'!R4*'环工16-1分数统计'!R$3/130","v":1.4538461538461538},{"$f":"'环工16-1分数统计'!S4*'环工16-1分数统计'!S$3/130","v":2.3461538461538463},{"$f":"'环工16-1分数统计'!T4*'环工16-1分数统计'!T$3/130","v":1.5},{"$f":"'环工16-1分数统计'!U4*'环工16-1分数统计'!U$3/130","v":2.123076923076923},{"$f":"'环工16-1分数统计'!V4*'环工16-1分数统计'!V$3/130","v":1.8},{"$f":"'环工16-1分数统计'!W4*'环工16-1分数统计'!W$3/130","v":2.8769230769230774},{"$f":"'环工16-1分数统计'!X4*'环工16-1分数统计'!X$3/130","v":0.6538461538461539},{"$f":"'环工16-1分数统计'!Y4*'环工16-1分数统计'!Y$3/130","v":1.3692307692307693},{"$f":"'环工16-1分数统计'!Z4*'环工16-1分数统计'!Z$3/130","v":0.5076923076923077},{"$f":"'环工16-1分数统计'!AA4*'环工16-1分数统计'!AA$3/130","v":1.4076923076923078},{"$f":"'环工16-1分数统计'!AB4*'环工16-1分数统计'!AB$3/130","v":1.0769230769230769},{"$f":"'环工16-1分数统计'!AC4*'环工16-1分数统计'!AC$3/130","v":1.2615384615384615},{"$f":"'环工16-1分数统计'!AD4*'环工16-1分数统计'!AD$3/130","v":1.2461538461538462},{"$f":"'环工16-1分数统计'!AE4*'环工16-1分数统计'!AE$3/130","v":1.4384615384615387},{"$f":"'环工16-1分数统计'!AF4*'环工16-1分数统计'!AF$3/130","v":0.7076923076923077},{"$f":"'环工16-1分数统计'!AG4*'环工16-1分数统计'!AG$3/130","v":1.5},{"$f":"'环工16-1分数统计'!AH4*'环工16-1分数统计'!AH$3/130","v":1.0846153846153845},{"$f":"'环工16-1分数统计'!AI4*'环工16-1分数统计'!AI$3/130","v":1.1692307692307693},{"$f":"'环工16-1分数统计'!AJ4*'环工16-1分数统计'!AJ$3/130","v":0.6384615384615384},{"$f":"'环工16-1分数统计'!AK4*'环工16-1分数统计'!AK$3/130","v":0.4307692307692308},{"$f":"'环工16-1分数统计'!AL4*'环工16-1分数统计'!AL$3/130","v":1.1692307692307693},{"$f":"'环工16-1分数统计'!AM4*'环工16-1分数统计'!AM$3/130","v":0.6923076923076923},{"$f":"'环工16-1分数统计'!AN4*'环工16-1分数统计'!AN$3/130","v":1.3846153846153846},{"$f":"'环工16-1分数统计'!AO4*'环工16-1分数统计'!AO$3/130","v":1.3846153846153846},{"$f":"'环工16-1分数统计'!AP4*'环工16-1分数统计'!AP$3/130","v":0.8653846153846154},{"$f":"'环工16-1分数统计'!AQ4*'环工16-1分数统计'!AQ$3/130","v":0.6},{"$f":"'环工16-1分数统计'!AR4*'环工16-1分数统计'!AR$3/130","v":1.2615384615384615},{"$f":"'环工16-1分数统计'!AS4*'环工16-1分数统计'!AS$3/130","v":1.3692307692307693},{"$f":"'环工16-1分数统计'!AT4*'环工16-1分数统计'!AT$3/130","v":1.5230769230769232},{"$f":"'环工16-1分数统计'!AU4*'环工16-1分数统计'!AU$3/130","v":0.6615384615384615},{"$f":"'环工16-1分数统计'!AV4*'环工16-1分数统计'!AV$3/130","v":0.9384615384615385},{"$f":"'环工16-1分数统计'!AW4*'环工16-1分数统计'!AW$3/130","v":0.46153846153846156},{"$f":"'环工16-1分数统计'!AX4*'环工16-1分数统计'!AX$3/130","v":0.4307692307692308},{"$f":"'环工16-1分数统计'!AY4*'环工16-1分数统计'!AY$3/130","v":1.0307692307692307},{"$f":"'环工16-1分数统计'!AZ4*'环工16-1分数统计'!AZ$3/130","v":0.6615384615384615},{"$f":"'环工16-1分数统计'!BA4*'环工16-1分数统计'!BA$3/130","v":0.9230769230769231},{"$f":"'环工16-1分数统计'!BB4*'环工16-1分数统计'!BB$3/130","v":0.8653846153846154},{"$f":"'环工16-1分数统计'!BC4*'环工16-1分数统计'!BC$3/130","v":1.4076923076923078},{"$f":"'环工16-1分数统计'!BD4*'环工16-1分数统计'!BD$3/130","v":0.7961538461538461},{"$f":"'环工16-1分数统计'!BE4*'环工16-1分数统计'!BE$3/130","v":0.9230769230769231},{"$f":"'环工16-1分数统计'!BF4*'环工16-1分数统计'!BF$3/130","v":0.46153846153846156},{"$f":"'环工16-1分数统计'!BG4*'环工16-1分数统计'!BG$3/130","v":0.31153846153846154},{"$f":"'环工16-1分数统计'!BH4*'环工16-1分数统计'!BH$3/130","v":1.1846153846153846},{"$f":"'环工16-1分数统计'!BI4*'环工16-1分数统计'!BI$3/130","v":1.3076923076923077},{"$f":"'环工16-1分数统计'!BJ4*'环工16-1分数统计'!BJ$3/130","v":1.8923076923076922},{"$f":"'环工16-1分数统计'!BK4*'环工16-1分数统计'!BK$3/130","v":0.46153846153846156},{"$f":"SUM(C4:BF4)","v":66.09615384615384},{"$f":"BG4*0.7","v":46.26730769230768},{"$f":"'环工16-1两年综测'!BD4","v":81.9647009329398},{"$f":"'环工16-1两年综测'!BE4","v":71.6693097125097},{"$f":"'环工16-1两年综测'!BF4","v":64.57319300699301},{"$f":"SUM(BI4:BK4)","v":218.2072036524425},{"$f":"BL4/$BL$8*100","v":63.11976982563819},{"$f":"BM4*0.2","v":12.623953965127638},{"$f":"BH4+BN4","v":58.89126165743532}]
["程诗宇","2016010599",{"$f":"'环工16-1分数统计'!H5*'环工16-1分数统计'!H$3/130","v":0.6538461538461539},{"$f":"'环工16-1分数统计'!I5*'环工16-1分数统计'!I$3/130","v":1.4},{"$f":"'环工16-1分数统计'!J5*'环工16-1分数统计'!J$3/130","v":4.384615384615385},{"$f":"'环工16-1分数统计'!K5*'环工16-1分数统计'!K$3/130","v":3.1153846153846154},{"$f":"'环工16-1分数统计'!L5*'环工16-1分数统计'!L$3/130","v":1.2615384615384615},{"$f":"'环工16-1分数统计'!M5*'环工16-1分数统计'!M$3/130","v":1.1692307692307693},{"$f":"'环工16-1分数统计'!N5*'环工16-1分数统计'!N$3/130","v":2.5384615384615383},{"$f":"'环工16-1分数统计'!O5*'环工16-1分数统计'!O$3/130","v":0.6},{"$f":"'环工16-1分数统计'!P5*'环工16-1分数统计'!P$3/130","v":1.8269230769230769},{"$f":"'环工16-1分数统计'!Q5*'环工16-1分数统计'!Q$3/130","v":0.7230769230769231},{"$f":"'环工16-1分数统计'!R5*'环工16-1分数统计'!R$3/130","v":1.8692307692307693},{"$f":"'环工16-1分数统计'!S5*'环工16-1分数统计'!S$3/130","v":3.6153846153846154},{"$f":"'环工16-1分数统计'!T5*'环工16-1分数统计'!T$3/130","v":1.6730769230769231},{"$f":"'环工16-1分数统计'!U5*'环工16-1分数统计'!U$3/130","v":2.6769230769230767},{"$f":"'环工16-1分数统计'!V5*'环工16-1分数统计'!V$3/130","v":2.0307692307692307},{"$f":"'环工16-1分数统计'!W5*'环工16-1分数统计'!W$3/130","v":2.741538461538462},{"$f":"'环工16-1分数统计'!X5*'环工16-1分数统计'!X$3/130","v":0.7153846153846154},{"$f":"'环工16-1分数统计'!Y5*'环工16-1分数统计'!Y$3/130","v":1.353846153846154},{"$f":"'环工16-1分数统计'!Z5*'环工16-1分数统计'!Z$3/130","v":1.8692307692307693},{"$f":"'环工16-1分数统计'!AA5*'环工16-1分数统计'!AA$3/130","v":2.146153846153846},{"$f":"'环工16-1分数统计'!AB5*'环工16-1分数统计'!AB$3/130","v":1.2},{"$f":"'环工16-1分数统计'!AC5*'环工16-1分数统计'!AC$3/130","v":1.0307692307692307},{"$f":"'环工16-1分数统计'!AD5*'环工16-1分数统计'!AD$3/130","v":1.2307692307692308},{"$f":"'环工16-1分数统计'!AE5*'环工16-1分数统计'!AE$3/130","v":1.303076923076923},{"$f":"'环工16-1分数统计'!AF5*'环工16-1分数统计'!AF$3/130","v":0.6615384615384615},{"$f":"'环工16-1分数统计'!AG5*'环工16-1分数统计'!AG$3/130","v":1.5384615384615385},{"$f":"'环工16-1分数统计'!AH5*'环工16-1分数统计'!AH$3/130","v":1.8923076923076922},{"$f":"'环工16-1分数统计'!AI5*'环工16-1分数统计'!AI$3/130","v":1.3846153846153846},{"$f":"'环工16-1分数统计'!AJ5*'环工16-1分数统计'!AJ$3/130","v":0.7307692307692307},{"$f":"'环工16-1分数统计'!AK5*'环工16-1分数统计'!AK$3/130","v":2.523076923076923},{"$f":"'环工16-1分数统计'!AL5*'环工16-1分数统计'!AL$3/130","v":1.353846153846154},{"$f":"'环工16-1分数统计'!AM5*'环工16-1分数统计'!AM$3/130","v":0.9461538461538461},{"$f":"'环工16-1分数统计'!AN5*'环工16-1分数统计'!AN$3/130","v":1.8},{"$f":"'环工16-1分数统计'!AO5*'环工16-1分数统计'!AO$3/130","v":1.6615384615384616},{"$f":"'环工16-1分数统计'!AP5*'环工16-1分数统计'!AP$3/130","v":0.9576923076923077},{"$f":"'环工16-1分数统计'!AQ5*'环工16-1分数统计'!AQ$3/130","v":1.8692307692307693},{"$f":"'环工16-1分数统计'!AR5*'环工16-1分数统计'!AR$3/130","v":1.323076923076923},{"$f":"'环工16-1分数统计'!AS5*'环工16-1分数统计'!AS$3/130","v":1.3846153846153846},{"$f":"'环工16-1分数统计'!AT5*'环工16-1分数统计'!AT$3/130","v":1.4046153846153848},{"$f":"'环工16-1分数统计'!AU5*'环工16-1分数统计'!AU$3/130","v":0.6692307692307692},{"$f":"'环工16-1分数统计'!AV5*'环工16-1分数统计'!AV$3/130","v":1.2769230769230768},{"$f":"'环工16-1分数统计'!AW5*'环工16-1分数统计'!AW$3/130","v":0.6384615384615384},{"$f":"'环工16-1分数统计'!AX5*'环工16-1分数统计'!AX$3/130","v":2.707692307692308},{"$f":"'环工16-1分数统计'!AY5*'环工16-1分数统计'!AY$3/130","v":1.323076923076923},{"$f":"'环工16-1分数统计'!AZ5*'环工16-1分数统计'!AZ$3/130","v":1.476923076923077},{"$f":"'环工16-1分数统计'!BA5*'环工16-1分数统计'!BA$3/130","v":1.4153846153846155},{"$f":"'环工16-1分数统计'!BB5*'环工16-1分数统计'!BB$3/130","v":1.0384615384615385},{"$f":"'环工16-1分数统计'!BC5*'环工16-1分数统计'!BC$3/130","v":2.1},{"$f":"'环工16-1分数统计'!BD5*'环工16-1分数统计'!BD$3/130","v":1.0384615384615385},{"$f":"'环工16-1分数统计'!BE5*'环工16-1分数统计'!BE$3/130","v":1.2307692307692308},{"$f":"'环工16-1分数统计'!BF5*'环工16-1分数统计'!BF$3/130","v":0.7},{"$f":"'环工16-1分数统计'!BG5*'环工16-1分数统计'!BG$3/130","v":0.34615384615384615},{"$f":"'环工16-1分数统计'!BH5*'环工16-1分数统计'!BH$3/130","v":1.3846153846153846},{"$f":"'环工16-1分数统计'!BI5*'环工16-1分数统计'!BI$3/130","v":1.6730769230769231},{"$f":"'环工16-1分数统计'!BJ5*'环工16-1分数统计'!BJ$3/130","v":2.0538461538461537},{"$f":"'环工16-1分数统计'!BK5*'环工16-1分数统计'!BK$3/130","v":0.6384615384615384},{"$f":"SUM(C5:BF5)","v":86.27230769230768},{"$f":"BG5*0.7","v":60.39061538461537},{"$f":"'环工16-1两年综测'!BD5","v":93.6703106791668},{"$f":"'环工16-1两年综测'!BE5","v":95.0443602175602},{"$f":"'环工16-1两年综测'!BF5","v":102.97725570291777},{"$f":"SUM(BI5:BK5)","v":291.6919265996448},84.37634944578714,{"$f":"BM5*0.2","v":16.87526988915743},{"$f":"BH5+BN5","v":77.2658852737728}]
["李异繁","2016010602",{"$f":"'环工16-1分数统计'!H6*'环工16-1分数统计'!H$3/130","v":0.676923076923077},{"$f":"'环工16-1分数统计'!I6*'环工16-1分数统计'!I$3/130","v":1.4153846153846155},{"$f":"'环工16-1分数统计'!J6*'环工16-1分数统计'!J$3/130","v":3.6},{"$f":"'环工16-1分数统计'!K6*'环工16-1分数统计'!K$3/130","v":3.15},{"$f":"'环工16-1分数统计'!L6*'环工16-1分数统计'!L$3/130","v":1.353846153846154},{"$f":"'环工16-1分数统计'!M6*'环工16-1分数统计'!M$3/130","v":1.2461538461538462},{"$f":"'环工16-1分数统计'!N6*'环工16-1分数统计'!N$3/130","v":3.3969230769230765},{"$f":"'环工16-1分数统计'!O6*'环工16-1分数统计'!O$3/130","v":0.6230769230769231},{"$f":"'环工16-1分数统计'!P6*'环工16-1分数统计'!P$3/130","v":1.8461538461538463},{"$f":"'环工16-1分数统计'!Q6*'环工16-1分数统计'!Q$3/130","v":0.7230769230769231},{"$f":"'环工16-1分数统计'!R6*'环工16-1分数统计'!R$3/130","v":1.9846153846153847},{"$f":"'环工16-1分数统计'!S6*'环工16-1分数统计'!S$3/130","v":3.4615384615384617},{"$f":"'环工16-1分数统计'!T6*'环工16-1分数统计'!T$3/130","v":1.8461538461538463},{"$f":"'环工16-1分数统计'!U6*'环工16-1分数统计'!U$3/130","v":2.8923076923076922},{"$f":"'环工16-1分数统计'!V6*'环工16-1分数统计'!V$3/130","v":1.9846153846153847},{"$f":"'环工16-1分数统计'!W6*'环工16-1分数统计'!W$3/130","v":3.2907692307692304},{"$f":"'环工16-1分数统计'!X6*'环工16-1分数统计'!X$3/130","v":0.7538461538461538},{"$f":"'环工16-1分数统计'!Y6*'环工16-1分数统计'!Y$3/130","v":1.3846153846153846},{"$f":"'环工16-1分数统计'!Z6*'环工16-1分数统计'!Z$3/130","v":1.8692307692307693},{"$f":"'环工16-1分数统计'!AA6*'环工16-1分数统计'!AA$3/130","v":1.9615384615384615},{"$f":"'环工16-1分数统计'!AB6*'环工16-1分数统计'!AB$3/130","v":1.353846153846154},{"$f":"'环工16-1分数统计'!AC6*'环工16-1分数统计'!AC$3/130","v":1.2615384615384615},{"$f":"'环工16-1分数统计'!AD6*'环工16-1分数统计'!AD$3/130","v":1.2307692307692308},{"$f":"'环工16-1分数统计'!AE6*'环工16-1分数统计'!AE$3/130","v":1.6453846153846152},{"$f":"'环工16-1分数统计'!AF6*'环工16-1分数统计'!AF$3/130","v":0.7461538461538462},{"$f":"'环工16-1分数统计'!AG6*'环工16-1分数统计'!AG$3/130","v":1.6153846153846154},{"$f":"'环工16-1分数统计'!AH6*'环工16-1分数统计'!AH$3/130","v":2.169230769230769},{"$f":"'环工16-1分数统计'!AI6*'环工16-1分数统计'!AI$3/130","v":1.4},{"$f":"'环工16-1分数统计'!AJ6*'环工16-1分数统计'!AJ$3/130","v":0.7076923076923077},{"$f":"'环工16-1分数统计'!AK6*'环工16-1分数统计'!AK$3/130","v":2.5538461538461537},{"$f":"'环工16-1分数统计'!AL6*'环工16-1分数统计'!AL$3/130","v":1.4153846153846155},{"$f":"'环工16-1分数统计'!AM6*'环工16-1分数统计'!AM$3/130","v":1.0384615384615385},{"$f":"'环工16-1分数统计'!AN6*'环工16-1分数统计'!AN$3/130","v":2.076923076923077},{"$f":"'环工16-1分数统计'!AO6*'环工16-1分数统计'!AO$3/130","v":1.8},{"$f":"'环工16-1分数统计'!AP6*'环工16-1分数统计'!AP$3/130","v":1.0269230769230768},{"$f":"'环工16-1分数统计'!AQ6*'环工16-1分数统计'!AQ$3/130","v":2.2153846153846155},{"$f":"'环工16-1分数统计'!AR6*'环工16-1分数统计'!AR$3/130","v":1.4},{"$f":"'环工16-1分数统计'!AS6*'环工16-1分数统计'!AS$3/130","v":1.4153846153846155},{"$f":"'环工16-1分数统计'!AT6*'环工16-1分数统计'!AT$3/130","v":1.592307692307692},{"$f":"'环工16-1分数统计'!AU6*'环工16-1分数统计'!AU$3/130","v":0.7153846153846154},{"$f":"'环工16-1分数统计'!AV6*'环工16-1分数统计'!AV$3/130","v":1.4307692307692308},{"$f":"'环工16-1分数统计'!AW6*'环工16-1分数统计'!AW$3/130","v":0.7076923076923077},{"$f":"'环工16-1分数统计'!AX6*'环工16-1分数统计'!AX$3/130","v":2.9846153846153847},{"$f":"'环工16-1分数统计'!AY6*'环工16-1分数统计'!AY$3/130","v":1.4615384615384615},{"$f":"'环工16-1分数统计'!AZ6*'环工16-1分数统计'!AZ$3/130","v":1.5076923076923077},{"$f":"'环工16-1分数统计'!BA6*'环工16-1分数统计'!BA$3/130","v":1.5076923076923077},{"$f":"'环工16-1分数统计'!BB6*'环工16-1分数统计'!BB$3/130","v":1.0384615384615385},{"$f":"'环工16-1分数统计'!BC6*'环工16-1分数统计'!BC$3/130","v":2.2846153846153845},{"$f":"'环工16-1分数统计'!BD6*'环工16-1分数统计'!BD$3/130","v":1.073076923076923},{"$f":"'环工16-1分数统计'!BE6*'环工16-1分数统计'!BE$3/130","v":1.3692307692307693},{"$f":"'环工16-1分数统计'!BF6*'环工16-1分数统计'!BF$3/130","v":0.7230769230769231},{"$f":"'环工16-1分数统计'!BG6*'环工16-1分数统计'!BG$3/130","v":0.3576923076923077},{"$f":"'环工16-1分数统计'!BH6*'环工16-1分数统计'!BH$3/130","v":1.3846153846153846},{"$f":"'环工16-1分数统计'!BI6*'环工16-1分数统计'!BI$3/130","v":1.8076923076923077},{"$f":"'环工16-1分数统计'!BJ6*'环工16-1分数统计'!BJ$3/130","v":2.2615384615384615},{"$f":"'环工16-1分数统计'!BK6*'环工16-1分数统计'!BK$3/130","v":0.7076923076923077},91.44846153846153,64.01392307692306,{"$f":"'环工16-1两年综测'!BD6","v":99.1933173128302},{"$f":"'环工16-1两年综测'!BE6","v":102.292881429681},{"$f":"'环工16-1两年综测'!BF6","v":119.85435915119362},321.34055789370484,92.95266934541358,18.590533869082716,82.60445694600578]
["刘涵钰","2016010603",{"$f":"'环工16-1分数统计'!H7*'环工16-1分数统计'!H$3/130","v":0.6076923076923076},{"$f":"'环工16-1分数统计'!I7*'环工16-1分数统计'!I$3/130","v":1.4},{"$f":"'环工16-1分数统计'!J7*'环工16-1分数统计'!J$3/130","v":3.5538461538461537},{"$f":"'环工16-1分数统计'!K7*'环工16-1分数统计'!K$3/130","v":3.046153846153846},{"$f":"'环工16-1分数统计'!L7*'环工16-1分数统计'!L$3/130","v":1.4},{"$f":"'环工16-1分数统计'!M7*'环工16-1分数统计'!M$3/130","v":1.1846153846153846},{"$f":"'环工16-1分数统计'!N7*'环工16-1分数统计'!N$3/130","v":2.741538461538462},{"$f":"'环工16-1分数统计'!O7*'环工16-1分数统计'!O$3/130","v":0.5538461538461539},{"$f":"'环工16-1分数统计'!P7*'环工16-1分数统计'!P$3/130","v":1.6923076923076923},{"$f":"'环工16-1分数统计'!Q7*'环工16-1分数统计'!Q$3/130","v":0.7076923076923077},{"$f":"'环工16-1分数统计'!R7*'环工16-1分数统计'!R$3/130","v":1.8692307692307693},{"$f":"'环工16-1分数统计'!S7*'环工16-1分数统计'!S$3/130","v":3.6153846153846154},{"$f":"'环工16-1分数统计'!T7*'环工16-1分数统计'!T$3/130","v":1.6923076923076923},{"$f":"'环工16-1分数统计'!U7*'环工16-1分数统计'!U$3/130","v":2.646153846153846},{"$f":"'环工16-1分数统计'!V7*'环工16-1分数统计'!V$3/130","v":2.0538461538461537},{"$f":"'环工16-1分数统计'!W7*'环工16-1分数统计'!W$3/130","v":2.741538461538462},{"$f":"'环工16-1分数统计'!X7*'环工16-1分数统计'!X$3/130","v":0.6692307692307692},{"$f":"'环工16-1分数统计'!Y7*'环工16-1分数统计'!Y$3/130","v":1.3846153846153846},{"$f":"'环工16-1分数统计'!Z7*'环工16-1分数统计'!Z$3/130","v":1.5461538461538462},{"$f":"'环工16-1分数统计'!AA7*'环工16-1分数统计'!AA$3/130","v":2.1},{"$f":"'环工16-1分数统计'!AB7*'环工16-1分数统计'!AB$3/130","v":1.2923076923076924},{"$f":"'环工16-1分数统计'!AC7*'环工16-1分数统计'!AC$3/130","v":1.2615384615384615},{"$f":"'环工16-1分数统计'!AD7*'环工16-1分数统计'!AD$3/130","v":1.2307692307692308},{"$f":"'环工16-1分数统计'!AE7*'环工16-1分数统计'!AE$3/130","v":1.303076923076923},{"$f":"'环工16-1分数统计'!AF7*'环工16-1分数统计'!AF$3/130","v":0.6153846153846154},{"$f":"'环工16-1分数统计'!AG7*'环工16-1分数统计'!AG$3/130","v":1.5961538461538463},{"$f":"'环工16-1分数统计'!AH7*'环工16-1分数统计'!AH$3/130","v":1.9153846153846155},{"$f":"'环工16-1分数统计'!AI7*'环工16-1分数统计'!AI$3/130","v":1.3384615384615384},{"$f":"'环工16-1分数统计'!AJ7*'环工16-1分数统计'!AJ$3/130","v":0.7076923076923077},{"$f":"'环工16-1分数统计'!AK7*'环工16-1分数统计'!AK$3/130","v":2.246153846153846},{"$f":"'环工16-1分数统计'!AL7*'环工16-1分数统计'!AL$3/130","v":1.353846153846154},{"$f":"'环工16-1分数统计'!AM7*'环工16-1分数统计'!AM$3/130","v":0.9576923076923077},{"$f":"'环工16-1分数统计'!AN7*'环工16-1分数统计'!AN$3/130","v":1.9153846153846155},{"$f":"'环工16-1分数统计'!AO7*'环工16-1分数统计'!AO$3/130","v":1.7538461538461538},{"$f":"'环工16-1分数统计'!AP7*'环工16-1分数统计'!AP$3/130","v":1.0038461538461538},{"$f":"'环工16-1分数统计'!AQ7*'环工16-1分数统计'!AQ$3/130","v":1.9846153846153847},{"$f":"'环工16-1分数统计'!AR7*'环工16-1分数统计'!AR$3/130","v":1.3384615384615384},{"$f":"'环工16-1分数统计'!AS7*'环工16-1分数统计'!AS$3/130","v":1.4307692307692308},{"$f":"'环工16-1分数统计'!AT7*'环工16-1分数统计'!AT$3/130","v":1.2692307692307692},{"$f":"'环工16-1分数统计'!AU7*'环工16-1分数统计'!AU$3/130","v":0.6307692307692307},{"$f":"'环工16-1分数统计'!AV7*'环工16-1分数统计'!AV$3/130","v":1.2461538461538462},{"$f":"'环工16-1分数统计'!AW7*'环工16-1分数统计'!AW$3/130","v":0.676923076923077},{"$f":"'环工16-1分数统计'!AX7*'环工16-1分数统计'!AX$3/130","v":2.8615384615384616},{"$f":"'环工16-1分数统计'!AY7*'环工16-1分数统计'!AY$3/130","v":1.3384615384615384},{"$f":"'环工16-1分数统计'!AZ7*'环工16-1分数统计'!AZ$3/130","v":1.3846153846153846},{"$f":"'环工16-1分数统计'!BA7*'环工16-1分数统计'!BA$3/130","v":1.3846153846153846},{"$f":"'环工16-1分数统计'!BB7*'环工16-1分数统计'!BB$3/130","v":1.0384615384615385},{"$f":"'环工16-1分数统计'!BC7*'环工16-1分数统计'!BC$3/130","v":2.123076923076923},{"$f":"'环工16-1分数统计'!BD7*'环工16-1分数统计'!BD$3/130","v":1.0153846153846153},{"$f":"'环工16-1分数统计'!BE7*'环工16-1分数统计'!BE$3/130","v":1.3384615384615384},{"$f":"'环工16-1分数统计'!BF7*'环工16-1分数统计'!BF$3/130","v":0.7230769230769231},{"$f":"'环工16-1分数统计'!BG7*'环工16-1分数统计'!BG$3/130","v":0.35384615384615387},{"$f":"'环工16-1分数统计'!BH7*'环工16-1分数统计'!BH$3/130","v":1.4153846153846155},{"$f":"'环工16-1分数统计'!BI7*'环工16-1分数统计'!BI$3/130","v":1.6923076923076923},{"$f":"'环工16-1分数统计'!BJ7*'环工16-1分数统计'!BJ$3/130","v":2.123076923076923},{"$f":"'环工16-1分数统计'!BK7*'环工16-1分数统计'!BK$3/130","v":0.6846153846153846},85.75153846153847,60.02607692307693,{"$f":"'环工16-1两年综测'!BD7","v":90.9492381049094},{"$f":"'环工16-1两年综测'!BE7","v":90.2221258741258},{"$f":"'环工16-1两年综测'!BF7","v":96.55614771626593},277.72751169530113,80.33692893281538,16.067385786563076,76.09346270964001]
["刘雅","2016010604",{"$f":"'环工16-1分数统计'!H8*'环工16-1分数统计'!H$3/130","v":0.6230769230769231},{"$f":"'环工16-1分数统计'!I8*'环工16-1分数统计'!I$3/130","v":1.353846153846154},{"$f":"'环工16-1分数统计'!J8*'环工16-1分数统计'!J$3/130","v":4.523076923076923},{"$f":"'环工16-1分数统计'!K8*'环工16-1分数统计'!K$3/130","v":3.2192307692307693},{"$f":"'环工16-1分数统计'!L8*'环工16-1分数统计'!L$3/130","v":1.3846153846153846},{"$f":"'环工16-1分数统计'!M8*'环工16-1分数统计'!M$3/130","v":1.2307692307692308},{"$f":"'环工16-1分数统计'!N8*'环工16-1分数统计'!N$3/130","v":3.1384615384615384},{"$f":"'环工16-1分数统计'!O8*'环工16-1分数统计'!O$3/130","v":0.6384615384615384},{"$f":"'环工16-1分数统计'!P8*'环工16-1分数统计'!P$3/130","v":1.8461538461538463},{"$f":"'环工16-1分数统计'!Q8*'环工16-1分数统计'!Q$3/130","v":0.6461538461538462},{"$f":"'环工16-1分数统计'!R8*'环工16-1分数统计'!R$3/130","v":1.9384615384615385},{"$f":"'环工16-1分数统计'!S8*'环工16-1分数统计'!S$3/130","v":3.8461538461538463},{"$f":"'环工16-1分数统计'!T8*'环工16-1分数统计'!T$3/130","v":1.8076923076923077},{"$f":"'环工16-1分数统计'!U8*'环工16-1分数统计'!U$3/130","v":2.8923076923076922},{"$f":"'环工16-1分数统计'!V8*'环工16-1分数统计'!V$3/130","v":2.2153846153846155},{"$f":"'环工16-1分数统计'!W8*'环工16-1分数统计'!W$3/130","v":3.1015384615384614},{"$f":"'环工16-1分数统计'!X8*'环工16-1分数统计'!X$3/130","v":0.6923076923076923},{"$f":"'环工16-1分数统计'!Y8*'环工16-1分数统计'!Y$3/130","v":1.3846153846153846},{"$f":"'环工16-1分数统计'!Z8*'环工16-1分数统计'!Z$3/130","v":2.1923076923076925},{"$f":"'环工16-1分数统计'!AA8*'环工16-1分数统计'!AA$3/130","v":2.2846153846153845},{"$f":"'环工16-1分数统计'!AB8*'环工16-1分数统计'!AB$3/130","v":1.4153846153846155},{"$f":"'环工16-1分数统计'!AC8*'环工16-1分数统计'!AC$3/130","v":1.3384615384615384},{"$f":"'环工16-1分数统计'!AD8*'环工16-1分数统计'!AD$3/130","v":1.3692307692307693},{"$f":"'环工16-1分数统计'!AE8*'环工16-1分数统计'!AE$3/130","v":1.5692307692307692},{"$f":"'环工16-1分数统计'!AF8*'环工16-1分数统计'!AF$3/130","v":0.6230769230769231},{"$f":"'环工16-1分数统计'!AG8*'环工16-1分数统计'!AG$3/130","v":1.7692307692307692},{"$f":"'环工16-1分数统计'!AH8*'环工16-1分数统计'!AH$3/130","v":2.2615384615384615},{"$f":"'环工16-1分数统计'!AI8*'环工16-1分数统计'!AI$3/130","v":1.4},{"$f":"'环工16-1分数统计'!AJ8*'环工16-1分数统计'!AJ$3/130","v":0.7},{"$f":"'环工16-1分数统计'!AK8*'环工16-1分数统计'!AK$3/130","v":2.6769230769230767},{"$f":"'环工16-1分数统计'!AL8*'环工16-1分数统计'!AL$3/130","v":1.4},{"$f":"'环工16-1分数统计'!AM8*'环工16-1分数统计'!AM$3/130","v":1.0846153846153845},{"$f":"'环工16-1分数统计'!AN8*'环工16-1分数统计'!AN$3/130","v":2.2153846153846155},{"$f":"'环工16-1分数统计'!AO8*'环工16-1分数统计'!AO$3/130","v":2.076923076923077},{"$f":"'环工16-1分数统计'!AP8*'环工16-1分数统计'!AP$3/130","v":1.0269230769230768},{"$f":"'环工16-1分数统计'!AQ8*'环工16-1分数统计'!AQ$3/130","v":2.2153846153846155},{"$f":"'环工16-1分数统计'!AR8*'环工16-1分数统计'!AR$3/130","v":1.3692307692307693},{"$f":"'环工16-1分数统计'!AS8*'环工16-1分数统计'!AS$3/130","v":1.4307692307692308},{"$f":"'环工16-1分数统计'!AT8*'环工16-1分数统计'!AT$3/130","v":1.433076923076923},{"$f":"'环工16-1分数统计'!AU8*'环工16-1分数统计'!AU$3/130","v":0.6846153846153846},{"$f":"'环工16-1分数统计'!AV8*'环工16-1分数统计'!AV$3/130","v":1.4},{"$f":"'环工16-1分数统计'!AW8*'环工16-1分数统计'!AW$3/130","v":0.6615384615384615},{"$f":"'环工16-1分数统计'!AX8*'环工16-1分数统计'!AX$3/130","v":2.923076923076923},{"$f":"'环工16-1分数统计'!AY8*'环工16-1分数统计'!AY$3/130","v":1.4461538461538461},{"$f":"'环工16-1分数统计'!AZ8*'环工16-1分数统计'!AZ$3/130","v":1.4923076923076923},{"$f":"'环工16-1分数统计'!BA8*'环工16-1分数统计'!BA$3/130","v":1.4923076923076923},{"$f":"'环工16-1分数统计'!BB8*'环工16-1分数统计'!BB$3/130","v":1.0384615384615385},{"$f":"'环工16-1分数统计'!BC8*'环工16-1分数统计'!BC$3/130","v":2.2846153846153845},{"$f":"'环工16-1分数统计'!BD8*'环工16-1分数统计'!BD$3/130","v":1.0269230769230768},{"$f":"'环工16-1分数统计'!BE8*'环工16-1分数统计'!BE$3/130","v":1.4615384615384615},{"$f":"'环工16-1分数统计'!BF8*'环工16-1分数统计'!BF$3/130","v":0.7},{"$f":"'环工16-1分数统计'!BG8*'环工16-1分数统计'!BG$3/130","v":0.36153846153846153},{"$f":"'环工16-1分数统计'!BH8*'环工16-1分数统计'!BH$3/130","v":1.3076923076923077},{"$f":"'环工16-1分数统计'!BI8*'环工16-1分数统计'!BI$3/130","v":1.8653846153846154},{"$f":"'环工16-1分数统计'!BJ8*'环工16-1分数统计'!BJ$3/130","v":2.2384615384615385},{"$f":"'环工16-1分数统计'!BK8*'环工16-1分数统计'!BK$3/130","v":0.6846153846153846},93.40384615384615,65.3826923076923,{"$f":"'环工16-1两年综测'!BD8","v":99.3886572468236},{"$f":"'环工16-1两年综测'!BE8","v":117.401859207459},{"$f":"'环工16-1两年综测'!BF8","v":128.91290460573907},345.7034210600217,{"$f":"BL8/$BL$8*100","v":100},20,85.3826923076923]
["马晓红","2016010605",{"$f":"'环工16-1分数统计'!H9*'环工16-1分数统计'!H$3/130","v":0.5923076923076923},{"$f":"'环工16-1分数统计'!I9*'环工16-1分数统计'!I$3/130","v":1.3384615384615384},{"$f":"'环工16-1分数统计'!J9*'环工16-1分数统计'!J$3/130","v":3.1846153846153844},{"$f":"'环工16-1分数统计'!K9*'环工16-1分数统计'!K$3/130","v":2.2846153846153845},{"$f":"'环工16-1分数统计'!L9*'环工16-1分数统计'!L$3/130","v":1.2307692307692308},{"$f":"'环工16-1分数统计'!M9*'环工16-1分数统计'!M$3/130","v":1.123076923076923},{"$f":"'环工16-1分数统计'!N9*'环工16-1分数统计'!N$3/130","v":2.0307692307692307},{"$f":"'环工16-1分数统计'!O9*'环工16-1分数统计'!O$3/130","v":0.5923076923076923},{"$f":"'环工16-1分数统计'!P9*'环工16-1分数统计'!P$3/130","v":1.3076923076923077},{"$f":"'环工16-1分数统计'!Q9*'环工16-1分数统计'!Q$3/130","v":0.5461538461538461},{"$f":"'环工16-1分数统计'!R9*'环工16-1分数统计'!R$3/130","v":1.3846153846153846},{"$f":"'环工16-1分数统计'!S9*'环工16-1分数统计'!S$3/130","v":2.3076923076923075},{"$f":"'环工16-1分数统计'!T9*'环工16-1分数统计'!T$3/130","v":1.5},{"$f":"'环工16-1分数统计'!U9*'环工16-1分数统计'!U$3/130","v":2.123076923076923},{"$f":"'环工16-1分数统计'!V9*'环工16-1分数统计'!V$3/130","v":1.3846153846153846},{"$f":"'环工16-1分数统计'!W9*'环工16-1分数统计'!W$3/130","v":2.5046153846153847},{"$f":"'环工16-1分数统计'!X9*'环工16-1分数统计'!X$3/130","v":0.6230769230769231},{"$f":"'环工16-1分数统计'!Y9*'环工16-1分数统计'!Y$3/130","v":1.4153846153846155},{"$f":"'环工16-1分数统计'!Z9*'环工16-1分数统计'!Z$3/130","v":1.4076923076923078},{"$f":"'环工16-1分数统计'!AA9*'环工16-1分数统计'!AA$3/130","v":1.4076923076923078},{"$f":"'环工16-1分数统计'!AB9*'环工16-1分数统计'!AB$3/130","v":0.9846153846153847},{"$f":"'环工16-1分数统计'!AC9*'环工16-1分数统计'!AC$3/130","v":1.0769230769230769},{"$f":"'环工16-1分数统计'!AD9*'环工16-1分数统计'!AD$3/130","v":1.1076923076923078},{"$f":"'环工16-1分数统计'!AE9*'环工16-1分数统计'!AE$3/130","v":1.2353846153846155},{"$f":"'环工16-1分数统计'!AF9*'环工16-1分数统计'!AF$3/130","v":0.6615384615384615},{"$f":"'环工16-1分数统计'!AG9*'环工16-1分数统计'!AG$3/130","v":1.4615384615384615},{"$f":"'环工16-1分数统计'!AH9*'环工16-1分数统计'!AH$3/130","v":1.6384615384615384},{"$f":"'环工16-1分数统计'!AI9*'环工16-1分数统计'!AI$3/130","v":1.2307692307692308},{"$f":"'环工16-1分数统计'!AJ9*'环工16-1分数统计'!AJ$3/130","v":0.6923076923076923},{"$f":"'环工16-1分数统计'!AK9*'环工16-1分数统计'!AK$3/130","v":1.9384615384615385},{"$f":"'环工16-1分数统计'!AL9*'环工16-1分数统计'!AL$3/130","v":1.123076923076923},{"$f":"'环工16-1分数统计'!AM9*'环工16-1分数统计'!AM$3/130","v":0.6923076923076923},{"$f":"'环工16-1分数统计'!AN9*'环工16-1分数统计'!AN$3/130","v":1.4076923076923078},{"$f":"'环工16-1分数统计'!AO9*'环工16-1分数统计'!AO$3/130","v":1.5923076923076922},{"$f":"'环工16-1分数统计'!AP9*'环工16-1分数统计'!AP$3/130","v":0.9923076923076923},{"$f":"'环工16-1分数统计'!AQ9*'环工16-1分数统计'!AQ$3/130","v":1.523076923076923},{"$f":"'环工16-1分数统计'!AR9*'环工16-1分数统计'!AR$3/130","v":1.3076923076923077},{"$f":"'环工16-1分数统计'!AS9*'环工16-1分数统计'!AS$3/130","v":1.3384615384615384},{"$f":"'环工16-1分数统计'!AT9*'环工16-1分数统计'!AT$3/130","v":1.1846153846153846},{"$f":"'环工16-1分数统计'!AU9*'环工16-1分数统计'!AU$3/130","v":0.6384615384615384},{"$f":"'环工16-1分数统计'!AV9*'环工16-1分数统计'!AV$3/130","v":1.2615384615384615},{"$f":"'环工16-1分数统计'!AW9*'环工16-1分数统计'!AW$3/130","v":0.5692307692307692},{"$f":"'环工16-1分数统计'!AX9*'环工16-1分数统计'!AX$3/130","v":2.1538461538461537},{"$f":"'环工16-1分数统计'!AY9*'环工16-1分数统计'!AY$3/130","v":1.1384615384615384},{"$f":"'环工16-1分数统计'!AZ9*'环工16-1分数统计'!AZ$3/130","v":1.2615384615384615},{"$f":"'环工16-1分数统计'!BA9*'环工16-1分数统计'!BA$3/130","v":1.1538461538461537},{"$f":"'环工16-1分数统计'!BB9*'环工16-1分数统计'!BB$3/130","v":0.9807692307692307},{"$f":"'环工16-1分数统计'!BC9*'环工16-1分数统计'!BC$3/130","v":1.9846153846153847},{"$f":"'环工16-1分数统计'!BD9*'环工16-1分数统计'!BD$3/130","v":0.9807692307692307},{"$f":"'环工16-1分数统计'!BE9*'环工16-1分数统计'!BE$3/130","v":1.0769230769230769},{"$f":"'环工16-1分数统计'!BF9*'环工16-1分数统计'!BF$3/130","v":0.6538461538461539},{"$f":"'环工16-1分数统计'!BG9*'环工16-1分数统计'!BG$3/130","v":0.3423076923076923},{"$f":"'环工16-1分数统计'!BH9*'环工16-1分数统计'!BH$3/130","v":1.123076923076923},{"$f":"'环工16-1分数统计'!BI9*'环工16-1分数统计'!BI$3/130","v":1.4230769230769231},{"$f":"'环工16-1分数统计'!BJ9*'环工16-1分数统计'!BJ$3/130","v":1.7538461538461538},{"$f":"'环工16-1分数统计'!BK9*'环工16-1分数统计'!BK$3/130","v":0.4846153846153846},72.4592307692308,50.721461538461554,{"$f":"'环工16-1两年综测'!BD9","v":79.6107529563945},{"$f":"'环工16-1两年综测'!BE9","v":80.311129025641},{"$f":"'环工16-1两年综测'!BF9","v":83.06909164858129},242.9909736306168,{"$f":"BL9/$BL$8*100","v":70.28885421079713},14.057770842159426,64.77923238062098]
["马一凡","2016010606",{"$f":"'环工16-1分数统计'!H10*'环工16-1分数统计'!H$3/130","v":0.6307692307692307},{"$f":"'环工16-1分数统计'!I10*'环工16-1分数统计'!I$3/130","v":1.3846153846153846},{"$f":"'环工16-1分数统计'!J10*'环工16-1分数统计'!J$3/130","v":4.015384615384615},{"$f":"'环工16-1分数统计'!K10*'环工16-1分数统计'!K$3/130","v":3.15},{"$f":"'环工16-1分数统计'!L10*'环工16-1分数统计'!L$3/130","v":1.2923076923076924},{"$f":"'环工16-1分数统计'!M10*'环工16-1分数统计'!M$3/130","v":1.1076923076923078},{"$f":"'环工16-1分数统计'!N10*'环工16-1分数统计'!N$3/130","v":3.184615384615384},{"$f":"'环工16-1分数统计'!O10*'环工16-1分数统计'!O$3/130","v":0.5923076923076923},{"$f":"'环工16-1分数统计'!P10*'环工16-1分数统计'!P$3/130","v":1.7307692307692308},{"$f":"'环工16-1分数统计'!Q10*'环工16-1分数统计'!Q$3/130","v":0.5615384615384615},{"$f":"'环工16-1分数统计'!R10*'环工16-1分数统计'!R$3/130","v":1.9846153846153847},{"$f":"'环工16-1分数统计'!S10*'环工16-1分数统计'!S$3/130","v":3.3461538461538463},{"$f":"'环工16-1分数统计'!T10*'环工16-1分数统计'!T$3/130","v":1.6730769230769231},{"$f":"'环工16-1分数统计'!U10*'环工16-1分数统计'!U$3/130","v":2.769230769230769},{"$f":"'环工16-1分数统计'!V10*'环工16-1分数统计'!V$3/130","v":2.0307692307692307},{"$f":"'环工16-1分数统计'!W10*'环工16-1分数统计'!W$3/130","v":3.007692307692307},{"$f":"'环工16-1分数统计'!X10*'环工16-1分数统计'!X$3/130","v":0.6615384615384615},{"$f":"'环工16-1分数统计'!Y10*'环工16-1分数统计'!Y$3/130","v":1.353846153846154},{"$f":"'环工16-1分数统计'!Z10*'环工16-1分数统计'!Z$3/130","v":1.3846153846153846},{"$f":"'环工16-1分数统计'!AA10*'环工16-1分数统计'!AA$3/130","v":1.9846153846153847},{"$f":"'环工16-1分数统计'!AB10*'环工16-1分数统计'!AB$3/130","v":1.0923076923076922},{"$f":"'环工16-1分数统计'!AC10*'环工16-1分数统计'!AC$3/130","v":1.2},{"$f":"'环工16-1分数统计'!AD10*'环工16-1分数统计'!AD$3/130","v":1.3076923076923077},{"$f":"'环工16-1分数统计'!AE10*'环工16-1分数统计'!AE$3/130","v":1.5392307692307692},{"$f":"'环工16-1分数统计'!AF10*'环工16-1分数统计'!AF$3/130","v":0.6846153846153846},{"$f":"'环工16-1分数统计'!AG10*'环工16-1分数统计'!AG$3/130","v":1.5384615384615385},{"$f":"'环工16-1分数统计'!AH10*'环工16-1分数统计'!AH$3/130","v":1.6846153846153846},{"$f":"'环工16-1分数统计'!AI10*'环工16-1分数统计'!AI$3/130","v":1.2923076923076924},{"$f":"'环工16-1分数统计'!AJ10*'环工16-1分数统计'!AJ$3/130","v":0.6923076923076923},{"$f":"'环工16-1分数统计'!AK10*'环工16-1分数统计'!AK$3/130","v":2.1538461538461537},{"$f":"'环工16-1分数统计'!AL10*'环工16-1分数统计'!AL$3/130","v":1.1384615384615384},{"$f":"'环工16-1分数统计'!AM10*'环工16-1分数统计'!AM$3/130","v":0.8884615384615384},{"$f":"'环工16-1分数统计'!AN10*'环工16-1分数统计'!AN$3/130","v":1.523076923076923},{"$f":"'环工16-1分数统计'!AO10*'环工16-1分数统计'!AO$3/130","v":1.823076923076923},{"$f":"'环工16-1分数统计'!AP10*'环工16-1分数统计'!AP$3/130","v":0.9576923076923077},{"$f":"'环工16-1分数统计'!AQ10*'环工16-1分数统计'!AQ$3/130","v":1.9615384615384615},{"$f":"'环工16-1分数统计'!AR10*'环工16-1分数统计'!AR$3/130","v":1.353846153846154},{"$f":"'环工16-1分数统计'!AS10*'环工16-1分数统计'!AS$3/130","v":1.3692307692307693},{"$f":"'环工16-1分数统计'!AT10*'环工16-1分数统计'!AT$3/130","v":1.3092307692307692},{"$f":"'环工16-1分数统计'!AU10*'环工16-1分数统计'!AU$3/130","v":0.6923076923076923},{"$f":"'环工16-1分数统计'!AV10*'环工16-1分数统计'!AV$3/130","v":1.3846153846153846},{"$f":"'环工16-1分数统计'!AW10*'环工16-1分数统计'!AW$3/130","v":0.5846153846153846},{"$f":"'环工16-1分数统计'!AX10*'环工16-1分数统计'!AX$3/130","v":2.4307692307692306},{"$f":"'环工16-1分数统计'!AY10*'环工16-1分数统计'!AY$3/130","v":1.2615384615384615},{"$f":"'环工16-1分数统计'!AZ10*'环工16-1分数统计'!AZ$3/130","v":1.2461538461538462},{"$f":"'环工16-1分数统计'!BA10*'环工16-1分数统计'!BA$3/130","v":1.5076923076923077},{"$f":"'环工16-1分数统计'!BB10*'环工16-1分数统计'!BB$3/130","v":1.0038461538461538},{"$f":"'环工16-1分数统计'!BC10*'环工16-1分数统计'!BC$3/130","v":1.9153846153846155},{"$f":"'环工16-1分数统计'!BD10*'环工16-1分数统计'!BD$3/130","v":0.8769230769230769},{"$f":"'环工16-1分数统计'!BE10*'环工16-1分数统计'!BE$3/130","v":1.1692307692307693},{"$f":"'环工16-1分数统计'!BF10*'环工16-1分数统计'!BF$3/130","v":0.6692307692307692},{"$f":"'环工16-1分数统计'!BG10*'环工16-1分数统计'!BG$3/130","v":0.3346153846153846},{"$f":"'环工16-1分数统计'!BH10*'环工16-1分数统计'!BH$3/130","v":1.2461538461538462},{"$f":"'环工16-1分数统计'!BI10*'环工16-1分数统计'!BI$3/130","v":1.6153846153846154},{"$f":"'环工16-1分数统计'!BJ10*'环工16-1分数统计'!BJ$3/130","v":1.5461538461538462},{"$f":"'环工16-1分数统计'!BK10*'环工16-1分数统计'!BK$3/130","v":0.5923076923076923},83.43307692307694,58.403153846153856,{"$f":"'环工16-1两年综测'!BD10","v":92.1510598870876},{"$f":"'环工16-1两年综测'!BE10","v":90.7747359751359},{"$f":"'环工16-1两年综测'!BF10","v":106.23491087533158},289.1607067375551,83.64415540086611,16.728831080173222,75.13198492632708]
["齐泽丰","2016010607",{"$f":"'环工16-1分数统计'!H11*'环工16-1分数统计'!H$3/130","v":0.6461538461538462},{"$f":"'环工16-1分数统计'!I11*'环工16-1分数统计'!I$3/130","v":1.4615384615384615},{"$f":"'环工16-1分数统计'!J11*'环工16-1分数统计'!J$3/130","v":3.7846153846153845},{"$f":"'环工16-1分数统计'!K11*'环工16-1分数统计'!K$3/130","v":2.7},{"$f":"'环工16-1分数统计'!L11*'环工16-1分数统计'!L$3/130","v":1.2615384615384615},{"$f":"'环工16-1分数统计'!M11*'环工16-1分数统计'!M$3/130","v":1.353846153846154},{"$f":"'环工16-1分数统计'!N11*'环工16-1分数统计'!N$3/130","v":2.8430769230769233},{"$f":"'环工16-1分数统计'!O11*'环工16-1分数统计'!O$3/130","v":0.6846153846153846},{"$f":"'环工16-1分数统计'!P11*'环工16-1分数统计'!P$3/130","v":1.75},{"$f":"'环工16-1分数统计'!Q11*'环工16-1分数统计'!Q$3/130","v":0.6307692307692307},{"$f":"'环工16-1分数统计'!R11*'环工16-1分数统计'!R$3/130","v":1.6384615384615384},{"$f":"'环工16-1分数统计'!S11*'环工16-1分数统计'!S$3/130","v":3.423076923076923},{"$f":"'环工16-1分数统计'!T11*'环工16-1分数统计'!T$3/130","v":1.75},{"$f":"'环工16-1分数统计'!U11*'环工16-1分数统计'!U$3/130","v":2.523076923076923},{"$f":"'环工16-1分数统计'!V11*'环工16-1分数统计'!V$3/130","v":2.0076923076923077},{"$f":"'环工16-1分数统计'!W11*'环工16-1分数统计'!W$3/130","v":3.0461538461538464},{"$f":"'环工16-1分数统计'!X11*'环工16-1分数统计'!X$3/130","v":0.7384615384615385},{"$f":"'环工16-1分数统计'!Y11*'环工16-1分数统计'!Y$3/130","v":1.4461538461538461},{"$f":"'环工16-1分数统计'!Z11*'环工16-1分数统计'!Z$3/130","v":1.476923076923077},{"$f":"'环工16-1分数统计'!AA11*'环工16-1分数统计'!AA$3/130","v":1.7769230769230768},{"$f":"'环工16-1分数统计'!AB11*'环工16-1分数统计'!AB$3/130","v":1.2},{"$f":"'环工16-1分数统计'!AC11*'环工16-1分数统计'!AC$3/130","v":1.4},{"$f":"'环工16-1分数统计'!AD11*'环工16-1分数统计'!AD$3/130","v":1.323076923076923},{"$f":"'环工16-1分数统计'!AE11*'环工16-1分数统计'!AE$3/130","v":1.4723076923076923},{"$f":"'环工16-1分数统计'!AF11*'环工16-1分数统计'!AF$3/130","v":0.7076923076923077},{"$f":"'环工16-1分数统计'!AG11*'环工16-1分数统计'!AG$3/130","v":1.5384615384615385},{"$f":"'环工16-1分数统计'!AH11*'环工16-1分数统计'!AH$3/130","v":1.7538461538461538},{"$f":"'环工16-1分数统计'!AI11*'环工16-1分数统计'!AI$3/130","v":1.3384615384615384},{"$f":"'环工16-1分数统计'!AJ11*'环工16-1分数统计'!AJ$3/130","v":0.7153846153846154},{"$f":"'环工16-1分数统计'!AK11*'环工16-1分数统计'!AK$3/130","v":2.1538461538461537},{"$f":"'环工16-1分数统计'!AL11*'环工16-1分数统计'!AL$3/130","v":1.3384615384615384},{"$f":"'环工16-1分数统计'!AM11*'环工16-1分数统计'!AM$3/130","v":0.8076923076923077},{"$f":"'环工16-1分数统计'!AN11*'环工16-1分数统计'!AN$3/130","v":1.8692307692307693},{"$f":"'环工16-1分数统计'!AO11*'环工16-1分数统计'!AO$3/130","v":1.476923076923077},{"$f":"'环工16-1分数统计'!AP11*'环工16-1分数统计'!AP$3/130","v":1.0153846153846153},{"$f":"'环工16-1分数统计'!AQ11*'环工16-1分数统计'!AQ$3/130","v":2.146153846153846},{"$f":"'环工16-1分数统计'!AR11*'环工16-1分数统计'!AR$3/130","v":1.3846153846153846},{"$f":"'环工16-1分数统计'!AS11*'环工16-1分数统计'!AS$3/130","v":1.3846153846153846},{"$f":"'环工16-1分数统计'!AT11*'环工16-1分数统计'!AT$3/130","v":1.3876923076923078},{"$f":"'环工16-1分数统计'!AU11*'环工16-1分数统计'!AU$3/130","v":0.7},{"$f":"'环工16-1分数统计'!AV11*'环工16-1分数统计'!AV$3/130","v":1.5076923076923077},{"$f":"'环工16-1分数统计'!AW11*'环工16-1分数统计'!AW$3/130","v":0.6538461538461539},{"$f":"'环工16-1分数统计'!AX11*'环工16-1分数统计'!AX$3/130","v":2.6153846153846154},{"$f":"'环工16-1分数统计'!AY11*'环工16-1分数统计'!AY$3/130","v":1.4},{"$f":"'环工16-1分数统计'!AZ11*'环工16-1分数统计'!AZ$3/130","v":1.4615384615384615},{"$f":"'环工16-1分数统计'!BA11*'环工16-1分数统计'!BA$3/130","v":1.523076923076923},{"$f":"'环工16-1分数统计'!BB11*'环工16-1分数统计'!BB$3/130","v":1.0153846153846153},{"$f":"'环工16-1分数统计'!BC11*'环工16-1分数统计'!BC$3/130","v":2.1},{"$f":"'环工16-1分数统计'!BD11*'环工16-1分数统计'!BD$3/130","v":1.0153846153846153},{"$f":"'环工16-1分数统计'!BE11*'环工16-1分数统计'!BE$3/130","v":1.323076923076923},{"$f":"'环工16-1分数统计'!BF11*'环工16-1分数统计'!BF$3/130","v":0.7230769230769231},{"$f":"'环工16-1分数统计'!BG11*'环工16-1分数统计'!BG$3/130","v":0.34615384615384615},{"$f":"'环工16-1分数统计'!BH11*'环工16-1分数统计'!BH$3/130","v":1.3846153846153846},{"$f":"'环工16-1分数统计'!BI11*'环工16-1分数统计'!BI$3/130","v":1.7692307692307692},{"$f":"'环工16-1分数统计'!BJ11*'环工16-1分数统计'!BJ$3/130","v":2.0538461538461537},{"$f":"'环工16-1分数统计'!BK11*'环工16-1分数统计'!BK$3/130","v":0.6538461538461539},85.60307692307696,59.92215384615386,{"$f":"'环工16-1两年综测'!BD11","v":92.9438651346124},{"$f":"'环工16-1两年综测'!BE11","v":97.8766592074591},{"$f":"'环工16-1两年综测'!BF11","v":119.40926719717065},310.22979153924217,89.73871030491755,17.94774206098351,77.86989590713738]
["任玥辉","2016010608",{"$f":"'环工16-1分数统计'!H12*'环工16-1分数统计'!H$3/130","v":0.676923076923077},{"$f":"'环工16-1分数统计'!I12*'环工16-1分数统计'!I$3/130","v":1.4461538461538461},{"$f":"'环工16-1分数统计'!J12*'环工16-1分数统计'!J$3/130","v":3.876923076923077},{"$f":"'环工16-1分数统计'!K12*'环工16-1分数统计'!K$3/130","v":2.769230769230769},{"$f":"'环工16-1分数统计'!L12*'环工16-1分数统计'!L$3/130","v":1.323076923076923},{"$f":"'环工16-1分数统计'!M12*'环工16-1分数统计'!M$3/130","v":1.3384615384615384},{"$f":"'环工16-1分数统计'!N12*'环工16-1分数统计'!N$3/130","v":2.707692307692308},{"$f":"'环工16-1分数统计'!O12*'环工16-1分数统计'!O$3/130","v":0.6153846153846154},{"$f":"'环工16-1分数统计'!P12*'环工16-1分数统计'!P$3/130","v":1.6153846153846154},{"$f":"'环工16-1分数统计'!Q12*'环工16-1分数统计'!Q$3/130","v":0.6},{"$f":"'环工16-1分数统计'!R12*'环工16-1分数统计'!R$3/130","v":1.7307692307692308},{"$f":"'环工16-1分数统计'!S12*'环工16-1分数统计'!S$3/130","v":3.1538461538461537},{"$f":"'环工16-1分数统计'!T12*'环工16-1分数统计'!T$3/130","v":1.6923076923076923},{"$f":"'环工16-1分数统计'!U12*'环工16-1分数统计'!U$3/130","v":2.4923076923076923},{"$f":"'环工16-1分数统计'!V12*'环工16-1分数统计'!V$3/130","v":1.7538461538461538},{"$f":"'环工16-1分数统计'!W12*'环工16-1分数统计'!W$3/130","v":3.08},{"$f":"'环工16-1分数统计'!X12*'环工16-1分数统计'!X$3/130","v":0.676923076923077},{"$f":"'环工16-1分数统计'!Y12*'环工16-1分数统计'!Y$3/130","v":1.3846153846153846},{"$f":"'环工16-1分数统计'!Z12*'环工16-1分数统计'!Z$3/130","v":1.476923076923077},{"$f":"'环工16-1分数统计'!AA12*'环工16-1分数统计'!AA$3/130","v":1.9615384615384615},{"$f":"'环工16-1分数统计'!AB12*'环工16-1分数统计'!AB$3/130","v":1.1692307692307693},{"$f":"'环工16-1分数统计'!AC12*'环工16-1分数统计'!AC$3/130","v":1.323076923076923},{"$f":"'环工16-1分数统计'!AD12*'环工16-1分数统计'!AD$3/130","v":1.3384615384615384},{"$f":"'环工16-1分数统计'!AE12*'环工16-1分数统计'!AE$3/130","v":1.4723076923076923},{"$f":"'环工16-1分数统计'!AF12*'环工16-1分数统计'!AF$3/130","v":0.6846153846153846},{"$f":"'环工16-1分数统计'!AG12*'环工16-1分数统计'!AG$3/130","v":1.4423076923076923},{"$f":"'环工16-1分数统计'!AH12*'环工16-1分数统计'!AH$3/130","v":1.8923076923076922},{"$f":"'环工16-1分数统计'!AI12*'环工16-1分数统计'!AI$3/130","v":1.3692307692307693},{"$f":"'环工16-1分数统计'!AJ12*'环工16-1分数统计'!AJ$3/130","v":0.7076923076923077},{"$f":"'环工16-1分数统计'!AK12*'环工16-1分数统计'!AK$3/130","v":2.3076923076923075},{"$f":"'环工16-1分数统计'!AL12*'环工16-1分数统计'!AL$3/130","v":1.3692307692307693},{"$f":"'环工16-1分数统计'!AM12*'环工16-1分数统计'!AM$3/130","v":0.9807692307692307},{"$f":"'环工16-1分数统计'!AN12*'环工16-1分数统计'!AN$3/130","v":2.1},{"$f":"'环工16-1分数统计'!AO12*'环工16-1分数统计'!AO$3/130","v":1.9615384615384615},{"$f":"'环工16-1分数统计'!AP12*'环工16-1分数统计'!AP$3/130","v":1.0384615384615385},{"$f":"'环工16-1分数统计'!AQ12*'环工16-1分数统计'!AQ$3/130","v":2.146153846153846},{"$f":"'环工16-1分数统计'!AR12*'环工16-1分数统计'!AR$3/130","v":1.353846153846154},{"$f":"'环工16-1分数统计'!AS12*'环工16-1分数统计'!AS$3/130","v":1.4307692307692308},{"$f":"'环工16-1分数统计'!AT12*'环工16-1分数统计'!AT$3/130","v":1.5061538461538462},{"$f":"'环工16-1分数统计'!AU12*'环工16-1分数统计'!AU$3/130","v":0.6307692307692307},{"$f":"'环工16-1分数统计'!AV12*'环工16-1分数统计'!AV$3/130","v":1.3692307692307693},{"$f":"'环工16-1分数统计'!AW12*'环工16-1分数统计'!AW$3/130","v":0.6230769230769231},{"$f":"'环工16-1分数统计'!AX12*'环工16-1分数统计'!AX$3/130","v":2.1538461538461537},{"$f":"'环工16-1分数统计'!AY12*'环工16-1分数统计'!AY$3/130","v":1.353846153846154},{"$f":"'环工16-1分数统计'!AZ12*'环工16-1分数统计'!AZ$3/130","v":1.3076923076923077},{"$f":"'环工16-1分数统计'!BA12*'环工16-1分数统计'!BA$3/130","v":1.3384615384615384},{"$f":"'环工16-1分数统计'!BB12*'环工16-1分数统计'!BB$3/130","v":1.0384615384615385},{"$f":"'环工16-1分数统计'!BC12*'环工16-1分数统计'!BC$3/130","v":1.9615384615384615},{"$f":"'环工16-1分数统计'!BD12*'环工16-1分数统计'!BD$3/130","v":1.05},{"$f":"'环工16-1分数统计'!BE12*'环工16-1分数统计'!BE$3/130","v":1.2615384615384615},{"$f":"'环工16-1分数统计'!BF12*'环工16-1分数统计'!BF$3/130","v":0.6923076923076923},{"$f":"'环工16-1分数统计'!BG12*'环工16-1分数统计'!BG$3/130","v":0.35},{"$f":"'环工16-1分数统计'!BH12*'环工16-1分数统计'!BH$3/130","v":1.4307692307692308},{"$f":"'环工16-1分数统计'!BI12*'环工16-1分数统计'!BI$3/130","v":1.6346153846153846},{"$f":"'环工16-1分数统计'!BJ12*'环工16-1分数统计'!BJ$3/130","v":2.1},{"$f":"'环工16-1分数统计'!BK12*'环工16-1分数统计'!BK$3/130","v":0.6923076923076923},84.95461538461538,59.468230769230765,{"$f":"'环工16-1两年综测'!BD12","v":92.9265846395629},{"$f":"'环工16-1两年综测'!BE12","v":91.3254874902874},{"$f":"'环工16-1两年综测'!BF12","v":98.33694535809019},282.5890174879405,81.74319381088128,16.348638762176257,75.81686953140702]
["唐钰琪","2016010609",{"$f":"'环工16-1分数统计'!H13*'环工16-1分数统计'!H$3/130","v":0.6384615384615384},{"$f":"'环工16-1分数统计'!I13*'环工16-1分数统计'!I$3/130","v":1.4307692307692308},{"$f":"'环工16-1分数统计'!J13*'环工16-1分数统计'!J$3/130","v":3.046153846153846},{"$f":"'环工16-1分数统计'!K13*'环工16-1分数统计'!K$3/130","v":2.769230769230769},{"$f":"'环工16-1分数统计'!L13*'环工16-1分数统计'!L$3/130","v":1.2615384615384615},{"$f":"'环工16-1分数统计'!M13*'环工16-1分数统计'!M$3/130","v":1.2615384615384615},{"$f":"'环工16-1分数统计'!N13*'环工16-1分数统计'!N$3/130","v":3.0461538461538464},{"$f":"'环工16-1分数统计'!O13*'环工16-1分数统计'!O$3/130","v":0.6846153846153846},{"$f":"'环工16-1分数统计'!P13*'环工16-1分数统计'!P$3/130","v":1.5},{"$f":"'环工16-1分数统计'!Q13*'环工16-1分数统计'!Q$3/130","v":0.6230769230769231},{"$f":"'环工16-1分数统计'!R13*'环工16-1分数统计'!R$3/130","v":1.8},{"$f":"'环工16-1分数统计'!S13*'环工16-1分数统计'!S$3/130","v":3.1153846153846154},{"$f":"'环工16-1分数统计'!T13*'环工16-1分数统计'!T$3/130","v":1.7692307692307692},{"$f":"'环工16-1分数统计'!U13*'环工16-1分数统计'!U$3/130","v":2.0615384615384613},{"$f":"'环工16-1分数统计'!V13*'环工16-1分数统计'!V$3/130","v":1.9384615384615385},{"$f":"'环工16-1分数统计'!W13*'环工16-1分数统计'!W$3/130","v":3.113846153846154},{"$f":"'环工16-1分数统计'!X13*'环工16-1分数统计'!X$3/130","v":0.7307692307692307},{"$f":"'环工16-1分数统计'!Y13*'环工16-1分数统计'!Y$3/130","v":1.4153846153846155},{"$f":"'环工16-1分数统计'!Z13*'环工16-1分数统计'!Z$3/130","v":1.8923076923076922},{"$f":"'环工16-1分数统计'!AA13*'环工16-1分数统计'!AA$3/130","v":1.9384615384615385},{"$f":"'环工16-1分数统计'!AB13*'环工16-1分数统计'!AB$3/130","v":1.1692307692307693},{"$f":"'环工16-1分数统计'!AC13*'环工16-1分数统计'!AC$3/130","v":1.4153846153846155},{"$f":"'环工16-1分数统计'!AD13*'环工16-1分数统计'!AD$3/130","v":1.3384615384615384},{"$f":"'环工16-1分数统计'!AE13*'环工16-1分数统计'!AE$3/130","v":1.556923076923077},{"$f":"'环工16-1分数统计'!AF13*'环工16-1分数统计'!AF$3/130","v":0.7153846153846154},{"$f":"'环工16-1分数统计'!AG13*'环工16-1分数统计'!AG$3/130","v":1.4807692307692308},{"$f":"'环工16-1分数统计'!AH13*'环工16-1分数统计'!AH$3/130","v":1.9846153846153847},{"$f":"'环工16-1分数统计'!AI13*'环工16-1分数统计'!AI$3/130","v":1.3384615384615384},{"$f":"'环工16-1分数统计'!AJ13*'环工16-1分数统计'!AJ$3/130","v":0.7},{"$f":"'环工16-1分数统计'!AK13*'环工16-1分数统计'!AK$3/130","v":1.9076923076923078},{"$f":"'环工16-1分数统计'!AL13*'环工16-1分数统计'!AL$3/130","v":1.3384615384615384},{"$f":"'环工16-1分数统计'!AM13*'环工16-1分数统计'!AM$3/130","v":0.7730769230769231},{"$f":"'环工16-1分数统计'!AN13*'环工16-1分数统计'!AN$3/130","v":2.076923076923077},{"$f":"'环工16-1分数统计'!AO13*'环工16-1分数统计'!AO$3/130","v":1.523076923076923},{"$f":"'环工16-1分数统计'!AP13*'环工16-1分数统计'!AP$3/130","v":1.0153846153846153},{"$f":"'环工16-1分数统计'!AQ13*'环工16-1分数统计'!AQ$3/130","v":1.6846153846153846},{"$f":"'环工16-1分数统计'!AR13*'环工16-1分数统计'!AR$3/130","v":1.323076923076923},{"$f":"'环工16-1分数统计'!AS13*'环工16-1分数统计'!AS$3/130","v":1.3846153846153846},{"$f":"'环工16-1分数统计'!AT13*'环工16-1分数统计'!AT$3/130","v":1.4384615384615387},{"$f":"'环工16-1分数统计'!AU13*'环工16-1分数统计'!AU$3/130","v":0.6923076923076923},{"$f":"'环工16-1分数统计'!AV13*'环工16-1分数统计'!AV$3/130","v":1.4461538461538461},{"$f":"'环工16-1分数统计'!AW13*'环工16-1分数统计'!AW$3/130","v":0.6307692307692307},{"$f":"'环工16-1分数统计'!AX13*'环工16-1分数统计'!AX$3/130","v":2.3692307692307693},{"$f":"'环工16-1分数统计'!AY13*'环工16-1分数统计'!AY$3/130","v":1.476923076923077},{"$f":"'环工16-1分数统计'!AZ13*'环工16-1分数统计'!AZ$3/130","v":1.4153846153846155},{"$f":"'环工16-1分数统计'!BA13*'环工16-1分数统计'!BA$3/130","v":1.0769230769230769},{"$f":"'环工16-1分数统计'!BB13*'环工16-1分数统计'!BB$3/130","v":1.0153846153846153},{"$f":"'环工16-1分数统计'!BC13*'环工16-1分数统计'!BC$3/130","v":1.9384615384615385},{"$f":"'环工16-1分数统计'!BD13*'环工16-1分数统计'!BD$3/130","v":1.05},{"$f":"'环工16-1分数统计'!BE13*'环工16-1分数统计'!BE$3/130","v":1.1692307692307693},{"$f":"'环工16-1分数统计'!BF13*'环工16-1分数统计'!BF$3/130","v":0.7153846153846154},{"$f":"'环工16-1分数统计'!BG13*'环工16-1分数统计'!BG$3/130","v":0.35},{"$f":"'环工16-1分数统计'!BH13*'环工16-1分数统计'!BH$3/130","v":1.4},{"$f":"'环工16-1分数统计'!BI13*'环工16-1分数统计'!BI$3/130","v":1.6153846153846154},{"$f":"'环工16-1分数统计'!BJ13*'环工16-1分数统计'!BJ$3/130","v":0},{"$f":"'环工16-1分数统计'!BK13*'环工16-1分数统计'!BK$3/130","v":0.6384615384615384},81.20153846153846,56.84107692307692,{"$f":"'环工16-1两年综测'!BD13","v":92.9975449365926},{"$f":"'环工16-1两年综测'!BE13","v":94.0410066822066},{"$f":"'环工16-1两年综测'!BF13","v":100.01054120532785},287.04909282412706,83.03333879194938,16.606667758389875,73.44774468146679]
["闫玺宇","2016010610",{"$f":"'环工16-1分数统计'!H14*'环工16-1分数统计'!H$3/130","v":0.5538461538461539},{"$f":"'环工16-1分数统计'!I14*'环工16-1分数统计'!I$3/130","v":1.3384615384615384},{"$f":"'环工16-1分数统计'!J14*'环工16-1分数统计'!J$3/130","v":2.8615384615384616},{"$f":"'环工16-1分数统计'!K14*'环工16-1分数统计'!K$3/130","v":2.25},{"$f":"'环工16-1分数统计'!L14*'环工16-1分数统计'!L$3/130","v":1.3076923076923077},{"$f":"'环工16-1分数统计'!M14*'环工16-1分数统计'!M$3/130","v":1.0153846153846153},{"$f":"'环工16-1分数统计'!N14*'环工16-1分数统计'!N$3/130","v":2.470769230769231},{"$f":"'环工16-1分数统计'!O14*'环工16-1分数统计'!O$3/130","v":0.6846153846153846},{"$f":"'环工16-1分数统计'!P14*'环工16-1分数统计'!P$3/130","v":1.2884615384615385},{"$f":"'环工16-1分数统计'!Q14*'环工16-1分数统计'!Q$3/130","v":0.5769230769230769},{"$f":"'环工16-1分数统计'!R14*'环工16-1分数统计'!R$3/130","v":1.4076923076923078},{"$f":"'环工16-1分数统计'!S14*'环工16-1分数统计'!S$3/130","v":2.3076923076923075},{"$f":"'环工16-1分数统计'!T14*'环工16-1分数统计'!T$3/130","v":1.4807692307692308},{"$f":"'环工16-1分数统计'!U14*'环工16-1分数统计'!U$3/130","v":2},{"$f":"'环工16-1分数统计'!V14*'环工16-1分数统计'!V$3/130","v":1.5692307692307692},{"$f":"'环工16-1分数统计'!W14*'环工16-1分数统计'!W$3/130","v":2.707692307692308},{"$f":"'环工16-1分数统计'!X14*'环工16-1分数统计'!X$3/130","v":0.7384615384615385},{"$f":"'环工16-1分数统计'!Y14*'环工16-1分数统计'!Y$3/130","v":1.3846153846153846},{"$f":"'环工16-1分数统计'!Z14*'环工16-1分数统计'!Z$3/130","v":1.4076923076923078},{"$f":"'环工16-1分数统计'!AA14*'环工16-1分数统计'!AA$3/130","v":1.3846153846153846},{"$f":"'环工16-1分数统计'!AB14*'环工16-1分数统计'!AB$3/130","v":1.0307692307692307},{"$f":"'环工16-1分数统计'!AC14*'环工16-1分数统计'!AC$3/130","v":1.2},{"$f":"'环工16-1分数统计'!AD14*'环工16-1分数统计'!AD$3/130","v":1.1692307692307693},{"$f":"'环工16-1分数统计'!AE14*'环工16-1分数统计'!AE$3/130","v":1.3876923076923078},{"$f":"'环工16-1分数统计'!AF14*'环工16-1分数统计'!AF$3/130","v":0.6923076923076923},{"$f":"'环工16-1分数统计'!AG14*'环工16-1分数统计'!AG$3/130","v":1.5961538461538463},{"$f":"'环工16-1分数统计'!AH14*'环工16-1分数统计'!AH$3/130","v":1.9153846153846155},{"$f":"'环工16-1分数统计'!AI14*'环工16-1分数统计'!AI$3/130","v":1.2307692307692308},{"$f":"'环工16-1分数统计'!AJ14*'环工16-1分数统计'!AJ$3/130","v":0.7},{"$f":"'环工16-1分数统计'!AK14*'环工16-1分数统计'!AK$3/130","v":1.7538461538461538},{"$f":"'环工16-1分数统计'!AL14*'环工16-1分数统计'!AL$3/130","v":1.2769230769230768},{"$f":"'环工16-1分数统计'!AM14*'环工16-1分数统计'!AM$3/130","v":0.6923076923076923},{"$f":"'环工16-1分数统计'!AN14*'环工16-1分数统计'!AN$3/130","v":1.8923076923076922},{"$f":"'环工16-1分数统计'!AO14*'环工16-1分数统计'!AO$3/130","v":2.169230769230769},{"$f":"'环工16-1分数统计'!AP14*'环工16-1分数统计'!AP$3/130","v":0.9923076923076923},{"$f":"'环工16-1分数统计'!AQ14*'环工16-1分数统计'!AQ$3/130","v":1.3846153846153846},{"$f":"'环工16-1分数统计'!AR14*'环工16-1分数统计'!AR$3/130","v":1.3076923076923077},{"$f":"'环工16-1分数统计'!AS14*'环工16-1分数统计'!AS$3/130","v":1.323076923076923},{"$f":"'环工16-1分数统计'!AT14*'环工16-1分数统计'!AT$3/130","v":1.2184615384615385},{"$f":"'环工16-1分数统计'!AU14*'环工16-1分数统计'!AU$3/130","v":0.676923076923077},{"$f":"'环工16-1分数统计'!AV14*'环工16-1分数统计'!AV$3/130","v":1.2307692307692308},{"$f":"'环工16-1分数统计'!AW14*'环工16-1分数统计'!AW$3/130","v":0.5230769230769231},{"$f":"'环工16-1分数统计'!AX14*'环工16-1分数统计'!AX$3/130","v":1.8461538461538463},{"$f":"'环工16-1分数统计'!AY14*'环工16-1分数统计'!AY$3/130","v":1.3076923076923077},{"$f":"'环工16-1分数统计'!AZ14*'环工16-1分数统计'!AZ$3/130","v":1.0307692307692307},{"$f":"'环工16-1分数统计'!BA14*'环工16-1分数统计'!BA$3/130","v":1.0923076923076922},{"$f":"'环工16-1分数统计'!BB14*'环工16-1分数统计'!BB$3/130","v":0.9346153846153846},{"$f":"'环工16-1分数统计'!BC14*'环工16-1分数统计'!BC$3/130","v":1.3153846153846154},{"$f":"'环工16-1分数统计'!BD14*'环工16-1分数统计'!BD$3/130","v":0.9807692307692307},{"$f":"'环工16-1分数统计'!BE14*'环工16-1分数统计'!BE$3/130","v":1.0461538461538462},{"$f":"'环工16-1分数统计'!BF14*'环工16-1分数统计'!BF$3/130","v":0.6},{"$f":"'环工16-1分数统计'!BG14*'环工16-1分数统计'!BG$3/130","v":0.35},{"$f":"'环工16-1分数统计'!BH14*'环工16-1分数统计'!BH$3/130","v":0.9230769230769231},{"$f":"'环工16-1分数统计'!BI14*'环工16-1分数统计'!BI$3/130","v":1.2307692307692308},{"$f":"'环工16-1分数统计'!BJ14*'环工16-1分数统计'!BJ$3/130","v":1.476923076923077},{"$f":"'环工16-1分数统计'!BK14*'环工16-1分数统计'!BK$3/130","v":0.5461538461538461},72.78076923076921,50.946538461538445,{"$f":"'环工16-1两年综测'!BD14","v":82.6514130224011},{"$f":"'环工16-1两年综测'!BE14","v":84.651742035742},{"$f":"'环工16-1两年综测'!BF14","v":80.2561020979021},247.5592571560452,71.61030006499804,14.322060012999609,65.26859847453805]
["杨玉凤","2016010611",{"$f":"'环工16-1分数统计'!H15*'环工16-1分数统计'!H$3/130","v":0.6384615384615384},{"$f":"'环工16-1分数统计'!I15*'环工16-1分数统计'!I$3/130","v":1.4},{"$f":"'环工16-1分数统计'!J15*'环工16-1分数统计'!J$3/130","v":2.769230769230769},{"$f":"'环工16-1分数统计'!K15*'环工16-1分数统计'!K$3/130","v":2.146153846153846},{"$f":"'环工16-1分数统计'!L15*'环工16-1分数统计'!L$3/130","v":1.353846153846154},{"$f":"'环工16-1分数统计'!M15*'环工16-1分数统计'!M$3/130","v":1.1692307692307693},{"$f":"'环工16-1分数统计'!N15*'环工16-1分数统计'!N$3/130","v":2.0984615384615384},{"$f":"'环工16-1分数统计'!O15*'环工16-1分数统计'!O$3/130","v":0.6461538461538462},{"$f":"'环工16-1分数统计'!P15*'环工16-1分数统计'!P$3/130","v":1.5961538461538463},{"$f":"'环工16-1分数统计'!Q15*'环工16-1分数统计'!Q$3/130","v":0.5384615384615384},{"$f":"'环工16-1分数统计'!R15*'环工16-1分数统计'!R$3/130","v":1.5461538461538462},{"$f":"'环工16-1分数统计'!S15*'环工16-1分数统计'!S$3/130","v":3.1923076923076925},{"$f":"'环工16-1分数统计'!T15*'环工16-1分数统计'!T$3/130","v":1.6538461538461537},{"$f":"'环工16-1分数统计'!U15*'环工16-1分数统计'!U$3/130","v":2.2153846153846155},{"$f":"'环工16-1分数统计'!V15*'环工16-1分数统计'!V$3/130","v":1.3846153846153846},{"$f":"'环工16-1分数统计'!W15*'环工16-1分数统计'!W$3/130","v":2.707692307692308},{"$f":"'环工16-1分数统计'!X15*'环工16-1分数统计'!X$3/130","v":0.6923076923076923},{"$f":"'环工16-1分数统计'!Y15*'环工16-1分数统计'!Y$3/130","v":1.4307692307692308},{"$f":"'环工16-1分数统计'!Z15*'环工16-1分数统计'!Z$3/130","v":1.4076923076923078},{"$f":"'环工16-1分数统计'!AA15*'环工16-1分数统计'!AA$3/130","v":1.476923076923077},{"$f":"'环工16-1分数统计'!AB15*'环工16-1分数统计'!AB$3/130","v":1.2153846153846153},{"$f":"'环工16-1分数统计'!AC15*'环工16-1分数统计'!AC$3/130","v":1.2},{"$f":"'环工16-1分数统计'!AD15*'环工16-1分数统计'!AD$3/130","v":1.1846153846153846},{"$f":"'环工16-1分数统计'!AE15*'环工16-1分数统计'!AE$3/130","v":1.2523076923076923},{"$f":"'环工16-1分数统计'!AF15*'环工16-1分数统计'!AF$3/130","v":0.7076923076923077},{"$f":"'环工16-1分数统计'!AG15*'环工16-1分数统计'!AG$3/130","v":1.5192307692307692},{"$f":"'环工16-1分数统计'!AH15*'环工16-1分数统计'!AH$3/130","v":1.5692307692307692},{"$f":"'环工16-1分数统计'!AI15*'环工16-1分数统计'!AI$3/130","v":1.2923076923076924},{"$f":"'环工16-1分数统计'!AJ15*'环工16-1分数统计'!AJ$3/130","v":0.6692307692307692},{"$f":"'环工16-1分数统计'!AK15*'环工16-1分数统计'!AK$3/130","v":1.8461538461538463},{"$f":"'环工16-1分数统计'!AL15*'环工16-1分数统计'!AL$3/130","v":1.353846153846154},{"$f":"'环工16-1分数统计'!AM15*'环工16-1分数统计'!AM$3/130","v":0.7384615384615385},{"$f":"'环工16-1分数统计'!AN15*'环工16-1分数统计'!AN$3/130","v":1.523076923076923},{"$f":"'环工16-1分数统计'!AO15*'环工16-1分数统计'!AO$3/130","v":1.4307692307692308},{"$f":"'环工16-1分数统计'!AP15*'环工16-1分数统计'!AP$3/130","v":1.0153846153846153},{"$f":"'环工16-1分数统计'!AQ15*'环工16-1分数统计'!AQ$3/130","v":1.5461538461538462},{"$f":"'环工16-1分数统计'!AR15*'环工16-1分数统计'!AR$3/130","v":1.2923076923076924},{"$f":"'环工16-1分数统计'!AS15*'环工16-1分数统计'!AS$3/130","v":1.4},{"$f":"'环工16-1分数统计'!AT15*'环工16-1分数统计'!AT$3/130","v":1.1846153846153846},{"$f":"'环工16-1分数统计'!AU15*'环工16-1分数统计'!AU$3/130","v":0.5923076923076923},{"$f":"'环工16-1分数统计'!AV15*'环工16-1分数统计'!AV$3/130","v":1.2769230769230768},{"$f":"'环工16-1分数统计'!AW15*'环工16-1分数统计'!AW$3/130","v":0.5846153846153846},{"$f":"'环工16-1分数统计'!AX15*'环工16-1分数统计'!AX$3/130","v":1.6923076923076923},{"$f":"'环工16-1分数统计'!AY15*'环工16-1分数统计'!AY$3/130","v":1.0461538461538462},{"$f":"'环工16-1分数统计'!AZ15*'环工16-1分数统计'!AZ$3/130","v":1.3076923076923077},{"$f":"'环工16-1分数统计'!BA15*'环工16-1分数统计'!BA$3/130","v":0.9692307692307692},{"$f":"'环工16-1分数统计'!BB15*'环工16-1分数统计'!BB$3/130","v":0.9692307692307692},{"$f":"'环工16-1分数统计'!BC15*'环工16-1分数统计'!BC$3/130","v":1.8},{"$f":"'环工16-1分数统计'!BD15*'环工16-1分数统计'!BD$3/130","v":0.9923076923076923},{"$f":"'环工16-1分数统计'!BE15*'环工16-1分数统计'!BE$3/130","v":1.2},{"$f":"'环工16-1分数统计'!BF15*'环工16-1分数统计'!BF$3/130","v":0.7},{"$f":"'环工16-1分数统计'!BG15*'环工16-1分数统计'!BG$3/130","v":0.34615384615384615},{"$f":"'环工16-1分数统计'!BH15*'环工16-1分数统计'!BH$3/130","v":1.2461538461538462},{"$f":"'环工16-1分数统计'!BI15*'环工16-1分数统计'!BI$3/130","v":1.5576923076923077},{"$f":"'环工16-1分数统计'!BJ15*'环工16-1分数统计'!BJ$3/130","v":1.7307692307692308},{"$f":"'环工16-1分数统计'!BK15*'环工16-1分数统计'!BK$3/130","v":0.5846153846153846},74.60076923076922,52.220538461538446,{"$f":"'环工16-1两年综测'!BD15","v":80.6392876098599},{"$f":"'环工16-1两年综测'!BE15","v":82.4147329175328},{"$f":"'环工16-1两年综测'!BF15","v":83.49705234665834},246.55107287405104,71.3186673473053,14.263733469461059,66.48427193099951]
["游恋","2016010612",{"$f":"'环工16-1分数统计'!H16*'环工16-1分数统计'!H$3/130","v":0.5923076923076923},{"$f":"'环工16-1分数统计'!I16*'环工16-1分数统计'!I$3/130","v":1.3384615384615384},{"$f":"'环工16-1分数统计'!J16*'环工16-1分数统计'!J$3/130","v":3.876923076923077},{"$f":"'环工16-1分数统计'!K16*'环工16-1分数统计'!K$3/130","v":3.2192307692307693},{"$f":"'环工16-1分数统计'!L16*'环工16-1分数统计'!L$3/130","v":1.2769230769230768},{"$f":"'环工16-1分数统计'!M16*'环工16-1分数统计'!M$3/130","v":1.2},{"$f":"'环工16-1分数统计'!N16*'环工16-1分数统计'!N$3/130","v":1.9384615384615385},{"$f":"'环工16-1分数统计'!O16*'环工16-1分数统计'!O$3/130","v":0.6538461538461539},{"$f":"'环工16-1分数统计'!P16*'环工16-1分数统计'!P$3/130","v":1.6730769230769231},{"$f":"'环工16-1分数统计'!Q16*'环工16-1分数统计'!Q$3/130","v":0.7076923076923077},{"$f":"'环工16-1分数统计'!R16*'环工16-1分数统计'!R$3/130","v":1.7538461538461538},{"$f":"'环工16-1分数统计'!S16*'环工16-1分数统计'!S$3/130","v":3.769230769230769},{"$f":"'环工16-1分数统计'!T16*'环工16-1分数统计'!T$3/130","v":1.75},{"$f":"'环工16-1分数统计'!U16*'环工16-1分数统计'!U$3/130","v":2.8},{"$f":"'环工16-1分数统计'!V16*'环工16-1分数统计'!V$3/130","v":2.1923076923076925},{"$f":"'环工16-1分数统计'!W16*'环工16-1分数统计'!W$3/130","v":1.876923076923077},{"$f":"'环工16-1分数统计'!X16*'环工16-1分数统计'!X$3/130","v":0.7153846153846154},{"$f":"'环工16-1分数统计'!Y16*'环工16-1分数统计'!Y$3/130","v":1.4307692307692308},{"$f":"'环工16-1分数统计'!Z16*'环工16-1分数统计'!Z$3/130","v":1.8461538461538463},{"$f":"'环工16-1分数统计'!AA16*'环工16-1分数统计'!AA$3/130","v":2.1},{"$f":"'环工16-1分数统计'!AB16*'环工16-1分数统计'!AB$3/130","v":1.323076923076923},{"$f":"'环工16-1分数统计'!AC16*'环工16-1分数统计'!AC$3/130","v":1.2461538461538462},{"$f":"'环工16-1分数统计'!AD16*'环工16-1分数统计'!AD$3/130","v":1.2153846153846153},{"$f":"'环工16-1分数统计'!AE16*'环工16-1分数统计'!AE$3/130","v":1.1384615384615384},{"$f":"'环工16-1分数统计'!AF16*'环工16-1分数统计'!AF$3/130","v":0.7},{"$f":"'环工16-1分数统计'!AG16*'环工16-1分数统计'!AG$3/130","v":1.5384615384615385},{"$f":"'环工16-1分数统计'!AH16*'环工16-1分数统计'!AH$3/130","v":1.9384615384615385},{"$f":"'环工16-1分数统计'!AI16*'环工16-1分数统计'!AI$3/130","v":1.3846153846153846},{"$f":"'环工16-1分数统计'!AJ16*'环工16-1分数统计'!AJ$3/130","v":0.676923076923077},{"$f":"'环工16-1分数统计'!AK16*'环工16-1分数统计'!AK$3/130","v":2.5846153846153848},{"$f":"'环工16-1分数统计'!AL16*'环工16-1分数统计'!AL$3/130","v":1.3692307692307693},{"$f":"'环工16-1分数统计'!AM16*'环工16-1分数统计'!AM$3/130","v":0.9692307692307692},{"$f":"'环工16-1分数统计'!AN16*'环工16-1分数统计'!AN$3/130","v":1.9846153846153847},{"$f":"'环工16-1分数统计'!AO16*'环工16-1分数统计'!AO$3/130","v":1.8923076923076922},{"$f":"'环工16-1分数统计'!AP16*'环工16-1分数统计'!AP$3/130","v":1.0384615384615385},{"$f":"'环工16-1分数统计'!AQ16*'环工16-1分数统计'!AQ$3/130","v":2.146153846153846},{"$f":"'环工16-1分数统计'!AR16*'环工16-1分数统计'!AR$3/130","v":1.3384615384615384},{"$f":"'环工16-1分数统计'!AS16*'环工16-1分数统计'!AS$3/130","v":1.3846153846153846},{"$f":"'环工16-1分数统计'!AT16*'环工16-1分数统计'!AT$3/130","v":1.2307692307692308},{"$f":"'环工16-1分数统计'!AU16*'环工16-1分数统计'!AU$3/130","v":0.7230769230769231},{"$f":"'环工16-1分数统计'!AV16*'环工16-1分数统计'!AV$3/130","v":1.3384615384615384},{"$f":"'环工16-1分数统计'!AW16*'环工16-1分数统计'!AW$3/130","v":0.6538461538461539},{"$f":"'环工16-1分数统计'!AX16*'环工16-1分数统计'!AX$3/130","v":2.8},{"$f":"'环工16-1分数统计'!AY16*'环工16-1分数统计'!AY$3/130","v":1.3076923076923077},{"$f":"'环工16-1分数统计'!AZ16*'环工16-1分数统计'!AZ$3/130","v":1.3384615384615384},{"$f":"'环工16-1分数统计'!BA16*'环工16-1分数统计'!BA$3/130","v":1.4923076923076923},{"$f":"'环工16-1分数统计'!BB16*'环工16-1分数统计'!BB$3/130","v":1.0153846153846153},{"$f":"'环工16-1分数统计'!BC16*'环工16-1分数统计'!BC$3/130","v":1.9384615384615385},{"$f":"'环工16-1分数统计'!BD16*'环工16-1分数统计'!BD$3/130","v":1.05},{"$f":"'环工16-1分数统计'!BE16*'环工16-1分数统计'!BE$3/130","v":1.4307692307692308},{"$f":"'环工16-1分数统计'!BF16*'环工16-1分数统计'!BF$3/130","v":0.6923076923076923},{"$f":"'环工16-1分数统计'!BG16*'环工16-1分数统计'!BG$3/130","v":0.35},{"$f":"'环工16-1分数统计'!BH16*'环工16-1分数统计'!BH$3/130","v":1.4461538461538461},{"$f":"'环工16-1分数统计'!BI16*'环工16-1分数统计'!BI$3/130","v":1.6346153846153846},{"$f":"'环工16-1分数统计'!BJ16*'环工16-1分数统计'!BJ$3/130","v":2.2153846153846155},{"$f":"'环工16-1分数统计'!BK16*'环工16-1分数统计'!BK$3/130","v":0.6846153846153846},85.92307692307695,60.14615384615386,{"$f":"'环工16-1两年综测'!BD16","v":91.1687331544143},{"$f":"'环工16-1两年综测'!BE16","v":98.0306794094793},{"$f":"'环工16-1两年综测'!BF16","v":94.45784190981432},283.6572544737079,82.05219769128601,16.410439538257204,76.55659338441106]
["余美琪","2016010613",{"$f":"'环工16-1分数统计'!H17*'环工16-1分数统计'!H$3/130","v":0.6230769230769231},{"$f":"'环工16-1分数统计'!I17*'环工16-1分数统计'!I$3/130","v":1.4},{"$f":"'环工16-1分数统计'!J17*'环工16-1分数统计'!J$3/130","v":3.876923076923077},{"$f":"'环工16-1分数统计'!K17*'环工16-1分数统计'!K$3/130","v":2.8038461538461537},{"$f":"'环工16-1分数统计'!L17*'环工16-1分数统计'!L$3/130","v":1.1846153846153846},{"$f":"'环工16-1分数统计'!M17*'环工16-1分数统计'!M$3/130","v":1.1076923076923078},{"$f":"'环工16-1分数统计'!N17*'环工16-1分数统计'!N$3/130","v":3.184615384615384},{"$f":"'环工16-1分数统计'!O17*'环工16-1分数统计'!O$3/130","v":0.6076923076923076},{"$f":"'环工16-1分数统计'!P17*'环工16-1分数统计'!P$3/130","v":1.4038461538461537},{"$f":"'环工16-1分数统计'!Q17*'环工16-1分数统计'!Q$3/130","v":0.5769230769230769},{"$f":"'环工16-1分数统计'!R17*'环工16-1分数统计'!R$3/130","v":1.5692307692307692},{"$f":"'环工16-1分数统计'!S17*'环工16-1分数统计'!S$3/130","v":3.269230769230769},{"$f":"'环工16-1分数统计'!T17*'环工16-1分数统计'!T$3/130","v":1.6538461538461537},{"$f":"'环工16-1分数统计'!U17*'环工16-1分数统计'!U$3/130","v":2.646153846153846},{"$f":"'环工16-1分数统计'!V17*'环工16-1分数统计'!V$3/130","v":2.0538461538461537},{"$f":"'环工16-1分数统计'!W17*'环工16-1分数统计'!W$3/130","v":3.0784615384615384},{"$f":"'环工16-1分数统计'!X17*'环工16-1分数统计'!X$3/130","v":0.6538461538461539},{"$f":"'环工16-1分数统计'!Y17*'环工16-1分数统计'!Y$3/130","v":1.3692307692307693},{"$f":"'环工16-1分数统计'!Z17*'环工16-1分数统计'!Z$3/130","v":1.8461538461538463},{"$f":"'环工16-1分数统计'!AA17*'环工16-1分数统计'!AA$3/130","v":2.076923076923077},{"$f":"'环工16-1分数统计'!AB17*'环工16-1分数统计'!AB$3/130","v":1.323076923076923},{"$f":"'环工16-1分数统计'!AC17*'环工16-1分数统计'!AC$3/130","v":1.353846153846154},{"$f":"'环工16-1分数统计'!AD17*'环工16-1分数统计'!AD$3/130","v":1.2923076923076924},{"$f":"'环工16-1分数统计'!AE17*'环工16-1分数统计'!AE$3/130","v":1.4861538461538462},{"$f":"'环工16-1分数统计'!AF17*'环工16-1分数统计'!AF$3/130","v":0.6846153846153846},{"$f":"'环工16-1分数统计'!AG17*'环工16-1分数统计'!AG$3/130","v":1.4423076923076923},{"$f":"'环工16-1分数统计'!AH17*'环工16-1分数统计'!AH$3/130","v":1.9384615384615385},{"$f":"'环工16-1分数统计'!AI17*'环工16-1分数统计'!AI$3/130","v":1.353846153846154},{"$f":"'环工16-1分数统计'!AJ17*'环工16-1分数统计'!AJ$3/130","v":0.6692307692307692},{"$f":"'环工16-1分数统计'!AK17*'环工16-1分数统计'!AK$3/130","v":2.4615384615384617},{"$f":"'环工16-1分数统计'!AL17*'环工16-1分数统计'!AL$3/130","v":1.4153846153846155},{"$f":"'环工16-1分数统计'!AM17*'环工16-1分数统计'!AM$3/130","v":0.9},{"$f":"'环工16-1分数统计'!AN17*'环工16-1分数统计'!AN$3/130","v":2.0076923076923077},{"$f":"'环工16-1分数统计'!AO17*'环工16-1分数统计'!AO$3/130","v":1.9153846153846155},{"$f":"'环工16-1分数统计'!AP17*'环工16-1分数统计'!AP$3/130","v":1.0269230769230768},{"$f":"'环工16-1分数统计'!AQ17*'环工16-1分数统计'!AQ$3/130","v":2.0076923076923077},{"$f":"'环工16-1分数统计'!AR17*'环工16-1分数统计'!AR$3/130","v":1.3384615384615384},{"$f":"'环工16-1分数统计'!AS17*'环工16-1分数统计'!AS$3/130","v":1.4153846153846155},{"$f":"'环工16-1分数统计'!AT17*'环工16-1分数统计'!AT$3/130","v":1.3446153846153845},{"$f":"'环工16-1分数统计'!AU17*'环工16-1分数统计'!AU$3/130","v":0.7153846153846154},{"$f":"'环工16-1分数统计'!AV17*'环工16-1分数统计'!AV$3/130","v":1.3846153846153846},{"$f":"'环工16-1分数统计'!AW17*'环工16-1分数统计'!AW$3/130","v":0.6153846153846154},{"$f":"'环工16-1分数统计'!AX17*'环工16-1分数统计'!AX$3/130","v":2.830769230769231},{"$f":"'环工16-1分数统计'!AY17*'环工16-1分数统计'!AY$3/130","v":1.4461538461538461},{"$f":"'环工16-1分数统计'!AZ17*'环工16-1分数统计'!AZ$3/130","v":1.3384615384615384},{"$f":"'环工16-1分数统计'!BA17*'环工16-1分数统计'!BA$3/130","v":1.4},{"$f":"'环工16-1分数统计'!BB17*'环工16-1分数统计'!BB$3/130","v":1.0038461538461538},{"$f":"'环工16-1分数统计'!BC17*'环工16-1分数统计'!BC$3/130","v":2.0307692307692307},{"$f":"'环工16-1分数统计'!BD17*'环工16-1分数统计'!BD$3/130","v":1.0269230769230768},{"$f":"'环工16-1分数统计'!BE17*'环工16-1分数统计'!BE$3/130","v":1.1076923076923078},{"$f":"'环工16-1分数统计'!BF17*'环工16-1分数统计'!BF$3/130","v":0.7384615384615385},{"$f":"'环工16-1分数统计'!BG17*'环工16-1分数统计'!BG$3/130","v":0.35},{"$f":"'环工16-1分数统计'!BH17*'环工16-1分数统计'!BH$3/130","v":1.4307692307692308},{"$f":"'环工16-1分数统计'!BI17*'环工16-1分数统计'!BI$3/130","v":1.7307692307692308},{"$f":"'环工16-1分数统计'!BJ17*'环工16-1分数统计'!BJ$3/130","v":2.076923076923077},{"$f":"'环工16-1分数统计'!BK17*'环工16-1分数统计'!BK$3/130","v":0.6461538461538462},86.23615384615388,60.36530769230772,{"$f":"'环工16-1两年综测'!BD17","v":89.3712150025991},{"$f":"'环工16-1两年综测'!BE17","v":90.0143682983682},{"$f":"'环工16-1两年综测'!BF17","v":96.20658590145487},275.59216920242216,79.71924846950627,15.943849693901255,76.30915738620897]
["仲英杰","2016010614",{"$f":"'环工16-1分数统计'!H18*'环工16-1分数统计'!H$3/130","v":0.6923076923076923},{"$f":"'环工16-1分数统计'!I18*'环工16-1分数统计'!I$3/130","v":1.4461538461538461},{"$f":"'环工16-1分数统计'!J18*'环工16-1分数统计'!J$3/130","v":4.523076923076923},{"$f":"'环工16-1分数统计'!K18*'环工16-1分数统计'!K$3/130","v":3.2192307692307693},{"$f":"'环工16-1分数统计'!L18*'环工16-1分数统计'!L$3/130","v":1.353846153846154},{"$f":"'环工16-1分数统计'!M18*'环工16-1分数统计'!M$3/130","v":1.323076923076923},{"$f":"'环工16-1分数统计'!N18*'环工16-1分数统计'!N$3/130","v":2.910769230769231},{"$f":"'环工16-1分数统计'!O18*'环工16-1分数统计'!O$3/130","v":0.6076923076923076},{"$f":"'环工16-1分数统计'!P18*'环工16-1分数统计'!P$3/130","v":1.7307692307692308},{"$f":"'环工16-1分数统计'!Q18*'环工16-1分数统计'!Q$3/130","v":0.6307692307692307},{"$f":"'环工16-1分数统计'!R18*'环工16-1分数统计'!R$3/130","v":1.9153846153846155},{"$f":"'环工16-1分数统计'!S18*'环工16-1分数统计'!S$3/130","v":3.576923076923077},{"$f":"'环工16-1分数统计'!T18*'环工16-1分数统计'!T$3/130","v":1.7307692307692308},{"$f":"'环工16-1分数统计'!U18*'环工16-1分数统计'!U$3/130","v":2.8},{"$f":"'环工16-1分数统计'!V18*'环工16-1分数统计'!V$3/130","v":2.146153846153846},{"$f":"'环工16-1分数统计'!W18*'环工16-1分数统计'!W$3/130","v":2.9446153846153846},{"$f":"'环工16-1分数统计'!X18*'环工16-1分数统计'!X$3/130","v":0.7153846153846154},{"$f":"'环工16-1分数统计'!Y18*'环工16-1分数统计'!Y$3/130","v":1.3846153846153846},{"$f":"'环工16-1分数统计'!Z18*'环工16-1分数统计'!Z$3/130","v":1.9846153846153847},{"$f":"'环工16-1分数统计'!AA18*'环工16-1分数统计'!AA$3/130","v":2.1},{"$f":"'环工16-1分数统计'!AB18*'环工16-1分数统计'!AB$3/130","v":1.323076923076923},{"$f":"'环工16-1分数统计'!AC18*'环工16-1分数统计'!AC$3/130","v":1.3076923076923077},{"$f":"'环工16-1分数统计'!AD18*'环工16-1分数统计'!AD$3/130","v":1.3384615384615384},{"$f":"'环工16-1分数统计'!AE18*'环工16-1分数统计'!AE$3/130","v":1.590769230769231},{"$f":"'环工16-1分数统计'!AF18*'环工16-1分数统计'!AF$3/130","v":0.7153846153846154},{"$f":"'环工16-1分数统计'!AG18*'环工16-1分数统计'!AG$3/130","v":1.5},{"$f":"'环工16-1分数统计'!AH18*'环工16-1分数统计'!AH$3/130","v":1.9846153846153847},{"$f":"'环工16-1分数统计'!AI18*'环工16-1分数统计'!AI$3/130","v":1.3846153846153846},{"$f":"'环工16-1分数统计'!AJ18*'环工16-1分数统计'!AJ$3/130","v":0.6923076923076923},{"$f":"'环工16-1分数统计'!AK18*'环工16-1分数统计'!AK$3/130","v":2.276923076923077},{"$f":"'环工16-1分数统计'!AL18*'环工16-1分数统计'!AL$3/130","v":1.3076923076923077},{"$f":"'环工16-1分数统计'!AM18*'环工16-1分数统计'!AM$3/130","v":0.9461538461538461},{"$f":"'环工16-1分数统计'!AN18*'环工16-1分数统计'!AN$3/130","v":1.8692307692307693},{"$f":"'环工16-1分数统计'!AO18*'环工16-1分数统计'!AO$3/130","v":1.8461538461538463},{"$f":"'环工16-1分数统计'!AP18*'环工16-1分数统计'!AP$3/130","v":1.0269230769230768},{"$f":"'环工16-1分数统计'!AQ18*'环工16-1分数统计'!AQ$3/130","v":1.9846153846153847},{"$f":"'环工16-1分数统计'!AR18*'环工16-1分数统计'!AR$3/130","v":1.3076923076923077},{"$f":"'环工16-1分数统计'!AS18*'环工16-1分数统计'!AS$3/130","v":1.4307692307692308},{"$f":"'环工16-1分数统计'!AT18*'环工16-1分数统计'!AT$3/130","v":1.5230769230769232},{"$f":"'环工16-1分数统计'!AU18*'环工16-1分数统计'!AU$3/130","v":0.6307692307692307},{"$f":"'环工16-1分数统计'!AV18*'环工16-1分数统计'!AV$3/130","v":1.4},{"$f":"'环工16-1分数统计'!AW18*'环工16-1分数统计'!AW$3/130","v":0.6461538461538462},{"$f":"'环工16-1分数统计'!AX18*'环工16-1分数统计'!AX$3/130","v":2.4307692307692306},{"$f":"'环工16-1分数统计'!AY18*'环工16-1分数统计'!AY$3/130","v":1.2769230769230768},{"$f":"'环工16-1分数统计'!AZ18*'环工16-1分数统计'!AZ$3/130","v":1.4153846153846155},{"$f":"'环工16-1分数统计'!BA18*'环工16-1分数统计'!BA$3/130","v":1.3384615384615384},{"$f":"'环工16-1分数统计'!BB18*'环工16-1分数统计'!BB$3/130","v":1.0384615384615385},{"$f":"'环工16-1分数统计'!BC18*'环工16-1分数统计'!BC$3/130","v":2.1923076923076925},{"$f":"'环工16-1分数统计'!BD18*'环工16-1分数统计'!BD$3/130","v":1.0615384615384615},{"$f":"'环工16-1分数统计'!BE18*'环工16-1分数统计'!BE$3/130","v":1.353846153846154},{"$f":"'环工16-1分数统计'!BF18*'环工16-1分数统计'!BF$3/130","v":0.6923076923076923},{"$f":"'环工16-1分数统计'!BG18*'环工16-1分数统计'!BG$3/130","v":0.36153846153846153},{"$f":"'环工16-1分数统计'!BH18*'环工16-1分数统计'!BH$3/130","v":1.4},{"$f":"'环工16-1分数统计'!BI18*'环工16-1分数统计'!BI$3/130","v":1.8076923076923077},{"$f":"'环工16-1分数统计'!BJ18*'环工16-1分数统计'!BJ$3/130","v":2.169230769230769},{"$f":"'环工16-1分数统计'!BK18*'环工16-1分数统计'!BK$3/130","v":0.6615384615384615},88.96923076923078,62.27846153846154,{"$f":"'环工16-1两年综测'!BD18","v":98.4399223733362},{"$f":"'环工16-1两年综测'!BE18","v":105.295693550894},{"$f":"'环工16-1两年综测'!BF18","v":111.15358196286473},314.88919788709495,91.08651482868122,18.217302965736245,80.49576450419778]
["陈闯","2016010617",{"$f":"'环工16-1分数统计'!H19*'环工16-1分数统计'!H$3/130","v":0.6384615384615384},{"$f":"'环工16-1分数统计'!I19*'环工16-1分数统计'!I$3/130","v":1.4461538461538461},{"$f":"'环工16-1分数统计'!J19*'环工16-1分数统计'!J$3/130","v":4.2},{"$f":"'环工16-1分数统计'!K19*'环工16-1分数统计'!K$3/130","v":3.1153846153846154},{"$f":"'环工16-1分数统计'!L19*'环工16-1分数统计'!L$3/130","v":1.3692307692307693},{"$f":"'环工16-1分数统计'!M19*'环工16-1分数统计'!M$3/130","v":1.2},{"$f":"'环工16-1分数统计'!N19*'环工16-1分数统计'!N$3/130","v":2.5384615384615383},{"$f":"'环工16-1分数统计'!O19*'环工16-1分数统计'!O$3/130","v":0.7230769230769231},{"$f":"'环工16-1分数统计'!P19*'环工16-1分数统计'!P$3/130","v":1.6346153846153846},{"$f":"'环工16-1分数统计'!Q19*'环工16-1分数统计'!Q$3/130","v":0.6230769230769231},{"$f":"'环工16-1分数统计'!R19*'环工16-1分数统计'!R$3/130","v":1.5692307692307692},{"$f":"'环工16-1分数统计'!S19*'环工16-1分数统计'!S$3/130","v":3.8461538461538463},{"$f":"'环工16-1分数统计'!T19*'环工16-1分数统计'!T$3/130","v":1.6538461538461537},{"$f":"'环工16-1分数统计'!U19*'环工16-1分数统计'!U$3/130","v":2.5538461538461537},{"$f":"'环工16-1分数统计'!V19*'环工16-1分数统计'!V$3/130","v":1.9846153846153847},{"$f":"'环工16-1分数统计'!W19*'环工16-1分数统计'!W$3/130","v":2.8769230769230774},{"$f":"'环工16-1分数统计'!X19*'环工16-1分数统计'!X$3/130","v":0.7230769230769231},{"$f":"'环工16-1分数统计'!Y19*'环工16-1分数统计'!Y$3/130","v":1.476923076923077},{"$f":"'环工16-1分数统计'!Z19*'环工16-1分数统计'!Z$3/130","v":1.6615384615384616},{"$f":"'环工16-1分数统计'!AA19*'环工16-1分数统计'!AA$3/130","v":2.123076923076923},{"$f":"'环工16-1分数统计'!AB19*'环工16-1分数统计'!AB$3/130","v":1.2},{"$f":"'环工16-1分数统计'!AC19*'环工16-1分数统计'!AC$3/130","v":1.353846153846154},{"$f":"'环工16-1分数统计'!AD19*'环工16-1分数统计'!AD$3/130","v":1.3384615384615384},{"$f":"'环工16-1分数统计'!AE19*'环工16-1分数统计'!AE$3/130","v":1.353846153846154},{"$f":"'环工16-1分数统计'!AF19*'环工16-1分数统计'!AF$3/130","v":0.7307692307692307},{"$f":"'环工16-1分数统计'!AG19*'环工16-1分数统计'!AG$3/130","v":1.6538461538461537},{"$f":"'环工16-1分数统计'!AH19*'环工16-1分数统计'!AH$3/130","v":2.169230769230769},{"$f":"'环工16-1分数统计'!AI19*'环工16-1分数统计'!AI$3/130","v":1.3692307692307693},{"$f":"'环工16-1分数统计'!AJ19*'环工16-1分数统计'!AJ$3/130","v":0.7076923076923077},{"$f":"'环工16-1分数统计'!AK19*'环工16-1分数统计'!AK$3/130","v":2.2153846153846155},{"$f":"'环工16-1分数统计'!AL19*'环工16-1分数统计'!AL$3/130","v":1.353846153846154},{"$f":"'环工16-1分数统计'!AM19*'环工16-1分数统计'!AM$3/130","v":0.8538461538461538},{"$f":"'环工16-1分数统计'!AN19*'环工16-1分数统计'!AN$3/130","v":1.9846153846153847},{"$f":"'环工16-1分数统计'!AO19*'环工16-1分数统计'!AO$3/130","v":2.0076923076923077},{"$f":"'环工16-1分数统计'!AP19*'环工16-1分数统计'!AP$3/130","v":1.0269230769230768},{"$f":"'环工16-1分数统计'!AQ19*'环工16-1分数统计'!AQ$3/130","v":2.076923076923077},{"$f":"'环工16-1分数统计'!AR19*'环工16-1分数统计'!AR$3/130","v":1.353846153846154},{"$f":"'环工16-1分数统计'!AS19*'环工16-1分数统计'!AS$3/130","v":1.3076923076923077},{"$f":"'环工16-1分数统计'!AT19*'环工16-1分数统计'!AT$3/130","v":1.2353846153846155},{"$f":"'环工16-1分数统计'!AU19*'环工16-1分数统计'!AU$3/130","v":0.7230769230769231},{"$f":"'环工16-1分数统计'!AV19*'环工16-1分数统计'!AV$3/130","v":1.353846153846154},{"$f":"'环工16-1分数统计'!AW19*'环工16-1分数统计'!AW$3/130","v":0.6230769230769231},{"$f":"'环工16-1分数统计'!AX19*'环工16-1分数统计'!AX$3/130","v":2.523076923076923},{"$f":"'环工16-1分数统计'!AY19*'环工16-1分数统计'!AY$3/130","v":1.3846153846153846},{"$f":"'环工16-1分数统计'!AZ19*'环工16-1分数统计'!AZ$3/130","v":1.3846153846153846},{"$f":"'环工16-1分数统计'!BA19*'环工16-1分数统计'!BA$3/130","v":1.3692307692307693},{"$f":"'环工16-1分数统计'!BB19*'环工16-1分数统计'!BB$3/130","v":1.0153846153846153},{"$f":"'环工16-1分数统计'!BC19*'环工16-1分数统计'!BC$3/130","v":2.0307692307692307},{"$f":"'环工16-1分数统计'!BD19*'环工16-1分数统计'!BD$3/130","v":1.0153846153846153},{"$f":"'环工16-1分数统计'!BE19*'环工16-1分数统计'!BE$3/130","v":1.2923076923076924},{"$f":"'环工16-1分数统计'!BF19*'环工16-1分数统计'!BF$3/130","v":0.676923076923077},{"$f":"'环工16-1分数统计'!BG19*'环工16-1分数统计'!BG$3/130","v":0.35},{"$f":"'环工16-1分数统计'!BH19*'环工16-1分数统计'!BH$3/130","v":1.3846153846153846},{"$f":"'环工16-1分数统计'!BI19*'环工16-1分数统计'!BI$3/130","v":1.7307692307692308},{"$f":"'环工16-1分数统计'!BJ19*'环工16-1分数统计'!BJ$3/130","v":1.9846153846153847},{"$f":"'环工16-1分数统计'!BK19*'环工16-1分数统计'!BK$3/130","v":0.676923076923077},86.77,60.73899999999999,{"$f":"'环工16-1两年综测'!BD19","v":95.2447034184407},{"$f":"'环工16-1两年综测'!BE19","v":109.451422843823},{"$f":"'环工16-1两年综测'!BF19","v":107.46141662245802},312.1575428847217,90.29634185498104,18.059268370996207,78.7982683709962]
["丁相瑞","2016010619",{"$f":"'环工16-1分数统计'!H20*'环工16-1分数统计'!H$3/130","v":0.6230769230769231},{"$f":"'环工16-1分数统计'!I20*'环工16-1分数统计'!I$3/130","v":1.3692307692307693},{"$f":"'环工16-1分数统计'!J20*'环工16-1分数统计'!J$3/130","v":3.830769230769231},{"$f":"'环工16-1分数统计'!K20*'环工16-1分数统计'!K$3/130","v":2.526923076923077},{"$f":"'环工16-1分数统计'!L20*'环工16-1分数统计'!L$3/130","v":1.2461538461538462},{"$f":"'环工16-1分数统计'!M20*'环工16-1分数统计'!M$3/130","v":1.2},{"$f":"'环工16-1分数统计'!N20*'环工16-1分数统计'!N$3/130","v":2.1323076923076925},{"$f":"'环工16-1分数统计'!O20*'环工16-1分数统计'!O$3/130","v":0.5307692307692308},{"$f":"'环工16-1分数统计'!P20*'环工16-1分数统计'!P$3/130","v":1.5},{"$f":"'环工16-1分数统计'!Q20*'环工16-1分数统计'!Q$3/130","v":0.6461538461538462},{"$f":"'环工16-1分数统计'!R20*'环工16-1分数统计'!R$3/130","v":1.3846153846153846},{"$f":"'环工16-1分数统计'!S20*'环工16-1分数统计'!S$3/130","v":3.4615384615384617},{"$f":"'环工16-1分数统计'!T20*'环工16-1分数统计'!T$3/130","v":1.5},{"$f":"'环工16-1分数统计'!U20*'环工16-1分数统计'!U$3/130","v":2.3692307692307693},{"$f":"'环工16-1分数统计'!V20*'环工16-1分数统计'!V$3/130","v":1.7538461538461538},{"$f":"'环工16-1分数统计'!W20*'环工16-1分数统计'!W$3/130","v":2.8430769230769233},{"$f":"'环工16-1分数统计'!X20*'环工16-1分数统计'!X$3/130","v":0.676923076923077},{"$f":"'环工16-1分数统计'!Y20*'环工16-1分数统计'!Y$3/130","v":1.4461538461538461},{"$f":"'环工16-1分数统计'!Z20*'环工16-1分数统计'!Z$3/130","v":1.4307692307692308},{"$f":"'环工16-1分数统计'!AA20*'环工16-1分数统计'!AA$3/130","v":1.7076923076923076},{"$f":"'环工16-1分数统计'!AB20*'环工16-1分数统计'!AB$3/130","v":1.1538461538461537},{"$f":"'环工16-1分数统计'!AC20*'环工16-1分数统计'!AC$3/130","v":1.2769230769230768},{"$f":"'环工16-1分数统计'!AD20*'环工16-1分数统计'!AD$3/130","v":1.1846153846153846},{"$f":"'环工16-1分数统计'!AE20*'环工16-1分数统计'!AE$3/130","v":1.3200000000000003},{"$f":"'环工16-1分数统计'!AF20*'环工16-1分数统计'!AF$3/130","v":0.676923076923077},{"$f":"'环工16-1分数统计'!AG20*'环工16-1分数统计'!AG$3/130","v":1.5192307692307692},{"$f":"'环工16-1分数统计'!AH20*'环工16-1分数统计'!AH$3/130","v":1.7076923076923076},{"$f":"'环工16-1分数统计'!AI20*'环工16-1分数统计'!AI$3/130","v":1.2307692307692308},{"$f":"'环工16-1分数统计'!AJ20*'环工16-1分数统计'!AJ$3/130","v":0.6461538461538462},{"$f":"'环工16-1分数统计'!AK20*'环工16-1分数统计'!AK$3/130","v":2},{"$f":"'环工16-1分数统计'!AL20*'环工16-1分数统计'!AL$3/130","v":1.2615384615384615},{"$f":"'环工16-1分数统计'!AM20*'环工16-1分数统计'!AM$3/130","v":0.6923076923076923},{"$f":"'环工16-1分数统计'!AN20*'环工16-1分数统计'!AN$3/130","v":2.076923076923077},{"$f":"'环工16-1分数统计'!AO20*'环工16-1分数统计'!AO$3/130","v":1.8461538461538463},{"$f":"'环工16-1分数统计'!AP20*'环工16-1分数统计'!AP$3/130","v":0.9461538461538461},{"$f":"'环工16-1分数统计'!AQ20*'环工16-1分数统计'!AQ$3/130","v":1.8},{"$f":"'环工16-1分数统计'!AR20*'环工16-1分数统计'!AR$3/130","v":1.353846153846154},{"$f":"'环工16-1分数统计'!AS20*'环工16-1分数统计'!AS$3/130","v":1.4},{"$f":"'环工16-1分数统计'!AT20*'环工16-1分数统计'!AT$3/130","v":1.2861538461538462},{"$f":"'环工16-1分数统计'!AU20*'环工16-1分数统计'!AU$3/130","v":0.6307692307692307},{"$f":"'环工16-1分数统计'!AV20*'环工16-1分数统计'!AV$3/130","v":1.2923076923076924},{"$f":"'环工16-1分数统计'!AW20*'环工16-1分数统计'!AW$3/130","v":0.5769230769230769},{"$f":"'环工16-1分数统计'!AX20*'环工16-1分数统计'!AX$3/130","v":2.2153846153846155},{"$f":"'环工16-1分数统计'!AY20*'环工16-1分数统计'!AY$3/130","v":1.4},{"$f":"'环工16-1分数统计'!AZ20*'环工16-1分数统计'!AZ$3/130","v":1.2461538461538462},{"$f":"'环工16-1分数统计'!BA20*'环工16-1分数统计'!BA$3/130","v":1.1384615384615384},{"$f":"'环工16-1分数统计'!BB20*'环工16-1分数统计'!BB$3/130","v":0.9923076923076923},{"$f":"'环工16-1分数统计'!BC20*'环工16-1分数统计'!BC$3/130","v":2.0538461538461537},{"$f":"'环工16-1分数统计'!BD20*'环工16-1分数统计'!BD$3/130","v":0.9461538461538461},{"$f":"'环工16-1分数统计'!BE20*'环工16-1分数统计'!BE$3/130","v":1.123076923076923},{"$f":"'环工16-1分数统计'!BF20*'环工16-1分数统计'!BF$3/130","v":0.6461538461538462},{"$f":"'环工16-1分数统计'!BG20*'环工16-1分数统计'!BG$3/130","v":0.3384615384615385},{"$f":"'环工16-1分数统计'!BH20*'环工16-1分数统计'!BH$3/130","v":1.353846153846154},{"$f":"'环工16-1分数统计'!BI20*'环工16-1分数统计'!BI$3/130","v":1.4615384615384615},{"$f":"'环工16-1分数统计'!BJ20*'环工16-1分数统计'!BJ$3/130","v":1.7307692307692308},{"$f":"'环工16-1分数统计'!BK20*'环工16-1分数统计'!BK$3/130","v":0.5615384615384615},79.26615384615386,55.4863076923077,{"$f":"'环工16-1两年综测'!BD20","v":86.6118849365926},{"$f":"'环工16-1两年综测'!BE20","v":85.5783763791763},{"$f":"'环工16-1两年综测'!BF20","v":88.37967785547785},260.56993917124674,75.37383875816667,15.074767751633335,70.56107544394104]
["高军政","2016010620",{"$f":"'环工16-1分数统计'!H21*'环工16-1分数统计'!H$3/130","v":0.5923076923076923},{"$f":"'环工16-1分数统计'!I21*'环工16-1分数统计'!I$3/130","v":1.4153846153846155},{"$f":"'环工16-1分数统计'!J21*'环工16-1分数统计'!J$3/130","v":3.6923076923076925},{"$f":"'环工16-1分数统计'!K21*'环工16-1分数统计'!K$3/130","v":3.1153846153846154},{"$f":"'环工16-1分数统计'!L21*'环工16-1分数统计'!L$3/130","v":1.3384615384615384},{"$f":"'环工16-1分数统计'!M21*'环工16-1分数统计'!M$3/130","v":1.123076923076923},{"$f":"'环工16-1分数统计'!N21*'环工16-1分数统计'!N$3/130","v":2.2338461538461543},{"$f":"'环工16-1分数统计'!O21*'环工16-1分数统计'!O$3/130","v":0.5692307692307692},{"$f":"'环工16-1分数统计'!P21*'环工16-1分数统计'!P$3/130","v":1.6730769230769231},{"$f":"'环工16-1分数统计'!Q21*'环工16-1分数统计'!Q$3/130","v":0.7153846153846154},{"$f":"'环工16-1分数统计'!R21*'环工16-1分数统计'!R$3/130","v":1.8},{"$f":"'环工16-1分数统计'!S21*'环工16-1分数统计'!S$3/130","v":3.576923076923077},{"$f":"'环工16-1分数统计'!T21*'环工16-1分数统计'!T$3/130","v":1.5961538461538463},{"$f":"'环工16-1分数统计'!U21*'环工16-1分数统计'!U$3/130","v":2.4615384615384617},{"$f":"'环工16-1分数统计'!V21*'环工16-1分数统计'!V$3/130","v":2.123076923076923},{"$f":"'环工16-1分数统计'!W21*'环工16-1分数统计'!W$3/130","v":2.741538461538462},{"$f":"'环工16-1分数统计'!X21*'环工16-1分数统计'!X$3/130","v":0.6692307692307692},{"$f":"'环工16-1分数统计'!Y21*'环工16-1分数统计'!Y$3/130","v":1.3846153846153846},{"$f":"'环工16-1分数统计'!Z21*'环工16-1分数统计'!Z$3/130","v":1.5692307692307692},{"$f":"'环工16-1分数统计'!AA21*'环工16-1分数统计'!AA$3/130","v":2.1},{"$f":"'环工16-1分数统计'!AB21*'环工16-1分数统计'!AB$3/130","v":1.1846153846153846},{"$f":"'环工16-1分数统计'!AC21*'环工16-1分数统计'!AC$3/130","v":1.2153846153846153},{"$f":"'环工16-1分数统计'!AD21*'环工16-1分数统计'!AD$3/130","v":1.2153846153846153},{"$f":"'环工16-1分数统计'!AE21*'环工16-1分数统计'!AE$3/130","v":1.303076923076923},{"$f":"'环工16-1分数统计'!AF21*'环工16-1分数统计'!AF$3/130","v":0.6076923076923076},{"$f":"'环工16-1分数统计'!AG21*'环工16-1分数统计'!AG$3/130","v":1.3269230769230769},{"$f":"'环工16-1分数统计'!AH21*'环工16-1分数统计'!AH$3/130","v":1.6846153846153846},{"$f":"'环工16-1分数统计'!AI21*'环工16-1分数统计'!AI$3/130","v":1.2769230769230768},{"$f":"'环工16-1分数统计'!AJ21*'环工16-1分数统计'!AJ$3/130","v":0.6615384615384615},{"$f":"'环工16-1分数统计'!AK21*'环工16-1分数统计'!AK$3/130","v":1.8461538461538463},{"$f":"'环工16-1分数统计'!AL21*'环工16-1分数统计'!AL$3/130","v":1.323076923076923},{"$f":"'环工16-1分数统计'!AM21*'环工16-1分数统计'!AM$3/130","v":0.75},{"$f":"'环工16-1分数统计'!AN21*'环工16-1分数统计'!AN$3/130","v":1.6615384615384616},{"$f":"'环工16-1分数统计'!AO21*'环工16-1分数统计'!AO$3/130","v":1.5923076923076922},{"$f":"'环工16-1分数统计'!AP21*'环工16-1分数统计'!AP$3/130","v":0.9461538461538461},{"$f":"'环工16-1分数统计'!AQ21*'环工16-1分数统计'!AQ$3/130","v":1.8923076923076922},{"$f":"'环工16-1分数统计'!AR21*'环工16-1分数统计'!AR$3/130","v":1.323076923076923},{"$f":"'环工16-1分数统计'!AS21*'环工16-1分数统计'!AS$3/130","v":1.2615384615384615},{"$f":"'环工16-1分数统计'!AT21*'环工16-1分数统计'!AT$3/130","v":1.150769230769231},{"$f":"'环工16-1分数统计'!AU21*'环工16-1分数统计'!AU$3/130","v":0.49230769230769234},{"$f":"'环工16-1分数统计'!AV21*'环工16-1分数统计'!AV$3/130","v":1.353846153846154},{"$f":"'环工16-1分数统计'!AW21*'环工16-1分数统计'!AW$3/130","v":0.6153846153846154},{"$f":"'环工16-1分数统计'!AX21*'环工16-1分数统计'!AX$3/130","v":2.6769230769230767},{"$f":"'环工16-1分数统计'!AY21*'环工16-1分数统计'!AY$3/130","v":1.3846153846153846},{"$f":"'环工16-1分数统计'!AZ21*'环工16-1分数统计'!AZ$3/130","v":1.3692307692307693},{"$f":"'环工16-1分数统计'!BA21*'环工16-1分数统计'!BA$3/130","v":1.5076923076923077},{"$f":"'环工16-1分数统计'!BB21*'环工16-1分数统计'!BB$3/130","v":0.9692307692307692},{"$f":"'环工16-1分数统计'!BC21*'环工16-1分数统计'!BC$3/130","v":2.076923076923077},{"$f":"'环工16-1分数统计'!BD21*'环工16-1分数统计'!BD$3/130","v":0.9346153846153846},{"$f":"'环工16-1分数统计'!BE21*'环工16-1分数统计'!BE$3/130","v":1.2307692307692308},{"$f":"'环工16-1分数统计'!BF21*'环工16-1分数统计'!BF$3/130","v":0.676923076923077},{"$f":"'环工16-1分数统计'!BG21*'环工16-1分数统计'!BG$3/130","v":0.3346153846153846},{"$f":"'环工16-1分数统计'!BH21*'环工16-1分数统计'!BH$3/130","v":1.3076923076923077},{"$f":"'环工16-1分数统计'!BI21*'环工16-1分数统计'!BI$3/130","v":1.6730769230769231},{"$f":"'环工16-1分数统计'!BJ21*'环工16-1分数统计'!BJ$3/130","v":2.0307692307692307},{"$f":"'环工16-1分数统计'!BK21*'环工16-1分数统计'!BK$3/130","v":0.6},81.94846153846154,57.36392307692308,{"$f":"'环工16-1两年综测'!BD21","v":89.3930169827972},{"$f":"'环工16-1两年综测'!BE21","v":83.8704369852369},{"$f":"'环工16-1两年综测'!BF21","v":90.68818673740051},263.95164070543467,76.35204762975339,15.270409525950678,72.63433260287376]
["贾钰森","2016010621",{"$f":"'环工16-1分数统计'!H22*'环工16-1分数统计'!H$3/130","v":0.6230769230769231},{"$f":"'环工16-1分数统计'!I22*'环工16-1分数统计'!I$3/130","v":1.3076923076923077},{"$f":"'环工16-1分数统计'!J22*'环工16-1分数统计'!J$3/130","v":2.8153846153846156},{"$f":"'环工16-1分数统计'!K22*'环工16-1分数统计'!K$3/130","v":2.7},{"$f":"'环工16-1分数统计'!L22*'环工16-1分数统计'!L$3/130","v":1.2461538461538462},{"$f":"'环工16-1分数统计'!M22*'环工16-1分数统计'!M$3/130","v":1.1538461538461537},{"$f":"'环工16-1分数统计'!N22*'环工16-1分数统计'!N$3/130","v":2.0984615384615384},{"$f":"'环工16-1分数统计'!O22*'环工16-1分数统计'!O$3/130","v":0.6307692307692307},{"$f":"'环工16-1分数统计'!P22*'环工16-1分数统计'!P$3/130","v":1.2307692307692308},{"$f":"'环工16-1分数统计'!Q22*'环工16-1分数统计'!Q$3/130","v":0.6384615384615384},{"$f":"'环工16-1分数统计'!R22*'环工16-1分数统计'!R$3/130","v":1.4538461538461538},{"$f":"'环工16-1分数统计'!S22*'环工16-1分数统计'!S$3/130","v":2.6153846153846154},{"$f":"'环工16-1分数统计'!T22*'环工16-1分数统计'!T$3/130","v":1.5576923076923077},{"$f":"'环工16-1分数统计'!U22*'环工16-1分数统计'!U$3/130","v":2.4923076923076923},{"$f":"'环工16-1分数统计'!V22*'环工16-1分数统计'!V$3/130","v":1.8461538461538463},{"$f":"'环工16-1分数统计'!W22*'环工16-1分数统计'!W$3/130","v":2.606153846153846},{"$f":"'环工16-1分数统计'!X22*'环工16-1分数统计'!X$3/130","v":0.7},{"$f":"'环工16-1分数统计'!Y22*'环工16-1分数统计'!Y$3/130","v":1.323076923076923},{"$f":"'环工16-1分数统计'!Z22*'环工16-1分数统计'!Z$3/130","v":1.5923076923076922},{"$f":"'环工16-1分数统计'!AA22*'环工16-1分数统计'!AA$3/130","v":1.6153846153846154},{"$f":"'环工16-1分数统计'!AB22*'环工16-1分数统计'!AB$3/130","v":1.1846153846153846},{"$f":"'环工16-1分数统计'!AC22*'环工16-1分数统计'!AC$3/130","v":1.2307692307692308},{"$f":"'环工16-1分数统计'!AD22*'环工16-1分数统计'!AD$3/130","v":1.123076923076923},{"$f":"'环工16-1分数统计'!AE22*'环工16-1分数统计'!AE$3/130","v":1.2015384615384617},{"$f":"'环工16-1分数统计'!AF22*'环工16-1分数统计'!AF$3/130","v":0.7},{"$f":"'环工16-1分数统计'!AG22*'环工16-1分数统计'!AG$3/130","v":1.4423076923076923},{"$f":"'环工16-1分数统计'!AH22*'环工16-1分数统计'!AH$3/130","v":1.4307692307692308},{"$f":"'环工16-1分数统计'!AI22*'环工16-1分数统计'!AI$3/130","v":1.2769230769230768},{"$f":"'环工16-1分数统计'!AJ22*'环工16-1分数统计'!AJ$3/130","v":0.6538461538461539},{"$f":"'环工16-1分数统计'!AK22*'环工16-1分数统计'!AK$3/130","v":2.246153846153846},{"$f":"'环工16-1分数统计'!AL22*'环工16-1分数统计'!AL$3/130","v":1.323076923076923},{"$f":"'环工16-1分数统计'!AM22*'环工16-1分数统计'!AM$3/130","v":0.8769230769230769},{"$f":"'环工16-1分数统计'!AN22*'环工16-1分数统计'!AN$3/130","v":1.6384615384615384},{"$f":"'环工16-1分数统计'!AO22*'环工16-1分数统计'!AO$3/130","v":1.476923076923077},{"$f":"'环工16-1分数统计'!AP22*'环工16-1分数统计'!AP$3/130","v":0.9923076923076923},{"$f":"'环工16-1分数统计'!AQ22*'环工16-1分数统计'!AQ$3/130","v":2.1},{"$f":"'环工16-1分数统计'!AR22*'环工16-1分数统计'!AR$3/130","v":1.2923076923076924},{"$f":"'环工16-1分数统计'!AS22*'环工16-1分数统计'!AS$3/130","v":1.2461538461538462},{"$f":"'环工16-1分数统计'!AT22*'环工16-1分数统计'!AT$3/130","v":1.150769230769231},{"$f":"'环工16-1分数统计'!AU22*'环工16-1分数统计'!AU$3/130","v":0.676923076923077},{"$f":"'环工16-1分数统计'!AV22*'环工16-1分数统计'!AV$3/130","v":1.1846153846153846},{"$f":"'环工16-1分数统计'!AW22*'环工16-1分数统计'!AW$3/130","v":0.5692307692307692},{"$f":"'环工16-1分数统计'!AX22*'环工16-1分数统计'!AX$3/130","v":2.276923076923077},{"$f":"'环工16-1分数统计'!AY22*'环工16-1分数统计'!AY$3/130","v":1.3076923076923077},{"$f":"'环工16-1分数统计'!AZ22*'环工16-1分数统计'!AZ$3/130","v":1.3076923076923077},{"$f":"'环工16-1分数统计'!BA22*'环工16-1分数统计'!BA$3/130","v":1.4923076923076923},{"$f":"'环工16-1分数统计'!BB22*'环工16-1分数统计'!BB$3/130","v":0.9576923076923077},{"$f":"'环工16-1分数统计'!BC22*'环工16-1分数统计'!BC$3/130","v":2.1},{"$f":"'环工16-1分数统计'!BD22*'环工16-1分数统计'!BD$3/130","v":1.0038461538461538},{"$f":"'环工16-1分数统计'!BE22*'环工16-1分数统计'!BE$3/130","v":1.2615384615384615},{"$f":"'环工16-1分数统计'!BF22*'环工16-1分数统计'!BF$3/130","v":0.6307692307692307},{"$f":"'环工16-1分数统计'!BG22*'环工16-1分数统计'!BG$3/130","v":0.3346153846153846},{"$f":"'环工16-1分数统计'!BH22*'环工16-1分数统计'!BH$3/130","v":1.2923076923076924},{"$f":"'环工16-1分数统计'!BI22*'环工16-1分数统计'!BI$3/130","v":1.4038461538461537},{"$f":"'环工16-1分数统计'!BJ22*'环工16-1分数统计'!BJ$3/130","v":0},{"$f":"'环工16-1分数统计'!BK22*'环工16-1分数统计'!BK$3/130","v":0.6076923076923076},75.24153846153847,52.66907692307692,{"$f":"'环工16-1两年综测'!BD22","v":85.9154987979787},{"$f":"'环工16-1两年综测'!BE22","v":84.9594066822066},{"$f":"'环工16-1两年综测'!BF22","v":82.98329018567638},253.85819566586167,73.43236433341119,14.686472866682237,67.35554978975915]
["李佳奇","2016010622",{"$f":"'环工16-1分数统计'!H23*'环工16-1分数统计'!H$3/130","v":0.6692307692307692},{"$f":"'环工16-1分数统计'!I23*'环工16-1分数统计'!I$3/130","v":1.4153846153846155},{"$f":"'环工16-1分数统计'!J23*'环工16-1分数统计'!J$3/130","v":3.9692307692307693},{"$f":"'环工16-1分数统计'!K23*'环工16-1分数统计'!K$3/130","v":3.0115384615384615},{"$f":"'环工16-1分数统计'!L23*'环工16-1分数统计'!L$3/130","v":1.3384615384615384},{"$f":"'环工16-1分数统计'!M23*'环工16-1分数统计'!M$3/130","v":1.4},{"$f":"'环工16-1分数统计'!N23*'环工16-1分数统计'!N$3/130","v":2.741538461538462},{"$f":"'环工16-1分数统计'!O23*'环工16-1分数统计'!O$3/130","v":0.6384615384615384},{"$f":"'环工16-1分数统计'!P23*'环工16-1分数统计'!P$3/130","v":1.1538461538461537},{"$f":"'环工16-1分数统计'!Q23*'环工16-1分数统计'!Q$3/130","v":0.7076923076923077},{"$f":"'环工16-1分数统计'!R23*'环工16-1分数统计'!R$3/130","v":1.7076923076923076},{"$f":"'环工16-1分数统计'!S23*'环工16-1分数统计'!S$3/130","v":3.6923076923076925},{"$f":"'环工16-1分数统计'!T23*'环工16-1分数统计'!T$3/130","v":1.5961538461538463},{"$f":"'环工16-1分数统计'!U23*'环工16-1分数统计'!U$3/130","v":2.6153846153846154},{"$f":"'环工16-1分数统计'!V23*'环工16-1分数统计'!V$3/130","v":2.1},{"$f":"'环工16-1分数统计'!W23*'环工16-1分数统计'!W$3/130","v":3.0461538461538464},{"$f":"'环工16-1分数统计'!X23*'环工16-1分数统计'!X$3/130","v":0.6923076923076923},{"$f":"'环工16-1分数统计'!Y23*'环工16-1分数统计'!Y$3/130","v":1.4153846153846155},{"$f":"'环工16-1分数统计'!Z23*'环工16-1分数统计'!Z$3/130","v":2.1},{"$f":"'环工16-1分数统计'!AA23*'环工16-1分数统计'!AA$3/130","v":2.146153846153846},{"$f":"'环工16-1分数统计'!AB23*'环工16-1分数统计'!AB$3/130","v":1.2307692307692308},{"$f":"'环工16-1分数统计'!AC23*'环工16-1分数统计'!AC$3/130","v":1.3692307692307693},{"$f":"'环工16-1分数统计'!AD23*'环工16-1分数统计'!AD$3/130","v":1.2923076923076924},{"$f":"'环工16-1分数统计'!AE23*'环工16-1分数统计'!AE$3/130","v":1.5738461538461541},{"$f":"'环工16-1分数统计'!AF23*'环工16-1分数统计'!AF$3/130","v":0.6846153846153846},{"$f":"'环工16-1分数统计'!AG23*'环工16-1分数统计'!AG$3/130","v":1.5961538461538463},{"$f":"'环工16-1分数统计'!AH23*'环工16-1分数统计'!AH$3/130","v":2.0076923076923077},{"$f":"'环工16-1分数统计'!AI23*'环工16-1分数统计'!AI$3/130","v":1.4153846153846155},{"$f":"'环工16-1分数统计'!AJ23*'环工16-1分数统计'!AJ$3/130","v":0.6846153846153846},{"$f":"'环工16-1分数统计'!AK23*'环工16-1分数统计'!AK$3/130","v":2.769230769230769},{"$f":"'环工16-1分数统计'!AL23*'环工16-1分数统计'!AL$3/130","v":1.3846153846153846},{"$f":"'环工16-1分数统计'!AM23*'环工16-1分数统计'!AM$3/130","v":1.0038461538461538},{"$f":"'环工16-1分数统计'!AN23*'环工16-1分数统计'!AN$3/130","v":2.076923076923077},{"$f":"'环工16-1分数统计'!AO23*'环工16-1分数统计'!AO$3/130","v":2.0076923076923077},{"$f":"'环工16-1分数统计'!AP23*'环工16-1分数统计'!AP$3/130","v":1.0038461538461538},{"$f":"'环工16-1分数统计'!AQ23*'环工16-1分数统计'!AQ$3/130","v":2.2615384615384615},{"$f":"'环工16-1分数统计'!AR23*'环工16-1分数统计'!AR$3/130","v":1.323076923076923},{"$f":"'环工16-1分数统计'!AS23*'环工16-1分数统计'!AS$3/130","v":1.4307692307692308},{"$f":"'环工16-1分数统计'!AT23*'环工16-1分数统计'!AT$3/130","v":1.4553846153846155},{"$f":"'环工16-1分数统计'!AU23*'环工16-1分数统计'!AU$3/130","v":0.7076923076923077},{"$f":"'环工16-1分数统计'!AV23*'环工16-1分数统计'!AV$3/130","v":1.2923076923076924},{"$f":"'环工16-1分数统计'!AW23*'环工16-1分数统计'!AW$3/130","v":0.6538461538461539},{"$f":"'环工16-1分数统计'!AX23*'环工16-1分数统计'!AX$3/130","v":2.7384615384615385},{"$f":"'环工16-1分数统计'!AY23*'环工16-1分数统计'!AY$3/130","v":1.353846153846154},{"$f":"'环工16-1分数统计'!AZ23*'环工16-1分数统计'!AZ$3/130","v":1.4923076923076923},{"$f":"'环工16-1分数统计'!BA23*'环工16-1分数统计'!BA$3/130","v":1.523076923076923},{"$f":"'环工16-1分数统计'!BB23*'环工16-1分数统计'!BB$3/130","v":1.0153846153846153},{"$f":"'环工16-1分数统计'!BC23*'环工16-1分数统计'!BC$3/130","v":2.169230769230769},{"$f":"'环工16-1分数统计'!BD23*'环工16-1分数统计'!BD$3/130","v":1.0153846153846153},{"$f":"'环工16-1分数统计'!BE23*'环工16-1分数统计'!BE$3/130","v":1.4},{"$f":"'环工16-1分数统计'!BF23*'环工16-1分数统计'!BF$3/130","v":0.676923076923077},{"$f":"'环工16-1分数统计'!BG23*'环工16-1分数统计'!BG$3/130","v":0.3576923076923077},{"$f":"'环工16-1分数统计'!BH23*'环工16-1分数统计'!BH$3/130","v":1.476923076923077},{"$f":"'环工16-1分数统计'!BI23*'环工16-1分数统计'!BI$3/130","v":1.8269230769230769},{"$f":"'环工16-1分数统计'!BJ23*'环工16-1分数统计'!BJ$3/130","v":2.169230769230769},{"$f":"'环工16-1分数统计'!BK23*'环工16-1分数统计'!BK$3/130","v":0.6615384615384615},89.2592307692308,62.48146153846155,{"$f":"'环工16-1两年综测'!BD23","v":91.869901471246},{"$f":"'环工16-1两年综测'!BE23","v":95.065148096348},{"$f":"'环工16-1两年综测'!BF23","v":102.03221009668863},288.9672596642826,83.58819787731044,16.717639575462087,79.19910111392363]
["李同","2016010624",{"$f":"'环工16-1分数统计'!H24*'环工16-1分数统计'!H$3/130","v":0.6692307692307692},{"$f":"'环工16-1分数统计'!I24*'环工16-1分数统计'!I$3/130","v":1.4},{"$f":"'环工16-1分数统计'!J24*'环工16-1分数统计'!J$3/130","v":3.6},{"$f":"'环工16-1分数统计'!K24*'环工16-1分数统计'!K$3/130","v":2.9076923076923076},{"$f":"'环工16-1分数统计'!L24*'环工16-1分数统计'!L$3/130","v":1.353846153846154},{"$f":"'环工16-1分数统计'!M24*'环工16-1分数统计'!M$3/130","v":1.2769230769230768},{"$f":"'环工16-1分数统计'!N24*'环工16-1分数统计'!N$3/130","v":2.267692307692308},{"$f":"'环工16-1分数统计'!O24*'环工16-1分数统计'!O$3/130","v":0.5},{"$f":"'环工16-1分数统计'!P24*'环工16-1分数统计'!P$3/130","v":1.5961538461538463},{"$f":"'环工16-1分数统计'!Q24*'环工16-1分数统计'!Q$3/130","v":0.5384615384615384},{"$f":"'环工16-1分数统计'!R24*'环工16-1分数统计'!R$3/130","v":1.7076923076923076},{"$f":"'环工16-1分数统计'!S24*'环工16-1分数统计'!S$3/130","v":3.0384615384615383},{"$f":"'环工16-1分数统计'!T24*'环工16-1分数统计'!T$3/130","v":1.7307692307692308},{"$f":"'环工16-1分数统计'!U24*'环工16-1分数统计'!U$3/130","v":2.4923076923076923},{"$f":"'环工16-1分数统计'!V24*'环工16-1分数统计'!V$3/130","v":1.823076923076923},{"$f":"'环工16-1分数统计'!W24*'环工16-1分数统计'!W$3/130","v":2.741538461538462},{"$f":"'环工16-1分数统计'!X24*'环工16-1分数统计'!X$3/130","v":0.6384615384615384},{"$f":"'环工16-1分数统计'!Y24*'环工16-1分数统计'!Y$3/130","v":1.4153846153846155},{"$f":"'环工16-1分数统计'!Z24*'环工16-1分数统计'!Z$3/130","v":1.7769230769230768},{"$f":"'环工16-1分数统计'!AA24*'环工16-1分数统计'!AA$3/130","v":1.8461538461538463},{"$f":"'环工16-1分数统计'!AB24*'环工16-1分数统计'!AB$3/130","v":1.1692307692307693},{"$f":"'环工16-1分数统计'!AC24*'环工16-1分数统计'!AC$3/130","v":1.3846153846153846},{"$f":"'环工16-1分数统计'!AD24*'环工16-1分数统计'!AD$3/130","v":1.3076923076923077},{"$f":"'环工16-1分数统计'!AE24*'环工16-1分数统计'!AE$3/130","v":1.353846153846154},{"$f":"'环工16-1分数统计'!AF24*'环工16-1分数统计'!AF$3/130","v":0.6384615384615384},{"$f":"'环工16-1分数统计'!AG24*'环工16-1分数统计'!AG$3/130","v":1.5769230769230769},{"$f":"'环工16-1分数统计'!AH24*'环工16-1分数统计'!AH$3/130","v":1.9615384615384615},{"$f":"'环工16-1分数统计'!AI24*'环工16-1分数统计'!AI$3/130","v":1.353846153846154},{"$f":"'环工16-1分数统计'!AJ24*'环工16-1分数统计'!AJ$3/130","v":0.6615384615384615},{"$f":"'环工16-1分数统计'!AK24*'环工16-1分数统计'!AK$3/130","v":2},{"$f":"'环工16-1分数统计'!AL24*'环工16-1分数统计'!AL$3/130","v":1.3846153846153846},{"$f":"'环工16-1分数统计'!AM24*'环工16-1分数统计'!AM$3/130","v":0.7846153846153846},{"$f":"'环工16-1分数统计'!AN24*'环工16-1分数统计'!AN$3/130","v":2.076923076923077},{"$f":"'环工16-1分数统计'!AO24*'环工16-1分数统计'!AO$3/130","v":1.476923076923077},{"$f":"'环工16-1分数统计'!AP24*'环工16-1分数统计'!AP$3/130","v":1.0153846153846153},{"$f":"'环工16-1分数统计'!AQ24*'环工16-1分数统计'!AQ$3/130","v":2.0076923076923077},{"$f":"'环工16-1分数统计'!AR24*'环工16-1分数统计'!AR$3/130","v":1.3384615384615384},{"$f":"'环工16-1分数统计'!AS24*'环工16-1分数统计'!AS$3/130","v":1.4461538461538461},{"$f":"'环工16-1分数统计'!AT24*'环工16-1分数统计'!AT$3/130","v":1.370769230769231},{"$f":"'环工16-1分数统计'!AU24*'环工16-1分数统计'!AU$3/130","v":0.6153846153846154},{"$f":"'环工16-1分数统计'!AV24*'环工16-1分数统计'!AV$3/130","v":1.353846153846154},{"$f":"'环工16-1分数统计'!AW24*'环工16-1分数统计'!AW$3/130","v":0.6538461538461539},{"$f":"'环工16-1分数统计'!AX24*'环工16-1分数统计'!AX$3/130","v":2.6769230769230767},{"$f":"'环工16-1分数统计'!AY24*'环工16-1分数统计'!AY$3/130","v":1.4},{"$f":"'环工16-1分数统计'!AZ24*'环工16-1分数统计'!AZ$3/130","v":1.4153846153846155},{"$f":"'环工16-1分数统计'!BA24*'环工16-1分数统计'!BA$3/130","v":1.3846153846153846},{"$f":"'环工16-1分数统计'!BB24*'环工16-1分数统计'!BB$3/130","v":1.0038461538461538},{"$f":"'环工16-1分数统计'!BC24*'环工16-1分数统计'!BC$3/130","v":2.076923076923077},{"$f":"'环工16-1分数统计'!BD24*'环工16-1分数统计'!BD$3/130","v":1.05},{"$f":"'环工16-1分数统计'!BE24*'环工16-1分数统计'!BE$3/130","v":1.1538461538461537},{"$f":"'环工16-1分数统计'!BF24*'环工16-1分数统计'!BF$3/130","v":0.6846153846153846},{"$f":"'环工16-1分数统计'!BG24*'环工16-1分数统计'!BG$3/130","v":0.3423076923076923},{"$f":"'环工16-1分数统计'!BH24*'环工16-1分数统计'!BH$3/130","v":1.4461538461538461},{"$f":"'环工16-1分数统计'!BI24*'环工16-1分数统计'!BI$3/130","v":1.7692307692307692},{"$f":"'环工16-1分数统计'!BJ24*'环工16-1分数统计'!BJ$3/130","v":2.0538461538461537},{"$f":"'环工16-1分数统计'!BK24*'环工16-1分数统计'!BK$3/130","v":0.6461538461538462},83.35692307692314,58.349846153846194,{"$f":"'环工16-1两年综测'!BD24","v":89.4128948375827},{"$f":"'环工16-1两年综测'!BE24","v":90.9267602175601},{"$f":"'环工16-1两年综测'!BF24","v":93.04822122015916},273.38787627530195,79.08162303890994,15.816324607781988,74.16617076162818]
["吴航飞","2016010625",{"$f":"'环工16-1分数统计'!H25*'环工16-1分数统计'!H$3/130","v":0.6230769230769231},{"$f":"'环工16-1分数统计'!I25*'环工16-1分数统计'!I$3/130","v":1.3076923076923077},{"$f":"'环工16-1分数统计'!J25*'环工16-1分数统计'!J$3/130","v":2.953846153846154},{"$f":"'环工16-1分数统计'!K25*'环工16-1分数统计'!K$3/130","v":2.526923076923077},{"$f":"'环工16-1分数统计'!L25*'环工16-1分数统计'!L$3/130","v":1.2},{"$f":"'环工16-1分数统计'!M25*'环工16-1分数统计'!M$3/130","v":1.0923076923076922},{"$f":"'环工16-1分数统计'!N25*'环工16-1分数统计'!N$3/130","v":2.267692307692308},{"$f":"'环工16-1分数统计'!O25*'环工16-1分数统计'!O$3/130","v":0.5153846153846153},{"$f":"'环工16-1分数统计'!P25*'环工16-1分数统计'!P$3/130","v":1.4423076923076923},{"$f":"'环工16-1分数统计'!Q25*'环工16-1分数统计'!Q$3/130","v":0.5923076923076923},{"$f":"'环工16-1分数统计'!R25*'环工16-1分数统计'!R$3/130","v":1.7076923076923076},{"$f":"'环工16-1分数统计'!S25*'环工16-1分数统计'!S$3/130","v":3.1153846153846154},{"$f":"'环工16-1分数统计'!T25*'环工16-1分数统计'!T$3/130","v":1.5576923076923077},{"$f":"'环工16-1分数统计'!U25*'环工16-1分数统计'!U$3/130","v":2.4},{"$f":"'环工16-1分数统计'!V25*'环工16-1分数统计'!V$3/130","v":1.7307692307692308},{"$f":"'环工16-1分数统计'!W25*'环工16-1分数统计'!W$3/130","v":2.8092307692307696},{"$f":"'环工16-1分数统计'!X25*'环工16-1分数统计'!X$3/130","v":0.5384615384615384},{"$f":"'环工16-1分数统计'!Y25*'环工16-1分数统计'!Y$3/130","v":1.323076923076923},{"$f":"'环工16-1分数统计'!Z25*'环工16-1分数统计'!Z$3/130","v":1.3846153846153846},{"$f":"'环工16-1分数统计'!AA25*'环工16-1分数统计'!AA$3/130","v":2.076923076923077},{"$f":"'环工16-1分数统计'!AB25*'环工16-1分数统计'!AB$3/130","v":1.0615384615384615},{"$f":"'环工16-1分数统计'!AC25*'环工16-1分数统计'!AC$3/130","v":1.0615384615384615},{"$f":"'环工16-1分数统计'!AD25*'环工16-1分数统计'!AD$3/130","v":1.1384615384615384},{"$f":"'环工16-1分数统计'!AE25*'环工16-1分数统计'!AE$3/130","v":1.2523076923076923},{"$f":"'环工16-1分数统计'!AF25*'环工16-1分数统计'!AF$3/130","v":0.6846153846153846},{"$f":"'环工16-1分数统计'!AG25*'环工16-1分数统计'!AG$3/130","v":1.3846153846153846},{"$f":"'环工16-1分数统计'!AH25*'环工16-1分数统计'!AH$3/130","v":2.1923076923076925},{"$f":"'环工16-1分数统计'!AI25*'环工16-1分数统计'!AI$3/130","v":1.2769230769230768},{"$f":"'环工16-1分数统计'!AJ25*'环工16-1分数统计'!AJ$3/130","v":0.6615384615384615},{"$f":"'环工16-1分数统计'!AK25*'环工16-1分数统计'!AK$3/130","v":2.0923076923076924},{"$f":"'环工16-1分数统计'!AL25*'环工16-1分数统计'!AL$3/130","v":1.123076923076923},{"$f":"'环工16-1分数统计'!AM25*'环工16-1分数统计'!AM$3/130","v":0.7038461538461539},{"$f":"'环工16-1分数统计'!AN25*'环工16-1分数统计'!AN$3/130","v":2.1},{"$f":"'环工16-1分数统计'!AO25*'环工16-1分数统计'!AO$3/130","v":1.5},{"$f":"'环工16-1分数统计'!AP25*'环工16-1分数统计'!AP$3/130","v":0.9461538461538461},{"$f":"'环工16-1分数统计'!AQ25*'环工16-1分数统计'!AQ$3/130","v":1.7769230769230768},{"$f":"'环工16-1分数统计'!AR25*'环工16-1分数统计'!AR$3/130","v":1.323076923076923},{"$f":"'环工16-1分数统计'!AS25*'环工16-1分数统计'!AS$3/130","v":1.2307692307692308},{"$f":"'环工16-1分数统计'!AT25*'环工16-1分数统计'!AT$3/130","v":1.2523076923076923},{"$f":"'环工16-1分数统计'!AU25*'环工16-1分数统计'!AU$3/130","v":0.6307692307692307},{"$f":"'环工16-1分数统计'!AV25*'环工16-1分数统计'!AV$3/130","v":1.2461538461538462},{"$f":"'环工16-1分数统计'!AW25*'环工16-1分数统计'!AW$3/130","v":0.5846153846153846},{"$f":"'环工16-1分数统计'!AX25*'环工16-1分数统计'!AX$3/130","v":2.3692307692307693},{"$f":"'环工16-1分数统计'!AY25*'环工16-1分数统计'!AY$3/130","v":1.0615384615384615},{"$f":"'环工16-1分数统计'!AZ25*'环工16-1分数统计'!AZ$3/130","v":1.2},{"$f":"'环工16-1分数统计'!BA25*'环工16-1分数统计'!BA$3/130","v":1.3384615384615384},{"$f":"'环工16-1分数统计'!BB25*'环工16-1分数统计'!BB$3/130","v":0.9576923076923077},{"$f":"'环工16-1分数统计'!BC25*'环工16-1分数统计'!BC$3/130","v":1.9384615384615385},{"$f":"'环工16-1分数统计'!BD25*'环工16-1分数统计'!BD$3/130","v":0.9461538461538461},{"$f":"'环工16-1分数统计'!BE25*'环工16-1分数统计'!BE$3/130","v":1.0153846153846153},{"$f":"'环工16-1分数统计'!BF25*'环工16-1分数统计'!BF$3/130","v":0.6},{"$f":"'环工16-1分数统计'!BG25*'环工16-1分数统计'!BG$3/130","v":0.33076923076923076},{"$f":"'环工16-1分数统计'!BH25*'环工16-1分数统计'!BH$3/130","v":1.1692307692307693},{"$f":"'环工16-1分数统计'!BI25*'环工16-1分数统计'!BI$3/130","v":1.2692307692307692},{"$f":"'环工16-1分数统计'!BJ25*'环工16-1分数统计'!BJ$3/130","v":1.9384615384615385},{"$f":"'环工16-1分数统计'!BK25*'环工16-1分数统计'!BK$3/130","v":0.5384615384615384},77.06230769230771,53.9436153846154,{"$f":"'环工16-1两年综测'!BD25","v":84.2469344745464},{"$f":"'环工16-1两年综测'!BE25","v":84.1430309246308},{"$f":"'环工16-1两年综测'!BF25","v":82.57951934731933},250.96948474649656,72.59676053449374,14.519352106898749,68.46296749151415]
["姚泽凯","2016010626",{"$f":"'环工16-1分数统计'!H26*'环工16-1分数统计'!H$3/130","v":0.5923076923076923},{"$f":"'环工16-1分数统计'!I26*'环工16-1分数统计'!I$3/130","v":1.4},{"$f":"'环工16-1分数统计'!J26*'环工16-1分数统计'!J$3/130","v":3.1846153846153844},{"$f":"'环工16-1分数统计'!K26*'环工16-1分数统计'!K$3/130","v":2.423076923076923},{"$f":"'环工16-1分数统计'!L26*'环工16-1分数统计'!L$3/130","v":1.3692307692307693},{"$f":"'环工16-1分数统计'!M26*'环工16-1分数统计'!M$3/130","v":1.1846153846153846},{"$f":"'环工16-1分数统计'!N26*'环工16-1分数统计'!N$3/130","v":3.1384615384615384},{"$f":"'环工16-1分数统计'!O26*'环工16-1分数统计'!O$3/130","v":0.676923076923077},{"$f":"'环工16-1分数统计'!P26*'环工16-1分数统计'!P$3/130","v":1.4615384615384615},{"$f":"'环工16-1分数统计'!Q26*'环工16-1分数统计'!Q$3/130","v":0.6692307692307692},{"$f":"'环工16-1分数统计'!R26*'环工16-1分数统计'!R$3/130","v":1.7307692307692308},{"$f":"'环工16-1分数统计'!S26*'环工16-1分数统计'!S$3/130","v":2.730769230769231},{"$f":"'环工16-1分数统计'!T26*'环工16-1分数统计'!T$3/130","v":1.5961538461538463},{"$f":"'环工16-1分数统计'!U26*'环工16-1分数统计'!U$3/130","v":2.246153846153846},{"$f":"'环工16-1分数统计'!V26*'环工16-1分数统计'!V$3/130","v":1.823076923076923},{"$f":"'环工16-1分数统计'!W26*'环工16-1分数统计'!W$3/130","v":3.3230769230769233},{"$f":"'环工16-1分数统计'!X26*'环工16-1分数统计'!X$3/130","v":0.7076923076923077},{"$f":"'环工16-1分数统计'!Y26*'环工16-1分数统计'!Y$3/130","v":1.3384615384615384},{"$f":"'环工16-1分数统计'!Z26*'环工16-1分数统计'!Z$3/130","v":1.6846153846153846},{"$f":"'环工16-1分数统计'!AA26*'环工16-1分数统计'!AA$3/130","v":1.8},{"$f":"'环工16-1分数统计'!AB26*'环工16-1分数统计'!AB$3/130","v":1.123076923076923},{"$f":"'环工16-1分数统计'!AC26*'环工16-1分数统计'!AC$3/130","v":1.1384615384615384},{"$f":"'环工16-1分数统计'!AD26*'环工16-1分数统计'!AD$3/130","v":1.123076923076923},{"$f":"'环工16-1分数统计'!AE26*'环工16-1分数统计'!AE$3/130","v":1.5692307692307692},{"$f":"'环工16-1分数统计'!AF26*'环工16-1分数统计'!AF$3/130","v":0.6461538461538462},{"$f":"'环工16-1分数统计'!AG26*'环工16-1分数统计'!AG$3/130","v":1.4615384615384615},{"$f":"'环工16-1分数统计'!AH26*'环工16-1分数统计'!AH$3/130","v":1.523076923076923},{"$f":"'环工16-1分数统计'!AI26*'环工16-1分数统计'!AI$3/130","v":1.2769230769230768},{"$f":"'环工16-1分数统计'!AJ26*'环工16-1分数统计'!AJ$3/130","v":0.6384615384615384},{"$f":"'环工16-1分数统计'!AK26*'环工16-1分数统计'!AK$3/130","v":1.8461538461538463},{"$f":"'环工16-1分数统计'!AL26*'环工16-1分数统计'!AL$3/130","v":1.2461538461538462},{"$f":"'环工16-1分数统计'!AM26*'环工16-1分数统计'!AM$3/130","v":0.7846153846153846},{"$f":"'环工16-1分数统计'!AN26*'环工16-1分数统计'!AN$3/130","v":1.6846153846153846},{"$f":"'环工16-1分数统计'!AO26*'环工16-1分数统计'!AO$3/130","v":1.3846153846153846},{"$f":"'环工16-1分数统计'!AP26*'环工16-1分数统计'!AP$3/130","v":0.9461538461538461},{"$f":"'环工16-1分数统计'!AQ26*'环工16-1分数统计'!AQ$3/130","v":1.8},{"$f":"'环工16-1分数统计'!AR26*'环工16-1分数统计'!AR$3/130","v":1.3076923076923077},{"$f":"'环工16-1分数统计'!AS26*'环工16-1分数统计'!AS$3/130","v":1.3692307692307693},{"$f":"'环工16-1分数统计'!AT26*'环工16-1分数统计'!AT$3/130","v":1.6615384615384616},{"$f":"'环工16-1分数统计'!AU26*'环工16-1分数统计'!AU$3/130","v":0.6923076923076923},{"$f":"'环工16-1分数统计'!AV26*'环工16-1分数统计'!AV$3/130","v":1.1538461538461537},{"$f":"'环工16-1分数统计'!AW26*'环工16-1分数统计'!AW$3/130","v":0.6153846153846154},{"$f":"'环工16-1分数统计'!AX26*'环工16-1分数统计'!AX$3/130","v":2.2153846153846155},{"$f":"'环工16-1分数统计'!AY26*'环工16-1分数统计'!AY$3/130","v":1.1692307692307693},{"$f":"'环工16-1分数统计'!AZ26*'环工16-1分数统计'!AZ$3/130","v":1.1846153846153846},{"$f":"'环工16-1分数统计'!BA26*'环工16-1分数统计'!BA$3/130","v":1.1846153846153846},{"$f":"'环工16-1分数统计'!BB26*'环工16-1分数统计'!BB$3/130","v":0.9461538461538461},{"$f":"'环工16-1分数统计'!BC26*'环工16-1分数统计'!BC$3/130","v":2.0076923076923077},{"$f":"'环工16-1分数统计'!BD26*'环工16-1分数统计'!BD$3/130","v":1.05},{"$f":"'环工16-1分数统计'!BE26*'环工16-1分数统计'!BE$3/130","v":1.0769230769230769},{"$f":"'环工16-1分数统计'!BF26*'环工16-1分数统计'!BF$3/130","v":0.6153846153846154},{"$f":"'环工16-1分数统计'!BG26*'环工16-1分数统计'!BG$3/130","v":0.3346153846153846},{"$f":"'环工16-1分数统计'!BH26*'环工16-1分数统计'!BH$3/130","v":1.2615384615384615},{"$f":"'环工16-1分数统计'!BI26*'环工16-1分数统计'!BI$3/130","v":1.4807692307692308},{"$f":"'环工16-1分数统计'!BJ26*'环工16-1分数统计'!BJ$3/130","v":1.9846153846153847},{"$f":"'环工16-1分数统计'!BK26*'环工16-1分数统计'!BK$3/130","v":0.5384615384615384},79.12307692307691,55.38615384615383,{"$f":"'环工16-1两年综测'!BD26","v":89.7781852666256},{"$f":"'环工16-1两年综测'!BE26","v":86.4013027861027},{"$f":"'环工16-1两年综测'!BF26","v":86.9013647129289},263.0808527656572,76.100158904699,15.2200317809398,70.60618562709364]
["于鹏","2016010627",{"$f":"'环工16-1分数统计'!H27*'环工16-1分数统计'!H$3/130","v":0.6153846153846154},{"$f":"'环工16-1分数统计'!I27*'环工16-1分数统计'!I$3/130","v":1.4153846153846155},{"$f":"'环工16-1分数统计'!J27*'环工16-1分数统计'!J$3/130","v":3.4153846153846152},{"$f":"'环工16-1分数统计'!K27*'环工16-1分数统计'!K$3/130","v":2.6307692307692307},{"$f":"'环工16-1分数统计'!L27*'环工16-1分数统计'!L$3/130","v":1.2769230769230768},{"$f":"'环工16-1分数统计'!M27*'环工16-1分数统计'!M$3/130","v":1.2},{"$f":"'环工16-1分数统计'!N27*'环工16-1分数统计'!N$3/130","v":2.3384615384615386},{"$f":"'环工16-1分数统计'!O27*'环工16-1分数统计'!O$3/130","v":0.6},{"$f":"'环工16-1分数统计'!P27*'环工16-1分数统计'!P$3/130","v":1.2115384615384615},{"$f":"'环工16-1分数统计'!Q27*'环工16-1分数统计'!Q$3/130","v":0.5692307692307692},{"$f":"'环工16-1分数统计'!R27*'环工16-1分数统计'!R$3/130","v":1.476923076923077},{"$f":"'环工16-1分数统计'!S27*'环工16-1分数统计'!S$3/130","v":2.923076923076923},{"$f":"'环工16-1分数统计'!T27*'环工16-1分数统计'!T$3/130","v":1.5576923076923077},{"$f":"'环工16-1分数统计'!U27*'环工16-1分数统计'!U$3/130","v":2.0615384615384613},{"$f":"'环工16-1分数统计'!V27*'环工16-1分数统计'!V$3/130","v":1.5461538461538462},{"$f":"'环工16-1分数统计'!W27*'环工16-1分数统计'!W$3/130","v":1.9692307692307693},{"$f":"'环工16-1分数统计'!X27*'环工16-1分数统计'!X$3/130","v":0.6153846153846154},{"$f":"'环工16-1分数统计'!Y27*'环工16-1分数统计'!Y$3/130","v":1.3076923076923077},{"$f":"'环工16-1分数统计'!Z27*'环工16-1分数统计'!Z$3/130","v":1.3846153846153846},{"$f":"'环工16-1分数统计'!AA27*'环工16-1分数统计'!AA$3/130","v":1.7307692307692308},{"$f":"'环工16-1分数统计'!AB27*'环工16-1分数统计'!AB$3/130","v":1.0615384615384615},{"$f":"'环工16-1分数统计'!AC27*'环工16-1分数统计'!AC$3/130","v":1.1846153846153846},{"$f":"'环工16-1分数统计'!AD27*'环工16-1分数统计'!AD$3/130","v":1.2153846153846153},{"$f":"'环工16-1分数统计'!AE27*'环工16-1分数统计'!AE$3/130","v":1.0307692307692307},{"$f":"'环工16-1分数统计'!AF27*'环工16-1分数统计'!AF$3/130","v":0.7},{"$f":"'环工16-1分数统计'!AG27*'环工16-1分数统计'!AG$3/130","v":1.4038461538461537},{"$f":"'环工16-1分数统计'!AH27*'环工16-1分数统计'!AH$3/130","v":1.5461538461538462},{"$f":"'环工16-1分数统计'!AI27*'环工16-1分数统计'!AI$3/130","v":1.2769230769230768},{"$f":"'环工16-1分数统计'!AJ27*'环工16-1分数统计'!AJ$3/130","v":0.6461538461538462},{"$f":"'环工16-1分数统计'!AK27*'环工16-1分数统计'!AK$3/130","v":2.0615384615384613},{"$f":"'环工16-1分数统计'!AL27*'环工16-1分数统计'!AL$3/130","v":1.1384615384615384},{"$f":"'环工16-1分数统计'!AM27*'环工16-1分数统计'!AM$3/130","v":0.7153846153846154},{"$f":"'环工16-1分数统计'!AN27*'环工16-1分数统计'!AN$3/130","v":1.3846153846153846},{"$f":"'环工16-1分数统计'!AO27*'环工16-1分数统计'!AO$3/130","v":1.5461538461538462},{"$f":"'环工16-1分数统计'!AP27*'环工16-1分数统计'!AP$3/130","v":0.9115384615384615},{"$f":"'环工16-1分数统计'!AQ27*'环工16-1分数统计'!AQ$3/130","v":1.523076923076923},{"$f":"'环工16-1分数统计'!AR27*'环工16-1分数统计'!AR$3/130","v":1.3076923076923077},{"$f":"'环工16-1分数统计'!AS27*'环工16-1分数统计'!AS$3/130","v":1.3076923076923077},{"$f":"'环工16-1分数统计'!AT27*'环工16-1分数统计'!AT$3/130","v":1.1538461538461537},{"$f":"'环工16-1分数统计'!AU27*'环工16-1分数统计'!AU$3/130","v":0.6230769230769231},{"$f":"'环工16-1分数统计'!AV27*'环工16-1分数统计'!AV$3/130","v":1.2923076923076924},{"$f":"'环工16-1分数统计'!AW27*'环工16-1分数统计'!AW$3/130","v":0.5538461538461539},{"$f":"'环工16-1分数统计'!AX27*'环工16-1分数统计'!AX$3/130","v":2.0923076923076924},{"$f":"'环工16-1分数统计'!AY27*'环工16-1分数统计'!AY$3/130","v":1},{"$f":"'环工16-1分数统计'!AZ27*'环工16-1分数统计'!AZ$3/130","v":1.1538461538461537},{"$f":"'环工16-1分数统计'!BA27*'环工16-1分数统计'!BA$3/130","v":1.2153846153846153},{"$f":"'环工16-1分数统计'!BB27*'环工16-1分数统计'!BB$3/130","v":0.9230769230769231},{"$f":"'环工16-1分数统计'!BC27*'环工16-1分数统计'!BC$3/130","v":1.8923076923076922},{"$f":"'环工16-1分数统计'!BD27*'环工16-1分数统计'!BD$3/130","v":0.9},{"$f":"'环工16-1分数统计'!BE27*'环工16-1分数统计'!BE$3/130","v":1.2923076923076924},{"$f":"'环工16-1分数统计'!BF27*'环工16-1分数统计'!BF$3/130","v":0.5692307692307692},{"$f":"'环工16-1分数统计'!BG27*'环工16-1分数统计'!BG$3/130","v":0.3230769230769231},{"$f":"'环工16-1分数统计'!BH27*'环工16-1分数统计'!BH$3/130","v":1.2153846153846153},{"$f":"'环工16-1分数统计'!BI27*'环工16-1分数统计'!BI$3/130","v":1.4423076923076923},{"$f":"'环工16-1分数统计'!BJ27*'环工16-1分数统计'!BJ$3/130","v":1.7307692307692308},{"$f":"'环工16-1分数统计'!BK27*'环工16-1分数统计'!BK$3/130","v":0.5692307692307692},73.75000000000001,51.62500000000001,{"$f":"'环工16-1两年综测'!BD27","v":81.665825530652},{"$f":"'环工16-1两年综测'!BE27","v":80.5780127428126},{"$f":"'环工16-1两年综测'!BF27","v":85.83872836052836},248.08256663399297,71.76167533237121,14.352335066474243,65.97733506647425]
["扎西多吉","2016010628",{"$f":"'环工16-1分数统计'!H28*'环工16-1分数统计'!H$3/130","v":0.46153846153846156},{"$f":"'环工16-1分数统计'!I28*'环工16-1分数统计'!I$3/130","v":1.1538461538461537},{"$f":"'环工16-1分数统计'!J28*'环工16-1分数统计'!J$3/130","v":2.769230769230769},{"$f":"'环工16-1分数统计'!K28*'环工16-1分数统计'!K$3/130","v":1.5576923076923077},{"$f":"'环工16-1分数统计'!L28*'环工16-1分数统计'!L$3/130","v":0.9230769230769231},{"$f":"'环工16-1分数统计'!M28*'环工16-1分数统计'!M$3/130","v":0.9230769230769231},{"$f":"'环工16-1分数统计'!N28*'环工16-1分数统计'!N$3/130","v":1.3384615384615384},{"$f":"'环工16-1分数统计'!O28*'环工16-1分数统计'!O$3/130","v":0.5692307692307692},{"$f":"'环工16-1分数统计'!P28*'环工16-1分数统计'!P$3/130","v":1.0384615384615385},{"$f":"'环工16-1分数统计'!Q28*'环工16-1分数统计'!Q$3/130","v":0.34615384615384615},{"$f":"'环工16-1分数统计'!R28*'环工16-1分数统计'!R$3/130","v":0.9461538461538461},{"$f":"'环工16-1分数统计'!S28*'环工16-1分数统计'!S$3/130","v":2.3076923076923075},{"$f":"'环工16-1分数统计'!T28*'环工16-1分数统计'!T$3/130","v":1.3076923076923077},{"$f":"'环工16-1分数统计'!U28*'环工16-1分数统计'!U$3/130","v":1.4153846153846155},{"$f":"'环工16-1分数统计'!V28*'环工16-1分数统计'!V$3/130","v":1.3846153846153846},{"$f":"'环工16-1分数统计'!W28*'环工16-1分数统计'!W$3/130","v":1.2615384615384615},{"$f":"'环工16-1分数统计'!X28*'环工16-1分数统计'!X$3/130","v":0.6230769230769231},{"$f":"'环工16-1分数统计'!Y28*'环工16-1分数统计'!Y$3/130","v":1.323076923076923},{"$f":"'环工16-1分数统计'!Z28*'环工16-1分数统计'!Z$3/130","v":0.9461538461538461},{"$f":"'环工16-1分数统计'!AA28*'环工16-1分数统计'!AA$3/130","v":1.4076923076923078},{"$f":"'环工16-1分数统计'!AB28*'环工16-1分数统计'!AB$3/130","v":0.9230769230769231},{"$f":"'环工16-1分数统计'!AC28*'环工16-1分数统计'!AC$3/130","v":1.0307692307692307},{"$f":"'环工16-1分数统计'!AD28*'环工16-1分数统计'!AD$3/130","v":0.9230769230769231},{"$f":"'环工16-1分数统计'!AE28*'环工16-1分数统计'!AE$3/130","v":0.9230769230769231},{"$f":"'环工16-1分数统计'!AF28*'环工16-1分数统计'!AF$3/130","v":0.6846153846153846},{"$f":"'环工16-1分数统计'!AG28*'环工16-1分数统计'!AG$3/130","v":1.3076923076923077},{"$f":"'环工16-1分数统计'!AH28*'环工16-1分数统计'!AH$3/130","v":1.3846153846153846},{"$f":"'环工16-1分数统计'!AI28*'环工16-1分数统计'!AI$3/130","v":1.1692307692307693},{"$f":"'环工16-1分数统计'!AJ28*'环工16-1分数统计'!AJ$3/130","v":0.6461538461538462},{"$f":"'环工16-1分数统计'!AK28*'环工16-1分数统计'!AK$3/130","v":1.2307692307692308},{"$f":"'环工16-1分数统计'!AL28*'环工16-1分数统计'!AL$3/130","v":1.1538461538461537},{"$f":"'环工16-1分数统计'!AM28*'环工16-1分数统计'!AM$3/130","v":0.6115384615384616},{"$f":"'环工16-1分数统计'!AN28*'环工16-1分数统计'!AN$3/130","v":1.1307692307692307},{"$f":"'环工16-1分数统计'!AO28*'环工16-1分数统计'!AO$3/130","v":1.523076923076923},{"$f":"'环工16-1分数统计'!AP28*'环工16-1分数统计'!AP$3/130","v":0.9692307692307692},{"$f":"'环工16-1分数统计'!AQ28*'环工16-1分数统计'!AQ$3/130","v":1.0615384615384615},{"$f":"'环工16-1分数统计'!AR28*'环工16-1分数统计'!AR$3/130","v":1.3384615384615384},{"$f":"'环工16-1分数统计'!AS28*'环工16-1分数统计'!AS$3/130","v":0.9230769230769231},{"$f":"'环工16-1分数统计'!AT28*'环工16-1分数统计'!AT$3/130","v":0.7846153846153846},{"$f":"'环工16-1分数统计'!AU28*'环工16-1分数统计'!AU$3/130","v":0.7153846153846154},{"$f":"'环工16-1分数统计'!AV28*'环工16-1分数统计'!AV$3/130","v":1.0769230769230769},{"$f":"'环工16-1分数统计'!AW28*'环工16-1分数统计'!AW$3/130","v":0.49230769230769234},{"$f":"'环工16-1分数统计'!AX28*'环工16-1分数统计'!AX$3/130","v":1.0769230769230769},{"$f":"'环工16-1分数统计'!AY28*'环工16-1分数统计'!AY$3/130","v":0.9230769230769231},{"$f":"'环工16-1分数统计'!AZ28*'环工16-1分数统计'!AZ$3/130","v":0.8307692307692308},{"$f":"'环工16-1分数统计'!BA28*'环工16-1分数统计'!BA$3/130","v":0.7692307692307693},{"$f":"'环工16-1分数统计'!BB28*'环工16-1分数统计'!BB$3/130","v":0.9461538461538461},{"$f":"'环工16-1分数统计'!BC28*'环工16-1分数统计'!BC$3/130","v":1.476923076923077},{"$f":"'环工16-1分数统计'!BD28*'环工16-1分数统计'!BD$3/130","v":0.9346153846153846},{"$f":"'环工16-1分数统计'!BE28*'环工16-1分数统计'!BE$3/130","v":1.0615384615384615},{"$f":"'环工16-1分数统计'!BF28*'环工16-1分数统计'!BF$3/130","v":0.5230769230769231},{"$f":"'环工16-1分数统计'!BG28*'环工16-1分数统计'!BG$3/130","v":0.3038461538461538},{"$f":"'环工16-1分数统计'!BH28*'环工16-1分数统计'!BH$3/130","v":1.0307692307692307},{"$f":"'环工16-1分数统计'!BI28*'环工16-1分数统计'!BI$3/130","v":1},{"$f":"'环工16-1分数统计'!BJ28*'环工16-1分数统计'!BJ$3/130","v":1.3153846153846154},{"$f":"'环工16-1分数统计'!BK28*'环工16-1分数统计'!BK$3/130","v":0.5307692307692308},58.73076923076921,41.111538461538444,{"$f":"'环工16-1两年综测'!BD28","v":64.8911093920381},{"$f":"'环工16-1两年综测'!BE28","v":75.7160975912975},{"$f":"'环工16-1两年综测'!BF28","v":73.09373233658951},213.7009393199251,61.816263971198005,12.363252794239601,53.474791255778044]

{"sheet":"环工62分数统计","index":5,"n_rows":67,"n_cols":67,"rows_kept":67,"merged":[[0,0,2,0],[0,1,2,1],[0,2,2,2],[0,3,0,6],[0,7,0,14],[0,15,0,24],[0,25,0,35],[0,36,0,47],[0,48,0,56],[1,3,2,3],[1,4,2,4],[1,5,2,5],[1,6,2,6],[35,0,37,0],[35,1,37,1],[35,7,36,10]]}
["序号","姓名","学号","挂科情况统计（填有或无）",{"$nulls":3},"大一上学期",{"$nulls":7},"大一下学期",{"$nulls":9},"大二上学期",{"$nulls":10},"大二下学期",{"$nulls":11},"大三上学期"]
[{"$nulls":3},"必修课挂科","选修课挂科","四级至今没过","体测至今没过","入学教育与安全教育","军事训练（Ⅰ）","高等数学B（Ⅰ）","无机化学与分析化学 ","思想道德修养与法律基础","中国近代史纲要 ","大学英语（Ⅰ） ","大学体育（Ⅰ）","机械制图","计算机辅助绘图","VB程序设计（A）","高等数学B（Ⅱ）","无机与分析化学实验（Ⅰ）","有机化学 ","大学物理C（Ⅰ）","大学英语（Ⅱ）","大学体育（Ⅱ）","金工实习 ","物理化学（Ⅰ） ","大学物理C（Ⅱ）","大学物理实验B（Ⅰ）","毛概（Ⅰ）","马原 ","大学英语（Ⅲ）","大学体育（Ⅲ）","生物化学 ","线性代数","有机化学实验","无机与分析化学实验（Ⅱ）","化工原理（Ⅰ）","环境监测实验  ","环境监测 ","工程力学（环工） ","概率统计基础","物理化学实验（Ⅰ）","物理化学（Ⅱ）","大学物理实验B（Ⅱ）","毛概（Ⅱ）","大学英语Ⅳ","大学体育Ⅳ","认识实习","化工原理实验（Ⅰ）","化工原理（Ⅱ）","环境工程微生物学","水污染控制工程（Ⅰ）","电工学及实验","物理化学实验（Ⅱ）","项目管理与技术经济","环境工程微生物学实验","水污染控制工程（Ⅰ）课程设计","化工原理实验（II）          ","大气污染控制工程实验          ","水污染控制工程（II）课程设计               ","大气污染控制工程        ","水污染控制工程（Ⅱ）          ","就业指导    ","总学分","优秀门数","总门数","优良率"]
[{"$nulls":7},1,2,6,4.5,2,2,4,1,2.5,1,3,5,2.5,4,3,4,1,2,3,3,2,2,2,2,1,2.5,3,2,1,4,2,1.5,3,3,1.5,3,2,2,2,1,2,1,4,2,2,2,1.5,3,1.5,2,"1 ","0.5   ","2 ","2.5   ","3 ","1 ",130]
[1,"边泽晨",2016010629,"无","无","无","无",84,97,77,88,90,79,{"$f":"H39","v":88},84,71,87,69,83,86,76,86,{"$f":"I39","v":93.50000000000001},93,90,74,75,74,87,83,{"$f":"J39","v":101.2},88,78,86,83,86,66,85,70,83,69,88,90,85,92,{"$f":"K39","v":94.60000000000001},91,86,81,61,80,72,88,86,82,87,68,"91.0    ","90.0    ","85.0    ","80.0    ","76.0    ","86.0    ",null,{"$f":"COUNTIF(H4:BK4,\">=80\")","v":35},{"$f":"COUNTIF(H4:BK4,\">=0\")","v":50},{"$f":"BM4/BN4","v":{"v":0.7,"d":"70.00%"}}]
[2,"曹佳美",2016010630,"有","无","有","无",79,95,76,88,90,78,{"$f":"H40","v":78.10000000000001},75,67,75,69,84,80,74,92,{"$f":"I40","v":88},90,88,66,81,68,81,80,{"$f":"J40","v":77},89,80,88,84,85,60,80,77,72,73,88,73,85,88,{"$f":"K40","v":77},86,83,83,71,81,73,89,86,91,85,74,"92.0    ","90.0    ","84.0    ","80.0    ","79.0    ","85.0    ",null,{"$f":"COUNTIF(H5:BK5,\">=80\")","v":29},{"$f":"COUNTIF(H5:BK5,\">=0\")","v":50},{"$f":"BM5/BN5","v":{"v":0.58,"d":"58.00%"}}]
[3,"丁怀玉",2016010631,"无","无","无","无",78,93,66,76,87,79,79.2,78,87,82,63,79,88,78,89,95.7,82,94,70,82,76,88,83,92.4,92,84,73,85,94,70,88,74,70,65,88,81,85,92,94.60000000000001,88,85,83,86,93,87,89,90,84,85,68,"90.0    ","92.0    ","90.0    ","93.0    ","91.0    ","81.0    ",null,33,50,{"v":0.66,"d":"66.00%"}]
[4,"符琳",2016010632,"有","无","无","无",79,93,73,68,83,78,91.30000000000001,66,86,93,63,92,88,81,85,95.7,80,88,76,81,77,81,79,88,88,70,74,85,91,63,87,60,83,67,87,84,84,88,81.4,85,91,80,69,93,80,78,87,95,90,75,"90.0    ","87.0    ","77.0    ","76.0    ","78.0    ","83.0    ",null,33,50,{"v":0.66,"d":"66.00%"}]
[5,"李桂存",2016010634,"有","无","有","无",67,89,60,63,80,73,72,75,62,60,60,60,81,71,60,69,83,92,60,80,70,82,73,81,86,78,72,80,84,60,82,60,67,69,86,73,86,83,77,83,85,76,71,82,72,71,86,78,84,70,"81.0    ","86.0    ","86.0    ","68.0    ","0 ","70.0    ",null,20,50,{"v":0.4,"d":"40.00%"}]
[6,"李昕",2016010635,"无","无","无","无",87,94,74,92,91,77,94.3,77,81,97,82,84,88,77,96,97.74999999999999,93,95,66,84,75,78,82,100.05,93,80,82,85,85,73,87,64,86,80,86,91,84,89,96.6,93,86,80,80,89,84,92,87,90,88,60,"89.0    ","89.0    ","86.0    ","82.0    ","86.0    ","81.0    ",null,40,50,{"v":0.8,"d":"80.00%"}]
[7,"刘吉东",2016010636,"无","无","无","无",80,95,64,74,84,72,88,81,70,89,65,79,86,70,73,95.7,90,90,66,77,75,77,72,91.30000000000001,93,83,74,83,90,61,91,63,90,68,89,97,85,87,85.80000000000001,92,87,75,75,85,81,92,87,88,84,81,"90.0    ","89.0    ","86.0    ","81.0    ","86.0    ","76.0    ",null,31,50,{"v":0.62,"d":"62.00%"}]
[8,"刘姝羽",2016010637,"无","无","无","无",81,90,87,87,77,70,99.00000000000001,74,70,73,72,97,91,87,74,100.10000000000001,90,91,87,91,81,86,78,93.50000000000001,95,81,94,87,93,83,91,72,84,83,89,80,91,88,101.2,91,85,81,80,82,77,96,88,86,80,60,"94.0    ","87.0    ","87.0    ","92.0    ","94.0    ","80.0    ",null,39,50,{"v":0.78,"d":"78.00%"}]
[9,"陆文懿",2016010638,"无","无","无","无",77,91,82,84,80,77,88.55,83,78,76,64,87,86,82,60,92,82,90,76,90,72,68,79,98.89999999999999,89,77,79,83,90,80,87,80,90,83,86,81,88,89,80.5,90,91,81,77,67,80,80,88,92,85,78,"90.0    ","91.0    ","84.0    ","93.0    ","93.0    ","79.0    ",null,35,50,{"v":0.7,"d":"70.00%"}]
[10,"穆合塔巴尔·玉素甫",2016010639,"无","无","无","无",77,82,60,61,77,66,81.4,72,60,60,60,60,80,64,65,88,91,91,61,82,72,77,87,88,85,78,62,80,84,60,80,65,77,60,88,74,88,83,84.7,71,83,81,66,66,82,75,88,71,83,70,"83.0    ","86.0    ","83.0    ","69.0    ","82.0    ","72.0    ",null,22,50,{"v":0.44,"d":"44.00%"}]
[11,"宋艳珂",2016010640,"无","无","无","无",79,87,70,84,81,73,80.30000000000001,80,88,86,68,74,85,78,76,84.7,85,86,69,76,76,82,78,84.7,88,78,74,87,82,61,91,67,75,74,87,78,88,81,84.7,81,83,82,85,79,80,96,88,88,90,80,"94.0    ","89.0    ","89.0    ","91.0    ","92.0    ","79.0    ",null,31,50,{"v":0.62,"d":"62.00%"}]
[12,"通拉嘎",2016010641,"无","无","无","无",85,92,83,67,91,76,93.50000000000001,80,76,77,68,65,85,63,60,95.7,70,90,66,70,70,84,88,103.4,89,77,72,83,84,62,84,63,55,63,88,77,86,90,92.4,88,91,77,64,82,78,72,88,82,88,75,"88.0    ","85.0    ","82.0    ","75.0    ","86.0    ","80.0    ",null,26,50,{"v":0.52,"d":"52.00%"}]
[13,"王存璐",2016010642,"无","无","无","无",81,98,69,83,80,72,82.5,66,62,72,64,84,83,70,64,94.60000000000001,88,88,69,67,75,81,85,90.2,83,81,70,78,90,61,91,66,67,74,87,72,90,88,83.60000000000001,87,89,81,73,87,77,83,87,83,89,76,"90.0    ","91.0    ","89.0    ","78.0    ","93.0    ","85.0    ",null,29,50,{"v":0.58,"d":"58.00%"}]
[14,"张婷婷",2016010643,"有","无","无","无",78,85,60,60,86,71,72.60000000000001,62,75,73,64,66,80,71,65,84.7,81,85,60,67,65,78,72,83.60000000000001,91,75,68,75,81,60,86,60,80,66,84,60,85,85,81.4,91,83,77,73,82,77,84,85,76,84,67,"90.0    ","82.0    ","80.0    ","73.0    ","79.0    ","72.0    ",null,21,50,{"v":0.42,"d":"42.00%"}]
[15,"曹刘俊",2016010644,"无","无","无","无",77,89,90,75,84,75,74,64,82,96,74,83,78,76,84,75,79,89,80,85,73,79,73,80,85,79,93,83,84,71,75,64,90,83,83,85,86,90,80,78,82,67,77,65,78,93,81,88,82,81,"85.0    ","81.0    ","92.0    ","80.0    ","86.0    ","68.0    ",null,28,50,{"v":0.56,"d":"56.00%"}]
[16,"程昊",2016010645,"无","有","无","无",60,76,76,66,68,67,68.2,62,74,94,74,81,75,71,91,70.4,78,84,65,78,83,71,66,94.60000000000001,86,74,89,80,80,62,85,66,80,83,86,78,84,86,81.4,76,84,76,74,71,75,82,80,79,78,60,"85.0    ","87.0    ","88.0    ","74.0    ","83.0    ","71.0    ",null,20,50,{"v":0.4,"d":"40.00%"}]
[17,"耿錾卜",2016010646,"无","无","有","无",73,92,85,82,79,71,79.2,63,81,98,69,90,78,85,81,83.60000000000001,72,91,65,80,74,72,79,79.2,86,83,90,78,82,78,81,74,70,78,85,83,84,92,74.80000000000001,76,82,76,86,68,80,87,85,86,89,65,"90.0    ","87.0    ","90.0    ","73.0    ","79.0    ","73.0    ",null,27,50,{"v":0.54,"d":"54.00%"}]
[18,"郭全弟",2016010647,"无","无","无","无",82,92,84,87,82,73,88,62,78,93,75,83,78,80,85,92.4,76,93,77,90,80,85,71,89.10000000000001,81,69,86,86,87,68,91,72,68,84,89,84,90,92,91.30000000000001,76,84,84,80,79,88,92,86,81,83,84,"91.0    ","87.0    ","88.0    ","80.0    ","91.0    ","74.0    ",null,36,50,{"v":0.72,"d":"72.00%"}]
[19,"李正映",2016010648,"无","无","无","无",82,98,71,86,91,79,95.7,82,71,74,66,85,86,81,86,90.2,79,90,87,80,74,81,83,97.9,94,82,75,86,89,69,88,76,80,73,88,91,90,97,91.30000000000001,95,86,76,77,83,93,83,85,83,89,80,"82.0    ","90.0    ","88.0    ","88.0    ","89.0    ","81.0    ",null,37,50,{"v":0.74,"d":"74.00%"}]
[20,"马学成",2016010649,"有","有","有","无",76,88,60,64,71,66,67,71,60,77,60,60,76,60,63,62,74,88,60,60,69,76,73,80,76,68,62,77,82,60,74,60,48,57,83,64,80,84,67,87,83,68,60,68,61,71,78,68,73,61,"86.0    ","79.0    ","78.0    ","68.0    ","60.0    ","60.0    ",null,9,50,{"v":0.18,"d":"18.00%"}]
[21,"孙寅辉",2016010651,"有","无","无","无",90,82,77,87,84,74,82.5,60,60,60,60,88,82,61,76,93.50000000000001,69,85,60,81,69,84,80,93.50000000000001,77,68,63,74,85,60,80,60,80,55,83,77,73,83,84.7,71,81,69,66,82,68,74,84,83,81,61,"80.0    ","80.0    ","75.0    ","64.0    ","68.0    ","68.0    ",null,24,50,{"v":0.48,"d":"48.00%"}]
[22,"王昆",2016010653,"有","有","无","无",83,76,74,60,85,80,69.30000000000001,65,27,60,60,72,80,61,73,84.7,77,82,60,60,60,81,80,70.4,77,69,64,72,85,60,74,60,67,71,80,67,87,85,77,75,84,68,60,71,63,65,79,78,75,73,"78.0    ","83.0    ","62.0    ","63.0    ","54.0    ","74.0    ",null,13,50,{"v":0.26,"d":"26.00%"}]
[23,"温博",2016010655,"有","有","有","无",65,76,70,60,83,66,70.4,63,60,60,60,60,68,60,65,73.7,73,87,60,61,60,83,75,66,78,71,77,72,81,42,73,60,70,62,80,60,87,81,71.5,85,83,67,33,67,54,52,84,68,74,64,"74.0    ","79.0    ","67.0    ","60.0    ","50.0    ","60.0    ",null,10,50,{"v":0.2,"d":"20.00%"}]
[24,"肖耀",2016010656,"有","无","有","无",81,92,72,60,86,75,60.50000000000001,62,67,89,60,60,68,62,60,69.30000000000001,77,86,60,60,62,80,75,67.10000000000001,85,66,60,71,86,55,81,61,60,61,82,66,87,88,66,77,83,80,66,72,65,66,85,78,74,63,"80.0    ","87.0    ","74.0    ","60.0    ","77.0    ","63.0    ",null,15,50,{"v":0.3,"d":"30.00%"}]
[25,"依斯安·喀迪尔",2016010657,"无","无","无","无",75,88,60,60,80,81,73,71,72,81,83,60,72,68,60,72,89,88,68,82,65,72,78,76,85,79,81,74,88,60,76,67,66,73,80,71,88,82,76,87,87,74,49,75,72,68,83,73,85,75,"87.0    ","84.0    ","82.0    ","77.0    ","77.0    ","73.0    ",null,18,50,{"v":0.36,"d":"36.00%"}]
[26,"於越",2016010658,"有","有","无","无",75,82,60,68,80,67,103.4,67,63,91.5,74,60,76,61,60,100.10000000000001,79,81,68,60,66,68,72,105.60000000000001,71,79,86,68,82,60,82,60,60,61,76,66,75,83,{"$f":"K64","v":97.9},-1,85,62,37,86,55,67,78,68,83,67,"82.0    ","83.0    ","63.0    ","64.0    ","38.0    ","60.0    ",null,15,{"$f":"COUNTIF(H29:BK29,\">=0\")","v":49},{"v":0.30612244897959184,"d":"30.61%"}]
[]
[]
[null,null,"挂科通过"]
[null,null,"仍未通过"]
[null,null,"未修"]
[]
["序号","姓名",{"$nulls":5},"大英A系数1.15  B系数1.1  C系数1.0"]
[]
[null,null,"大学英语（Ⅰ） ","大学英语（Ⅱ）","大学英语（Ⅲ）","大学英语Ⅳ",null,"大学英语（Ⅰ） ","大学英语（Ⅱ）","大学英语（Ⅲ）","大学英语Ⅳ"]
[1,"边泽晨",80,85,92,86,null,{"$f":"C39*1.1","v":88},93.50000000000001,101.2,94.60000000000001]
[2,"曹佳美",71,80,70,70,null,78.10000000000001,88,77,77]
[3,"丁怀玉",72,87,84,86,null,79.2,95.7,92.4,94.60000000000001]
[4,"符琳",83,87,80,74,null,91.30000000000001,95.7,88,81.4]
[5,"李桂存",72,69,81,77,null,{"$f":"C43*1","v":72},{"$f":"D43*1","v":69},{"$f":"E43","v":81},{"$f":"F43*1","v":77}]
[6,"李昕",82,85,87,84,null,{"$f":"C44*1.15","v":94.3},{"$f":"D44*1.15","v":97.74999999999999},{"$f":"E44*1.15","v":100.05},{"$f":"F44*1.15","v":96.6}]
[7,"刘吉东",80,87,83,78,null,{"$f":"C45*1.1","v":88},95.7,91.30000000000001,85.80000000000001]
[8,"刘姝羽",90,91,85,92,null,99.00000000000001,100.10000000000001,93.50000000000001,101.2]
[9,"陆文懿",77,80,86,70,null,{"$f":"C47*1.15","v":88.55},{"$f":"D47*1.15","v":92},{"$f":"E47*1.15","v":98.89999999999999},{"$f":"F47*1.15","v":80.5}]
[10,"穆合塔巴尔·玉素甫",74,80,80,77,null,{"$f":"C48*1.1","v":81.4},88,88,84.7]
[11,"宋艳珂",73,77,77,77,null,80.30000000000001,84.7,84.7,84.7]
[12,"通拉嘎",85,87,94,84,null,93.50000000000001,95.7,103.4,92.4]
[13,"王存璐",75,86,82,76,null,82.5,94.60000000000001,90.2,83.60000000000001]
[14,"张婷婷",66,77,76,74,null,72.60000000000001,84.7,83.60000000000001,81.4]
[15,"曹刘俊",74,75,80,80,null,{"$f":"C53*1","v":74},{"$f":"D53*1","v":75},{"$f":"E53","v":80},{"$f":"F53*1","v":80}]
[16,"程昊",62,64,86,74,null,{"$f":"C54*1.1","v":68.2},70.4,94.60000000000001,81.4]
[17,"耿錾卜",72,76,72,68,null,79.2,83.60000000000001,79.2,74.80000000000001]
[18,"郭全弟",80,84,81,83,null,88,92.4,89.10000000000001,91.30000000000001]
[19,"李正映",87,82,89,83,null,95.7,90.2,97.9,91.30000000000001]
[20,"马学成",67,62,80,67,null,{"$f":"C58*1","v":67},{"$f":"D58*1","v":62},{"$f":"E58","v":80},{"$f":"F58*1","v":67}]
[21,"孙寅辉",75,85,85,77,null,{"$f":"C59*1.1","v":82.5},93.50000000000001,93.50000000000001,84.7]
[22,"王昆",63,77,64,70,null,69.30000000000001,84.7,70.4,77]
[23,"温博",64,67,60,65,null,70.4,73.7,66,71.5]
[24,"肖耀",55,63,61,60,null,60.50000000000001,69.30000000000001,67.10000000000001,66]
[25,"依斯安·喀迪尔",73,72,76,76,null,{"$f":"C63*1","v":73},{"$f":"D63*1","v":72},{"$f":"E63","v":76},{"$f":"F63*1","v":76}]
[26,"於越",94,91,96,89,null,{"$f":"C64*1.1","v":103.4},{"$f":"D64*1.1","v":100.10000000000001},{"$f":"E64*1.1","v":105.60000000000001},{"$f":"F64*1.1","v":97.9}]
[]
[{"$nulls":8},"C班"]
[{"$nulls":8},"A班"]

{"sheet":"环工62综测统计","index":6,"n_rows":28,"n_cols":6,"rows_kept":28,"merged":[[0,0,1,0],[0,1,1,1],[0,2,1,2],[0,3,1,3],[0,4,1,4],[0,5,1,5],[0,6,1,6],[0,7,1,7]]}
["学号","姓名","综测一","综测二","综测三","综测总分"]
[]
[2016010629,"边泽晨",{"v":90.5846881877199,"d":"90.5847"},{"v":87.145866045066,"d":"87.1459"},84.0212489992766,{"$f":"SUM(C3:E3)","v":{"v":261.75180323206246,"d":"261.7518"}}]
[2016010630,"曹佳美",{"v":89.6750314220433,"d":"89.6750"},{"v":84.027765034965,"d":"84.0278"},86.49036498673739,{"$f":"SUM(C4:E4)","v":{"v":260.1931614437457,"d":"260.1932"}}]
[2016010631,"丁怀玉",{"v":86.8964626651676,"d":"86.8965"},{"v":86.9341246309246,"d":"86.9341"},90.67990981432361,{"v":264.5104971104158,"d":"264.5105"}]
[2016010632,"符琳",{"v":88.307196438545,"d":"88.3072"},{"v":87.8358094794095,"d":"87.8358"},86.08283019049917,{"v":262.2258361084537,"d":"262.2258"}]
[2016010634,"李桂存",{"v":78.099501169018,"d":"78.0995"},{"v":82.0522716180371,"d":"82.0523"},75.6991925729443,{"v":235.8509653599994,"d":"235.8510"}]
[2016010635,"李昕",{"v":92.3800963262006,"d":"92.3801"},{"v":91.526358974359,"d":"91.5264"},90.09754659593281,{"v":274.0040018964924,"d":"274.0040"}]
[2016010636,"刘吉东",{"v":86.0561337322743,"d":"86.0561"},{"v":90.7932010796221,"d":"90.7932"},87.10569048353564,{"v":263.95502529543205,"d":"263.9550"}]
[2016010637,"刘姝羽",{"v":91.0101205309542,"d":"91.0101"},{"v":91.4717852369852,"d":"91.4718"},93.66411671087533,{"v":276.14602247881476,"d":"276.1460"}]
[2016010638,"陆文懿",{"v":88.5622085397551,"d":"88.5622"},{"v":90.0499953379953,"d":"90.0500"},92.54855702914439,{"v":271.1607609068948,"d":"271.1608"}]
[2016010639,"穆合塔巴尔·玉素甫",{"v":80.991099628864,"d":"80.9911"},{"v":80.9324114996115,"d":"80.9324"},82.09913740053052,{"v":244.02264852900606,"d":"244.0226"}]
[2016010640,"宋艳珂",{"v":86.4564593648376,"d":"86.4565"},{"v":85.3637367521368,"d":"85.3637"},90.59895809018568,{"v":262.4191542071601,"d":"262.4192"}]
[2016010641,"通拉嘎",{"v":86.5799731162127,"d":"86.5800"},{"v":86.1209205905206,"d":"86.1209"},85.00287800119791,{"v":257.7037717079312,"d":"257.7038"}]
[2016010642,"王存璐",{"v":85.3656254814492,"d":"85.3656"},{"v":85.8390013986014,"d":"85.8390"},89.19013916476467,{"v":260.39476604481524,"d":"260.3948"}]
[2016010643,"张婷婷",{"v":79.2901238312842,"d":"79.2901"},{"v":81.5075986139986,"d":"81.5076"},83.78346843501326,{"v":244.58119088029605,"d":"244.5812"}]
[2016010644,"曹刘俊",{"v":86.8865187707782,"d":"86.8865"},{"v":86.571857964258,"d":"86.5719"},84.53665426912325,{"v":257.99503100415944,"d":"257.9950"}]
[2016010645,"程昊",{"v":79.5104197608772,"d":"79.5104"},{"v":83.4583710955711,"d":"83.4584"},82.3031202636444,{"v":245.27191112009268,"d":"245.2719"}]
[2016010646,"耿錾卜",{"v":88.0031326321643,"d":"88.0031"},{"v":85.1985529137529,"d":"85.1986"},85.20407533156497,{"v":258.4057608774822,"d":"258.4058"}]
[2016010647,"郭全弟",{"v":88.1014736662677,"d":"88.1015"},{"v":85.5605529137529,"d":"85.5606"},87.65693050397878,{"v":261.3189570839994,"d":"261.3190"}]
[2016010648,"李正映",{"v":89.3765341723183,"d":"89.3765"},{"v":90.0273448329448,"d":"90.0273"},93.45552331395677,{"v":272.85940231921984,"d":"272.8594"}]
[2016010649,"马学成",{"v":75.0326309819993,"d":"75.0326"},{"v":76.0366724878725,"d":"76.0367"},72.69288734491315,{"v":223.76219081478493,"d":"223.7622"}]
[2016010651,"孙寅辉",{"v":83.4901694858497,"d":"83.4902"},{"v":80.4266833610834,"d":"80.4267"},77.17632533156498,{"v":241.0931781784981,"d":"241.0932"}]
[2016010653,"王昆",{"v":79.2692921481159,"d":"79.2693"},{"v":74.287062004662,"d":"74.2871"},72.67771977600943,{"v":226.23407392878732,"d":"226.2341"}]
[2016010655,"温博",{"v":75.786296548556,"d":"75.7863"},{"v":78.3910914418914,"d":"78.3911"},69.72549184149184,{"v":223.90287983193926,"d":"223.9029"}]
[2016010656,"肖耀",{"v":77.9693152504261,"d":"77.9693"},{"v":74.2237084693085,"d":"74.2237"},76.83740323125151,{"v":229.0304269509861,"d":"229.0304"}]
[2016010657,"依斯安·喀迪尔",{"v":81.0280875276539,"d":"81.0281"},{"v":83.0688761460761,"d":"83.0689"},81.37057062937063,{"v":245.46753430310062,"d":"245.4675"}]
[2016010658,"於越",{"v":78.5774934682479,"d":"78.5775"},{"v":74.2525044289044,"d":"74.2525"},74.04335809018568,{"v":226.87335598733796,"d":"226.8734"}]

{"sheet":"环工62单算","index":7,"n_rows":29,"n_cols":69,"rows_kept":29,"merged":[[0,0,2,0],[0,1,2,1],[0,2,2,2],[0,3,0,11],[0,12,0,21],[0,22,0,32],[0,33,0,44],[0,45,0,52],[1,59,2,59],[1,60,2,60],[1,61,2,61],[1,62,2,62],[1,63,2,63],[1,64,2,64],[1,65,2,65],[1,66,2,66],[1,67,2,67]]}
["序号","姓名","学号","大一上学期",{"$nulls":8},"大一下学期",{"$nulls":9},"大二上学期",{"$nulls":10},"大二下学期",{"$nulls":11},"大三上学期",{"$nulls":22},"注，总学分130"]
[{"$nulls":3},"入学教育与安全教育","军事训练（Ⅰ）","高等数学B（Ⅰ）","无机化学与分析化学 ","思想道德修养与法律基础","中国近代史纲要 ","大学英语（Ⅰ） ","大学体育（Ⅰ）","机械制图","计算机辅助绘图","VB程序设计（A）","高等数学B（Ⅱ）","无机与分析化学实验（Ⅰ）","有机化学 ","大学物理C（Ⅰ）","大学英语（Ⅱ）","大学体育（Ⅱ）","金工实习 ","物理化学（Ⅰ） ","大学物理C（Ⅱ）","大学物理实验B（Ⅰ）","毛概（Ⅰ）","马原 ","大学英语（Ⅲ）","大学体育（Ⅲ）","生物化学 ","线性代数","有机化学实验","无机与分析化学实验（Ⅱ）","化工原理（Ⅰ）","环境监测实验  ","环境监测 ","工程力学（环工） ","概率统计基础","物理化学实验（Ⅰ）","物理化学（Ⅱ）","大学物理实验B（Ⅱ）","毛概（Ⅱ）","大学英语Ⅳ","大学体育Ⅳ","认识实习","化工原理实验（Ⅰ）","化工原理（Ⅱ）","环境工程微生物学","水污染控制工程（Ⅰ）","电工学及实验","物理化学实验（Ⅱ）","项目管理与技术经济","环境工程微生物学实验","水污染控制工程（Ⅰ）课程设计","化工原理实验（II）          ","大气污染控制工程实验          ","水污染控制工程（II）课程设计               ","大气污染控制工程        ","水污染控制工程（Ⅱ）          ","就业指导    ","必修课加权","0.7*必修课","大一","大二","大三","总分","综测加权","0.2*综测","总分"]
[{"$nulls":3},1,2,6,4.5,2,2,4,1,2.5,1,3,5,2.5,4,3,4,1,2,3,3,2,2,2,2,1,2.5,3,2,1,4,2,1.5,3,3,1.5,3,2,2,2,1,2,1,4,2,2,2,1.5,3,1.5,2,"1 ","0.5   ","2 ","2.5   ","3 ","1 "]
[1,"边泽晨",2016010629,{"$f":"环工62分数统计!H4*环工62分数统计!H$3/130","v":0.6461538461538462},{"$f":"环工62分数统计!I4*环工62分数统计!I$3/130","v":1.4923076923076923},{"$f":"环工62分数统计!J4*环工62分数统计!J$3/130","v":3.5538461538461537},{"$f":"环工62分数统计!K4*环工62分数统计!K$3/130","v":3.046153846153846},{"$f":"环工62分数统计!L4*环工62分数统计!L$3/130","v":1.3846153846153846},{"$f":"环工62分数统计!M4*环工62分数统计!M$3/130","v":1.2153846153846153},{"$f":"环工62分数统计!N4*环工62分数统计!N$3/130","v":2.707692307692308},{"$f":"环工62分数统计!O4*环工62分数统计!O$3/130","v":0.6461538461538462},{"$f":"环工62分数统计!P4*环工62分数统计!P$3/130","v":1.3653846153846154},{"$f":"环工62分数统计!Q4*环工62分数统计!Q$3/130","v":0.6692307692307692},{"$f":"环工62分数统计!R4*环工62分数统计!R$3/130","v":1.5923076923076922},{"$f":"环工62分数统计!S4*环工62分数统计!S$3/130","v":3.1923076923076925},{"$f":"环工62分数统计!T4*环工62分数统计!T$3/130","v":1.6538461538461537},{"$f":"环工62分数统计!U4*环工62分数统计!U$3/130","v":2.3384615384615386},{"$f":"环工62分数统计!V4*环工62分数统计!V$3/130","v":1.9846153846153847},{"$f":"环工62分数统计!W4*环工62分数统计!W$3/130","v":2.8769230769230774},{"$f":"环工62分数统计!X4*环工62分数统计!X$3/130","v":0.7153846153846154},{"$f":"环工62分数统计!Y4*环工62分数统计!Y$3/130","v":1.3846153846153846},{"$f":"环工62分数统计!Z4*环工62分数统计!Z$3/130","v":1.7076923076923076},{"$f":"环工62分数统计!AA4*环工62分数统计!AA$3/130","v":1.7307692307692308},{"$f":"环工62分数统计!AB4*环工62分数统计!AB$3/130","v":1.1384615384615384},{"$f":"环工62分数统计!AC4*环工62分数统计!AC$3/130","v":1.3384615384615384},{"$f":"环工62分数统计!AD4*环工62分数统计!AD$3/130","v":1.2769230769230768},{"$f":"环工62分数统计!AE4*环工62分数统计!AE$3/130","v":1.556923076923077},{"$f":"环工62分数统计!AF4*环工62分数统计!AF$3/130","v":0.676923076923077},{"$f":"环工62分数统计!AG4*环工62分数统计!AG$3/130","v":1.5},{"$f":"环工62分数统计!AH4*环工62分数统计!AH$3/130","v":1.9846153846153847},{"$f":"环工62分数统计!AI4*环工62分数统计!AI$3/130","v":1.2769230769230768},{"$f":"环工62分数统计!AJ4*环工62分数统计!AJ$3/130","v":0.6615384615384615},{"$f":"环工62分数统计!AK4*环工62分数统计!AK$3/130","v":2.0307692307692307},{"$f":"环工62分数统计!AL4*环工62分数统计!AL$3/130","v":1.3076923076923077},{"$f":"环工62分数统计!AM4*环工62分数统计!AM$3/130","v":0.8076923076923077},{"$f":"环工62分数统计!AN4*环工62分数统计!AN$3/130","v":1.9153846153846155},{"$f":"环工62分数统计!AO4*环工62分数统计!AO$3/130","v":1.5923076923076922},{"$f":"环工62分数统计!AP4*环工62分数统计!AP$3/130","v":1.0153846153846153},{"$f":"环工62分数统计!AQ4*环工62分数统计!AQ$3/130","v":2.076923076923077},{"$f":"环工62分数统计!AR4*环工62分数统计!AR$3/130","v":1.3076923076923077},{"$f":"环工62分数统计!AS4*环工62分数统计!AS$3/130","v":1.4153846153846155},{"$f":"环工62分数统计!AT4*环工62分数统计!AT$3/130","v":1.4553846153846155},{"$f":"环工62分数统计!AU4*环工62分数统计!AU$3/130","v":0.7},{"$f":"环工62分数统计!AV4*环工62分数统计!AV$3/130","v":1.323076923076923},{"$f":"环工62分数统计!AW4*环工62分数统计!AW$3/130","v":0.6230769230769231},{"$f":"环工62分数统计!AX4*环工62分数统计!AX$3/130","v":1.876923076923077},{"$f":"环工62分数统计!AY4*环工62分数统计!AY$3/130","v":1.2307692307692308},{"$f":"环工62分数统计!AZ4*环工62分数统计!AZ$3/130","v":1.1076923076923078},{"$f":"环工62分数统计!BA4*环工62分数统计!BA$3/130","v":1.353846153846154},{"$f":"环工62分数统计!BB4*环工62分数统计!BB$3/130","v":0.9923076923076923},{"$f":"环工62分数统计!BC4*环工62分数统计!BC$3/130","v":1.8923076923076922},{"$f":"环工62分数统计!BD4*环工62分数统计!BD$3/130","v":1.0038461538461538},{"$f":"环工62分数统计!BE4*环工62分数统计!BE$3/130","v":1.0461538461538462},{"$f":"环工62分数统计!BF4*环工62分数统计!BF$3/130","v":0.7},{"$f":"环工62分数统计!BG4*环工62分数统计!BG$3/130","v":0.34615384615384615},{"$f":"环工62分数统计!BH4*环工62分数统计!BH$3/130","v":1.3076923076923077},{"$f":"环工62分数统计!BI4*环工62分数统计!BI$3/130","v":1.5384615384615385},{"$f":"环工62分数统计!BJ4*环工62分数统计!BJ$3/130","v":1.7538461538461538},{"$f":"环工62分数统计!BK4*环工62分数统计!BK$3/130","v":0.6615384615384615},{"$f":"SUM(D4:BG4)","v":81.69692307692304},{"$f":"0.7*BH4","v":57.187846153846124},{"$f":"环工62综测统计!C3","v":{"v":90.5846881877199,"d":"90.5847"}},{"$f":"环工62综测统计!D3","v":{"v":87.145866045066,"d":"87.1459"}},{"$f":"环工62综测统计!E3","v":{"v":84.0212489992766,"d":"84.0212"}},{"$f":"SUM(BJ4:BL4)","v":{"v":261.75180323206246,"d":"261.7518"}},{"$f":"BM4/'环工16-1两年综测'!$BG$8*100","v":75.71571100727309},{"$f":"BN4*0.2","v":15.143142201454618},{"$f":"BI4+BO4","v":72.33098835530075}]
[2,"曹佳美",2016010630,{"$f":"环工62分数统计!H5*环工62分数统计!H$3/130","v":0.6076923076923076},{"$f":"环工62分数统计!I5*环工62分数统计!I$3/130","v":1.4615384615384615},{"$f":"环工62分数统计!J5*环工62分数统计!J$3/130","v":3.5076923076923077},{"$f":"环工62分数统计!K5*环工62分数统计!K$3/130","v":3.046153846153846},{"$f":"环工62分数统计!L5*环工62分数统计!L$3/130","v":1.3846153846153846},{"$f":"环工62分数统计!M5*环工62分数统计!M$3/130","v":1.2},{"$f":"环工62分数统计!N5*环工62分数统计!N$3/130","v":2.4030769230769233},{"$f":"环工62分数统计!O5*环工62分数统计!O$3/130","v":0.5769230769230769},{"$f":"环工62分数统计!P5*环工62分数统计!P$3/130","v":1.2884615384615385},{"$f":"环工62分数统计!Q5*环工62分数统计!Q$3/130","v":0.5769230769230769},{"$f":"环工62分数统计!R5*环工62分数统计!R$3/130","v":1.5923076923076922},{"$f":"环工62分数统计!S5*环工62分数统计!S$3/130","v":3.230769230769231},{"$f":"环工62分数统计!T5*环工62分数统计!T$3/130","v":1.5384615384615385},{"$f":"环工62分数统计!U5*环工62分数统计!U$3/130","v":2.276923076923077},{"$f":"环工62分数统计!V5*环工62分数统计!V$3/130","v":2.123076923076923},{"$f":"环工62分数统计!W5*环工62分数统计!W$3/130","v":2.707692307692308},{"$f":"环工62分数统计!X5*环工62分数统计!X$3/130","v":0.6923076923076923},{"$f":"环工62分数统计!Y5*环工62分数统计!Y$3/130","v":1.353846153846154},{"$f":"环工62分数统计!Z5*环工62分数统计!Z$3/130","v":1.523076923076923},{"$f":"环工62分数统计!AA5*环工62分数统计!AA$3/130","v":1.8692307692307693},{"$f":"环工62分数统计!AB5*环工62分数统计!AB$3/130","v":1.0461538461538462},{"$f":"环工62分数统计!AC5*环工62分数统计!AC$3/130","v":1.2461538461538462},{"$f":"环工62分数统计!AD5*环工62分数统计!AD$3/130","v":1.2307692307692308},{"$f":"环工62分数统计!AE5*环工62分数统计!AE$3/130","v":1.1846153846153846},{"$f":"环工62分数统计!AF5*环工62分数统计!AF$3/130","v":0.6846153846153846},{"$f":"环工62分数统计!AG5*环工62分数统计!AG$3/130","v":1.5384615384615385},{"$f":"环工62分数统计!AH5*环工62分数统计!AH$3/130","v":2.0307692307692307},{"$f":"环工62分数统计!AI5*环工62分数统计!AI$3/130","v":1.2923076923076924},{"$f":"环工62分数统计!AJ5*环工62分数统计!AJ$3/130","v":0.6538461538461539},{"$f":"环工62分数统计!AK5*环工62分数统计!AK$3/130","v":1.8461538461538463},{"$f":"环工62分数统计!AL5*环工62分数统计!AL$3/130","v":1.2307692307692308},{"$f":"环工62分数统计!AM5*环工62分数统计!AM$3/130","v":0.8884615384615384},{"$f":"环工62分数统计!AN5*环工62分数统计!AN$3/130","v":1.6615384615384616},{"$f":"环工62分数统计!AO5*环工62分数统计!AO$3/130","v":1.6846153846153846},{"$f":"环工62分数统计!AP5*环工62分数统计!AP$3/130","v":1.0153846153846153},{"$f":"环工62分数统计!AQ5*环工62分数统计!AQ$3/130","v":1.6846153846153846},{"$f":"环工62分数统计!AR5*环工62分数统计!AR$3/130","v":1.3076923076923077},{"$f":"环工62分数统计!AS5*环工62分数统计!AS$3/130","v":1.353846153846154},{"$f":"环工62分数统计!AT5*环工62分数统计!AT$3/130","v":1.1846153846153846},{"$f":"环工62分数统计!AU5*环工62分数统计!AU$3/130","v":0.6615384615384615},{"$f":"环工62分数统计!AV5*环工62分数统计!AV$3/130","v":1.2769230769230768},{"$f":"环工62分数统计!AW5*环工62分数统计!AW$3/130","v":0.6384615384615384},{"$f":"环工62分数统计!AX5*环工62分数统计!AX$3/130","v":2.1846153846153844},{"$f":"环工62分数统计!AY5*环工62分数统计!AY$3/130","v":1.2461538461538462},{"$f":"环工62分数统计!AZ5*环工62分数统计!AZ$3/130","v":1.123076923076923},{"$f":"环工62分数统计!BA5*环工62分数统计!BA$3/130","v":1.3692307692307693},{"$f":"环工62分数统计!BB5*环工62分数统计!BB$3/130","v":0.9923076923076923},{"$f":"环工62分数统计!BC5*环工62分数统计!BC$3/130","v":2.1},{"$f":"环工62分数统计!BD5*环工62分数统计!BD$3/130","v":0.9807692307692307},{"$f":"环工62分数统计!BE5*环工62分数统计!BE$3/130","v":1.1384615384615384},{"$f":"环工62分数统计!BF5*环工62分数统计!BF$3/130","v":0.7076923076923077},{"$f":"环工62分数统计!BG5*环工62分数统计!BG$3/130","v":0.34615384615384615},{"$f":"环工62分数统计!BH5*环工62分数统计!BH$3/130","v":1.2923076923076924},{"$f":"环工62分数统计!BI5*环工62分数统计!BI$3/130","v":1.5384615384615385},{"$f":"环工62分数统计!BJ5*环工62分数统计!BJ$3/130","v":1.823076923076923},{"$f":"环工62分数统计!BK5*环工62分数统计!BK$3/130","v":0.6538461538461539},{"$f":"SUM(D5:BG5)","v":79.79923076923077},{"$f":"0.7*BH5","v":55.85946153846154},{"$f":"环工62综测统计!C4","v":{"v":89.6750314220433,"d":"89.6750"}},{"$f":"环工62综测统计!D4","v":{"v":84.027765034965,"d":"84.0278"}},{"$f":"环工62综测统计!E4","v":{"v":86.49036498673739,"d":"86.4904"}},{"$f":"SUM(BJ5:BL5)","v":{"v":260.1931614437457,"d":"260.1932"}},{"$f":"BM5/'环工16-1两年综测'!$BG$8*100","v":75.26485003993363},{"$f":"BN5*0.2","v":15.052970007986728},{"$f":"BI5+BO5","v":70.91243154644826}]
[3,"丁怀玉",2016010631,{"$f":"环工62分数统计!H6*环工62分数统计!H$3/130","v":0.6},{"$f":"环工62分数统计!I6*环工62分数统计!I$3/130","v":1.4307692307692308},{"$f":"环工62分数统计!J6*环工62分数统计!J$3/130","v":3.046153846153846},{"$f":"环工62分数统计!K6*环工62分数统计!K$3/130","v":2.6307692307692307},{"$f":"环工62分数统计!L6*环工62分数统计!L$3/130","v":1.3384615384615384},{"$f":"环工62分数统计!M6*环工62分数统计!M$3/130","v":1.2153846153846153},{"$f":"环工62分数统计!N6*环工62分数统计!N$3/130","v":2.436923076923077},{"$f":"环工62分数统计!O6*环工62分数统计!O$3/130","v":0.6},{"$f":"环工62分数统计!P6*环工62分数统计!P$3/130","v":1.6730769230769231},{"$f":"环工62分数统计!Q6*环工62分数统计!Q$3/130","v":0.6307692307692307},{"$f":"环工62分数统计!R6*环工62分数统计!R$3/130","v":1.4538461538461538},{"$f":"环工62分数统计!S6*环工62分数统计!S$3/130","v":3.0384615384615383},{"$f":"环工62分数统计!T6*环工62分数统计!T$3/130","v":1.6923076923076923},{"$f":"环工62分数统计!U6*环工62分数统计!U$3/130","v":2.4},{"$f":"环工62分数统计!V6*环工62分数统计!V$3/130","v":2.0538461538461537},{"$f":"环工62分数统计!W6*环工62分数统计!W$3/130","v":2.9446153846153846},{"$f":"环工62分数统计!X6*环工62分数统计!X$3/130","v":0.6307692307692307},{"$f":"环工62分数统计!Y6*环工62分数统计!Y$3/130","v":1.4461538461538461},{"$f":"环工62分数统计!Z6*环工62分数统计!Z$3/130","v":1.6153846153846154},{"$f":"环工62分数统计!AA6*环工62分数统计!AA$3/130","v":1.8923076923076922},{"$f":"环工62分数统计!AB6*环工62分数统计!AB$3/130","v":1.1692307692307693},{"$f":"环工62分数统计!AC6*环工62分数统计!AC$3/130","v":1.353846153846154},{"$f":"环工62分数统计!AD6*环工62分数统计!AD$3/130","v":1.2769230769230768},{"$f":"环工62分数统计!AE6*环工62分数统计!AE$3/130","v":1.4215384615384616},{"$f":"环工62分数统计!AF6*环工62分数统计!AF$3/130","v":0.7076923076923077},{"$f":"环工62分数统计!AG6*环工62分数统计!AG$3/130","v":1.6153846153846154},{"$f":"环工62分数统计!AH6*环工62分数统计!AH$3/130","v":1.6846153846153846},{"$f":"环工62分数统计!AI6*环工62分数统计!AI$3/130","v":1.3076923076923077},{"$f":"环工62分数统计!AJ6*环工62分数统计!AJ$3/130","v":0.7230769230769231},{"$f":"环工62分数统计!AK6*环工62分数统计!AK$3/130","v":2.1538461538461537},{"$f":"环工62分数统计!AL6*环工62分数统计!AL$3/130","v":1.353846153846154},{"$f":"环工62分数统计!AM6*环工62分数统计!AM$3/130","v":0.8538461538461538},{"$f":"环工62分数统计!AN6*环工62分数统计!AN$3/130","v":1.6153846153846154},{"$f":"环工62分数统计!AO6*环工62分数统计!AO$3/130","v":1.5},{"$f":"环工62分数统计!AP6*环工62分数统计!AP$3/130","v":1.0153846153846153},{"$f":"环工62分数统计!AQ6*环工62分数统计!AQ$3/130","v":1.8692307692307693},{"$f":"环工62分数统计!AR6*环工62分数统计!AR$3/130","v":1.3076923076923077},{"$f":"环工62分数统计!AS6*环工62分数统计!AS$3/130","v":1.4153846153846155},{"$f":"环工62分数统计!AT6*环工62分数统计!AT$3/130","v":1.4553846153846155},{"$f":"环工62分数统计!AU6*环工62分数统计!AU$3/130","v":0.676923076923077},{"$f":"环工62分数统计!AV6*环工62分数统计!AV$3/130","v":1.3076923076923077},{"$f":"环工62分数统计!AW6*环工62分数统计!AW$3/130","v":0.6384615384615384},{"$f":"环工62分数统计!AX6*环工62分数统计!AX$3/130","v":2.646153846153846},{"$f":"环工62分数统计!AY6*环工62分数统计!AY$3/130","v":1.4307692307692308},{"$f":"环工62分数统计!AZ6*环工62分数统计!AZ$3/130","v":1.3384615384615384},{"$f":"环工62分数统计!BA6*环工62分数统计!BA$3/130","v":1.3692307692307693},{"$f":"环工62分数统计!BB6*环工62分数统计!BB$3/130","v":1.0384615384615385},{"$f":"环工62分数统计!BC6*环工62分数统计!BC$3/130","v":1.9384615384615385},{"$f":"环工62分数统计!BD6*环工62分数统计!BD$3/130","v":0.9807692307692307},{"$f":"环工62分数统计!BE6*环工62分数统计!BE$3/130","v":1.0461538461538462},{"$f":"环工62分数统计!BF6*环工62分数统计!BF$3/130","v":0.6923076923076923},{"$f":"环工62分数统计!BG6*环工62分数统计!BG$3/130","v":0.35384615384615387},{"$f":"环工62分数统计!BH6*环工62分数统计!BH$3/130","v":1.3846153846153846},{"$f":"环工62分数统计!BI6*环工62分数统计!BI$3/130","v":1.7884615384615385},{"$f":"环工62分数统计!BJ6*环工62分数统计!BJ$3/130","v":2.1},{"$f":"环工62分数统计!BK6*环工62分数统计!BK$3/130","v":0.6230769230769231},81.92384615384611,57.34669230769227,{"$f":"环工62综测统计!C5","v":{"v":86.8964626651676,"d":"86.8965"}},{"$f":"环工62综测统计!D5","v":{"v":86.9341246309246,"d":"86.9341"}},{"$f":"环工62综测统计!E5","v":{"v":90.67990981432361,"d":"90.6799"}},{"v":264.5104971104158,"d":"264.5105"},{"$f":"BM6/'环工16-1两年综测'!$BG$8*100","v":76.5137053892478},15.30274107784956,72.64943338554184]
[4,"符琳",2016010632,{"$f":"环工62分数统计!H7*环工62分数统计!H$3/130","v":0.6076923076923076},{"$f":"环工62分数统计!I7*环工62分数统计!I$3/130","v":1.4307692307692308},{"$f":"环工62分数统计!J7*环工62分数统计!J$3/130","v":3.3692307692307693},{"$f":"环工62分数统计!K7*环工62分数统计!K$3/130","v":2.353846153846154},{"$f":"环工62分数统计!L7*环工62分数统计!L$3/130","v":1.2769230769230768},{"$f":"环工62分数统计!M7*环工62分数统计!M$3/130","v":1.2},{"$f":"环工62分数统计!N7*环工62分数统计!N$3/130","v":2.8092307692307696},{"$f":"环工62分数统计!O7*环工62分数统计!O$3/130","v":0.5076923076923077},{"$f":"环工62分数统计!P7*环工62分数统计!P$3/130","v":1.6538461538461537},{"$f":"环工62分数统计!Q7*环工62分数统计!Q$3/130","v":0.7153846153846154},{"$f":"环工62分数统计!R7*环工62分数统计!R$3/130","v":1.4538461538461538},{"$f":"环工62分数统计!S7*环工62分数统计!S$3/130","v":3.5384615384615383},{"$f":"环工62分数统计!T7*环工62分数统计!T$3/130","v":1.6923076923076923},{"$f":"环工62分数统计!U7*环工62分数统计!U$3/130","v":2.4923076923076923},{"$f":"环工62分数统计!V7*环工62分数统计!V$3/130","v":1.9615384615384615},{"$f":"环工62分数统计!W7*环工62分数统计!W$3/130","v":2.9446153846153846},{"$f":"环工62分数统计!X7*环工62分数统计!X$3/130","v":0.6153846153846154},{"$f":"环工62分数统计!Y7*环工62分数统计!Y$3/130","v":1.353846153846154},{"$f":"环工62分数统计!Z7*环工62分数统计!Z$3/130","v":1.7538461538461538},{"$f":"环工62分数统计!AA7*环工62分数统计!AA$3/130","v":1.8692307692307693},{"$f":"环工62分数统计!AB7*环工62分数统计!AB$3/130","v":1.1846153846153846},{"$f":"环工62分数统计!AC7*环工62分数统计!AC$3/130","v":1.2461538461538462},{"$f":"环工62分数统计!AD7*环工62分数统计!AD$3/130","v":1.2153846153846153},{"$f":"环工62分数统计!AE7*环工62分数统计!AE$3/130","v":1.353846153846154},{"$f":"环工62分数统计!AF7*环工62分数统计!AF$3/130","v":0.676923076923077},{"$f":"环工62分数统计!AG7*环工62分数统计!AG$3/130","v":1.3461538461538463},{"$f":"环工62分数统计!AH7*环工62分数统计!AH$3/130","v":1.7076923076923076},{"$f":"环工62分数统计!AI7*环工62分数统计!AI$3/130","v":1.3076923076923077},{"$f":"环工62分数统计!AJ7*环工62分数统计!AJ$3/130","v":0.7},{"$f":"环工62分数统计!AK7*环工62分数统计!AK$3/130","v":1.9384615384615385},{"$f":"环工62分数统计!AL7*环工62分数统计!AL$3/130","v":1.3384615384615384},{"$f":"环工62分数统计!AM7*环工62分数统计!AM$3/130","v":0.6923076923076923},{"$f":"环工62分数统计!AN7*环工62分数统计!AN$3/130","v":1.9153846153846155},{"$f":"环工62分数统计!AO7*环工62分数统计!AO$3/130","v":1.5461538461538462},{"$f":"环工62分数统计!AP7*环工62分数统计!AP$3/130","v":1.0038461538461538},{"$f":"环工62分数统计!AQ7*环工62分数统计!AQ$3/130","v":1.9384615384615385},{"$f":"环工62分数统计!AR7*环工62分数统计!AR$3/130","v":1.2923076923076924},{"$f":"环工62分数统计!AS7*环工62分数统计!AS$3/130","v":1.353846153846154},{"$f":"环工62分数统计!AT7*环工62分数统计!AT$3/130","v":1.2523076923076923},{"$f":"环工62分数统计!AU7*环工62分数统计!AU$3/130","v":0.6538461538461539},{"$f":"环工62分数统计!AV7*环工62分数统计!AV$3/130","v":1.4},{"$f":"环工62分数统计!AW7*环工62分数统计!AW$3/130","v":0.6153846153846154},{"$f":"环工62分数统计!AX7*环工62分数统计!AX$3/130","v":2.123076923076923},{"$f":"环工62分数统计!AY7*环工62分数统计!AY$3/130","v":1.4307692307692308},{"$f":"环工62分数统计!AZ7*环工62分数统计!AZ$3/130","v":1.2307692307692308},{"$f":"环工62分数统计!BA7*环工62分数统计!BA$3/130","v":1.2},{"$f":"环工62分数统计!BB7*环工62分数统计!BB$3/130","v":1.0038461538461538},{"$f":"环工62分数统计!BC7*环工62分数统计!BC$3/130","v":2.1923076923076925},{"$f":"环工62分数统计!BD7*环工62分数统计!BD$3/130","v":1.0384615384615385},{"$f":"环工62分数统计!BE7*环工62分数统计!BE$3/130","v":1.1538461538461537},{"$f":"环工62分数统计!BF7*环工62分数统计!BF$3/130","v":0.6923076923076923},{"$f":"环工62分数统计!BG7*环工62分数统计!BG$3/130","v":0.3346153846153846},{"$f":"环工62分数统计!BH7*环工62分数统计!BH$3/130","v":1.1846153846153846},{"$f":"环工62分数统计!BI7*环工62分数统计!BI$3/130","v":1.4615384615384615},{"$f":"环工62分数统计!BJ7*环工62分数统计!BJ$3/130","v":1.8},{"$f":"环工62分数统计!BK7*环工62分数统计!BK$3/130","v":0.6384615384615384},80.76384615384617,56.53469230769232,{"$f":"环工62综测统计!C6","v":{"v":88.307196438545,"d":"88.3072"}},{"$f":"环工62综测统计!D6","v":{"v":87.8358094794095,"d":"87.8358"}},{"$f":"环工62综测统计!E6","v":{"v":86.08283019049917,"d":"86.0828"}},{"v":262.2258361084537,"d":"262.2258"},{"$f":"BM7/'环工16-1两年综测'!$BG$8*100","v":75.85283226425622},15.170566452851245,71.70525876054356]
[5,"李桂存",2016010634,{"$f":"环工62分数统计!H8*环工62分数统计!H$3/130","v":0.5153846153846153},{"$f":"环工62分数统计!I8*环工62分数统计!I$3/130","v":1.3692307692307693},{"$f":"环工62分数统计!J8*环工62分数统计!J$3/130","v":2.769230769230769},{"$f":"环工62分数统计!K8*环工62分数统计!K$3/130","v":2.1807692307692306},{"$f":"环工62分数统计!L8*环工62分数统计!L$3/130","v":1.2307692307692308},{"$f":"环工62分数统计!M8*环工62分数统计!M$3/130","v":1.123076923076923},{"$f":"环工62分数统计!N8*环工62分数统计!N$3/130","v":2.2153846153846155},{"$f":"环工62分数统计!O8*环工62分数统计!O$3/130","v":0.5769230769230769},{"$f":"环工62分数统计!P8*环工62分数统计!P$3/130","v":1.1923076923076923},{"$f":"环工62分数统计!Q8*环工62分数统计!Q$3/130","v":0.46153846153846156},{"$f":"环工62分数统计!R8*环工62分数统计!R$3/130","v":1.3846153846153846},{"$f":"环工62分数统计!S8*环工62分数统计!S$3/130","v":2.3076923076923075},{"$f":"环工62分数统计!T8*环工62分数统计!T$3/130","v":1.5576923076923077},{"$f":"环工62分数统计!U8*环工62分数统计!U$3/130","v":2.1846153846153844},{"$f":"环工62分数统计!V8*环工62分数统计!V$3/130","v":1.3846153846153846},{"$f":"环工62分数统计!W8*环工62分数统计!W$3/130","v":2.123076923076923},{"$f":"环工62分数统计!X8*环工62分数统计!X$3/130","v":0.6384615384615384},{"$f":"环工62分数统计!Y8*环工62分数统计!Y$3/130","v":1.4153846153846155},{"$f":"环工62分数统计!Z8*环工62分数统计!Z$3/130","v":1.3846153846153846},{"$f":"环工62分数统计!AA8*环工62分数统计!AA$3/130","v":1.8461538461538463},{"$f":"环工62分数统计!AB8*环工62分数统计!AB$3/130","v":1.0769230769230769},{"$f":"环工62分数统计!AC8*环工62分数统计!AC$3/130","v":1.2615384615384615},{"$f":"环工62分数统计!AD8*环工62分数统计!AD$3/130","v":1.123076923076923},{"$f":"环工62分数统计!AE8*环工62分数统计!AE$3/130","v":1.2461538461538462},{"$f":"环工62分数统计!AF8*环工62分数统计!AF$3/130","v":0.6615384615384615},{"$f":"环工62分数统计!AG8*环工62分数统计!AG$3/130","v":1.5},{"$f":"环工62分数统计!AH8*环工62分数统计!AH$3/130","v":1.6615384615384616},{"$f":"环工62分数统计!AI8*环工62分数统计!AI$3/130","v":1.2307692307692308},{"$f":"环工62分数统计!AJ8*环工62分数统计!AJ$3/130","v":0.6461538461538462},{"$f":"环工62分数统计!AK8*环工62分数统计!AK$3/130","v":1.8461538461538463},{"$f":"环工62分数统计!AL8*环工62分数统计!AL$3/130","v":1.2615384615384615},{"$f":"环工62分数统计!AM8*环工62分数统计!AM$3/130","v":0.6923076923076923},{"$f":"环工62分数统计!AN8*环工62分数统计!AN$3/130","v":1.5461538461538462},{"$f":"环工62分数统计!AO8*环工62分数统计!AO$3/130","v":1.5923076923076922},{"$f":"环工62分数统计!AP8*环工62分数统计!AP$3/130","v":0.9923076923076923},{"$f":"环工62分数统计!AQ8*环工62分数统计!AQ$3/130","v":1.6846153846153846},{"$f":"环工62分数统计!AR8*环工62分数统计!AR$3/130","v":1.323076923076923},{"$f":"环工62分数统计!AS8*环工62分数统计!AS$3/130","v":1.2769230769230768},{"$f":"环工62分数统计!AT8*环工62分数统计!AT$3/130","v":1.1846153846153846},{"$f":"环工62分数统计!AU8*环工62分数统计!AU$3/130","v":0.6384615384615384},{"$f":"环工62分数统计!AV8*环工62分数统计!AV$3/130","v":1.3076923076923077},{"$f":"环工62分数统计!AW8*环工62分数统计!AW$3/130","v":0.5846153846153846},{"$f":"环工62分数统计!AX8*环工62分数统计!AX$3/130","v":2.1846153846153844},{"$f":"环工62分数统计!AY8*环工62分数统计!AY$3/130","v":1.2615384615384615},{"$f":"环工62分数统计!AZ8*环工62分数统计!AZ$3/130","v":1.1076923076923078},{"$f":"环工62分数统计!BA8*环工62分数统计!BA$3/130","v":1.0923076923076922},{"$f":"环工62分数统计!BB8*环工62分数统计!BB$3/130","v":0.9923076923076923},{"$f":"环工62分数统计!BC8*环工62分数统计!BC$3/130","v":1.8},{"$f":"环工62分数统计!BD8*环工62分数统计!BD$3/130","v":0.9692307692307692},{"$f":"环工62分数统计!BE8*环工62分数统计!BE$3/130","v":1.0769230769230769},{"$f":"环工62分数统计!BF8*环工62分数统计!BF$3/130","v":0.6230769230769231},{"$f":"环工62分数统计!BG8*环工62分数统计!BG$3/130","v":0.33076923076923076},{"$f":"环工62分数统计!BH8*环工62分数统计!BH$3/130","v":1.323076923076923},{"$f":"环工62分数统计!BI8*环工62分数统计!BI$3/130","v":1.3076923076923077},{"$f":"环工62分数统计!BJ8*环工62分数统计!BJ$3/130","v":0},{"$f":"环工62分数统计!BK8*环工62分数统计!BK$3/130","v":0.5384615384615384},70.8076923076923,49.56538461538461,{"$f":"环工62综测统计!C7","v":{"v":78.099501169018,"d":"78.0995"}},{"$f":"环工62综测统计!D7","v":{"v":82.0522716180371,"d":"82.0523"}},{"$f":"环工62综测统计!E7","v":{"v":75.6991925729443,"d":"75.6992"}},{"v":235.8509653599994,"d":"235.8510"},{"$f":"BM8/'环工16-1两年综测'!$BG$8*100","v":68.22349765495971},13.644699530991943,63.21008414637655]
[6,"李昕",2016010635,{"$f":"环工62分数统计!H9*环工62分数统计!H$3/130","v":0.6692307692307692},{"$f":"环工62分数统计!I9*环工62分数统计!I$3/130","v":1.4461538461538461},{"$f":"环工62分数统计!J9*环工62分数统计!J$3/130","v":3.4153846153846152},{"$f":"环工62分数统计!K9*环工62分数统计!K$3/130","v":3.1846153846153844},{"$f":"环工62分数统计!L9*环工62分数统计!L$3/130","v":1.4},{"$f":"环工62分数统计!M9*环工62分数统计!M$3/130","v":1.1846153846153846},{"$f":"环工62分数统计!N9*环工62分数统计!N$3/130","v":2.9015384615384616},{"$f":"环工62分数统计!O9*环工62分数统计!O$3/130","v":0.5923076923076923},{"$f":"环工62分数统计!P9*环工62分数统计!P$3/130","v":1.5576923076923077},{"$f":"环工62分数统计!Q9*环工62分数统计!Q$3/130","v":0.7461538461538462},{"$f":"环工62分数统计!R9*环工62分数统计!R$3/130","v":1.8923076923076922},{"$f":"环工62分数统计!S9*环工62分数统计!S$3/130","v":3.230769230769231},{"$f":"环工62分数统计!T9*环工62分数统计!T$3/130","v":1.6923076923076923},{"$f":"环工62分数统计!U9*环工62分数统计!U$3/130","v":2.3692307692307693},{"$f":"环工62分数统计!V9*环工62分数统计!V$3/130","v":2.2153846153846155},{"$f":"环工62分数统计!W9*环工62分数统计!W$3/130","v":3.007692307692307},{"$f":"环工62分数统计!X9*环工62分数统计!X$3/130","v":0.7153846153846154},{"$f":"环工62分数统计!Y9*环工62分数统计!Y$3/130","v":1.4615384615384615},{"$f":"环工62分数统计!Z9*环工62分数统计!Z$3/130","v":1.523076923076923},{"$f":"环工62分数统计!AA9*环工62分数统计!AA$3/130","v":1.9384615384615385},{"$f":"环工62分数统计!AB9*环工62分数统计!AB$3/130","v":1.1538461538461537},{"$f":"环工62分数统计!AC9*环工62分数统计!AC$3/130","v":1.2},{"$f":"环工62分数统计!AD9*环工62分数统计!AD$3/130","v":1.2615384615384615},{"$f":"环工62分数统计!AE9*环工62分数统计!AE$3/130","v":1.5392307692307692},{"$f":"环工62分数统计!AF9*环工62分数统计!AF$3/130","v":0.7153846153846154},{"$f":"环工62分数统计!AG9*环工62分数统计!AG$3/130","v":1.5384615384615385},{"$f":"环工62分数统计!AH9*环工62分数统计!AH$3/130","v":1.8923076923076922},{"$f":"环工62分数统计!AI9*环工62分数统计!AI$3/130","v":1.3076923076923077},{"$f":"环工62分数统计!AJ9*环工62分数统计!AJ$3/130","v":0.6538461538461539},{"$f":"环工62分数统计!AK9*环工62分数统计!AK$3/130","v":2.246153846153846},{"$f":"环工62分数统计!AL9*环工62分数统计!AL$3/130","v":1.3384615384615384},{"$f":"环工62分数统计!AM9*环工62分数统计!AM$3/130","v":0.7384615384615385},{"$f":"环工62分数统计!AN9*环工62分数统计!AN$3/130","v":1.9846153846153847},{"$f":"环工62分数统计!AO9*环工62分数统计!AO$3/130","v":1.8461538461538463},{"$f":"环工62分数统计!AP9*环工62分数统计!AP$3/130","v":0.9923076923076923},{"$f":"环工62分数统计!AQ9*环工62分数统计!AQ$3/130","v":2.1},{"$f":"环工62分数统计!AR9*环工62分数统计!AR$3/130","v":1.2923076923076924},{"$f":"环工62分数统计!AS9*环工62分数统计!AS$3/130","v":1.3692307692307693},{"$f":"环工62分数统计!AT9*环工62分数统计!AT$3/130","v":1.4861538461538462},{"$f":"环工62分数统计!AU9*环工62分数统计!AU$3/130","v":0.7153846153846154},{"$f":"环工62分数统计!AV9*环工62分数统计!AV$3/130","v":1.323076923076923},{"$f":"环工62分数统计!AW9*环工62分数统计!AW$3/130","v":0.6153846153846154},{"$f":"环工62分数统计!AX9*环工62分数统计!AX$3/130","v":2.4615384615384617},{"$f":"环工62分数统计!AY9*环工62分数统计!AY$3/130","v":1.3692307692307693},{"$f":"环工62分数统计!AZ9*环工62分数统计!AZ$3/130","v":1.2923076923076924},{"$f":"环工62分数统计!BA9*环工62分数统计!BA$3/130","v":1.4153846153846155},{"$f":"环工62分数统计!BB9*环工62分数统计!BB$3/130","v":1.0038461538461538},{"$f":"环工62分数统计!BC9*环工62分数统计!BC$3/130","v":2.076923076923077},{"$f":"环工62分数统计!BD9*环工62分数统计!BD$3/130","v":1.0153846153846153},{"$f":"环工62分数统计!BE9*环工62分数统计!BE$3/130","v":0.9230769230769231},{"$f":"环工62分数统计!BF9*环工62分数统计!BF$3/130","v":0.6846153846153846},{"$f":"环工62分数统计!BG9*环工62分数统计!BG$3/130","v":0.3423076923076923},{"$f":"环工62分数统计!BH9*环工62分数统计!BH$3/130","v":1.323076923076923},{"$f":"环工62分数统计!BI9*环工62分数统计!BI$3/130","v":1.5769230769230769},{"$f":"环工62分数统计!BJ9*环工62分数统计!BJ$3/130","v":1.9846153846153847},{"$f":"环工62分数统计!BK9*环工62分数统计!BK$3/130","v":0.6230769230769231},84.54615384615386,59.182307692307695,{"$f":"环工62综测统计!C8","v":{"v":92.3800963262006,"d":"92.3801"}},{"$f":"环工62综测统计!D8","v":{"v":91.526358974359,"d":"91.5264"}},{"$f":"环工62综测统计!E8","v":{"v":90.09754659593281,"d":"90.0975"}},{"v":274.0040018964924,"d":"274.0040"},{"$f":"BM9/'环工16-1两年综测'!$BG$8*100","v":79.25984679478174},15.851969358956348,75.03427705126404]
[7,"刘吉东",2016010636,{"$f":"环工62分数统计!H10*环工62分数统计!H$3/130","v":0.6153846153846154},{"$f":"环工62分数统计!I10*环工62分数统计!I$3/130","v":1.4615384615384615},{"$f":"环工62分数统计!J10*环工62分数统计!J$3/130","v":2.953846153846154},{"$f":"环工62分数统计!K10*环工62分数统计!K$3/130","v":2.5615384615384613},{"$f":"环工62分数统计!L10*环工62分数统计!L$3/130","v":1.2923076923076924},{"$f":"环工62分数统计!M10*环工62分数统计!M$3/130","v":1.1076923076923078},{"$f":"环工62分数统计!N10*环工62分数统计!N$3/130","v":2.707692307692308},{"$f":"环工62分数统计!O10*环工62分数统计!O$3/130","v":0.6230769230769231},{"$f":"环工62分数统计!P10*环工62分数统计!P$3/130","v":1.3461538461538463},{"$f":"环工62分数统计!Q10*环工62分数统计!Q$3/130","v":0.6846153846153846},{"$f":"环工62分数统计!R10*环工62分数统计!R$3/130","v":1.5},{"$f":"环工62分数统计!S10*环工62分数统计!S$3/130","v":3.0384615384615383},{"$f":"环工62分数统计!T10*环工62分数统计!T$3/130","v":1.6538461538461537},{"$f":"环工62分数统计!U10*环工62分数统计!U$3/130","v":2.1538461538461537},{"$f":"环工62分数统计!V10*环工62分数统计!V$3/130","v":1.6846153846153846},{"$f":"环工62分数统计!W10*环工62分数统计!W$3/130","v":2.9446153846153846},{"$f":"环工62分数统计!X10*环工62分数统计!X$3/130","v":0.6923076923076923},{"$f":"环工62分数统计!Y10*环工62分数统计!Y$3/130","v":1.3846153846153846},{"$f":"环工62分数统计!Z10*环工62分数统计!Z$3/130","v":1.523076923076923},{"$f":"环工62分数统计!AA10*环工62分数统计!AA$3/130","v":1.7769230769230768},{"$f":"环工62分数统计!AB10*环工62分数统计!AB$3/130","v":1.1538461538461537},{"$f":"环工62分数统计!AC10*环工62分数统计!AC$3/130","v":1.1846153846153846},{"$f":"环工62分数统计!AD10*环工62分数统计!AD$3/130","v":1.1076923076923078},{"$f":"环工62分数统计!AE10*环工62分数统计!AE$3/130","v":1.4046153846153848},{"$f":"环工62分数统计!AF10*环工62分数统计!AF$3/130","v":0.7153846153846154},{"$f":"环工62分数统计!AG10*环工62分数统计!AG$3/130","v":1.5961538461538463},{"$f":"环工62分数统计!AH10*环工62分数统计!AH$3/130","v":1.7076923076923076},{"$f":"环工62分数统计!AI10*环工62分数统计!AI$3/130","v":1.2769230769230768},{"$f":"环工62分数统计!AJ10*环工62分数统计!AJ$3/130","v":0.6923076923076923},{"$f":"环工62分数统计!AK10*环工62分数统计!AK$3/130","v":1.876923076923077},{"$f":"环工62分数统计!AL10*环工62分数统计!AL$3/130","v":1.4},{"$f":"环工62分数统计!AM10*环工62分数统计!AM$3/130","v":0.7269230769230769},{"$f":"环工62分数统计!AN10*环工62分数统计!AN$3/130","v":2.076923076923077},{"$f":"环工62分数统计!AO10*环工62分数统计!AO$3/130","v":1.5692307692307692},{"$f":"环工62分数统计!AP10*环工62分数统计!AP$3/130","v":1.0269230769230768},{"$f":"环工62分数统计!AQ10*环工62分数统计!AQ$3/130","v":2.2384615384615385},{"$f":"环工62分数统计!AR10*环工62分数统计!AR$3/130","v":1.3076923076923077},{"$f":"环工62分数统计!AS10*环工62分数统计!AS$3/130","v":1.3384615384615384},{"$f":"环工62分数统计!AT10*环工62分数统计!AT$3/130","v":1.3200000000000003},{"$f":"环工62分数统计!AU10*环工62分数统计!AU$3/130","v":0.7076923076923077},{"$f":"环工62分数统计!AV10*环工62分数统计!AV$3/130","v":1.3384615384615384},{"$f":"环工62分数统计!AW10*环工62分数统计!AW$3/130","v":0.5769230769230769},{"$f":"环工62分数统计!AX10*环工62分数统计!AX$3/130","v":2.3076923076923075},{"$f":"环工62分数统计!AY10*环工62分数统计!AY$3/130","v":1.3076923076923077},{"$f":"环工62分数统计!AZ10*环工62分数统计!AZ$3/130","v":1.2461538461538462},{"$f":"环工62分数统计!BA10*环工62分数统计!BA$3/130","v":1.4153846153846155},{"$f":"环工62分数统计!BB10*环工62分数统计!BB$3/130","v":1.0038461538461538},{"$f":"环工62分数统计!BC10*环工62分数统计!BC$3/130","v":2.0307692307692307},{"$f":"环工62分数统计!BD10*环工62分数统计!BD$3/130","v":0.9692307692307692},{"$f":"环工62分数统计!BE10*环工62分数统计!BE$3/130","v":1.2461538461538462},{"$f":"环工62分数统计!BF10*环工62分数统计!BF$3/130","v":0.6923076923076923},{"$f":"环工62分数统计!BG10*环工62分数统计!BG$3/130","v":0.3423076923076923},{"$f":"环工62分数统计!BH10*环工62分数统计!BH$3/130","v":1.323076923076923},{"$f":"环工62分数统计!BI10*环工62分数统计!BI$3/130","v":1.5576923076923077},{"$f":"环工62分数统计!BJ10*环工62分数统计!BJ$3/130","v":1.9846153846153847},{"$f":"环工62分数统计!BK10*环工62分数统计!BK$3/130","v":0.5846153846153846},80.06153846153846,56.04307692307692,{"$f":"环工62综测统计!C9","v":{"v":86.0561337322743,"d":"86.0561"}},{"$f":"环工62综测统计!D9","v":{"v":90.7932010796221,"d":"90.7932"}},{"$f":"环工62综测统计!E9","v":{"v":87.10569048353564,"d":"87.1057"}},{"v":263.95502529543205,"d":"263.9550"},{"$f":"BM10/'环工16-1两年综测'!$BG$8*100","v":76.3530266741571},15.270605334831423,71.31368225790834]
[8,"刘姝羽",2016010637,{"$f":"环工62分数统计!H11*环工62分数统计!H$3/130","v":0.6230769230769231},{"$f":"环工62分数统计!I11*环工62分数统计!I$3/130","v":1.3846153846153846},{"$f":"环工62分数统计!J11*环工62分数统计!J$3/130","v":4.015384615384615},{"$f":"环工62分数统计!K11*环工62分数统计!K$3/130","v":3.0115384615384615},{"$f":"环工62分数统计!L11*环工62分数统计!L$3/130","v":1.1846153846153846},{"$f":"环工62分数统计!M11*环工62分数统计!M$3/130","v":1.0769230769230769},{"$f":"环工62分数统计!N11*环工62分数统计!N$3/130","v":3.0461538461538464},{"$f":"环工62分数统计!O11*环工62分数统计!O$3/130","v":0.5692307692307692},{"$f":"环工62分数统计!P11*环工62分数统计!P$3/130","v":1.3461538461538463},{"$f":"环工62分数统计!Q11*环工62分数统计!Q$3/130","v":0.5615384615384615},{"$f":"环工62分数统计!R11*环工62分数统计!R$3/130","v":1.6615384615384616},{"$f":"环工62分数统计!S11*环工62分数统计!S$3/130","v":3.730769230769231},{"$f":"环工62分数统计!T11*环工62分数统计!T$3/130","v":1.75},{"$f":"环工62分数统计!U11*环工62分数统计!U$3/130","v":2.6769230769230767},{"$f":"环工62分数统计!V11*环工62分数统计!V$3/130","v":1.7076923076923076},{"$f":"环工62分数统计!W11*环工62分数统计!W$3/130","v":3.08},{"$f":"环工62分数统计!X11*环工62分数统计!X$3/130","v":0.6923076923076923},{"$f":"环工62分数统计!Y11*环工62分数统计!Y$3/130","v":1.4},{"$f":"环工62分数统计!Z11*环工62分数统计!Z$3/130","v":2.0076923076923077},{"$f":"环工62分数统计!AA11*环工62分数统计!AA$3/130","v":2.1},{"$f":"环工62分数统计!AB11*环工62分数统计!AB$3/130","v":1.2461538461538462},{"$f":"环工62分数统计!AC11*环工62分数统计!AC$3/130","v":1.323076923076923},{"$f":"环工62分数统计!AD11*环工62分数统计!AD$3/130","v":1.2},{"$f":"环工62分数统计!AE11*环工62分数统计!AE$3/130","v":1.4384615384615387},{"$f":"环工62分数统计!AF11*环工62分数统计!AF$3/130","v":0.7307692307692307},{"$f":"环工62分数统计!AG11*环工62分数统计!AG$3/130","v":1.5576923076923077},{"$f":"环工62分数统计!AH11*环工62分数统计!AH$3/130","v":2.169230769230769},{"$f":"环工62分数统计!AI11*环工62分数统计!AI$3/130","v":1.3384615384615384},{"$f":"环工62分数统计!AJ11*环工62分数统计!AJ$3/130","v":0.7153846153846154},{"$f":"环工62分数统计!AK11*环工62分数统计!AK$3/130","v":2.5538461538461537},{"$f":"环工62分数统计!AL11*环工62分数统计!AL$3/130","v":1.4},{"$f":"环工62分数统计!AM11*环工62分数统计!AM$3/130","v":0.8307692307692308},{"$f":"环工62分数统计!AN11*环工62分数统计!AN$3/130","v":1.9384615384615385},{"$f":"环工62分数统计!AO11*环工62分数统计!AO$3/130","v":1.9153846153846155},{"$f":"环工62分数统计!AP11*环工62分数统计!AP$3/130","v":1.0269230769230768},{"$f":"环工62分数统计!AQ11*环工62分数统计!AQ$3/130","v":1.8461538461538463},{"$f":"环工62分数统计!AR11*环工62分数统计!AR$3/130","v":1.4},{"$f":"环工62分数统计!AS11*环工62分数统计!AS$3/130","v":1.353846153846154},{"$f":"环工62分数统计!AT11*环工62分数统计!AT$3/130","v":1.556923076923077},{"$f":"环工62分数统计!AU11*环工62分数统计!AU$3/130","v":0.7},{"$f":"环工62分数统计!AV11*环工62分数统计!AV$3/130","v":1.3076923076923077},{"$f":"环工62分数统计!AW11*环工62分数统计!AW$3/130","v":0.6230769230769231},{"$f":"环工62分数统计!AX11*环工62分数统计!AX$3/130","v":2.4615384615384617},{"$f":"环工62分数统计!AY11*环工62分数统计!AY$3/130","v":1.2615384615384615},{"$f":"环工62分数统计!AZ11*环工62分数统计!AZ$3/130","v":1.1846153846153846},{"$f":"环工62分数统计!BA11*环工62分数统计!BA$3/130","v":1.476923076923077},{"$f":"环工62分数统计!BB11*环工62分数统计!BB$3/130","v":1.0153846153846153},{"$f":"环工62分数统计!BC11*环工62分数统计!BC$3/130","v":1.9846153846153847},{"$f":"环工62分数统计!BD11*环工62分数统计!BD$3/130","v":0.9230769230769231},{"$f":"环工62分数统计!BE11*环工62分数统计!BE$3/130","v":0.9230769230769231},{"$f":"环工62分数统计!BF11*环工62分数统计!BF$3/130","v":0.7230769230769231},{"$f":"环工62分数统计!BG11*环工62分数统计!BG$3/130","v":0.3346153846153846},{"$f":"环工62分数统计!BH11*环工62分数统计!BH$3/130","v":1.3384615384615384},{"$f":"环工62分数统计!BI11*环工62分数统计!BI$3/130","v":1.7692307692307692},{"$f":"环工62分数统计!BJ11*环工62分数统计!BJ$3/130","v":2.169230769230769},{"$f":"环工62分数统计!BK11*环工62分数统计!BK$3/130","v":0.6153846153846154},85.97923076923077,60.18546153846153,{"$f":"环工62综测统计!C10","v":{"v":91.0101205309542,"d":"91.0101"}},{"$f":"环工62综测统计!D10","v":{"v":91.4717852369852,"d":"91.4718"}},{"$f":"环工62综测统计!E10","v":{"v":93.66411671087533,"d":"93.6641"}},{"v":276.14602247881476,"d":"276.1460"},{"$f":"BM11/'环工16-1两年综测'!$BG$8*100","v":79.87945899756362},15.975891799512723,76.16135333797425]
[9,"陆文懿",2016010638,{"$f":"环工62分数统计!H12*环工62分数统计!H$3/130","v":0.5923076923076923},{"$f":"环工62分数统计!I12*环工62分数统计!I$3/130","v":1.4},{"$f":"环工62分数统计!J12*环工62分数统计!J$3/130","v":3.7846153846153845},{"$f":"环工62分数统计!K12*环工62分数统计!K$3/130","v":2.9076923076923076},{"$f":"环工62分数统计!L12*环工62分数统计!L$3/130","v":1.2307692307692308},{"$f":"环工62分数统计!M12*环工62分数统计!M$3/130","v":1.1846153846153846},{"$f":"环工62分数统计!N12*环工62分数统计!N$3/130","v":2.7246153846153844},{"$f":"环工62分数统计!O12*环工62分数统计!O$3/130","v":0.6384615384615384},{"$f":"环工62分数统计!P12*环工62分数统计!P$3/130","v":1.5},{"$f":"环工62分数统计!Q12*环工62分数统计!Q$3/130","v":0.5846153846153846},{"$f":"环工62分数统计!R12*环工62分数统计!R$3/130","v":1.476923076923077},{"$f":"环工62分数统计!S12*环工62分数统计!S$3/130","v":3.3461538461538463},{"$f":"环工62分数统计!T12*环工62分数统计!T$3/130","v":1.6538461538461537},{"$f":"环工62分数统计!U12*环工62分数统计!U$3/130","v":2.523076923076923},{"$f":"环工62分数统计!V12*环工62分数统计!V$3/130","v":1.3846153846153846},{"$f":"环工62分数统计!W12*环工62分数统计!W$3/130","v":2.830769230769231},{"$f":"环工62分数统计!X12*环工62分数统计!X$3/130","v":0.6307692307692307},{"$f":"环工62分数统计!Y12*环工62分数统计!Y$3/130","v":1.3846153846153846},{"$f":"环工62分数统计!Z12*环工62分数统计!Z$3/130","v":1.7538461538461538},{"$f":"环工62分数统计!AA12*环工62分数统计!AA$3/130","v":2.076923076923077},{"$f":"环工62分数统计!AB12*环工62分数统计!AB$3/130","v":1.1076923076923078},{"$f":"环工62分数统计!AC12*环工62分数统计!AC$3/130","v":1.0461538461538462},{"$f":"环工62分数统计!AD12*环工62分数统计!AD$3/130","v":1.2153846153846153},{"$f":"环工62分数统计!AE12*环工62分数统计!AE$3/130","v":1.5215384615384615},{"$f":"环工62分数统计!AF12*环工62分数统计!AF$3/130","v":0.6846153846153846},{"$f":"环工62分数统计!AG12*环工62分数统计!AG$3/130","v":1.4807692307692308},{"$f":"环工62分数统计!AH12*环工62分数统计!AH$3/130","v":1.823076923076923},{"$f":"环工62分数统计!AI12*环工62分数统计!AI$3/130","v":1.2769230769230768},{"$f":"环工62分数统计!AJ12*环工62分数统计!AJ$3/130","v":0.6923076923076923},{"$f":"环工62分数统计!AK12*环工62分数统计!AK$3/130","v":2.4615384615384617},{"$f":"环工62分数统计!AL12*环工62分数统计!AL$3/130","v":1.3384615384615384},{"$f":"环工62分数统计!AM12*环工62分数统计!AM$3/130","v":0.9230769230769231},{"$f":"环工62分数统计!AN12*环工62分数统计!AN$3/130","v":2.076923076923077},{"$f":"环工62分数统计!AO12*环工62分数统计!AO$3/130","v":1.9153846153846155},{"$f":"环工62分数统计!AP12*环工62分数统计!AP$3/130","v":0.9923076923076923},{"$f":"环工62分数统计!AQ12*环工62分数统计!AQ$3/130","v":1.8692307692307693},{"$f":"环工62分数统计!AR12*环工62分数统计!AR$3/130","v":1.353846153846154},{"$f":"环工62分数统计!AS12*环工62分数统计!AS$3/130","v":1.3692307692307693},{"$f":"环工62分数统计!AT12*环工62分数统计!AT$3/130","v":1.2384615384615385},{"$f":"环工62分数统计!AU12*环工62分数统计!AU$3/130","v":0.6923076923076923},{"$f":"环工62分数统计!AV12*环工62分数统计!AV$3/130","v":1.4},{"$f":"环工62分数统计!AW12*环工62分数统计!AW$3/130","v":0.6230769230769231},{"$f":"环工62分数统计!AX12*环工62分数统计!AX$3/130","v":2.3692307692307693},{"$f":"环工62分数统计!AY12*环工62分数统计!AY$3/130","v":1.0307692307692307},{"$f":"环工62分数统计!AZ12*环工62分数统计!AZ$3/130","v":1.2307692307692308},{"$f":"环工62分数统计!BA12*环工62分数统计!BA$3/130","v":1.2307692307692308},{"$f":"环工62分数统计!BB12*环工62分数统计!BB$3/130","v":1.0153846153846153},{"$f":"环工62分数统计!BC12*环工62分数统计!BC$3/130","v":2.123076923076923},{"$f":"环工62分数统计!BD12*环工62分数统计!BD$3/130","v":0.9807692307692307},{"$f":"环工62分数统计!BE12*环工62分数统计!BE$3/130","v":1.2},{"$f":"环工62分数统计!BF12*环工62分数统计!BF$3/130","v":0.6923076923076923},{"$f":"环工62分数统计!BG12*环工62分数统计!BG$3/130","v":0.35},{"$f":"环工62分数统计!BH12*环工62分数统计!BH$3/130","v":1.2923076923076924},{"$f":"环工62分数统计!BI12*环工62分数统计!BI$3/130","v":1.7884615384615385},{"$f":"环工62分数统计!BJ12*环工62分数统计!BJ$3/130","v":2.146153846153846},{"$f":"环工62分数统计!BK12*环工62分数统计!BK$3/130","v":0.6076923076923076},82.76923076923075,57.93846153846152,{"$f":"环工62综测统计!C11","v":{"v":88.5622085397551,"d":"88.5622"}},{"$f":"环工62综测统计!D11","v":{"v":90.0499953379953,"d":"90.0500"}},{"$f":"环工62综测统计!E11","v":{"v":92.54855702914439,"d":"92.5486"}},{"v":271.1607609068948,"d":"271.1608"},{"$f":"BM12/'环工16-1两年综测'!$BG$8*100","v":78.43739586823914},15.687479173647828,73.62594071210934]
[10,"穆合塔巴尔·玉素甫",2016010639,{"$f":"环工62分数统计!H13*环工62分数统计!H$3/130","v":0.5923076923076923},{"$f":"环工62分数统计!I13*环工62分数统计!I$3/130","v":1.2615384615384615},{"$f":"环工62分数统计!J13*环工62分数统计!J$3/130","v":2.769230769230769},{"$f":"环工62分数统计!K13*环工62分数统计!K$3/130","v":2.1115384615384616},{"$f":"环工62分数统计!L13*环工62分数统计!L$3/130","v":1.1846153846153846},{"$f":"环工62分数统计!M13*环工62分数统计!M$3/130","v":1.0153846153846153},{"$f":"环工62分数统计!N13*环工62分数统计!N$3/130","v":2.5046153846153847},{"$f":"环工62分数统计!O13*环工62分数统计!O$3/130","v":0.5538461538461539},{"$f":"环工62分数统计!P13*环工62分数统计!P$3/130","v":1.1538461538461537},{"$f":"环工62分数统计!Q13*环工62分数统计!Q$3/130","v":0.46153846153846156},{"$f":"环工62分数统计!R13*环工62分数统计!R$3/130","v":1.3846153846153846},{"$f":"环工62分数统计!S13*环工62分数统计!S$3/130","v":2.3076923076923075},{"$f":"环工62分数统计!T13*环工62分数统计!T$3/130","v":1.5384615384615385},{"$f":"环工62分数统计!U13*环工62分数统计!U$3/130","v":1.9692307692307693},{"$f":"环工62分数统计!V13*环工62分数统计!V$3/130","v":1.5},{"$f":"环工62分数统计!W13*环工62分数统计!W$3/130","v":2.707692307692308},{"$f":"环工62分数统计!X13*环工62分数统计!X$3/130","v":0.7},{"$f":"环工62分数统计!Y13*环工62分数统计!Y$3/130","v":1.4},{"$f":"环工62分数统计!Z13*环工62分数统计!Z$3/130","v":1.4076923076923078},{"$f":"环工62分数统计!AA13*环工62分数统计!AA$3/130","v":1.8923076923076922},{"$f":"环工62分数统计!AB13*环工62分数统计!AB$3/130","v":1.1076923076923078},{"$f":"环工62分数统计!AC13*环工62分数统计!AC$3/130","v":1.1846153846153846},{"$f":"环工62分数统计!AD13*环工62分数统计!AD$3/130","v":1.3384615384615384},{"$f":"环工62分数统计!AE13*环工62分数统计!AE$3/130","v":1.353846153846154},{"$f":"环工62分数统计!AF13*环工62分数统计!AF$3/130","v":0.6538461538461539},{"$f":"环工62分数统计!AG13*环工62分数统计!AG$3/130","v":1.5},{"$f":"环工62分数统计!AH13*环工62分数统计!AH$3/130","v":1.4307692307692308},{"$f":"环工62分数统计!AI13*环工62分数统计!AI$3/130","v":1.2307692307692308},{"$f":"环工62分数统计!AJ13*环工62分数统计!AJ$3/130","v":0.6461538461538462},{"$f":"环工62分数统计!AK13*环工62分数统计!AK$3/130","v":1.8461538461538463},{"$f":"环工62分数统计!AL13*环工62分数统计!AL$3/130","v":1.2307692307692308},{"$f":"环工62分数统计!AM13*环工62分数统计!AM$3/130","v":0.75},{"$f":"环工62分数统计!AN13*环工62分数统计!AN$3/130","v":1.7769230769230768},{"$f":"环工62分数统计!AO13*环工62分数统计!AO$3/130","v":1.3846153846153846},{"$f":"环工62分数统计!AP13*环工62分数统计!AP$3/130","v":1.0153846153846153},{"$f":"环工62分数统计!AQ13*环工62分数统计!AQ$3/130","v":1.7076923076923076},{"$f":"环工62分数统计!AR13*环工62分数统计!AR$3/130","v":1.353846153846154},{"$f":"环工62分数统计!AS13*环工62分数统计!AS$3/130","v":1.2769230769230768},{"$f":"环工62分数统计!AT13*环工62分数统计!AT$3/130","v":1.303076923076923},{"$f":"环工62分数统计!AU13*环工62分数统计!AU$3/130","v":0.5461538461538461},{"$f":"环工62分数统计!AV13*环工62分数统计!AV$3/130","v":1.2769230769230768},{"$f":"环工62分数统计!AW13*环工62分数统计!AW$3/130","v":0.6230769230769231},{"$f":"环工62分数统计!AX13*环工62分数统计!AX$3/130","v":2.0307692307692307},{"$f":"环工62分数统计!AY13*环工62分数统计!AY$3/130","v":1.0153846153846153},{"$f":"环工62分数统计!AZ13*环工62分数统计!AZ$3/130","v":1.2615384615384615},{"$f":"环工62分数统计!BA13*环工62分数统计!BA$3/130","v":1.1538461538461537},{"$f":"环工62分数统计!BB13*环工62分数统计!BB$3/130","v":1.0153846153846153},{"$f":"环工62分数统计!BC13*环工62分数统计!BC$3/130","v":1.6384615384615384},{"$f":"环工62分数统计!BD13*环工62分数统计!BD$3/130","v":0.9576923076923077},{"$f":"环工62分数统计!BE13*环工62分数统计!BE$3/130","v":1.0769230769230769},{"$f":"环工62分数统计!BF13*环工62分数统计!BF$3/130","v":0.6384615384615384},{"$f":"环工62分数统计!BG13*环工62分数统计!BG$3/130","v":0.33076923076923076},{"$f":"环工62分数统计!BH13*环工62分数统计!BH$3/130","v":1.2769230769230768},{"$f":"环工62分数统计!BI13*环工62分数统计!BI$3/130","v":1.3269230769230769},{"$f":"环工62分数统计!BJ13*环工62分数统计!BJ$3/130","v":1.8923076923076922},{"$f":"环工62分数统计!BK13*环工62分数统计!BK$3/130","v":0.5538461538461539},73.12307692307695,51.186153846153864,{"$f":"环工62综测统计!C12","v":{"v":80.991099628864,"d":"80.9911"}},{"$f":"环工62综测统计!D12","v":{"v":80.9324114996115,"d":"80.9324"}},{"$f":"环工62综测统计!E12","v":{"v":82.09913740053052,"d":"82.0991"}},{"v":244.02264852900606,"d":"244.0226"},{"$f":"BM13/'环工16-1两年综测'!$BG$8*100","v":70.58728194843012},14.117456389686025,65.30361023583988]
[11,"宋艳珂",2016010640,{"$f":"环工62分数统计!H14*环工62分数统计!H$3/130","v":0.6076923076923076},{"$f":"环工62分数统计!I14*环工62分数统计!I$3/130","v":1.3384615384615384},{"$f":"环工62分数统计!J14*环工62分数统计!J$3/130","v":3.230769230769231},{"$f":"环工62分数统计!K14*环工62分数统计!K$3/130","v":2.9076923076923076},{"$f":"环工62分数统计!L14*环工62分数统计!L$3/130","v":1.2461538461538462},{"$f":"环工62分数统计!M14*环工62分数统计!M$3/130","v":1.123076923076923},{"$f":"环工62分数统计!N14*环工62分数统计!N$3/130","v":2.470769230769231},{"$f":"环工62分数统计!O14*环工62分数统计!O$3/130","v":0.6153846153846154},{"$f":"环工62分数统计!P14*环工62分数统计!P$3/130","v":1.6923076923076923},{"$f":"环工62分数统计!Q14*环工62分数统计!Q$3/130","v":0.6615384615384615},{"$f":"环工62分数统计!R14*环工62分数统计!R$3/130","v":1.5692307692307692},{"$f":"环工62分数统计!S14*环工62分数统计!S$3/130","v":2.8461538461538463},{"$f":"环工62分数统计!T14*环工62分数统计!T$3/130","v":1.6346153846153846},{"$f":"环工62分数统计!U14*环工62分数统计!U$3/130","v":2.4},{"$f":"环工62分数统计!V14*环工62分数统计!V$3/130","v":1.7538461538461538},{"$f":"环工62分数统计!W14*环工62分数统计!W$3/130","v":2.606153846153846},{"$f":"环工62分数统计!X14*环工62分数统计!X$3/130","v":0.6538461538461539},{"$f":"环工62分数统计!Y14*环工62分数统计!Y$3/130","v":1.323076923076923},{"$f":"环工62分数统计!Z14*环工62分数统计!Z$3/130","v":1.5923076923076922},{"$f":"环工62分数统计!AA14*环工62分数统计!AA$3/130","v":1.7538461538461538},{"$f":"环工62分数统计!AB14*环工62分数统计!AB$3/130","v":1.1692307692307693},{"$f":"环工62分数统计!AC14*环工62分数统计!AC$3/130","v":1.2615384615384615},{"$f":"环工62分数统计!AD14*环工62分数统计!AD$3/130","v":1.2},{"$f":"环工62分数统计!AE14*环工62分数统计!AE$3/130","v":1.303076923076923},{"$f":"环工62分数统计!AF14*环工62分数统计!AF$3/130","v":0.676923076923077},{"$f":"环工62分数统计!AG14*环工62分数统计!AG$3/130","v":1.5},{"$f":"环工62分数统计!AH14*环工62分数统计!AH$3/130","v":1.7076923076923076},{"$f":"环工62分数统计!AI14*环工62分数统计!AI$3/130","v":1.3384615384615384},{"$f":"环工62分数统计!AJ14*环工62分数统计!AJ$3/130","v":0.6307692307692307},{"$f":"环工62分数统计!AK14*环工62分数统计!AK$3/130","v":1.876923076923077},{"$f":"环工62分数统计!AL14*环工62分数统计!AL$3/130","v":1.4},{"$f":"环工62分数统计!AM14*环工62分数统计!AM$3/130","v":0.7730769230769231},{"$f":"环工62分数统计!AN14*环工62分数统计!AN$3/130","v":1.7307692307692308},{"$f":"环工62分数统计!AO14*环工62分数统计!AO$3/130","v":1.7076923076923076},{"$f":"环工62分数统计!AP14*环工62分数统计!AP$3/130","v":1.0038461538461538},{"$f":"环工62分数统计!AQ14*环工62分数统计!AQ$3/130","v":1.8},{"$f":"环工62分数统计!AR14*环工62分数统计!AR$3/130","v":1.353846153846154},{"$f":"环工62分数统计!AS14*环工62分数统计!AS$3/130","v":1.2461538461538462},{"$f":"环工62分数统计!AT14*环工62分数统计!AT$3/130","v":1.303076923076923},{"$f":"环工62分数统计!AU14*环工62分数统计!AU$3/130","v":0.6230769230769231},{"$f":"环工62分数统计!AV14*环工62分数统计!AV$3/130","v":1.2769230769230768},{"$f":"环工62分数统计!AW14*环工62分数统计!AW$3/130","v":0.6307692307692307},{"$f":"环工62分数统计!AX14*环工62分数统计!AX$3/130","v":2.6153846153846154},{"$f":"环工62分数统计!AY14*环工62分数统计!AY$3/130","v":1.2153846153846153},{"$f":"环工62分数统计!AZ14*环工62分数统计!AZ$3/130","v":1.2307692307692308},{"$f":"环工62分数统计!BA14*环工62分数统计!BA$3/130","v":1.476923076923077},{"$f":"环工62分数统计!BB14*环工62分数统计!BB$3/130","v":1.0153846153846153},{"$f":"环工62分数统计!BC14*环工62分数统计!BC$3/130","v":2.0307692307692307},{"$f":"环工62分数统计!BD14*环工62分数统计!BD$3/130","v":1.0384615384615385},{"$f":"环工62分数统计!BE14*环工62分数统计!BE$3/130","v":1.2307692307692308},{"$f":"环工62分数统计!BF14*环工62分数统计!BF$3/130","v":0.7230769230769231},{"$f":"环工62分数统计!BG14*环工62分数统计!BG$3/130","v":0.3423076923076923},{"$f":"环工62分数统计!BH14*环工62分数统计!BH$3/130","v":1.3692307692307693},{"$f":"环工62分数统计!BI14*环工62分数统计!BI$3/130","v":1.75},{"$f":"环工62分数统计!BJ14*环工62分数统计!BJ$3/130","v":2.123076923076923},{"$f":"环工62分数统计!BK14*环工62分数统计!BK$3/130","v":0.6076923076923076},80.30999999999997,56.21699999999998,{"$f":"环工62综测统计!C13","v":{"v":86.4564593648376,"d":"86.4565"}},{"$f":"环工62综测统计!D13","v":{"v":85.3637367521368,"d":"85.3637"}},{"$f":"环工62综测统计!E13","v":{"v":90.59895809018568,"d":"90.5990"}},{"v":262.4191542071601,"d":"262.4192"},{"$f":"BM14/'环工16-1两年综测'!$BG$8*100","v":75.90875247994678},15.181750495989357,71.39875049598933]
[12,"通拉嘎",2016010641,{"$f":"环工62分数统计!H15*环工62分数统计!H$3/130","v":0.6538461538461539},{"$f":"环工62分数统计!I15*环工62分数统计!I$3/130","v":1.4153846153846155},{"$f":"环工62分数统计!J15*环工62分数统计!J$3/130","v":3.830769230769231},{"$f":"环工62分数统计!K15*环工62分数统计!K$3/130","v":2.3192307692307694},{"$f":"环工62分数统计!L15*环工62分数统计!L$3/130","v":1.4},{"$f":"环工62分数统计!M15*环工62分数统计!M$3/130","v":1.1692307692307693},{"$f":"环工62分数统计!N15*环工62分数统计!N$3/130","v":2.8769230769230774},{"$f":"环工62分数统计!O15*环工62分数统计!O$3/130","v":0.6153846153846154},{"$f":"环工62分数统计!P15*环工62分数统计!P$3/130","v":1.4615384615384615},{"$f":"环工62分数统计!Q15*环工62分数统计!Q$3/130","v":0.5923076923076923},{"$f":"环工62分数统计!R15*环工62分数统计!R$3/130","v":1.5692307692307692},{"$f":"环工62分数统计!S15*环工62分数统计!S$3/130","v":2.5},{"$f":"环工62分数统计!T15*环工62分数统计!T$3/130","v":1.6346153846153846},{"$f":"环工62分数统计!U15*环工62分数统计!U$3/130","v":1.9384615384615385},{"$f":"环工62分数统计!V15*环工62分数统计!V$3/130","v":1.3846153846153846},{"$f":"环工62分数统计!W15*环工62分数统计!W$3/130","v":2.9446153846153846},{"$f":"环工62分数统计!X15*环工62分数统计!X$3/130","v":0.5384615384615384},{"$f":"环工62分数统计!Y15*环工62分数统计!Y$3/130","v":1.3846153846153846},{"$f":"环工62分数统计!Z15*环工62分数统计!Z$3/130","v":1.523076923076923},{"$f":"环工62分数统计!AA15*环工62分数统计!AA$3/130","v":1.6153846153846154},{"$f":"环工62分数统计!AB15*环工62分数统计!AB$3/130","v":1.0769230769230769},{"$f":"环工62分数统计!AC15*环工62分数统计!AC$3/130","v":1.2923076923076924},{"$f":"环工62分数统计!AD15*环工62分数统计!AD$3/130","v":1.353846153846154},{"$f":"环工62分数统计!AE15*环工62分数统计!AE$3/130","v":1.590769230769231},{"$f":"环工62分数统计!AF15*环工62分数统计!AF$3/130","v":0.6846153846153846},{"$f":"环工62分数统计!AG15*环工62分数统计!AG$3/130","v":1.4807692307692308},{"$f":"环工62分数统计!AH15*环工62分数统计!AH$3/130","v":1.6615384615384616},{"$f":"环工62分数统计!AI15*环工62分数统计!AI$3/130","v":1.2769230769230768},{"$f":"环工62分数统计!AJ15*环工62分数统计!AJ$3/130","v":0.6461538461538462},{"$f":"环工62分数统计!AK15*环工62分数统计!AK$3/130","v":1.9076923076923078},{"$f":"环工62分数统计!AL15*环工62分数统计!AL$3/130","v":1.2923076923076924},{"$f":"环工62分数统计!AM15*环工62分数统计!AM$3/130","v":0.7269230769230769},{"$f":"环工62分数统计!AN15*环工62分数统计!AN$3/130","v":1.2692307692307692},{"$f":"环工62分数统计!AO15*环工62分数统计!AO$3/130","v":1.4538461538461538},{"$f":"环工62分数统计!AP15*环工62分数统计!AP$3/130","v":1.0153846153846153},{"$f":"环工62分数统计!AQ15*环工62分数统计!AQ$3/130","v":1.7769230769230768},{"$f":"环工62分数统计!AR15*环工62分数统计!AR$3/130","v":1.323076923076923},{"$f":"环工62分数统计!AS15*环工62分数统计!AS$3/130","v":1.3846153846153846},{"$f":"环工62分数统计!AT15*环工62分数统计!AT$3/130","v":1.4215384615384616},{"$f":"环工62分数统计!AU15*环工62分数统计!AU$3/130","v":0.676923076923077},{"$f":"环工62分数统计!AV15*环工62分数统计!AV$3/130","v":1.4},{"$f":"环工62分数统计!AW15*环工62分数统计!AW$3/130","v":0.5923076923076923},{"$f":"环工62分数统计!AX15*环工62分数统计!AX$3/130","v":1.9692307692307693},{"$f":"环工62分数统计!AY15*环工62分数统计!AY$3/130","v":1.2615384615384615},{"$f":"环工62分数统计!AZ15*环工62分数统计!AZ$3/130","v":1.2},{"$f":"环工62分数统计!BA15*环工62分数统计!BA$3/130","v":1.1076923076923078},{"$f":"环工62分数统计!BB15*环工62分数统计!BB$3/130","v":1.0153846153846153},{"$f":"环工62分数统计!BC15*环工62分数统计!BC$3/130","v":1.8923076923076922},{"$f":"环工62分数统计!BD15*环工62分数统计!BD$3/130","v":1.0153846153846153},{"$f":"环工62分数统计!BE15*环工62分数统计!BE$3/130","v":1.1538461538461537},{"$f":"环工62分数统计!BF15*环工62分数统计!BF$3/130","v":0.676923076923077},{"$f":"环工62分数统计!BG15*环工62分数统计!BG$3/130","v":0.3269230769230769},{"$f":"环工62分数统计!BH15*环工62分数统计!BH$3/130","v":1.2615384615384615},{"$f":"环工62分数统计!BI15*环工62分数统计!BI$3/130","v":1.4423076923076923},{"$f":"环工62分数统计!BJ15*环工62分数统计!BJ$3/130","v":1.9846153846153847},{"$f":"环工62分数统计!BK15*环工62分数统计!BK$3/130","v":0.6153846153846154},77.59538461538465,54.316769230769246,{"$f":"环工62综测统计!C14","v":{"v":86.5799731162127,"d":"86.5800"}},{"$f":"环工62综测统计!D14","v":{"v":86.1209205905206,"d":"86.1209"}},{"$f":"环工62综测统计!E14","v":{"v":85.00287800119791,"d":"85.0029"}},{"v":257.7037717079312,"d":"257.7038"},{"$f":"BM15/'环工16-1两年综测'!$BG$8*100","v":74.54475599857838},14.908951199715677,69.22572043048493]
[13,"王存璐",2016010642,{"$f":"环工62分数统计!H16*环工62分数统计!H$3/130","v":0.6230769230769231},{"$f":"环工62分数统计!I16*环工62分数统计!I$3/130","v":1.5076923076923077},{"$f":"环工62分数统计!J16*环工62分数统计!J$3/130","v":3.1846153846153844},{"$f":"环工62分数统计!K16*环工62分数统计!K$3/130","v":2.873076923076923},{"$f":"环工62分数统计!L16*环工62分数统计!L$3/130","v":1.2307692307692308},{"$f":"环工62分数统计!M16*环工62分数统计!M$3/130","v":1.1076923076923078},{"$f":"环工62分数统计!N16*环工62分数统计!N$3/130","v":2.5384615384615383},{"$f":"环工62分数统计!O16*环工62分数统计!O$3/130","v":0.5076923076923077},{"$f":"环工62分数统计!P16*环工62分数统计!P$3/130","v":1.1923076923076923},{"$f":"环工62分数统计!Q16*环工62分数统计!Q$3/130","v":0.5538461538461539},{"$f":"环工62分数统计!R16*环工62分数统计!R$3/130","v":1.476923076923077},{"$f":"环工62分数统计!S16*环工62分数统计!S$3/130","v":3.230769230769231},{"$f":"环工62分数统计!T16*环工62分数统计!T$3/130","v":1.5961538461538463},{"$f":"环工62分数统计!U16*环工62分数统计!U$3/130","v":2.1538461538461537},{"$f":"环工62分数统计!V16*环工62分数统计!V$3/130","v":1.476923076923077},{"$f":"环工62分数统计!W16*环工62分数统计!W$3/130","v":2.910769230769231},{"$f":"环工62分数统计!X16*环工62分数统计!X$3/130","v":0.676923076923077},{"$f":"环工62分数统计!Y16*环工62分数统计!Y$3/130","v":1.353846153846154},{"$f":"环工62分数统计!Z16*环工62分数统计!Z$3/130","v":1.5923076923076922},{"$f":"环工62分数统计!AA16*环工62分数统计!AA$3/130","v":1.5461538461538462},{"$f":"环工62分数统计!AB16*环工62分数统计!AB$3/130","v":1.1538461538461537},{"$f":"环工62分数统计!AC16*环工62分数统计!AC$3/130","v":1.2461538461538462},{"$f":"环工62分数统计!AD16*环工62分数统计!AD$3/130","v":1.3076923076923077},{"$f":"环工62分数统计!AE16*环工62分数统计!AE$3/130","v":1.3876923076923078},{"$f":"环工62分数统计!AF16*环工62分数统计!AF$3/130","v":0.6384615384615384},{"$f":"环工62分数统计!AG16*环工62分数统计!AG$3/130","v":1.5576923076923077},{"$f":"环工62分数统计!AH16*环工62分数统计!AH$3/130","v":1.6153846153846154},{"$f":"环工62分数统计!AI16*环工62分数统计!AI$3/130","v":1.2},{"$f":"环工62分数统计!AJ16*环工62分数统计!AJ$3/130","v":0.6923076923076923},{"$f":"环工62分数统计!AK16*环工62分数统计!AK$3/130","v":1.876923076923077},{"$f":"环工62分数统计!AL16*环工62分数统计!AL$3/130","v":1.4},{"$f":"环工62分数统计!AM16*环工62分数统计!AM$3/130","v":0.7615384615384615},{"$f":"环工62分数统计!AN16*环工62分数统计!AN$3/130","v":1.5461538461538462},{"$f":"环工62分数统计!AO16*环工62分数统计!AO$3/130","v":1.7076923076923076},{"$f":"环工62分数统计!AP16*环工62分数统计!AP$3/130","v":1.0038461538461538},{"$f":"环工62分数统计!AQ16*环工62分数统计!AQ$3/130","v":1.6615384615384616},{"$f":"环工62分数统计!AR16*环工62分数统计!AR$3/130","v":1.3846153846153846},{"$f":"环工62分数统计!AS16*环工62分数统计!AS$3/130","v":1.353846153846154},{"$f":"环工62分数统计!AT16*环工62分数统计!AT$3/130","v":1.2861538461538462},{"$f":"环工62分数统计!AU16*环工62分数统计!AU$3/130","v":0.6692307692307692},{"$f":"环工62分数统计!AV16*环工62分数统计!AV$3/130","v":1.3692307692307693},{"$f":"环工62分数统计!AW16*环工62分数统计!AW$3/130","v":0.6230769230769231},{"$f":"环工62分数统计!AX16*环工62分数统计!AX$3/130","v":2.246153846153846},{"$f":"环工62分数统计!AY16*环工62分数统计!AY$3/130","v":1.3384615384615384},{"$f":"环工62分数统计!AZ16*环工62分数统计!AZ$3/130","v":1.1846153846153846},{"$f":"环工62分数统计!BA16*环工62分数统计!BA$3/130","v":1.2769230769230768},{"$f":"环工62分数统计!BB16*环工62分数统计!BB$3/130","v":1.0038461538461538},{"$f":"环工62分数统计!BC16*环工62分数统计!BC$3/130","v":1.9153846153846155},{"$f":"环工62分数统计!BD16*环工62分数统计!BD$3/130","v":1.0269230769230768},{"$f":"环工62分数统计!BE16*环工62分数统计!BE$3/130","v":1.1692307692307693},{"$f":"环工62分数统计!BF16*环工62分数统计!BF$3/130","v":0.6923076923076923},{"$f":"环工62分数统计!BG16*环工62分数统计!BG$3/130","v":0.35},{"$f":"环工62分数统计!BH16*环工62分数统计!BH$3/130","v":1.3692307692307693},{"$f":"环工62分数统计!BI16*环工62分数统计!BI$3/130","v":1.5},{"$f":"环工62分数统计!BJ16*环工62分数统计!BJ$3/130","v":2.146153846153846},{"$f":"环工62分数统计!BK16*环工62分数统计!BK$3/130","v":0.6538461538461539},78.65,55.055,{"$f":"环工62综测统计!C15","v":{"v":85.3656254814492,"d":"85.3656"}},{"$f":"环工62综测统计!D15","v":{"v":85.8390013986014,"d":"85.8390"}},{"$f":"环工62综测统计!E15","v":{"v":89.19013916476467,"d":"89.1901"}},{"v":260.39476604481524,"d":"260.3948"},{"$f":"BM16/'环工16-1两年综测'!$BG$8*100","v":75.32316725312505},15.06463345062501,70.119633450625]
[14,"张婷婷",2016010643,{"$f":"环工62分数统计!H17*环工62分数统计!H$3/130","v":0.6},{"$f":"环工62分数统计!I17*环工62分数统计!I$3/130","v":1.3076923076923077},{"$f":"环工62分数统计!J17*环工62分数统计!J$3/130","v":2.769230769230769},{"$f":"环工62分数统计!K17*环工62分数统计!K$3/130","v":2.076923076923077},{"$f":"环工62分数统计!L17*环工62分数统计!L$3/130","v":1.323076923076923},{"$f":"环工62分数统计!M17*环工62分数统计!M$3/130","v":1.0923076923076922},{"$f":"环工62分数统计!N17*环工62分数统计!N$3/130","v":2.2338461538461543},{"$f":"环工62分数统计!O17*环工62分数统计!O$3/130","v":0.47692307692307695},{"$f":"环工62分数统计!P17*环工62分数统计!P$3/130","v":1.4423076923076923},{"$f":"环工62分数统计!Q17*环工62分数统计!Q$3/130","v":0.5615384615384615},{"$f":"环工62分数统计!R17*环工62分数统计!R$3/130","v":1.476923076923077},{"$f":"环工62分数统计!S17*环工62分数统计!S$3/130","v":2.5384615384615383},{"$f":"环工62分数统计!T17*环工62分数统计!T$3/130","v":1.5384615384615385},{"$f":"环工62分数统计!U17*环工62分数统计!U$3/130","v":2.1846153846153844},{"$f":"环工62分数统计!V17*环工62分数统计!V$3/130","v":1.5},{"$f":"环工62分数统计!W17*环工62分数统计!W$3/130","v":2.606153846153846},{"$f":"环工62分数统计!X17*环工62分数统计!X$3/130","v":0.6230769230769231},{"$f":"环工62分数统计!Y17*环工62分数统计!Y$3/130","v":1.3076923076923077},{"$f":"环工62分数统计!Z17*环工62分数统计!Z$3/130","v":1.3846153846153846},{"$f":"环工62分数统计!AA17*环工62分数统计!AA$3/130","v":1.5461538461538462},{"$f":"环工62分数统计!AB17*环工62分数统计!AB$3/130","v":1},{"$f":"环工62分数统计!AC17*环工62分数统计!AC$3/130","v":1.2},{"$f":"环工62分数统计!AD17*环工62分数统计!AD$3/130","v":1.1076923076923078},{"$f":"环工62分数统计!AE17*环工62分数统计!AE$3/130","v":1.2861538461538462},{"$f":"环工62分数统计!AF17*环工62分数统计!AF$3/130","v":0.7},{"$f":"环工62分数统计!AG17*环工62分数统计!AG$3/130","v":1.4423076923076923},{"$f":"环工62分数统计!AH17*环工62分数统计!AH$3/130","v":1.5692307692307692},{"$f":"环工62分数统计!AI17*环工62分数统计!AI$3/130","v":1.1538461538461537},{"$f":"环工62分数统计!AJ17*环工62分数统计!AJ$3/130","v":0.6230769230769231},{"$f":"环工62分数统计!AK17*环工62分数统计!AK$3/130","v":1.8461538461538463},{"$f":"环工62分数统计!AL17*环工62分数统计!AL$3/130","v":1.323076923076923},{"$f":"环工62分数统计!AM17*环工62分数统计!AM$3/130","v":0.6923076923076923},{"$f":"环工62分数统计!AN17*环工62分数统计!AN$3/130","v":1.8461538461538463},{"$f":"环工62分数统计!AO17*环工62分数统计!AO$3/130","v":1.523076923076923},{"$f":"环工62分数统计!AP17*环工62分数统计!AP$3/130","v":0.9692307692307692},{"$f":"环工62分数统计!AQ17*环工62分数统计!AQ$3/130","v":1.3846153846153846},{"$f":"环工62分数统计!AR17*环工62分数统计!AR$3/130","v":1.3076923076923077},{"$f":"环工62分数统计!AS17*环工62分数统计!AS$3/130","v":1.3076923076923077},{"$f":"环工62分数统计!AT17*环工62分数统计!AT$3/130","v":1.2523076923076923},{"$f":"环工62分数统计!AU17*环工62分数统计!AU$3/130","v":0.7},{"$f":"环工62分数统计!AV17*环工62分数统计!AV$3/130","v":1.2769230769230768},{"$f":"环工62分数统计!AW17*环工62分数统计!AW$3/130","v":0.5923076923076923},{"$f":"环工62分数统计!AX17*环工62分数统计!AX$3/130","v":2.246153846153846},{"$f":"环工62分数统计!AY17*环工62分数统计!AY$3/130","v":1.2615384615384615},{"$f":"环工62分数统计!AZ17*环工62分数统计!AZ$3/130","v":1.1846153846153846},{"$f":"环工62分数统计!BA17*环工62分数统计!BA$3/130","v":1.2923076923076924},{"$f":"环工62分数统计!BB17*环工62分数统计!BB$3/130","v":0.9807692307692307},{"$f":"环工62分数统计!BC17*环工62分数统计!BC$3/130","v":1.7538461538461538},{"$f":"环工62分数统计!BD17*环工62分数统计!BD$3/130","v":0.9692307692307692},{"$f":"环工62分数统计!BE17*环工62分数统计!BE$3/130","v":1.0307692307692307},{"$f":"环工62分数统计!BF17*环工62分数统计!BF$3/130","v":0.6923076923076923},{"$f":"环工62分数统计!BG17*环工62分数统计!BG$3/130","v":0.3153846153846154},{"$f":"环工62分数统计!BH17*环工62分数统计!BH$3/130","v":1.2307692307692308},{"$f":"环工62分数统计!BI17*环工62分数统计!BI$3/130","v":1.4038461538461537},{"$f":"环工62分数统计!BJ17*环工62分数统计!BJ$3/130","v":1.823076923076923},{"$f":"环工62分数统计!BK17*环工62分数统计!BK$3/130","v":0.5538461538461539},73.43230769230772,51.4026153846154,{"$f":"环工62综测统计!C16","v":{"v":79.2901238312842,"d":"79.2901"}},{"$f":"环工62综测统计!D16","v":{"v":81.5075986139986,"d":"81.5076"}},{"$f":"环工62综测统计!E16","v":{"v":83.78346843501326,"d":"83.7835"}},{"v":244.58119088029605,"d":"244.5812"},{"$f":"BM17/'环工16-1两年综测'!$BG$8*100","v":70.74884886309279},14.149769772618559,65.55238515723396]
[15,"曹刘俊",2016010644,{"$f":"环工62分数统计!H18*环工62分数统计!H$3/130","v":0.5923076923076923},{"$f":"环工62分数统计!I18*环工62分数统计!I$3/130","v":1.3692307692307693},{"$f":"环工62分数统计!J18*环工62分数统计!J$3/130","v":4.153846153846154},{"$f":"环工62分数统计!K18*环工62分数统计!K$3/130","v":2.5961538461538463},{"$f":"环工62分数统计!L18*环工62分数统计!L$3/130","v":1.2923076923076924},{"$f":"环工62分数统计!M18*环工62分数统计!M$3/130","v":1.1538461538461537},{"$f":"环工62分数统计!N18*环工62分数统计!N$3/130","v":2.276923076923077},{"$f":"环工62分数统计!O18*环工62分数统计!O$3/130","v":0.49230769230769234},{"$f":"环工62分数统计!P18*环工62分数统计!P$3/130","v":1.5769230769230769},{"$f":"环工62分数统计!Q18*环工62分数统计!Q$3/130","v":0.7384615384615385},{"$f":"环工62分数统计!R18*环工62分数统计!R$3/130","v":1.7076923076923076},{"$f":"环工62分数统计!S18*环工62分数统计!S$3/130","v":3.1923076923076925},{"$f":"环工62分数统计!T18*环工62分数统计!T$3/130","v":1.5},{"$f":"环工62分数统计!U18*环工62分数统计!U$3/130","v":2.3384615384615386},{"$f":"环工62分数统计!V18*环工62分数统计!V$3/130","v":1.9384615384615385},{"$f":"环工62分数统计!W18*环工62分数统计!W$3/130","v":2.3076923076923075},{"$f":"环工62分数统计!X18*环工62分数统计!X$3/130","v":0.6076923076923076},{"$f":"环工62分数统计!Y18*环工62分数统计!Y$3/130","v":1.3692307692307693},{"$f":"环工62分数统计!Z18*环工62分数统计!Z$3/130","v":1.8461538461538463},{"$f":"环工62分数统计!AA18*环工62分数统计!AA$3/130","v":1.9615384615384615},{"$f":"环工62分数统计!AB18*环工62分数统计!AB$3/130","v":1.123076923076923},{"$f":"环工62分数统计!AC18*环工62分数统计!AC$3/130","v":1.2153846153846153},{"$f":"环工62分数统计!AD18*环工62分数统计!AD$3/130","v":1.123076923076923},{"$f":"环工62分数统计!AE18*环工62分数统计!AE$3/130","v":1.2307692307692308},{"$f":"环工62分数统计!AF18*环工62分数统计!AF$3/130","v":0.6538461538461539},{"$f":"环工62分数统计!AG18*环工62分数统计!AG$3/130","v":1.5192307692307692},{"$f":"环工62分数统计!AH18*环工62分数统计!AH$3/130","v":2.146153846153846},{"$f":"环工62分数统计!AI18*环工62分数统计!AI$3/130","v":1.2769230769230768},{"$f":"环工62分数统计!AJ18*环工62分数统计!AJ$3/130","v":0.6461538461538462},{"$f":"环工62分数统计!AK18*环工62分数统计!AK$3/130","v":2.1846153846153844},{"$f":"环工62分数统计!AL18*环工62分数统计!AL$3/130","v":1.1538461538461537},{"$f":"环工62分数统计!AM18*环工62分数统计!AM$3/130","v":0.7384615384615385},{"$f":"环工62分数统计!AN18*环工62分数统计!AN$3/130","v":2.076923076923077},{"$f":"环工62分数统计!AO18*环工62分数统计!AO$3/130","v":1.9153846153846155},{"$f":"环工62分数统计!AP18*环工62分数统计!AP$3/130","v":0.9576923076923077},{"$f":"环工62分数统计!AQ18*环工62分数统计!AQ$3/130","v":1.9615384615384615},{"$f":"环工62分数统计!AR18*环工62分数统计!AR$3/130","v":1.323076923076923},{"$f":"环工62分数统计!AS18*环工62分数统计!AS$3/130","v":1.3846153846153846},{"$f":"环工62分数统计!AT18*环工62分数统计!AT$3/130","v":1.2307692307692308},{"$f":"环工62分数统计!AU18*环工62分数统计!AU$3/130","v":0.6},{"$f":"环工62分数统计!AV18*环工62分数统计!AV$3/130","v":1.2615384615384615},{"$f":"环工62分数统计!AW18*环工62分数统计!AW$3/130","v":0.5153846153846153},{"$f":"环工62分数统计!AX18*环工62分数统计!AX$3/130","v":2.3692307692307693},{"$f":"环工62分数统计!AY18*环工62分数统计!AY$3/130","v":1},{"$f":"环工62分数统计!AZ18*环工62分数统计!AZ$3/130","v":1.2},{"$f":"环工62分数统计!BA18*环工62分数统计!BA$3/130","v":1.4307692307692308},{"$f":"环工62分数统计!BB18*环工62分数统计!BB$3/130","v":0.9346153846153846},{"$f":"环工62分数统计!BC18*环工62分数统计!BC$3/130","v":2.0307692307692307},{"$f":"环工62分数统计!BD18*环工62分数统计!BD$3/130","v":0.9461538461538461},{"$f":"环工62分数统计!BE18*环工62分数统计!BE$3/130","v":1.2461538461538462},{"$f":"环工62分数统计!BF18*环工62分数统计!BF$3/130","v":0.6538461538461539},{"$f":"环工62分数统计!BG18*环工62分数统计!BG$3/130","v":0.31153846153846154},{"$f":"环工62分数统计!BH18*环工62分数统计!BH$3/130","v":1.4153846153846155},{"$f":"环工62分数统计!BI18*环工62分数统计!BI$3/130","v":1.5384615384615385},{"$f":"环工62分数统计!BJ18*环工62分数统计!BJ$3/130","v":1.9846153846153847},{"$f":"环工62分数统计!BK18*环工62分数统计!BK$3/130","v":0.5230769230769231},80.83461538461538,56.58423076923076,{"$f":"环工62综测统计!C17","v":{"v":86.8865187707782,"d":"86.8865"}},{"$f":"环工62综测统计!D17","v":{"v":86.571857964258,"d":"86.5719"}},{"$f":"环工62综测统计!E17","v":{"v":84.53665426912325,"d":"84.5367"}},{"v":257.99503100415944,"d":"257.9950"},{"$f":"BM18/'环工16-1两年综测'!$BG$8*100","v":74.62900720307476},14.925801440614954,71.51003220984572]
[16,"程昊",2016010645,{"$f":"环工62分数统计!H19*环工62分数统计!H$3/130","v":0.46153846153846156},{"$f":"环工62分数统计!I19*环工62分数统计!I$3/130","v":1.1692307692307693},{"$f":"环工62分数统计!J19*环工62分数统计!J$3/130","v":3.5076923076923077},{"$f":"环工62分数统计!K19*环工62分数统计!K$3/130","v":2.2846153846153845},{"$f":"环工62分数统计!L19*环工62分数统计!L$3/130","v":1.0461538461538462},{"$f":"环工62分数统计!M19*环工62分数统计!M$3/130","v":1.0307692307692307},{"$f":"环工62分数统计!N19*环工62分数统计!N$3/130","v":2.0984615384615384},{"$f":"环工62分数统计!O19*环工62分数统计!O$3/130","v":0.47692307692307695},{"$f":"环工62分数统计!P19*环工62分数统计!P$3/130","v":1.4230769230769231},{"$f":"环工62分数统计!Q19*环工62分数统计!Q$3/130","v":0.7230769230769231},{"$f":"环工62分数统计!R19*环工62分数统计!R$3/130","v":1.7076923076923076},{"$f":"环工62分数统计!S19*环工62分数统计!S$3/130","v":3.1153846153846154},{"$f":"环工62分数统计!T19*环工62分数统计!T$3/130","v":1.4423076923076923},{"$f":"环工62分数统计!U19*环工62分数统计!U$3/130","v":2.1846153846153844},{"$f":"环工62分数统计!V19*环工62分数统计!V$3/130","v":2.1},{"$f":"环工62分数统计!W19*环工62分数统计!W$3/130","v":2.1661538461538465},{"$f":"环工62分数统计!X19*环工62分数统计!X$3/130","v":0.6},{"$f":"环工62分数统计!Y19*环工62分数统计!Y$3/130","v":1.2923076923076924},{"$f":"环工62分数统计!Z19*环工62分数统计!Z$3/130","v":1.5},{"$f":"环工62分数统计!AA19*环工62分数统计!AA$3/130","v":1.8},{"$f":"环工62分数统计!AB19*环工62分数统计!AB$3/130","v":1.2769230769230768},{"$f":"环工62分数统计!AC19*环工62分数统计!AC$3/130","v":1.0923076923076922},{"$f":"环工62分数统计!AD19*环工62分数统计!AD$3/130","v":1.0153846153846153},{"$f":"环工62分数统计!AE19*环工62分数统计!AE$3/130","v":1.4553846153846155},{"$f":"环工62分数统计!AF19*环工62分数统计!AF$3/130","v":0.6615384615384615},{"$f":"环工62分数统计!AG19*环工62分数统计!AG$3/130","v":1.4230769230769231},{"$f":"环工62分数统计!AH19*环工62分数统计!AH$3/130","v":2.0538461538461537},{"$f":"环工62分数统计!AI19*环工62分数统计!AI$3/130","v":1.2307692307692308},{"$f":"环工62分数统计!AJ19*环工62分数统计!AJ$3/130","v":0.6153846153846154},{"$f":"环工62分数统计!AK19*环工62分数统计!AK$3/130","v":1.9076923076923078},{"$f":"环工62分数统计!AL19*环工62分数统计!AL$3/130","v":1.3076923076923077},{"$f":"环工62分数统计!AM19*环工62分数统计!AM$3/130","v":0.7615384615384615},{"$f":"环工62分数统计!AN19*环工62分数统计!AN$3/130","v":1.8461538461538463},{"$f":"环工62分数统计!AO19*环工62分数统计!AO$3/130","v":1.9153846153846155},{"$f":"环工62分数统计!AP19*环工62分数统计!AP$3/130","v":0.9923076923076923},{"$f":"环工62分数统计!AQ19*环工62分数统计!AQ$3/130","v":1.8},{"$f":"环工62分数统计!AR19*环工62分数统计!AR$3/130","v":1.2923076923076924},{"$f":"环工62分数统计!AS19*环工62分数统计!AS$3/130","v":1.323076923076923},{"$f":"环工62分数统计!AT19*环工62分数统计!AT$3/130","v":1.2523076923076923},{"$f":"环工62分数统计!AU19*环工62分数统计!AU$3/130","v":0.5846153846153846},{"$f":"环工62分数统计!AV19*环工62分数统计!AV$3/130","v":1.2923076923076924},{"$f":"环工62分数统计!AW19*环工62分数统计!AW$3/130","v":0.5846153846153846},{"$f":"环工62分数统计!AX19*环工62分数统计!AX$3/130","v":2.276923076923077},{"$f":"环工62分数统计!AY19*环工62分数统计!AY$3/130","v":1.0923076923076922},{"$f":"环工62分数统计!AZ19*环工62分数统计!AZ$3/130","v":1.1538461538461537},{"$f":"环工62分数统计!BA19*环工62分数统计!BA$3/130","v":1.2615384615384615},{"$f":"环工62分数统计!BB19*环工62分数统计!BB$3/130","v":0.9230769230769231},{"$f":"环工62分数统计!BC19*环工62分数统计!BC$3/130","v":1.823076923076923},{"$f":"环工62分数统计!BD19*环工62分数统计!BD$3/130","v":0.9},{"$f":"环工62分数统计!BE19*环工62分数统计!BE$3/130","v":0.9230769230769231},{"$f":"环工62分数统计!BF19*环工62分数统计!BF$3/130","v":0.6538461538461539},{"$f":"环工62分数统计!BG19*环工62分数统计!BG$3/130","v":0.3346153846153846},{"$f":"环工62分数统计!BH19*环工62分数统计!BH$3/130","v":1.353846153846154},{"$f":"环工62分数统计!BI19*环工62分数统计!BI$3/130","v":1.4230769230769231},{"$f":"环工62分数统计!BJ19*环工62分数统计!BJ$3/130","v":1.9153846153846155},{"$f":"环工62分数统计!BK19*环工62分数统计!BK$3/130","v":0.5461538461538461},76.39538461538461,53.47676923076923,{"$f":"环工62综测统计!C18","v":{"v":79.5104197608772,"d":"79.5104"}},{"$f":"环工62综测统计!D18","v":{"v":83.4583710955711,"d":"83.4584"}},{"$f":"环工62综测统计!E18","v":{"v":82.3031202636444,"d":"82.3031"}},{"v":245.27191112009268,"d":"245.2719"},{"$f":"BM19/'环工16-1两年综测'!$BG$8*100","v":70.94865025287328},14.189730050574656,67.66649928134389]
[17,"耿錾卜",2016010646,{"$f":"环工62分数统计!H20*环工62分数统计!H$3/130","v":0.5615384615384615},{"$f":"环工62分数统计!I20*环工62分数统计!I$3/130","v":1.4153846153846155},{"$f":"环工62分数统计!J20*环工62分数统计!J$3/130","v":3.923076923076923},{"$f":"环工62分数统计!K20*环工62分数统计!K$3/130","v":2.8384615384615386},{"$f":"环工62分数统计!L20*环工62分数统计!L$3/130","v":1.2153846153846153},{"$f":"环工62分数统计!M20*环工62分数统计!M$3/130","v":1.0923076923076922},{"$f":"环工62分数统计!N20*环工62分数统计!N$3/130","v":2.436923076923077},{"$f":"环工62分数统计!O20*环工62分数统计!O$3/130","v":0.4846153846153846},{"$f":"环工62分数统计!P20*环工62分数统计!P$3/130","v":1.5576923076923077},{"$f":"环工62分数统计!Q20*环工62分数统计!Q$3/130","v":0.7538461538461538},{"$f":"环工62分数统计!R20*环工62分数统计!R$3/130","v":1.5923076923076922},{"$f":"环工62分数统计!S20*环工62分数统计!S$3/130","v":3.4615384615384617},{"$f":"环工62分数统计!T20*环工62分数统计!T$3/130","v":1.5},{"$f":"环工62分数统计!U20*环工62分数统计!U$3/130","v":2.6153846153846154},{"$f":"环工62分数统计!V20*环工62分数统计!V$3/130","v":1.8692307692307693},{"$f":"环工62分数统计!W20*环工62分数统计!W$3/130","v":2.5723076923076924},{"$f":"环工62分数统计!X20*环工62分数统计!X$3/130","v":0.5538461538461539},{"$f":"环工62分数统计!Y20*环工62分数统计!Y$3/130","v":1.4},{"$f":"环工62分数统计!Z20*环工62分数统计!Z$3/130","v":1.5},{"$f":"环工62分数统计!AA20*环工62分数统计!AA$3/130","v":1.8461538461538463},{"$f":"环工62分数统计!AB20*环工62分数统计!AB$3/130","v":1.1384615384615384},{"$f":"环工62分数统计!AC20*环工62分数统计!AC$3/130","v":1.1076923076923078},{"$f":"环工62分数统计!AD20*环工62分数统计!AD$3/130","v":1.2153846153846153},{"$f":"环工62分数统计!AE20*环工62分数统计!AE$3/130","v":1.2184615384615385},{"$f":"环工62分数统计!AF20*环工62分数统计!AF$3/130","v":0.6615384615384615},{"$f":"环工62分数统计!AG20*环工62分数统计!AG$3/130","v":1.5961538461538463},{"$f":"环工62分数统计!AH20*环工62分数统计!AH$3/130","v":2.076923076923077},{"$f":"环工62分数统计!AI20*环工62分数统计!AI$3/130","v":1.2},{"$f":"环工62分数统计!AJ20*环工62分数统计!AJ$3/130","v":0.6307692307692307},{"$f":"环工62分数统计!AK20*环工62分数统计!AK$3/130","v":2.4},{"$f":"环工62分数统计!AL20*环工62分数统计!AL$3/130","v":1.2461538461538462},{"$f":"环工62分数统计!AM20*环工62分数统计!AM$3/130","v":0.8538461538461538},{"$f":"环工62分数统计!AN20*环工62分数统计!AN$3/130","v":1.6153846153846154},{"$f":"环工62分数统计!AO20*环工62分数统计!AO$3/130","v":1.8},{"$f":"环工62分数统计!AP20*环工62分数统计!AP$3/130","v":0.9807692307692307},{"$f":"环工62分数统计!AQ20*环工62分数统计!AQ$3/130","v":1.9153846153846155},{"$f":"环工62分数统计!AR20*环工62分数统计!AR$3/130","v":1.2923076923076924},{"$f":"环工62分数统计!AS20*环工62分数统计!AS$3/130","v":1.4153846153846155},{"$f":"环工62分数统计!AT20*环工62分数统计!AT$3/130","v":1.150769230769231},{"$f":"环工62分数统计!AU20*环工62分数统计!AU$3/130","v":0.5846153846153846},{"$f":"环工62分数统计!AV20*环工62分数统计!AV$3/130","v":1.2615384615384615},{"$f":"环工62分数统计!AW20*环工62分数统计!AW$3/130","v":0.5846153846153846},{"$f":"环工62分数统计!AX20*环工62分数统计!AX$3/130","v":2.646153846153846},{"$f":"环工62分数统计!AY20*环工62分数统计!AY$3/130","v":1.0461538461538462},{"$f":"环工62分数统计!AZ20*环工62分数统计!AZ$3/130","v":1.2307692307692308},{"$f":"环工62分数统计!BA20*环工62分数统计!BA$3/130","v":1.3384615384615384},{"$f":"环工62分数统计!BB20*环工62分数统计!BB$3/130","v":0.9807692307692307},{"$f":"环工62分数统计!BC20*环工62分数统计!BC$3/130","v":1.9846153846153847},{"$f":"环工62分数统计!BD20*环工62分数统计!BD$3/130","v":1.0269230769230768},{"$f":"环工62分数统计!BE20*环工62分数统计!BE$3/130","v":1},{"$f":"环工62分数统计!BF20*环工62分数统计!BF$3/130","v":0.6923076923076923},{"$f":"环工62分数统计!BG20*环工62分数统计!BG$3/130","v":0.3346153846153846},{"$f":"环工62分数统计!BH20*环工62分数统计!BH$3/130","v":1.3846153846153846},{"$f":"环工62分数统计!BI20*环工62分数统计!BI$3/130","v":1.4038461538461537},{"$f":"环工62分数统计!BJ20*环工62分数统计!BJ$3/130","v":1.823076923076923},{"$f":"环工62分数统计!BK20*环工62分数统计!BK$3/130","v":0.5615384615384615},80.59000000000003,56.41300000000002,{"$f":"环工62综测统计!C19","v":{"v":88.0031326321643,"d":"88.0031"}},{"$f":"环工62综测统计!D19","v":{"v":85.1985529137529,"d":"85.1986"}},{"$f":"环工62综测统计!E19","v":{"v":85.20407533156497,"d":"85.2041"}},{"v":258.4057608774822,"d":"258.4058"},{"$f":"BM20/'环工16-1两年综测'!$BG$8*100","v":74.74781709858095},14.949563419716192,71.36256341971621]
[18,"郭全弟",2016010647,{"$f":"环工62分数统计!H21*环工62分数统计!H$3/130","v":0.6307692307692307},{"$f":"环工62分数统计!I21*环工62分数统计!I$3/130","v":1.4153846153846155},{"$f":"环工62分数统计!J21*环工62分数统计!J$3/130","v":3.876923076923077},{"$f":"环工62分数统计!K21*环工62分数统计!K$3/130","v":3.0115384615384615},{"$f":"环工62分数统计!L21*环工62分数统计!L$3/130","v":1.2615384615384615},{"$f":"环工62分数统计!M21*环工62分数统计!M$3/130","v":1.123076923076923},{"$f":"环工62分数统计!N21*环工62分数统计!N$3/130","v":2.707692307692308},{"$f":"环工62分数统计!O21*环工62分数统计!O$3/130","v":0.47692307692307695},{"$f":"环工62分数统计!P21*环工62分数统计!P$3/130","v":1.5},{"$f":"环工62分数统计!Q21*环工62分数统计!Q$3/130","v":0.7153846153846154},{"$f":"环工62分数统计!R21*环工62分数统计!R$3/130","v":1.7307692307692308},{"$f":"环工62分数统计!S21*环工62分数统计!S$3/130","v":3.1923076923076925},{"$f":"环工62分数统计!T21*环工62分数统计!T$3/130","v":1.5},{"$f":"环工62分数统计!U21*环工62分数统计!U$3/130","v":2.4615384615384617},{"$f":"环工62分数统计!V21*环工62分数统计!V$3/130","v":1.9615384615384615},{"$f":"环工62分数统计!W21*环工62分数统计!W$3/130","v":2.8430769230769233},{"$f":"环工62分数统计!X21*环工62分数统计!X$3/130","v":0.5846153846153846},{"$f":"环工62分数统计!Y21*环工62分数统计!Y$3/130","v":1.4307692307692308},{"$f":"环工62分数统计!Z21*环工62分数统计!Z$3/130","v":1.7769230769230768},{"$f":"环工62分数统计!AA21*环工62分数统计!AA$3/130","v":2.076923076923077},{"$f":"环工62分数统计!AB21*环工62分数统计!AB$3/130","v":1.2307692307692308},{"$f":"环工62分数统计!AC21*环工62分数统计!AC$3/130","v":1.3076923076923077},{"$f":"环工62分数统计!AD21*环工62分数统计!AD$3/130","v":1.0923076923076922},{"$f":"环工62分数统计!AE21*环工62分数统计!AE$3/130","v":1.370769230769231},{"$f":"环工62分数统计!AF21*环工62分数统计!AF$3/130","v":0.6230769230769231},{"$f":"环工62分数统计!AG21*环工62分数统计!AG$3/130","v":1.3269230769230769},{"$f":"环工62分数统计!AH21*环工62分数统计!AH$3/130","v":1.9846153846153847},{"$f":"环工62分数统计!AI21*环工62分数统计!AI$3/130","v":1.323076923076923},{"$f":"环工62分数统计!AJ21*环工62分数统计!AJ$3/130","v":0.6692307692307692},{"$f":"环工62分数统计!AK21*环工62分数统计!AK$3/130","v":2.0923076923076924},{"$f":"环工62分数统计!AL21*环工62分数统计!AL$3/130","v":1.4},{"$f":"环工62分数统计!AM21*环工62分数统计!AM$3/130","v":0.8307692307692308},{"$f":"环工62分数统计!AN21*环工62分数统计!AN$3/130","v":1.5692307692307692},{"$f":"环工62分数统计!AO21*环工62分数统计!AO$3/130","v":1.9384615384615385},{"$f":"环工62分数统计!AP21*环工62分数统计!AP$3/130","v":1.0269230769230768},{"$f":"环工62分数统计!AQ21*环工62分数统计!AQ$3/130","v":1.9384615384615385},{"$f":"环工62分数统计!AR21*环工62分数统计!AR$3/130","v":1.3846153846153846},{"$f":"环工62分数统计!AS21*环工62分数统计!AS$3/130","v":1.4153846153846155},{"$f":"环工62分数统计!AT21*环工62分数统计!AT$3/130","v":1.4046153846153848},{"$f":"环工62分数统计!AU21*环工62分数统计!AU$3/130","v":0.5846153846153846},{"$f":"环工62分数统计!AV21*环工62分数统计!AV$3/130","v":1.2923076923076924},{"$f":"环工62分数统计!AW21*环工62分数统计!AW$3/130","v":0.6461538461538462},{"$f":"环工62分数统计!AX21*环工62分数统计!AX$3/130","v":2.4615384615384617},{"$f":"环工62分数统计!AY21*环工62分数统计!AY$3/130","v":1.2153846153846153},{"$f":"环工62分数统计!AZ21*环工62分数统计!AZ$3/130","v":1.353846153846154},{"$f":"环工62分数统计!BA21*环工62分数统计!BA$3/130","v":1.4153846153846155},{"$f":"环工62分数统计!BB21*环工62分数统计!BB$3/130","v":0.9923076923076923},{"$f":"环工62分数统计!BC21*环工62分数统计!BC$3/130","v":1.8692307692307693},{"$f":"环工62分数统计!BD21*环工62分数统计!BD$3/130","v":0.9576923076923077},{"$f":"环工62分数统计!BE21*环工62分数统计!BE$3/130","v":1.2923076923076924},{"$f":"环工62分数统计!BF21*环工62分数统计!BF$3/130","v":0.7},{"$f":"环工62分数统计!BG21*环工62分数统计!BG$3/130","v":0.3346153846153846},{"$f":"环工62分数统计!BH21*环工62分数统计!BH$3/130","v":1.353846153846154},{"$f":"环工62分数统计!BI21*环工62分数统计!BI$3/130","v":1.5384615384615385},{"$f":"环工62分数统计!BJ21*环工62分数统计!BJ$3/130","v":2.1},{"$f":"环工62分数统计!BK21*环工62分数统计!BK$3/130","v":0.5692307692307692},82.88384615384616,58.01869230769231,{"$f":"环工62综测统计!C20","v":{"v":88.1014736662677,"d":"88.1015"}},{"$f":"环工62综测统计!D20","v":{"v":85.5605529137529,"d":"85.5606"}},{"$f":"环工62综测统计!E20","v":{"v":87.65693050397878,"d":"87.6569"}},{"v":261.3189570839994,"d":"261.3190"},{"$f":"BM21/'环工16-1两年综测'!$BG$8*100","v":75.59050364116261},15.118100728232523,73.13679303592484]
[19,"李正映",2016010648,{"$f":"环工62分数统计!H22*环工62分数统计!H$3/130","v":0.6307692307692307},{"$f":"环工62分数统计!I22*环工62分数统计!I$3/130","v":1.5076923076923077},{"$f":"环工62分数统计!J22*环工62分数统计!J$3/130","v":3.276923076923077},{"$f":"环工62分数统计!K22*环工62分数统计!K$3/130","v":2.976923076923077},{"$f":"环工62分数统计!L22*环工62分数统计!L$3/130","v":1.4},{"$f":"环工62分数统计!M22*环工62分数统计!M$3/130","v":1.2153846153846153},{"$f":"环工62分数统计!N22*环工62分数统计!N$3/130","v":2.9446153846153846},{"$f":"环工62分数统计!O22*环工62分数统计!O$3/130","v":0.6307692307692307},{"$f":"环工62分数统计!P22*环工62分数统计!P$3/130","v":1.3653846153846154},{"$f":"环工62分数统计!Q22*环工62分数统计!Q$3/130","v":0.5692307692307692},{"$f":"环工62分数统计!R22*环工62分数统计!R$3/130","v":1.523076923076923},{"$f":"环工62分数统计!S22*环工62分数统计!S$3/130","v":3.269230769230769},{"$f":"环工62分数统计!T22*环工62分数统计!T$3/130","v":1.6538461538461537},{"$f":"环工62分数统计!U22*环工62分数统计!U$3/130","v":2.4923076923076923},{"$f":"环工62分数统计!V22*环工62分数统计!V$3/130","v":1.9846153846153847},{"$f":"环工62分数统计!W22*环工62分数统计!W$3/130","v":2.7753846153846156},{"$f":"环工62分数统计!X22*环工62分数统计!X$3/130","v":0.6076923076923076},{"$f":"环工62分数统计!Y22*环工62分数统计!Y$3/130","v":1.3846153846153846},{"$f":"环工62分数统计!Z22*环工62分数统计!Z$3/130","v":2.0076923076923077},{"$f":"环工62分数统计!AA22*环工62分数统计!AA$3/130","v":1.8461538461538463},{"$f":"环工62分数统计!AB22*环工62分数统计!AB$3/130","v":1.1384615384615384},{"$f":"环工62分数统计!AC22*环工62分数统计!AC$3/130","v":1.2461538461538462},{"$f":"环工62分数统计!AD22*环工62分数统计!AD$3/130","v":1.2769230769230768},{"$f":"环工62分数统计!AE22*环工62分数统计!AE$3/130","v":1.5061538461538462},{"$f":"环工62分数统计!AF22*环工62分数统计!AF$3/130","v":0.7230769230769231},{"$f":"环工62分数统计!AG22*环工62分数统计!AG$3/130","v":1.5769230769230769},{"$f":"环工62分数统计!AH22*环工62分数统计!AH$3/130","v":1.7307692307692308},{"$f":"环工62分数统计!AI22*环工62分数统计!AI$3/130","v":1.323076923076923},{"$f":"环工62分数统计!AJ22*环工62分数统计!AJ$3/130","v":0.6846153846153846},{"$f":"环工62分数统计!AK22*环工62分数统计!AK$3/130","v":2.123076923076923},{"$f":"环工62分数统计!AL22*环工62分数统计!AL$3/130","v":1.353846153846154},{"$f":"环工62分数统计!AM22*环工62分数统计!AM$3/130","v":0.8769230769230769},{"$f":"环工62分数统计!AN22*环工62分数统计!AN$3/130","v":1.8461538461538463},{"$f":"环工62分数统计!AO22*环工62分数统计!AO$3/130","v":1.6846153846153846},{"$f":"环工62分数统计!AP22*环工62分数统计!AP$3/130","v":1.0153846153846153},{"$f":"环工62分数统计!AQ22*环工62分数统计!AQ$3/130","v":2.1},{"$f":"环工62分数统计!AR22*环工62分数统计!AR$3/130","v":1.3846153846153846},{"$f":"环工62分数统计!AS22*环工62分数统计!AS$3/130","v":1.4923076923076923},{"$f":"环工62分数统计!AT22*环工62分数统计!AT$3/130","v":1.4046153846153848},{"$f":"环工62分数统计!AU22*环工62分数统计!AU$3/130","v":0.7307692307692307},{"$f":"环工62分数统计!AV22*环工62分数统计!AV$3/130","v":1.323076923076923},{"$f":"环工62分数统计!AW22*环工62分数统计!AW$3/130","v":0.5846153846153846},{"$f":"环工62分数统计!AX22*环工62分数统计!AX$3/130","v":2.3692307692307693},{"$f":"环工62分数统计!AY22*环工62分数统计!AY$3/130","v":1.2769230769230768},{"$f":"环工62分数统计!AZ22*环工62分数统计!AZ$3/130","v":1.4307692307692308},{"$f":"环工62分数统计!BA22*环工62分数统计!BA$3/130","v":1.2769230769230768},{"$f":"环工62分数统计!BB22*环工62分数统计!BB$3/130","v":0.9807692307692307},{"$f":"环工62分数统计!BC22*环工62分数统计!BC$3/130","v":1.9153846153846155},{"$f":"环工62分数统计!BD22*环工62分数统计!BD$3/130","v":1.0269230769230768},{"$f":"环工62分数统计!BE22*环工62分数统计!BE$3/130","v":1.2307692307692308},{"$f":"环工62分数统计!BF22*环工62分数统计!BF$3/130","v":0.6307692307692307},{"$f":"环工62分数统计!BG22*环工62分数统计!BG$3/130","v":0.34615384615384615},{"$f":"环工62分数统计!BH22*环工62分数统计!BH$3/130","v":1.353846153846154},{"$f":"环工62分数统计!BI22*环工62分数统计!BI$3/130","v":1.6923076923076923},{"$f":"环工62分数统计!BJ22*环工62分数统计!BJ$3/130","v":2.0538461538461537},{"$f":"环工62分数统计!BK22*环工62分数统计!BK$3/130","v":0.6230769230769231},83.39615384615387,58.3773076923077,{"$f":"环工62综测统计!C21","v":{"v":89.3765341723183,"d":"89.3765"}},{"$f":"环工62综测统计!D21","v":{"v":90.0273448329448,"d":"90.0273"}},{"$f":"环工62综测统计!E21","v":{"v":93.45552331395677,"d":"93.4555"}},{"v":272.85940231921984,"d":"272.8594"},{"$f":"BM22/'环工16-1两年综测'!$BG$8*100","v":78.92875386727674},15.785750773455348,74.16305846576304]
[20,"马学成",2016010649,{"$f":"环工62分数统计!H23*环工62分数统计!H$3/130","v":0.5846153846153846},{"$f":"环工62分数统计!I23*环工62分数统计!I$3/130","v":1.353846153846154},{"$f":"环工62分数统计!J23*环工62分数统计!J$3/130","v":2.769230769230769},{"$f":"环工62分数统计!K23*环工62分数统计!K$3/130","v":2.2153846153846155},{"$f":"环工62分数统计!L23*环工62分数统计!L$3/130","v":1.0923076923076922},{"$f":"环工62分数统计!M23*环工62分数统计!M$3/130","v":1.0153846153846153},{"$f":"环工62分数统计!N23*环工62分数统计!N$3/130","v":2.0615384615384613},{"$f":"环工62分数统计!O23*环工62分数统计!O$3/130","v":0.5461538461538461},{"$f":"环工62分数统计!P23*环工62分数统计!P$3/130","v":1.1538461538461537},{"$f":"环工62分数统计!Q23*环工62分数统计!Q$3/130","v":0.5923076923076923},{"$f":"环工62分数统计!R23*环工62分数统计!R$3/130","v":1.3846153846153846},{"$f":"环工62分数统计!S23*环工62分数统计!S$3/130","v":2.3076923076923075},{"$f":"环工62分数统计!T23*环工62分数统计!T$3/130","v":1.4615384615384615},{"$f":"环工62分数统计!U23*环工62分数统计!U$3/130","v":1.8461538461538463},{"$f":"环工62分数统计!V23*环工62分数统计!V$3/130","v":1.4538461538461538},{"$f":"环工62分数统计!W23*环工62分数统计!W$3/130","v":1.9076923076923078},{"$f":"环工62分数统计!X23*环工62分数统计!X$3/130","v":0.5692307692307692},{"$f":"环工62分数统计!Y23*环工62分数统计!Y$3/130","v":1.353846153846154},{"$f":"环工62分数统计!Z23*环工62分数统计!Z$3/130","v":1.3846153846153846},{"$f":"环工62分数统计!AA23*环工62分数统计!AA$3/130","v":1.3846153846153846},{"$f":"环工62分数统计!AB23*环工62分数统计!AB$3/130","v":1.0615384615384615},{"$f":"环工62分数统计!AC23*环工62分数统计!AC$3/130","v":1.1692307692307693},{"$f":"环工62分数统计!AD23*环工62分数统计!AD$3/130","v":1.123076923076923},{"$f":"环工62分数统计!AE23*环工62分数统计!AE$3/130","v":1.2307692307692308},{"$f":"环工62分数统计!AF23*环工62分数统计!AF$3/130","v":0.5846153846153846},{"$f":"环工62分数统计!AG23*环工62分数统计!AG$3/130","v":1.3076923076923077},{"$f":"环工62分数统计!AH23*环工62分数统计!AH$3/130","v":1.4307692307692308},{"$f":"环工62分数统计!AI23*环工62分数统计!AI$3/130","v":1.1846153846153846},{"$f":"环工62分数统计!AJ23*环工62分数统计!AJ$3/130","v":0.6307692307692307},{"$f":"环工62分数统计!AK23*环工62分数统计!AK$3/130","v":1.8461538461538463},{"$f":"环工62分数统计!AL23*环工62分数统计!AL$3/130","v":1.1384615384615384},{"$f":"环工62分数统计!AM23*环工62分数统计!AM$3/130","v":0.6923076923076923},{"$f":"环工62分数统计!AN23*环工62分数统计!AN$3/130","v":1.1076923076923078},{"$f":"环工62分数统计!AO23*环工62分数统计!AO$3/130","v":1.3153846153846154},{"$f":"环工62分数统计!AP23*环工62分数统计!AP$3/130","v":0.9576923076923077},{"$f":"环工62分数统计!AQ23*环工62分数统计!AQ$3/130","v":1.476923076923077},{"$f":"环工62分数统计!AR23*环工62分数统计!AR$3/130","v":1.2307692307692308},{"$f":"环工62分数统计!AS23*环工62分数统计!AS$3/130","v":1.2923076923076924},{"$f":"环工62分数统计!AT23*环工62分数统计!AT$3/130","v":1.0307692307692307},{"$f":"环工62分数统计!AU23*环工62分数统计!AU$3/130","v":0.6692307692307692},{"$f":"环工62分数统计!AV23*环工62分数统计!AV$3/130","v":1.2769230769230768},{"$f":"环工62分数统计!AW23*环工62分数统计!AW$3/130","v":0.5230769230769231},{"$f":"环工62分数统计!AX23*环工62分数统计!AX$3/130","v":1.8461538461538463},{"$f":"环工62分数统计!AY23*环工62分数统计!AY$3/130","v":1.0461538461538462},{"$f":"环工62分数统计!AZ23*环工62分数统计!AZ$3/130","v":0.9384615384615385},{"$f":"环工62分数统计!BA23*环工62分数统计!BA$3/130","v":1.0923076923076922},{"$f":"环工62分数统计!BB23*环工62分数统计!BB$3/130","v":0.9},{"$f":"环工62分数统计!BC23*环工62分数统计!BC$3/130","v":1.5692307692307692},{"$f":"环工62分数统计!BD23*环工62分数统计!BD$3/130","v":0.8423076923076923},{"$f":"环工62分数统计!BE23*环工62分数统计!BE$3/130","v":0.9384615384615385},{"$f":"环工62分数统计!BF23*环工62分数统计!BF$3/130","v":0.6615384615384615},{"$f":"环工62分数统计!BG23*环工62分数统计!BG$3/130","v":0.3038461538461538},{"$f":"环工62分数统计!BH23*环工62分数统计!BH$3/130","v":1.2},{"$f":"环工62分数统计!BI23*环工62分数统计!BI$3/130","v":1.3076923076923077},{"$f":"环工62分数统计!BJ23*环工62分数统计!BJ$3/130","v":1.3846153846153846},{"$f":"环工62分数统计!BK23*环工62分数统计!BK$3/130","v":0.46153846153846156},67.21153846153848,47.048076923076934,{"$f":"环工62综测统计!C22","v":{"v":75.0326309819993,"d":"75.0326"}},{"$f":"环工62综测统计!D22","v":{"v":76.0366724878725,"d":"76.0367"}},{"$f":"环工62综测统计!E22","v":{"v":72.69288734491315,"d":"72.6929"}},{"v":223.76219081478493,"d":"223.7622"},{"$f":"BM23/'环工16-1两年综测'!$BG$8*100","v":64.72663479252492},12.945326958504985,59.99340388158192]
[21,"孙寅辉",2016010651,{"$f":"环工62分数统计!H24*环工62分数统计!H$3/130","v":0.6923076923076923},{"$f":"环工62分数统计!I24*环工62分数统计!I$3/130","v":1.2615384615384615},{"$f":"环工62分数统计!J24*环工62分数统计!J$3/130","v":3.5538461538461537},{"$f":"环工62分数统计!K24*环工62分数统计!K$3/130","v":3.0115384615384615},{"$f":"环工62分数统计!L24*环工62分数统计!L$3/130","v":1.2923076923076924},{"$f":"环工62分数统计!M24*环工62分数统计!M$3/130","v":1.1384615384615384},{"$f":"环工62分数统计!N24*环工62分数统计!N$3/130","v":2.5384615384615383},{"$f":"环工62分数统计!O24*环工62分数统计!O$3/130","v":0.46153846153846156},{"$f":"环工62分数统计!P24*环工62分数统计!P$3/130","v":1.1538461538461537},{"$f":"环工62分数统计!Q24*环工62分数统计!Q$3/130","v":0.46153846153846156},{"$f":"环工62分数统计!R24*环工62分数统计!R$3/130","v":1.3846153846153846},{"$f":"环工62分数统计!S24*环工62分数统计!S$3/130","v":3.3846153846153846},{"$f":"环工62分数统计!T24*环工62分数统计!T$3/130","v":1.5769230769230769},{"$f":"环工62分数统计!U24*环工62分数统计!U$3/130","v":1.876923076923077},{"$f":"环工62分数统计!V24*环工62分数统计!V$3/130","v":1.7538461538461538},{"$f":"环工62分数统计!W24*环工62分数统计!W$3/130","v":2.8769230769230774},{"$f":"环工62分数统计!X24*环工62分数统计!X$3/130","v":0.5307692307692308},{"$f":"环工62分数统计!Y24*环工62分数统计!Y$3/130","v":1.3076923076923077},{"$f":"环工62分数统计!Z24*环工62分数统计!Z$3/130","v":1.3846153846153846},{"$f":"环工62分数统计!AA24*环工62分数统计!AA$3/130","v":1.8692307692307693},{"$f":"环工62分数统计!AB24*环工62分数统计!AB$3/130","v":1.0615384615384615},{"$f":"环工62分数统计!AC24*环工62分数统计!AC$3/130","v":1.2923076923076924},{"$f":"环工62分数统计!AD24*环工62分数统计!AD$3/130","v":1.2307692307692308},{"$f":"环工62分数统计!AE24*环工62分数统计!AE$3/130","v":1.4384615384615387},{"$f":"环工62分数统计!AF24*环工62分数统计!AF$3/130","v":0.5923076923076923},{"$f":"环工62分数统计!AG24*环工62分数统计!AG$3/130","v":1.3076923076923077},{"$f":"环工62分数统计!AH24*环工62分数统计!AH$3/130","v":1.4538461538461538},{"$f":"环工62分数统计!AI24*环工62分数统计!AI$3/130","v":1.1384615384615384},{"$f":"环工62分数统计!AJ24*环工62分数统计!AJ$3/130","v":0.6538461538461539},{"$f":"环工62分数统计!AK24*环工62分数统计!AK$3/130","v":1.8461538461538463},{"$f":"环工62分数统计!AL24*环工62分数统计!AL$3/130","v":1.2307692307692308},{"$f":"环工62分数统计!AM24*环工62分数统计!AM$3/130","v":0.6923076923076923},{"$f":"环工62分数统计!AN24*环工62分数统计!AN$3/130","v":1.8461538461538463},{"$f":"环工62分数统计!AO24*环工62分数统计!AO$3/130","v":1.2692307692307692},{"$f":"环工62分数统计!AP24*环工62分数统计!AP$3/130","v":0.9576923076923077},{"$f":"环工62分数统计!AQ24*环工62分数统计!AQ$3/130","v":1.7769230769230768},{"$f":"环工62分数统计!AR24*环工62分数统计!AR$3/130","v":1.123076923076923},{"$f":"环工62分数统计!AS24*环工62分数统计!AS$3/130","v":1.2769230769230768},{"$f":"环工62分数统计!AT24*环工62分数统计!AT$3/130","v":1.303076923076923},{"$f":"环工62分数统计!AU24*环工62分数统计!AU$3/130","v":0.5461538461538461},{"$f":"环工62分数统计!AV24*环工62分数统计!AV$3/130","v":1.2461538461538462},{"$f":"环工62分数统计!AW24*环工62分数统计!AW$3/130","v":0.5307692307692308},{"$f":"环工62分数统计!AX24*环工62分数统计!AX$3/130","v":2.0307692307692307},{"$f":"环工62分数统计!AY24*环工62分数统计!AY$3/130","v":1.2615384615384615},{"$f":"环工62分数统计!AZ24*环工62分数统计!AZ$3/130","v":1.0461538461538462},{"$f":"环工62分数统计!BA24*环工62分数统计!BA$3/130","v":1.1384615384615384},{"$f":"环工62分数统计!BB24*环工62分数统计!BB$3/130","v":0.9692307692307692},{"$f":"环工62分数统计!BC24*环工62分数统计!BC$3/130","v":1.9153846153846155},{"$f":"环工62分数统计!BD24*环工62分数统计!BD$3/130","v":0.9346153846153846},{"$f":"环工62分数统计!BE24*环工62分数统计!BE$3/130","v":0.9384615384615385},{"$f":"环工62分数统计!BF24*环工62分数统计!BF$3/130","v":0.6153846153846154},{"$f":"环工62分数统计!BG24*环工62分数统计!BG$3/130","v":0.3076923076923077},{"$f":"环工62分数统计!BH24*环工62分数统计!BH$3/130","v":1.1538461538461537},{"$f":"环工62分数统计!BI24*环工62分数统计!BI$3/130","v":1.2307692307692308},{"$f":"环工62分数统计!BJ24*环工62分数统计!BJ$3/130","v":1.5692307692307692},{"$f":"环工62分数统计!BK24*环工62分数统计!BK$3/130","v":0.5230769230769231},74.96076923076923,52.472538461538456,{"$f":"环工62综测统计!C23","v":{"v":83.4901694858497,"d":"83.4902"}},{"$f":"环工62综测统计!D23","v":{"v":80.4266833610834,"d":"80.4267"}},{"$f":"环工62综测统计!E23","v":{"v":77.17632533156498,"d":"77.1763"}},{"v":241.0931781784981,"d":"241.0932"},{"$f":"BM24/'环工16-1两年综测'!$BG$8*100","v":69.73988786088381},13.947977572176763,66.42051603371522]
[22,"王昆",2016010653,{"$f":"环工62分数统计!H25*环工62分数统计!H$3/130","v":0.6384615384615384},{"$f":"环工62分数统计!I25*环工62分数统计!I$3/130","v":1.1692307692307693},{"$f":"环工62分数统计!J25*环工62分数统计!J$3/130","v":3.4153846153846152},{"$f":"环工62分数统计!K25*环工62分数统计!K$3/130","v":2.076923076923077},{"$f":"环工62分数统计!L25*环工62分数统计!L$3/130","v":1.3076923076923077},{"$f":"环工62分数统计!M25*环工62分数统计!M$3/130","v":1.2307692307692308},{"$f":"环工62分数统计!N25*环工62分数统计!N$3/130","v":2.1323076923076925},{"$f":"环工62分数统计!O25*环工62分数统计!O$3/130","v":0.5},{"$f":"环工62分数统计!P25*环工62分数统计!P$3/130","v":0.5192307692307693},{"$f":"环工62分数统计!Q25*环工62分数统计!Q$3/130","v":0.46153846153846156},{"$f":"环工62分数统计!R25*环工62分数统计!R$3/130","v":1.3846153846153846},{"$f":"环工62分数统计!S25*环工62分数统计!S$3/130","v":2.769230769230769},{"$f":"环工62分数统计!T25*环工62分数统计!T$3/130","v":1.5384615384615385},{"$f":"环工62分数统计!U25*环工62分数统计!U$3/130","v":1.876923076923077},{"$f":"环工62分数统计!V25*环工62分数统计!V$3/130","v":1.6846153846153846},{"$f":"环工62分数统计!W25*环工62分数统计!W$3/130","v":2.606153846153846},{"$f":"环工62分数统计!X25*环工62分数统计!X$3/130","v":0.5923076923076923},{"$f":"环工62分数统计!Y25*环工62分数统计!Y$3/130","v":1.2615384615384615},{"$f":"环工62分数统计!Z25*环工62分数统计!Z$3/130","v":1.3846153846153846},{"$f":"环工62分数统计!AA25*环工62分数统计!AA$3/130","v":1.3846153846153846},{"$f":"环工62分数统计!AB25*环工62分数统计!AB$3/130","v":0.9230769230769231},{"$f":"环工62分数统计!AC25*环工62分数统计!AC$3/130","v":1.2461538461538462},{"$f":"环工62分数统计!AD25*环工62分数统计!AD$3/130","v":1.2307692307692308},{"$f":"环工62分数统计!AE25*环工62分数统计!AE$3/130","v":1.0830769230769233},{"$f":"环工62分数统计!AF25*环工62分数统计!AF$3/130","v":0.5923076923076923},{"$f":"环工62分数统计!AG25*环工62分数统计!AG$3/130","v":1.3269230769230769},{"$f":"环工62分数统计!AH25*环工62分数统计!AH$3/130","v":1.476923076923077},{"$f":"环工62分数统计!AI25*环工62分数统计!AI$3/130","v":1.1076923076923078},{"$f":"环工62分数统计!AJ25*环工62分数统计!AJ$3/130","v":0.6538461538461539},{"$f":"环工62分数统计!AK25*环工62分数统计!AK$3/130","v":1.8461538461538463},{"$f":"环工62分数统计!AL25*环工62分数统计!AL$3/130","v":1.1384615384615384},{"$f":"环工62分数统计!AM25*环工62分数统计!AM$3/130","v":0.6923076923076923},{"$f":"环工62分数统计!AN25*环工62分数统计!AN$3/130","v":1.5461538461538462},{"$f":"环工62分数统计!AO25*环工62分数统计!AO$3/130","v":1.6384615384615384},{"$f":"环工62分数统计!AP25*环工62分数统计!AP$3/130","v":0.9230769230769231},{"$f":"环工62分数统计!AQ25*环工62分数统计!AQ$3/130","v":1.5461538461538462},{"$f":"环工62分数统计!AR25*环工62分数统计!AR$3/130","v":1.3384615384615384},{"$f":"环工62分数统计!AS25*环工62分数统计!AS$3/130","v":1.3076923076923077},{"$f":"环工62分数统计!AT25*环工62分数统计!AT$3/130","v":1.1846153846153846},{"$f":"环工62分数统计!AU25*环工62分数统计!AU$3/130","v":0.5769230769230769},{"$f":"环工62分数统计!AV25*环工62分数统计!AV$3/130","v":1.2923076923076924},{"$f":"环工62分数统计!AW25*环工62分数统计!AW$3/130","v":0.5230769230769231},{"$f":"环工62分数统计!AX25*环工62分数统计!AX$3/130","v":1.8461538461538463},{"$f":"环工62分数统计!AY25*环工62分数统计!AY$3/130","v":1.0923076923076922},{"$f":"环工62分数统计!AZ25*环工62分数统计!AZ$3/130","v":0.9692307692307692},{"$f":"环工62分数统计!BA25*环工62分数统计!BA$3/130","v":1},{"$f":"环工62分数统计!BB25*环工62分数统计!BB$3/130","v":0.9115384615384615},{"$f":"环工62分数统计!BC25*环工62分数统计!BC$3/130","v":1.8},{"$f":"环工62分数统计!BD25*环工62分数统计!BD$3/130","v":0.8653846153846154},{"$f":"环工62分数统计!BE25*环工62分数统计!BE$3/130","v":1.123076923076923},{"$f":"环工62分数统计!BF25*环工62分数统计!BF$3/130","v":0.6},{"$f":"环工62分数统计!BG25*环工62分数统计!BG$3/130","v":0.3192307692307692},{"$f":"环工62分数统计!BH25*环工62分数统计!BH$3/130","v":0.9538461538461539},{"$f":"环工62分数统计!BI25*环工62分数统计!BI$3/130","v":1.2115384615384615},{"$f":"环工62分数统计!BJ25*环工62分数统计!BJ$3/130","v":1.2461538461538462},{"$f":"环工62分数统计!BK25*环工62分数统计!BK$3/130","v":0.5692307692307692},69.63692307692311,48.74584615384617,{"$f":"环工62综测统计!C24","v":{"v":79.2692921481159,"d":"79.2693"}},{"$f":"环工62综测统计!D24","v":{"v":74.287062004662,"d":"74.2871"}},{"$f":"环工62综测统计!E24","v":{"v":72.67771977600943,"d":"72.6777"}},{"v":226.23407392878732,"d":"226.2341"},{"$f":"BM25/'环工16-1两年综测'!$BG$8*100","v":65.44166477586235},13.08833295517247,61.83417910901864]
[23,"温博",2016010655,{"$f":"环工62分数统计!H26*环工62分数统计!H$3/130","v":0.5},{"$f":"环工62分数统计!I26*环工62分数统计!I$3/130","v":1.1692307692307693},{"$f":"环工62分数统计!J26*环工62分数统计!J$3/130","v":3.230769230769231},{"$f":"环工62分数统计!K26*环工62分数统计!K$3/130","v":2.076923076923077},{"$f":"环工62分数统计!L26*环工62分数统计!L$3/130","v":1.2769230769230768},{"$f":"环工62分数统计!M26*环工62分数统计!M$3/130","v":1.0153846153846153},{"$f":"环工62分数统计!N26*环工62分数统计!N$3/130","v":2.1661538461538465},{"$f":"环工62分数统计!O26*环工62分数统计!O$3/130","v":0.4846153846153846},{"$f":"环工62分数统计!P26*环工62分数统计!P$3/130","v":1.1538461538461537},{"$f":"环工62分数统计!Q26*环工62分数统计!Q$3/130","v":0.46153846153846156},{"$f":"环工62分数统计!R26*环工62分数统计!R$3/130","v":1.3846153846153846},{"$f":"环工62分数统计!S26*环工62分数统计!S$3/130","v":2.3076923076923075},{"$f":"环工62分数统计!T26*环工62分数统计!T$3/130","v":1.3076923076923077},{"$f":"环工62分数统计!U26*环工62分数统计!U$3/130","v":1.8461538461538463},{"$f":"环工62分数统计!V26*环工62分数统计!V$3/130","v":1.5},{"$f":"环工62分数统计!W26*环工62分数统计!W$3/130","v":2.267692307692308},{"$f":"环工62分数统计!X26*环工62分数统计!X$3/130","v":0.5615384615384615},{"$f":"环工62分数统计!Y26*环工62分数统计!Y$3/130","v":1.3384615384615384},{"$f":"环工62分数统计!Z26*环工62分数统计!Z$3/130","v":1.3846153846153846},{"$f":"环工62分数统计!AA26*环工62分数统计!AA$3/130","v":1.4076923076923078},{"$f":"环工62分数统计!AB26*环工62分数统计!AB$3/130","v":0.9230769230769231},{"$f":"环工62分数统计!AC26*环工62分数统计!AC$3/130","v":1.2769230769230768},{"$f":"环工62分数统计!AD26*环工62分数统计!AD$3/130","v":1.1538461538461537},{"$f":"环工62分数统计!AE26*环工62分数统计!AE$3/130","v":1.0153846153846153},{"$f":"环工62分数统计!AF26*环工62分数统计!AF$3/130","v":0.6},{"$f":"环工62分数统计!AG26*环工62分数统计!AG$3/130","v":1.3653846153846154},{"$f":"环工62分数统计!AH26*环工62分数统计!AH$3/130","v":1.7769230769230768},{"$f":"环工62分数统计!AI26*环工62分数统计!AI$3/130","v":1.1076923076923078},{"$f":"环工62分数统计!AJ26*环工62分数统计!AJ$3/130","v":0.6230769230769231},{"$f":"环工62分数统计!AK26*环工62分数统计!AK$3/130","v":1.2923076923076924},{"$f":"环工62分数统计!AL26*环工62分数统计!AL$3/130","v":1.123076923076923},{"$f":"环工62分数统计!AM26*环工62分数统计!AM$3/130","v":0.6923076923076923},{"$f":"环工62分数统计!AN26*环工62分数统计!AN$3/130","v":1.6153846153846154},{"$f":"环工62分数统计!AO26*环工62分数统计!AO$3/130","v":1.4307692307692308},{"$f":"环工62分数统计!AP26*环工62分数统计!AP$3/130","v":0.9230769230769231},{"$f":"环工62分数统计!AQ26*环工62分数统计!AQ$3/130","v":1.3846153846153846},{"$f":"环工62分数统计!AR26*环工62分数统计!AR$3/130","v":1.3384615384615384},{"$f":"环工62分数统计!AS26*环工62分数统计!AS$3/130","v":1.2461538461538462},{"$f":"环工62分数统计!AT26*环工62分数统计!AT$3/130","v":1.1},{"$f":"环工62分数统计!AU26*环工62分数统计!AU$3/130","v":0.6538461538461539},{"$f":"环工62分数统计!AV26*环工62分数统计!AV$3/130","v":1.2769230769230768},{"$f":"环工62分数统计!AW26*环工62分数统计!AW$3/130","v":0.5153846153846153},{"$f":"环工62分数统计!AX26*环工62分数统计!AX$3/130","v":1.0153846153846153},{"$f":"环工62分数统计!AY26*环工62分数统计!AY$3/130","v":1.0307692307692307},{"$f":"环工62分数统计!AZ26*环工62分数统计!AZ$3/130","v":0.8307692307692308},{"$f":"环工62分数统计!BA26*环工62分数统计!BA$3/130","v":0.8},{"$f":"环工62分数统计!BB26*环工62分数统计!BB$3/130","v":0.9692307692307692},{"$f":"环工62分数统计!BC26*环工62分数统计!BC$3/130","v":1.5692307692307692},{"$f":"环工62分数统计!BD26*环工62分数统计!BD$3/130","v":0.8538461538461538},{"$f":"环工62分数统计!BE26*环工62分数统计!BE$3/130","v":0.9846153846153847},{"$f":"环工62分数统计!BF26*环工62分数统计!BF$3/130","v":0.5692307692307692},{"$f":"环工62分数统计!BG26*环工62分数统计!BG$3/130","v":0.3038461538461538},{"$f":"环工62分数统计!BH26*环工62分数统计!BH$3/130","v":1.0307692307692307},{"$f":"环工62分数统计!BI26*环工62分数统计!BI$3/130","v":1.1538461538461537},{"$f":"环工62分数统计!BJ26*环工62分数统计!BJ$3/130","v":1.1538461538461537},{"$f":"环工62分数统计!BK26*环工62分数统计!BK$3/130","v":0.46153846153846156},66.00307692307693,46.20215384615385,{"$f":"环工62综测统计!C25","v":{"v":75.786296548556,"d":"75.7863"}},{"$f":"环工62综测统计!D25","v":{"v":78.3910914418914,"d":"78.3911"}},{"$f":"环工62综测统计!E25","v":{"v":69.72549184149184,"d":"69.7255"}},{"v":223.90287983193926,"d":"223.9029"},{"$f":"BM26/'环工16-1两年综测'!$BG$8*100","v":64.7673312417307},12.95346624834614,59.15562009449999]
[24,"肖耀",2016010656,{"$f":"环工62分数统计!H27*环工62分数统计!H$3/130","v":0.6230769230769231},{"$f":"环工62分数统计!I27*环工62分数统计!I$3/130","v":1.4153846153846155},{"$f":"环工62分数统计!J27*环工62分数统计!J$3/130","v":3.3230769230769233},{"$f":"环工62分数统计!K27*环工62分数统计!K$3/130","v":2.076923076923077},{"$f":"环工62分数统计!L27*环工62分数统计!L$3/130","v":1.323076923076923},{"$f":"环工62分数统计!M27*环工62分数统计!M$3/130","v":1.1538461538461537},{"$f":"环工62分数统计!N27*环工62分数统计!N$3/130","v":1.8615384615384618},{"$f":"环工62分数统计!O27*环工62分数统计!O$3/130","v":0.47692307692307695},{"$f":"环工62分数统计!P27*环工62分数统计!P$3/130","v":1.2884615384615385},{"$f":"环工62分数统计!Q27*环工62分数统计!Q$3/130","v":0.6846153846153846},{"$f":"环工62分数统计!R27*环工62分数统计!R$3/130","v":1.3846153846153846},{"$f":"环工62分数统计!S27*环工62分数统计!S$3/130","v":2.3076923076923075},{"$f":"环工62分数统计!T27*环工62分数统计!T$3/130","v":1.3076923076923077},{"$f":"环工62分数统计!U27*环工62分数统计!U$3/130","v":1.9076923076923078},{"$f":"环工62分数统计!V27*环工62分数统计!V$3/130","v":1.3846153846153846},{"$f":"环工62分数统计!W27*环工62分数统计!W$3/130","v":2.1323076923076925},{"$f":"环工62分数统计!X27*环工62分数统计!X$3/130","v":0.5923076923076923},{"$f":"环工62分数统计!Y27*环工62分数统计!Y$3/130","v":1.323076923076923},{"$f":"环工62分数统计!Z27*环工62分数统计!Z$3/130","v":1.3846153846153846},{"$f":"环工62分数统计!AA27*环工62分数统计!AA$3/130","v":1.3846153846153846},{"$f":"环工62分数统计!AB27*环工62分数统计!AB$3/130","v":0.9538461538461539},{"$f":"环工62分数统计!AC27*环工62分数统计!AC$3/130","v":1.2307692307692308},{"$f":"环工62分数统计!AD27*环工62分数统计!AD$3/130","v":1.1538461538461537},{"$f":"环工62分数统计!AE27*环工62分数统计!AE$3/130","v":1.0323076923076924},{"$f":"环工62分数统计!AF27*环工62分数统计!AF$3/130","v":0.6538461538461539},{"$f":"环工62分数统计!AG27*环工62分数统计!AG$3/130","v":1.2692307692307692},{"$f":"环工62分数统计!AH27*环工62分数统计!AH$3/130","v":1.3846153846153846},{"$f":"环工62分数统计!AI27*环工62分数统计!AI$3/130","v":1.0923076923076922},{"$f":"环工62分数统计!AJ27*环工62分数统计!AJ$3/130","v":0.6615384615384615},{"$f":"环工62分数统计!AK27*环工62分数统计!AK$3/130","v":1.6923076923076923},{"$f":"环工62分数统计!AL27*环工62分数统计!AL$3/130","v":1.2461538461538462},{"$f":"环工62分数统计!AM27*环工62分数统计!AM$3/130","v":0.7038461538461539},{"$f":"环工62分数统计!AN27*环工62分数统计!AN$3/130","v":1.3846153846153846},{"$f":"环工62分数统计!AO27*环工62分数统计!AO$3/130","v":1.4076923076923078},{"$f":"环工62分数统计!AP27*环工62分数统计!AP$3/130","v":0.9461538461538461},{"$f":"环工62分数统计!AQ27*环工62分数统计!AQ$3/130","v":1.523076923076923},{"$f":"环工62分数统计!AR27*环工62分数统计!AR$3/130","v":1.3384615384615384},{"$f":"环工62分数统计!AS27*环工62分数统计!AS$3/130","v":1.353846153846154},{"$f":"环工62分数统计!AT27*环工62分数统计!AT$3/130","v":1.0153846153846153},{"$f":"环工62分数统计!AU27*环工62分数统计!AU$3/130","v":0.5923076923076923},{"$f":"环工62分数统计!AV27*环工62分数统计!AV$3/130","v":1.2769230769230768},{"$f":"环工62分数统计!AW27*环工62分数统计!AW$3/130","v":0.6153846153846154},{"$f":"环工62分数统计!AX27*环工62分数统计!AX$3/130","v":2.0307692307692307},{"$f":"环工62分数统计!AY27*环工62分数统计!AY$3/130","v":1.1076923076923078},{"$f":"环工62分数统计!AZ27*环工62分数统计!AZ$3/130","v":1},{"$f":"环工62分数统计!BA27*环工62分数统计!BA$3/130","v":1.0153846153846153},{"$f":"环工62分数统计!BB27*环工62分数统计!BB$3/130","v":0.9807692307692307},{"$f":"环工62分数统计!BC27*环工62分数统计!BC$3/130","v":1.8},{"$f":"环工62分数统计!BD27*环工62分数统计!BD$3/130","v":0.8538461538461538},{"$f":"环工62分数统计!BE27*环工62分数统计!BE$3/130","v":0.9692307692307692},{"$f":"环工62分数统计!BF27*环工62分数统计!BF$3/130","v":0.6153846153846154},{"$f":"环工62分数统计!BG27*环工62分数统计!BG$3/130","v":0.3346153846153846},{"$f":"环工62分数统计!BH27*环工62分数统计!BH$3/130","v":1.1384615384615384},{"$f":"环工62分数统计!BI27*环工62分数统计!BI$3/130","v":1.1538461538461537},{"$f":"环工62分数统计!BJ27*环工62分数统计!BJ$3/130","v":1.7769230769230768},{"$f":"环工62分数统计!BK27*环工62分数统计!BK$3/130","v":0.4846153846153846},69.12615384615387,48.388307692307706,{"$f":"环工62综测统计!C26","v":{"v":77.9693152504261,"d":"77.9693"}},{"$f":"环工62综测统计!D26","v":{"v":74.2237084693085,"d":"74.2237"}},{"$f":"环工62综测统计!E26","v":{"v":76.83740323125151,"d":"76.8374"}},{"v":229.0304269509861,"d":"229.0304"},{"$f":"BM27/'环工16-1两年综测'!$BG$8*100","v":66.25055264096487},13.250110528192975,61.63841822050068]
[25,"依斯安·喀迪尔",2016010657,{"$f":"环工62分数统计!H28*环工62分数统计!H$3/130","v":0.5769230769230769},{"$f":"环工62分数统计!I28*环工62分数统计!I$3/130","v":1.353846153846154},{"$f":"环工62分数统计!J28*环工62分数统计!J$3/130","v":2.769230769230769},{"$f":"环工62分数统计!K28*环工62分数统计!K$3/130","v":2.076923076923077},{"$f":"环工62分数统计!L28*环工62分数统计!L$3/130","v":1.2307692307692308},{"$f":"环工62分数统计!M28*环工62分数统计!M$3/130","v":1.2461538461538462},{"$f":"环工62分数统计!N28*环工62分数统计!N$3/130","v":2.246153846153846},{"$f":"环工62分数统计!O28*环工62分数统计!O$3/130","v":0.5461538461538461},{"$f":"环工62分数统计!P28*环工62分数统计!P$3/130","v":1.3846153846153846},{"$f":"环工62分数统计!Q28*环工62分数统计!Q$3/130","v":0.6230769230769231},{"$f":"环工62分数统计!R28*环工62分数统计!R$3/130","v":1.9153846153846155},{"$f":"环工62分数统计!S28*环工62分数统计!S$3/130","v":2.3076923076923075},{"$f":"环工62分数统计!T28*环工62分数统计!T$3/130","v":1.3846153846153846},{"$f":"环工62分数统计!U28*环工62分数统计!U$3/130","v":2.0923076923076924},{"$f":"环工62分数统计!V28*环工62分数统计!V$3/130","v":1.3846153846153846},{"$f":"环工62分数统计!W28*环工62分数统计!W$3/130","v":2.2153846153846155},{"$f":"环工62分数统计!X28*环工62分数统计!X$3/130","v":0.6846153846153846},{"$f":"环工62分数统计!Y28*环工62分数统计!Y$3/130","v":1.353846153846154},{"$f":"环工62分数统计!Z28*环工62分数统计!Z$3/130","v":1.5692307692307692},{"$f":"环工62分数统计!AA28*环工62分数统计!AA$3/130","v":1.8923076923076922},{"$f":"环工62分数统计!AB28*环工62分数统计!AB$3/130","v":1},{"$f":"环工62分数统计!AC28*环工62分数统计!AC$3/130","v":1.1076923076923078},{"$f":"环工62分数统计!AD28*环工62分数统计!AD$3/130","v":1.2},{"$f":"环工62分数统计!AE28*环工62分数统计!AE$3/130","v":1.1692307692307693},{"$f":"环工62分数统计!AF28*环工62分数统计!AF$3/130","v":0.6538461538461539},{"$f":"环工62分数统计!AG28*环工62分数统计!AG$3/130","v":1.5192307692307692},{"$f":"环工62分数统计!AH28*环工62分数统计!AH$3/130","v":1.8692307692307693},{"$f":"环工62分数统计!AI28*环工62分数统计!AI$3/130","v":1.1384615384615384},{"$f":"环工62分数统计!AJ28*环工62分数统计!AJ$3/130","v":0.676923076923077},{"$f":"环工62分数统计!AK28*环工62分数统计!AK$3/130","v":1.8461538461538463},{"$f":"环工62分数统计!AL28*环工62分数统计!AL$3/130","v":1.1692307692307693},{"$f":"环工62分数统计!AM28*环工62分数统计!AM$3/130","v":0.7730769230769231},{"$f":"环工62分数统计!AN28*环工62分数统计!AN$3/130","v":1.523076923076923},{"$f":"环工62分数统计!AO28*环工62分数统计!AO$3/130","v":1.6846153846153846},{"$f":"环工62分数统计!AP28*环工62分数统计!AP$3/130","v":0.9230769230769231},{"$f":"环工62分数统计!AQ28*环工62分数统计!AQ$3/130","v":1.6384615384615384},{"$f":"环工62分数统计!AR28*环工62分数统计!AR$3/130","v":1.353846153846154},{"$f":"环工62分数统计!AS28*环工62分数统计!AS$3/130","v":1.2615384615384615},{"$f":"环工62分数统计!AT28*环工62分数统计!AT$3/130","v":1.1692307692307693},{"$f":"环工62分数统计!AU28*环工62分数统计!AU$3/130","v":0.6692307692307692},{"$f":"环工62分数统计!AV28*环工62分数统计!AV$3/130","v":1.3384615384615384},{"$f":"环工62分数统计!AW28*环工62分数统计!AW$3/130","v":0.5692307692307692},{"$f":"环工62分数统计!AX28*环工62分数统计!AX$3/130","v":1.5076923076923077},{"$f":"环工62分数统计!AY28*环工62分数统计!AY$3/130","v":1.1538461538461537},{"$f":"环工62分数统计!AZ28*环工62分数统计!AZ$3/130","v":1.1076923076923078},{"$f":"环工62分数统计!BA28*环工62分数统计!BA$3/130","v":1.0461538461538462},{"$f":"环工62分数统计!BB28*环工62分数统计!BB$3/130","v":0.9576923076923077},{"$f":"环工62分数统计!BC28*环工62分数统计!BC$3/130","v":1.6846153846153846},{"$f":"环工62分数统计!BD28*环工62分数统计!BD$3/130","v":0.9807692307692307},{"$f":"环工62分数统计!BE28*环工62分数统计!BE$3/130","v":1.1538461538461537},{"$f":"环工62分数统计!BF28*环工62分数统计!BF$3/130","v":0.6692307692307692},{"$f":"环工62分数统计!BG28*环工62分数统计!BG$3/130","v":0.3230769230769231},{"$f":"环工62分数统计!BH28*环工62分数统计!BH$3/130","v":1.2615384615384615},{"$f":"环工62分数统计!BI28*环工62分数统计!BI$3/130","v":1.4807692307692308},{"$f":"环工62分数统计!BJ28*环工62分数统计!BJ$3/130","v":1.7769230769230768},{"$f":"环工62分数统计!BK28*环工62分数统计!BK$3/130","v":0.5615384615384615},72.77307692307694,50.94115384615386,{"$f":"环工62综测统计!C27","v":{"v":81.0280875276539,"d":"81.0281"}},{"$f":"环工62综测统计!D27","v":{"v":83.0688761460761,"d":"83.0689"}},{"$f":"环工62综测统计!E27","v":{"v":81.37057062937063,"d":"81.3706"}},{"v":245.46753430310062,"d":"245.4675"},{"$f":"BM28/'环工16-1两年综测'!$BG$8*100","v":71.00523724944048},14.201047449888097,65.14220129604196]
[26,"於越",2016010658,{"$f":"环工62分数统计!H29*环工62分数统计!H$3/130","v":0.5769230769230769},{"$f":"环工62分数统计!I29*环工62分数统计!I$3/130","v":1.2615384615384615},{"$f":"环工62分数统计!J29*环工62分数统计!J$3/130","v":2.769230769230769},{"$f":"环工62分数统计!K29*环工62分数统计!K$3/130","v":2.353846153846154},{"$f":"环工62分数统计!L29*环工62分数统计!L$3/130","v":1.2307692307692308},{"$f":"环工62分数统计!M29*环工62分数统计!M$3/130","v":1.0307692307692307},{"$f":"环工62分数统计!N29*环工62分数统计!N$3/130","v":3.181538461538462},{"$f":"环工62分数统计!O29*环工62分数统计!O$3/130","v":0.5153846153846153},{"$f":"环工62分数统计!P29*环工62分数统计!P$3/130","v":1.2115384615384615},{"$f":"环工62分数统计!Q29*环工62分数统计!Q$3/130","v":0.7038461538461539},{"$f":"环工62分数统计!R29*环工62分数统计!R$3/130","v":1.7076923076923076},{"$f":"环工62分数统计!S29*环工62分数统计!S$3/130","v":2.3076923076923075},{"$f":"环工62分数统计!T29*环工62分数统计!T$3/130","v":1.4615384615384615},{"$f":"环工62分数统计!U29*环工62分数统计!U$3/130","v":1.876923076923077},{"$f":"环工62分数统计!V29*环工62分数统计!V$3/130","v":1.3846153846153846},{"$f":"环工62分数统计!W29*环工62分数统计!W$3/130","v":3.08},{"$f":"环工62分数统计!X29*环工62分数统计!X$3/130","v":0.6076923076923076},{"$f":"环工62分数统计!Y29*环工62分数统计!Y$3/130","v":1.2461538461538462},{"$f":"环工62分数统计!Z29*环工62分数统计!Z$3/130","v":1.5692307692307692},{"$f":"环工62分数统计!AA29*环工62分数统计!AA$3/130","v":1.3846153846153846},{"$f":"环工62分数统计!AB29*环工62分数统计!AB$3/130","v":1.0153846153846153},{"$f":"环工62分数统计!AC29*环工62分数统计!AC$3/130","v":1.0461538461538462},{"$f":"环工62分数统计!AD29*环工62分数统计!AD$3/130","v":1.1076923076923078},{"$f":"环工62分数统计!AE29*环工62分数统计!AE$3/130","v":1.6246153846153848},{"$f":"环工62分数统计!AF29*环工62分数统计!AF$3/130","v":0.5461538461538461},{"$f":"环工62分数统计!AG29*环工62分数统计!AG$3/130","v":1.5192307692307692},{"$f":"环工62分数统计!AH29*环工62分数统计!AH$3/130","v":1.9846153846153847},{"$f":"环工62分数统计!AI29*环工62分数统计!AI$3/130","v":1.0461538461538462},{"$f":"环工62分数统计!AJ29*环工62分数统计!AJ$3/130","v":0.6307692307692307},{"$f":"环工62分数统计!AK29*环工62分数统计!AK$3/130","v":1.8461538461538463},{"$f":"环工62分数统计!AL29*环工62分数统计!AL$3/130","v":1.2615384615384615},{"$f":"环工62分数统计!AM29*环工62分数统计!AM$3/130","v":0.6923076923076923},{"$f":"环工62分数统计!AN29*环工62分数统计!AN$3/130","v":1.3846153846153846},{"$f":"环工62分数统计!AO29*环工62分数统计!AO$3/130","v":1.4076923076923078},{"$f":"环工62分数统计!AP29*环工62分数统计!AP$3/130","v":0.8769230769230769},{"$f":"环工62分数统计!AQ29*环工62分数统计!AQ$3/130","v":1.523076923076923},{"$f":"环工62分数统计!AR29*环工62分数统计!AR$3/130","v":1.1538461538461537},{"$f":"环工62分数统计!AS29*环工62分数统计!AS$3/130","v":1.2769230769230768},{"$f":"环工62分数统计!AT29*环工62分数统计!AT$3/130","v":1.5061538461538462},0,{"$f":"环工62分数统计!AV29*环工62分数统计!AV$3/130","v":1.3076923076923077},{"$f":"环工62分数统计!AW29*环工62分数统计!AW$3/130","v":0.47692307692307695},{"$f":"环工62分数统计!AX29*环工62分数统计!AX$3/130","v":1.1384615384615384},{"$f":"环工62分数统计!AY29*环工62分数统计!AY$3/130","v":1.323076923076923},{"$f":"环工62分数统计!AZ29*环工62分数统计!AZ$3/130","v":0.8461538461538461},{"$f":"环工62分数统计!BA29*环工62分数统计!BA$3/130","v":1.0307692307692307},{"$f":"环工62分数统计!BB29*环工62分数统计!BB$3/130","v":0.9},{"$f":"环工62分数统计!BC29*环工62分数统计!BC$3/130","v":1.5692307692307692},{"$f":"环工62分数统计!BD29*环工62分数统计!BD$3/130","v":0.9576923076923077},{"$f":"环工62分数统计!BE29*环工62分数统计!BE$3/130","v":1.0307692307692307},{"$f":"环工62分数统计!BF29*环工62分数统计!BF$3/130","v":0.6307692307692307},{"$f":"环工62分数统计!BG29*环工62分数统计!BG$3/130","v":0.3192307692307692},{"$f":"环工62分数统计!BH29*环工62分数统计!BH$3/130","v":0.9692307692307692},{"$f":"环工62分数统计!BI29*环工62分数统计!BI$3/130","v":1.2307692307692308},{"$f":"环工62分数统计!BJ29*环工62分数统计!BJ$3/130","v":0.8769230769230769},{"$f":"环工62分数统计!BK29*环工62分数统计!BK$3/130","v":0.46153846153846156},{"$f":"SUM(D29:BG29)","v":69.98076923076923},48.98653846153846,{"$f":"环工62综测统计!C28","v":{"v":78.5774934682479,"d":"78.5775"}},{"$f":"环工62综测统计!D28","v":{"v":74.2525044289044,"d":"74.2525"}},{"$f":"环工62综测统计!E28","v":{"v":74.04335809018568,"d":"74.0434"}},{"v":226.87335598733796,"d":"226.8734"},{"$f":"BM29/'环工16-1两年综测'!$BG$8*100","v":65.62658688527927},13.125317377055854,62.11185583859431]