{"text_format":"3","workbook":"xlsx","n_sheets":1,"sheets":["Sheet1"],"not_rendered":{"external_links":1},"read":"whole","date_system":"1900"}

{"sheet":"Sheet1","index":0,"n_rows":64,"n_cols":23,"rows_kept":64,"merged":[[0,0,0,22],[1,0,2,0],[1,1,2,1],[1,2,2,2],[1,3,1,8],[1,9,1,14],[1,15,1,19],[1,21,2,21],[1,22,2,22]]}
["中国石油大学（北京）化学工程学院2020级研究生综合测评汇总表"]
["学号","姓名","方向（工艺学硕、工艺专硕、工程学硕、工程专硕、催化学硕、催化专硕、环工学硕、环工专硕、环科学硕、国际班）","德育成绩",{"$nulls":5},"智育成绩",{"$nulls":5},"文体成绩",{"$nulls":5},"总分","排名"]
[{"$nulls":3},"基础分","奖励分","惩罚分","个人德育总分","个人德育总分/基准","德育总成绩","学习成绩分","奖励分","惩罚分","个人智育总分","个人智育总分/基准","智育总成绩","基本分","奖励分","惩罚分","个人文体总 分","总分/基准","文体总成绩"]
["2020310205","甘永豪","化工博20",{"$f":"[1]德育基础分!BN6","v":{"v":97.28360655737704,"d":"97.2836066"}},{"$f":"[1]德育加分!AF7","v":4.8},{"$f":"[1]德育扣分!K6","v":0},{"$f":"D4+E4+F4","v":{"v":102.08360655737704,"d":"102.0836066"}},{"$f":"G4/108.8262295","v":{"v":0.9380422994198935,"d":"0.9380423"}},{"$f":"H4*100","v":93.80422994198935},{"$f":"[1]学习成绩!E5","v":{"v":91.4,"d":"91.4000000"}},{"$f":"[1]智育加分!CR6","v":{"v":34.583333333333336,"d":"34.5833333"}},0,{"$f":"J4+K4+L4","v":{"v":125.98333333333335,"d":"125.9833333"}},{"$f":"M4/125.9833333","v":{"v":1.0000000002645855,"d":"1.000000000"}},{"$f":"100*N4","v":{"v":100.00000002645855,"d":"100.00000003"}},100,{"$f":"[1]文体加分!N8","v":0},0,{"$f":"P4+Q4+R4","v":100},{"$f":"S4/105","v":0.9523809523809523},{"$f":"100*T4","v":{"v":95.23809523809523,"d":"95.2380952"}},{"$f":"0.2*I4+0.7*O4+0.1*U4","v":{"v":98.28465553072837,"d":"98.28465553"}},1]
["2020310251","陈政宇","化工博20",{"$f":"[1]德育基础分!BN52","v":{"v":97.18032786885244,"d":"97.1803279"}},{"$f":"[1]德育加分!AF53","v":4},{"$f":"[1]德育扣分!K52","v":0},{"v":101.18032786885244,"d":"101.1803279"},{"v":0.9297421066017219,"d":"0.9297421"},92.97421066017219,{"$f":"[1]学习成绩!E51","v":{"v":92.44,"d":"92.4400000"}},{"$f":"[1]智育加分!CR52","v":{"v":26.86309523809524,"d":"26.8630952"}},0,{"v":119.30309523809524,"d":"119.3030952"},{"v":0.9469752237306078,"d":"0.946975224"},{"v":94.69752237306078,"d":"94.69752237"},100,{"$f":"[1]文体加分!N54","v":0},0,100,0.9523809523809523,{"v":95.23809523809523,"d":"95.2380952"},{"v":94.40691731698651,"d":"94.40691732"},2]
["2020310253","黄文斌","化工博20",{"$f":"[1]德育基础分!BN54","v":{"v":97.22622950819671,"d":"97.2262295"}},{"$f":"[1]德育加分!AF55","v":6},{"$f":"[1]德育扣分!K54","v":0},{"v":103.22622950819671,"d":"103.2262295"},{"v":0.9485418173768183,"d":"0.9485418"},94.85418173768183,{"$f":"[1]学习成绩!E53","v":{"v":90.61999999999999,"d":"90.6200000"}},{"$f":"[1]智育加分!CR54","v":{"v":22.928571428571427,"d":"22.9285714"}},0,{"v":113.54857142857142,"d":"113.5485714"},{"v":0.9012983579199474,"d":"0.901298358"},{"v":90.12983579199474,"d":"90.12983579"},100,{"$f":"[1]文体加分!N56","v":0},0,100,0.9523809523809523,{"v":95.23809523809523,"d":"95.2380952"},{"v":91.58553092574219,"d":"91.58553093"},3]
["2020310250","张国豪","化工博20",{"$f":"[1]德育基础分!BN51","v":{"v":97.28360655737704,"d":"97.2836066"}},{"$f":"[1]德育加分!AF52","v":7.5},{"$f":"[1]德育扣分!K51","v":0},{"v":104.78360655737704,"d":"104.7836066"},{"v":0.9628524946495279,"d":"0.9628525"},96.2852494649528,{"$f":"[1]学习成绩!E50","v":{"v":90.44999999999999,"d":"90.4500000"}},{"$f":"[1]智育加分!CR51","v":{"v":20.738095238095237,"d":"20.7380952"}},0,{"v":111.18809523809523,"d":"111.1880952"},{"v":0.8825619415333824,"d":"0.882561942"},{"v":88.25619415333824,"d":"88.25619415"},100,{"$f":"[1]文体加分!N53","v":0},0,100,0.9523809523809523,{"v":95.23809523809523,"d":"95.2380952"},{"v":90.56019532413684,"d":"90.56019532"},4]
["2020310215","国欣","化工博20",{"$f":"[1]德育基础分!BN16","v":{"v":97.22622950819671,"d":"97.2262295"}},{"$f":"[1]德育加分!AF17","v":4.8},{"$f":"[1]德育扣分!K16","v":0},{"v":102.0262295081967,"d":"102.0262295"},{"v":0.9375150639414251,"d":"0.9375151"},93.75150639414251,{"$f":"[1]学习成绩!E15","v":{"v":87.56,"d":"87.5600000"}},{"$f":"[1]智育加分!CR16","v":{"v":15,"d":"15.0000000"}},0,{"v":102.56,"d":"102.5600000"},{"v":0.814075936185759,"d":"0.814075936"},{"v":81.4075936185759,"d":"81.40759362"},100,{"$f":"[1]文体加分!N18","v":0.5},0,100.5,0.9571428571428572,{"v":95.71428571428572,"d":"95.7142857"},{"v":85.30704538326019,"d":"85.30704538"},5]
["2020310237","李运运","化工博20",{"$f":"[1]德育基础分!BN38","v":{"v":97.22622950819671,"d":"97.2262295"}},{"$f":"[1]德育加分!AF39","v":0},{"$f":"[1]德育扣分!K38","v":0},{"v":97.22622950819671,"d":"97.2262295"},{"v":0.8934080501998529,"d":"0.8934081"},89.3408050199853,{"$f":"[1]学习成绩!E37","v":{"v":85.25,"d":"85.2500000"}},{"$f":"[1]智育加分!CR38","v":{"v":17.857142857142854,"d":"17.8571429"}},0,{"v":103.10714285714286,"d":"103.1071429"},{"v":0.8184189142830282,"d":"0.818418914"},{"v":81.84189142830282,"d":"81.84189143"},100,{"$f":"[1]文体加分!N40","v":0},0,100,0.9523809523809523,{"v":95.23809523809523,"d":"95.2380952"},{"v":84.68129452761855,"d":"84.68129453"},6]
["2020310227","吕涵","化工博20",{"$f":"[1]德育基础分!BN28","v":{"v":97.24918032786884,"d":"97.2491803"}},{"$f":"[1]德育加分!AF29","v":0},{"$f":"[1]德育扣分!K28","v":0},{"v":97.24918032786884,"d":"97.2491803"},{"v":0.8936189443912402,"d":"0.8936189"},89.36189443912403,{"$f":"[1]学习成绩!E27","v":{"v":95.3,"d":"95.3000000"}},{"$f":"[1]智育加分!CR28","v":{"v":6.083333333333333,"d":"6.0833333"}},0,{"v":101.38333333333333,"d":"101.3833333"},{"v":0.8047360764134769,"d":"0.804736076"},{"v":80.47360764134768,"d":"80.47360764"},100,{"$f":"[1]文体加分!N30","v":0},0,100,0.9523809523809523,{"v":95.23809523809523,"d":"95.2380952"},{"v":83.7277137605777,"d":"83.72771376"},7]
["2020310221","黄子轩","化工博20",{"$f":"[1]德育基础分!BN22","v":{"v":97.22622950819671,"d":"97.2262295"}},{"$f":"[1]德育加分!AF23","v":3},{"$f":"[1]德育扣分!K22","v":0},{"v":100.22622950819671,"d":"100.2262295"},{"v":0.9209749337883356,"d":"0.9209749"},92.09749337883356,{"$f":"[1]学习成绩!E21","v":{"v":90.67999999999999,"d":"90.6800000"}},{"$f":"[1]智育加分!CR22","v":{"v":8.75,"d":"8.7500000"}},0,{"v":99.42999999999999,"d":"99.4300000"},{"v":0.7892313800209634,"d":"0.789231380"},{"v":78.92313800209634,"d":"78.92313800"},100,{"$f":"[1]文体加分!N24","v":0},0,100,0.9523809523809523,{"v":95.23809523809523,"d":"95.2380952"},{"v":83.18950480104367,"d":"83.18950480"},8]
["2020310240","党法璐","化工博20",{"$f":"[1]德育基础分!BN41","v":{"v":97.26065573770491,"d":"97.2606557"}},{"$f":"[1]德育加分!AF42","v":6},{"$f":"[1]德育扣分!K41","v":0},{"v":103.26065573770491,"d":"103.2606557"},{"v":0.9488581586638992,"d":"0.9488582"},94.88581586638992,{"$f":"[1]学习成绩!E40","v":{"v":92.55,"d":"92.5500000"}},{"$f":"[1]智育加分!CR41","v":{"v":3.625,"d":"3.6250000"}},0,{"v":96.175,"d":"96.1750000"},{"v":0.7633946291211522,"d":"0.763394629"},{"v":76.33946291211522,"d":"76.33946291"},100,{"$f":"[1]文体加分!N43","v":0},0,100,0.9523809523809523,{"v":95.23809523809523,"d":"95.2380952"},{"v":81.93859673556815,"d":"81.93859674"},9]
["2020310241","张莹","化工博20",{"$f":"[1]德育基础分!BN42","v":{"v":97.21475409836064,"d":"97.2147541"}},{"$f":"[1]德育加分!AF43","v":0},{"$f":"[1]德育扣分!K42","v":0},{"v":97.21475409836064,"d":"97.2147541"},{"v":0.8933026031041592,"d":"0.8933026"},89.33026031041592,{"$f":"[1]学习成绩!E41","v":{"v":92.76,"d":"92.7600000"}},{"$f":"[1]智育加分!CR42","v":{"v":5.196428571428571,"d":"5.1964286"}},0,{"v":97.95642857142857,"d":"97.9564286"},{"v":0.7775348215161773,"d":"0.777534822"},{"v":77.75348215161773,"d":"77.75348215"},100,{"$f":"[1]文体加分!N44","v":0},0,100,0.9523809523809523,{"v":95.23809523809523,"d":"95.2380952"},{"v":81.81729909202511,"d":"81.81729909"},10]
["2020310208","王恩华","化工博20",{"$f":"[1]德育基础分!BN9","v":{"v":97.23770491803279,"d":"97.2377049"}},{"$f":"[1]德育加分!AF10","v":4.6},{"$f":"[1]德育扣分!K9","v":0},{"v":101.83770491803278,"d":"101.8377049"},{"v":0.9357827187978868,"d":"0.9357827"},93.57827187978867,{"$f":"[1]学习成绩!E8","v":{"v":90.91999999999999,"d":"90.9200000"}},{"$f":"[1]智育加分!CR9","v":{"v":4.277777777777778,"d":"4.2777778"}},0,{"v":95.19777777777776,"d":"95.1977778"},{"v":0.7556378711705174,"d":"0.755637871"},{"v":75.56378711705175,"d":"75.56378712"},100,{"$f":"[1]文体加分!N11","v":0},0,100,0.9523809523809523,{"v":95.23809523809523,"d":"95.2380952"},{"v":81.13411488170347,"d":"81.13411488"},11]
["2020310248","刘玉洁","化工博20",{"$f":"[1]德育基础分!BN49","v":{"v":97.22622950819671,"d":"97.2262295"}},{"$f":"[1]德育加分!AF50","v":11.6},{"$f":"[1]德育扣分!K49","v":0},{"v":108.8262295081967,"d":"108.8262295"},{"v":1.0000000000753193,"d":"1.0000000"},100.00000000753192,{"$f":"[1]学习成绩!E48","v":{"v":84.38,"d":"84.3800000"}},{"$f":"[1]智育加分!CR49","v":{"v":7.321428571428571,"d":"7.3214286"}},0,{"v":91.70142857142856,"d":"91.7014286"},{"v":0.7278853969759869,"d":"0.727885397"},{"v":72.78853969759868,"d":"72.78853970"},100,{"$f":"[1]文体加分!N51","v":5},0,105,1,{"v":100,"d":"100.0000000"},{"v":80.95197778982546,"d":"80.95197779"},12]
["2020310226","刘堉学","化工博20",{"$f":"[1]德育基础分!BN27","v":{"v":97.24918032786884,"d":"97.2491803"}},{"$f":"[1]德育加分!AF28","v":0},{"$f":"[1]德育扣分!K27","v":0},{"v":97.24918032786884,"d":"97.2491803"},{"v":0.8936189443912402,"d":"0.8936189"},89.36189443912403,{"$f":"[1]学习成绩!E26","v":{"v":93.94,"d":"93.9400000"}},{"$f":"[1]智育加分!CR27","v":{"v":2.083333333333333,"d":"2.0833333"}},0,{"v":96.02333333333333,"d":"96.0233333"},{"v":0.7621907661759997,"d":"0.762190766"},{"v":76.21907661759997,"d":"76.21907662"},100,{"$f":"[1]文体加分!N29","v":0},0,100,0.9523809523809523,{"v":95.23809523809523,"d":"95.2380952"},{"v":80.74954204395429,"d":"80.74954204"},13]
["2020310206","张瑞航","化工博20",{"$f":"[1]德育基础分!BN7","v":{"v":97.22622950819671,"d":"97.2262295"}},{"$f":"[1]德育加分!AF8","v":3},{"$f":"[1]德育扣分!K7","v":0},{"v":100.22622950819671,"d":"100.2262295"},{"v":0.9209749337883356,"d":"0.9209749"},92.09749337883356,{"$f":"[1]学习成绩!E6","v":{"v":93.34,"d":"93.3400000"}},{"$f":"[1]智育加分!CR7","v":{"v":1.5,"d":"1.5000000"}},0,{"v":94.84,"d":"94.8400000"},{"v":0.7527979893511835,"d":"0.752797989"},{"v":75.27979893511835,"d":"75.27979894"},100,{"$f":"[1]文体加分!N9","v":0},0,100,0.9523809523809523,{"v":95.23809523809523,"d":"95.2380952"},{"v":80.63916745415908,"d":"80.63916745"},14]
["2020310224","韩旭","化工博20",{"$f":"[1]德育基础分!BN25","v":{"v":97.28360655737704,"d":"97.2836066"}},{"$f":"[1]德育加分!AF26","v":6.8},{"$f":"[1]德育扣分!K25","v":0},{"v":104.08360655737704,"d":"104.0836066"},{"v":0.9564202218122152,"d":"0.9564202"},95.64202218122152,{"$f":"[1]学习成绩!E24","v":{"v":93.34,"d":"93.3400000"}},{"$f":"[1]智育加分!CR25","v":{"v":0,"d":"0.0000000"}},0,{"v":93.34,"d":"93.3400000"},{"v":0.740891652530994,"d":"0.740891653"},{"v":74.0891652530994,"d":"74.08916525"},100,{"$f":"[1]文体加分!N27","v":0.5},0,100.5,0.9571428571428572,{"v":95.71428571428572,"d":"95.7142857"},{"v":80.56224868484244,"d":"80.56224868"},15]
["2020310210","崔怡洲","化工博20",{"$f":"[1]德育基础分!BN11","v":{"v":97.24918032786884,"d":"97.2491803"}},{"$f":"[1]德育加分!AF12","v":4.6},{"$f":"[1]德育扣分!K11","v":0},{"v":101.84918032786884,"d":"101.8491803"},{"v":0.9358881658935803,"d":"0.9358882"},93.58881658935803,{"$f":"[1]学习成绩!E10","v":{"v":88.8,"d":"88.8000000"}},{"$f":"[1]智育加分!CR11","v":{"v":4.25,"d":"4.2500000"}},0,{"v":93.05,"d":"93.0500000"},{"v":0.7385897607457573,"d":"0.738589761"},{"v":73.85897607457574,"d":"73.85897607"},100,{"$f":"[1]文体加分!N13","v":0},0,100,0.9523809523809523,{"v":95.23809523809523,"d":"95.2380952"},{"v":79.94285609388413,"d":"79.94285609"},16]
["2020310252","李双莹","化工博20",{"$f":"[1]德育基础分!BN53","v":{"v":97.23770491803279,"d":"97.2377049"}},{"$f":"[1]德育加分!AF54","v":0},{"$f":"[1]德育扣分!K53","v":0},{"v":97.23770491803279,"d":"97.2377049"},{"v":0.8935134972955466,"d":"0.8935135"},89.35134972955467,{"$f":"[1]学习成绩!E52","v":{"v":87.42,"d":"87.4200000"}},{"$f":"[1]智育加分!CR53","v":{"v":7.054112554112554,"d":"7.0541126"}},0,{"v":94.47411255411255,"d":"94.4741126"},{"v":0.7498937365718402,"d":"0.749893737"},{"v":74.98937365718402,"d":"74.98937366"},100,{"$f":"[1]文体加分!N55","v":0},0,100,0.9523809523809523,{"v":95.23809523809523,"d":"95.2380952"},{"v":79.88664102974926,"d":"79.88664103"},17]
["2020310231","马桂璇","化工博20",{"$f":"[1]德育基础分!BN32","v":{"v":97.29508196721311,"d":"97.2950820"}},{"$f":"[1]德育加分!AF33","v":4},{"$f":"[1]德育扣分!K32","v":0},{"v":101.29508196721311,"d":"101.2950820"},{"v":0.9307965775586584,"d":"0.9307966"},93.07965775586584,{"$f":"[1]学习成绩!E31","v":{"v":92.9,"d":"92.9000000"}},{"$f":"[1]智育加分!CR32","v":{"v":0,"d":"0.0000000"}},0,{"v":92.9,"d":"92.9000000"},{"v":0.7373991270637384,"d":"0.737399127"},{"v":73.73991270637384,"d":"73.73991271"},100,{"$f":"[1]文体加分!N34","v":0},0,100,0.9523809523809523,{"v":95.23809523809523,"d":"95.2380952"},{"v":79.75767996944438,"d":"79.75767997"},18]
["2020310228","孙悦","化工博20",{"$f":"[1]德育基础分!BN29","v":{"v":97.21475409836064,"d":"97.2147541"}},{"$f":"[1]德育加分!AF30","v":3},{"$f":"[1]德育扣分!K29","v":0},{"v":100.21475409836064,"d":"100.2147541"},{"v":0.9208694866926419,"d":"0.9208695"},92.08694866926419,{"$f":"[1]学习成绩!E28","v":{"v":92.5,"d":"92.5000000"}},{"$f":"[1]智育加分!CR29","v":{"v":0,"d":"0.0000000"}},0,{"v":92.5,"d":"92.5000000"},{"v":0.7342241039116878,"d":"0.734224104"},{"v":73.42241039116878,"d":"73.42241039"},100,{"$f":"[1]文体加分!N31","v":0},0,100,0.9523809523809523,{"v":95.23809523809523,"d":"95.2380952"},{"v":79.3368865314805,"d":"79.33688653"},19]
["2020310229","崔家馨","化工博20",{"$f":"[1]德育基础分!BN30","v":{"v":97.26065573770491,"d":"97.2606557"}},{"$f":"[1]德育加分!AF31","v":0},{"$f":"[1]德育扣分!K30","v":0},{"v":97.26065573770491,"d":"97.2606557"},{"v":0.8937243914869338,"d":"0.8937244"},89.37243914869339,{"$f":"[1]学习成绩!E29","v":{"v":92.95,"d":"92.9500000"}},{"$f":"[1]智育加分!CR30","v":{"v":0,"d":"0.0000000"}},0,{"v":92.95,"d":"92.9500000"},{"v":0.7377960049577447,"d":"0.737796005"},{"v":73.77960049577446,"d":"73.77960050"},100,{"$f":"[1]文体加分!N32","v":0},0,100,0.9523809523809523,{"v":95.23809523809523,"d":"95.2380952"},{"v":79.04401770059032,"d":"79.04401770"},20]
["2020310217","玄雪梅","化工博20",{"$f":"[1]德育基础分!BN18","v":{"v":97.28360655737704,"d":"97.2836066"}},{"$f":"[1]德育加分!AF19","v":3},{"$f":"[1]德育扣分!K18","v":0},{"v":100.28360655737704,"d":"100.2836066"},{"v":0.9215021692668038,"d":"0.9215022"},92.15021692668039,{"$f":"[1]学习成绩!E17","v":{"v":86.34,"d":"86.3400000"}},{"$f":"[1]智育加分!CR18","v":{"v":5.25,"d":"5.2500000"}},0,{"v":91.59,"d":"91.5900000"},{"v":0.7270009262407728,"d":"0.727000926"},{"v":72.70009262407729,"d":"72.70009262"},100,{"$f":"[1]文体加分!N20","v":0},0,100,0.9523809523809523,{"v":95.23809523809523,"d":"95.2380952"},{"v":78.84391774599969,"d":"78.84391775"},21]
["2020310249","魏晨浩","化工博20",{"$f":"[1]德育基础分!BN50","v":{"v":97.23770491803279,"d":"97.2377049"}},{"$f":"[1]德育加分!AF51","v":3.5},{"$f":"[1]德育扣分!K50","v":0},{"v":100.73770491803279,"d":"100.7377049"},{"v":0.9256748614821099,"d":"0.9256749"},92.56748614821099,{"$f":"[1]学习成绩!E49","v":{"v":91.22,"d":"91.2200000"}},{"$f":"[1]智育加分!CR50","v":{"v":0,"d":"0.0000000"}},0,{"v":91.22,"d":"91.2200000"},{"v":0.7240640298251261,"d":"0.724064030"},{"v":72.4064029825126,"d":"72.40640298"},100,{"$f":"[1]文体加分!N52","v":0},0,100,0.9523809523809523,{"v":95.23809523809523,"d":"95.2380952"},{"v":78.72178884121053,"d":"78.72178884"},22]
["2020310218","郭润","化工博20",{"$f":"[1]德育基础分!BN19","v":{"v":97.14590163934426,"d":"97.1459016"}},{"$f":"[1]德育加分!AF20","v":0},{"$f":"[1]德育扣分!K19","v":0},{"v":97.14590163934426,"d":"97.1459016"},{"v":0.8926699205299974,"d":"0.8926699"},89.26699205299974,{"$f":"[1]学习成绩!E18","v":{"v":88.35,"d":"88.3500000"}},{"$f":"[1]智育加分!CR19","v":{"v":3.75,"d":"3.7500000"}},0,{"v":92.1,"d":"92.1000000"},{"v":0.7310490807596373,"d":"0.731049081"},{"v":73.10490807596372,"d":"73.10490808"},100,{"$f":"[1]文体加分!N21","v":0},0,100,0.9523809523809523,{"v":95.23809523809523,"d":"95.2380952"},{"v":78.55064358758406,"d":"78.55064359"},23]
["2020310254","刘昊然","化工博20",{"$f":"[1]德育基础分!BN55","v":{"v":97.23770491803279,"d":"97.2377049"}},{"$f":"[1]德育加分!AF56","v":3},{"$f":"[1]德育扣分!K55","v":0},{"v":100.23770491803279,"d":"100.2377049"},{"v":0.9210803808840293,"d":"0.9210804"},92.10803808840294,{"$f":"[1]学习成绩!E54","v":{"v":90.64,"d":"90.6400000"}},{"$f":"[1]智育加分!CR55","v":{"v":0.375,"d":"0.3750000"}},0,{"v":91.015,"d":"91.0150000"},{"v":0.7224368304597002,"d":"0.722436830"},{"v":72.24368304597002,"d":"72.24368305"},100,{"$f":"[1]文体加分!N57","v":0},0,100,0.9523809523809523,{"v":95.23809523809523,"d":"95.2380952"},{"v":78.51599527366912,"d":"78.51599527"},24]
["2020310239","祝一健","化工博20",{"$f":"[1]德育基础分!BN40","v":{"v":97.23770491803279,"d":"97.2377049"}},{"$f":"[1]德育加分!AF41","v":3},{"$f":"[1]德育扣分!K40","v":0},{"v":100.23770491803279,"d":"100.2377049"},{"v":0.9210803808840293,"d":"0.9210804"},92.10803808840294,{"$f":"[1]学习成绩!E39","v":{"v":90.7,"d":"90.7000000"}},{"$f":"[1]智育加分!CR40","v":{"v":0,"d":"0.0000000"}},0,{"v":90.7,"d":"90.7000000"},{"v":0.7199364997274604,"d":"0.719936500"},{"v":71.99364997274604,"d":"71.99364997"},100,{"$f":"[1]文体加分!N42","v":0},0,100,0.9523809523809523,{"v":95.23809523809523,"d":"95.2380952"},{"v":78.34097212241234,"d":"78.34097212"},25]
["2020310219","赵云鹏","化工博20",{"$f":"[1]德育基础分!BN20","v":{"v":97.24918032786884,"d":"97.2491803"}},{"$f":"[1]德育加分!AF21","v":4},{"$f":"[1]德育扣分!K20","v":0},{"v":101.24918032786884,"d":"101.2491803"},{"v":0.9303747891758838,"d":"0.9303748"},93.03747891758837,{"$f":"[1]学习成绩!E19","v":{"v":90.14999999999999,"d":"90.1500000"}},{"$f":"[1]智育加分!CR20","v":{"v":0.125,"d":"0.1250000"}},0,{"v":90.27499999999999,"d":"90.2750000"},{"v":0.7165630376284067,"d":"0.716563038"},{"v":71.65630376284066,"d":"71.65630376"},100,{"$f":"[1]文体加分!N22","v":0},0,100,0.9523809523809523,{"v":95.23809523809523,"d":"95.2380952"},{"v":78.29071794131565,"d":"78.29071794"},26]
["2020310247","刘洪辰","化工博20",{"$f":"[1]德育基础分!BN48","v":{"v":97.20327868852459,"d":"97.2032787"}},{"$f":"[1]德育加分!AF49","v":0},{"$f":"[1]德育扣分!K48","v":0},{"v":97.20327868852459,"d":"97.2032787"},{"v":0.8931971560084657,"d":"0.8931972"},89.31971560084658,{"$f":"[1]学习成绩!E47","v":{"v":89.30000000000001,"d":"89.3000000"}},{"$f":"[1]智育加分!CR48","v":{"v":2.272727272727273,"d":"2.2727273"}},0,{"v":91.57272727272728,"d":"91.5727273"},{"v":0.726863822968298,"d":"0.726863823"},{"v":72.6863822968298,"d":"72.68638230"},100,{"$f":"[1]文体加分!N50","v":0},0,100,0.9523809523809523,{"v":95.23809523809523,"d":"95.2380952"},{"v":78.26822025175969,"d":"78.26822025"},27]
["2020310235","张强","化工博20",{"$f":"[1]德育基础分!BN36","v":{"v":97.22622950819671,"d":"97.2262295"}},{"$f":"[1]德育加分!AF37","v":4.6},{"$f":"[1]德育扣分!K36","v":0},{"v":101.8262295081967,"d":"101.8262295"},{"v":0.935677271702193,"d":"0.9356773"},93.5677271702193,{"$f":"[1]学习成绩!E35","v":{"v":90.02,"d":"90.0200000"}},{"$f":"[1]智育加分!CR36","v":{"v":0,"d":"0.0000000"}},0,{"v":90.02,"d":"90.0200000"},{"v":0.7145389603689745,"d":"0.714538960"},{"v":71.45389603689745,"d":"71.45389604"},100,{"$f":"[1]文体加分!N38","v":0},0,100,0.9523809523809523,{"v":95.23809523809523,"d":"95.2380952"},{"v":78.2550821836816,"d":"78.25508218"},28]
["2020310223","孔双祝","化工博20",{"$f":"[1]德育基础分!BN24","v":{"v":97.18032786885244,"d":"97.1803279"}},{"$f":"[1]德育加分!AF25","v":4.6},{"$f":"[1]德育扣分!K24","v":0},{"v":101.78032786885244,"d":"101.7803279"},{"v":0.9352554833194183,"d":"0.9352555"},93.52554833194183,{"$f":"[1]学习成绩!E23","v":{"v":89.30000000000001,"d":"89.3000000"}},{"$f":"[1]智育加分!CR24","v":{"v":0.5,"d":"0.5000000"}},0,{"v":89.80000000000001,"d":"89.8000000"},{"v":0.7127926976353468,"d":"0.712792698"},{"v":71.27926976353469,"d":"71.27926976"},100,{"$f":"[1]文体加分!N26","v":0},0,100,0.9523809523809523,{"v":95.23809523809523,"d":"95.2380952"},{"v":78.12440802467216,"d":"78.12440802"},29]
["2020310204","胡尊龙","化工博20",{"$f":"[1]德育基础分!BN5","v":{"v":97.24918032786884,"d":"97.2491803"}},{"$f":"[1]德育加分!AF6","v":0},{"$f":"[1]德育扣分!K5","v":0},{"v":97.24918032786884,"d":"97.2491803"},{"v":0.8936189443912402,"d":"0.8936189"},89.36189443912403,{"$f":"[1]学习成绩!E4","v":{"v":91.27499999999999,"d":"91.2750000"}},{"$f":"[1]智育加分!CR5","v":{"v":0,"d":"0.0000000"}},0,{"v":91.27499999999999,"d":"91.2750000"},{"v":0.724500595508533,"d":"0.724500596"},{"v":72.4500595508533,"d":"72.45005955"},100,{"$f":"[1]文体加分!N7","v":0},0,100,0.9523809523809523,{"v":95.23809523809523,"d":"95.2380952"},{"v":78.11123009723163,"d":"78.11123010"},30]
["2020310201","王雪","化工博20",{"$f":"[1]德育基础分!BN3","v":{"v":97.21475409836064,"d":"97.2147541"}},{"$f":"[1]德育加分!AF4","v":8},{"$f":"[1]德育扣分!K3","v":0},{"v":105.21475409836064,"d":"105.2147541"},{"v":0.9668142926734464,"d":"0.9668143"},96.68142926734464,{"$f":"[1]学习成绩!E2","v":{"v":87.80000000000001,"d":"87.8000000"}},{"$f":"[1]智育加分!CR3","v":{"v":0.375,"d":"0.3750000"}},0,{"v":88.17500000000001,"d":"88.1750000"},{"v":0.6998941660801414,"d":"0.699894166"},{"v":69.98941660801414,"d":"69.98941661"},100,{"$f":"[1]文体加分!N5","v":0},0,100,0.9523809523809523,{"v":95.23809523809523,"d":"95.2380952"},{"v":77.85268700288835,"d":"77.85268700"},31]
["2020310242","葛思达","化工博20",{"$f":"[1]德育基础分!BN43","v":{"v":97.22622950819671,"d":"97.2262295"}},{"$f":"[1]德育加分!AF44","v":3},{"$f":"[1]德育扣分!K43","v":0},{"v":100.22622950819671,"d":"100.2262295"},{"v":0.9209749337883356,"d":"0.9209749"},92.09749337883356,{"$f":"[1]学习成绩!E42","v":{"v":89.8,"d":"89.8000000"}},{"$f":"[1]智育加分!CR43","v":{"v":0,"d":"0.0000000"}},0,{"v":89.8,"d":"89.8000000"},{"v":0.7127926976353467,"d":"0.712792698"},{"v":71.27926976353467,"d":"71.27926976"},100,{"$f":"[1]文体加分!N45","v":0},0,100,0.9523809523809523,{"v":95.23809523809523,"d":"95.2380952"},{"v":77.8387970340505,"d":"77.83879703"},32]
["2020310234","李国省","化工博20",{"$f":"[1]德育基础分!BN35","v":{"v":97.21475409836064,"d":"97.2147541"}},{"$f":"[1]德育加分!AF36","v":4},{"$f":"[1]德育扣分!K35","v":0},{"v":101.21475409836064,"d":"101.2147541"},{"v":0.9300584478888029,"d":"0.9300584"},93.00584478888028,{"$f":"[1]学习成绩!E34","v":{"v":89,"d":"89.0000000"}},{"$f":"[1]智育加分!CR35","v":{"v":0,"d":"0.0000000"}},0,{"v":89,"d":"89.0000000"},{"v":0.7064426513312456,"d":"0.706442651"},{"v":70.64426513312456,"d":"70.64426513"},100,{"$f":"[1]文体加分!N37","v":0},0,100,0.9523809523809523,{"v":95.23809523809523,"d":"95.2380952"},{"v":77.57596407477277,"d":"77.57596407"},33]
["2020310214","傅达理","化工博20",{"$f":"[1]德育基础分!BN15","v":{"v":97.22622950819671,"d":"97.2262295"}},{"$f":"[1]德育加分!AF16","v":0},{"$f":"[1]德育扣分!K15","v":0},{"v":97.22622950819671,"d":"97.2262295"},{"v":0.8934080501998529,"d":"0.8934081"},89.3408050199853,{"$f":"[1]学习成绩!E14","v":{"v":90.25,"d":"90.2500000"}},{"$f":"[1]智育加分!CR15","v":{"v":0,"d":"0.0000000"}},0,{"v":90.25,"d":"90.2500000"},{"v":0.7163645986814036,"d":"0.716364599"},{"v":71.63645986814035,"d":"71.63645987"},100,{"$f":"[1]文体加分!N17","v":0},0,100,0.9523809523809523,{"v":95.23809523809523,"d":"95.2380952"},{"v":77.53749243550482,"d":"77.53749244"},34]
["2020310220","宋佳欣","化工博20",{"$f":"[1]德育基础分!BN21","v":{"v":97.26065573770491,"d":"97.2606557"}},{"$f":"[1]德育加分!AF22","v":0},{"$f":"[1]德育扣分!K21","v":0},{"v":97.26065573770491,"d":"97.2606557"},{"v":0.8937243914869338,"d":"0.8937244"},89.37243914869339,{"$f":"[1]学习成绩!E20","v":{"v":90.10000000000001,"d":"90.1000000"}},{"$f":"[1]智育加分!CR21","v":{"v":0,"d":"0.0000000"}},0,{"v":90.10000000000001,"d":"90.1000000"},{"v":0.7151739649993847,"d":"0.715173965"},{"v":71.51739649993847,"d":"71.51739650"},100,{"$f":"[1]文体加分!N23","v":0},0,100,0.9523809523809523,{"v":95.23809523809523,"d":"95.2380952"},{"v":77.46047490350513,"d":"77.46047490"},35]
["2020310233","丁禹","化工博20",{"$f":"[1]德育基础分!BN34","v":{"v":94.22622950819671,"d":"94.2262295"}},{"$f":"[1]德育加分!AF35","v":3},{"$f":"[1]德育扣分!K34","v":0},{"v":97.22622950819671,"d":"97.2262295"},{"v":0.8934080501998529,"d":"0.8934081"},89.3408050199853,{"$f":"[1]学习成绩!E33","v":{"v":90.02,"d":"90.0200000"}},{"$f":"[1]智育加分!CR34","v":{"v":0,"d":"0.0000000"}},0,{"v":90.02,"d":"90.0200000"},{"v":0.7145389603689745,"d":"0.714538960"},{"v":71.45389603689745,"d":"71.45389604"},100,{"$f":"[1]文体加分!N36","v":0},0,100,0.9523809523809523,{"v":95.23809523809523,"d":"95.2380952"},{"v":77.40969775363479,"d":"77.40969775"},36]
["2020310211","王尤佳","化工博20",{"$f":"[1]德育基础分!BN12","v":{"v":97.19180327868852,"d":"97.1918033"}},{"$f":"[1]德育加分!AF13","v":0.5},{"$f":"[1]德育扣分!K12","v":0},{"v":97.69180327868852,"d":"97.6918033"},{"v":0.8976861895108526,"d":"0.8976862"},89.76861895108526,{"$f":"[1]学习成绩!E11","v":{"v":89.14,"d":"89.1400000"}},{"$f":"[1]智育加分!CR12","v":{"v":0,"d":"0.0000000"}},0,{"v":89.14,"d":"89.1400000"},{"v":0.7075539094344633,"d":"0.707553909"},{"v":70.75539094344633,"d":"70.75539094"},100,{"$f":"[1]文体加分!N14","v":0},0,100,0.9523809523809523,{"v":95.23809523809523,"d":"95.2380952"},{"v":77.006306974439,"d":"77.00630697"},37]
["2020310255","刘宗鹏","化工博20",{"$f":"[1]德育基础分!BN56","v":{"v":97.16885245901639,"d":"97.1688525"}},{"$f":"[1]德育加分!AF57","v":0},{"$f":"[1]德育扣分!K56","v":0},{"v":97.16885245901639,"d":"97.1688525"},{"v":0.8928808147213847,"d":"0.8928808"},89.28808147213847,{"v":89.14000000000001,"d":"89.1400000"},{"$f":"[1]智育加分!CR56","v":{"v":0,"d":"0.0000000"}},0,{"v":89.14000000000001,"d":"89.1400000"},{"v":0.7075539094344634,"d":"0.707553909"},{"v":70.75539094344634,"d":"70.75539094"},100,{"$f":"[1]文体加分!N58","v":0},0,100,0.9523809523809523,{"v":95.23809523809523,"d":"95.2380952"},{"v":76.91019947864966,"d":"76.91019948"},38]
["2020310245","张波","化工博20",{"$f":"[1]德育基础分!BN46","v":{"v":98.37377049180327,"d":"98.3737705"}},{"$f":"[1]德育加分!AF47","v":0},{"$f":"[1]德育扣分!K46","v":0},{"v":98.37377049180327,"d":"98.3737705"},{"v":0.9039527597692179,"d":"0.9039528"},90.39527597692178,{"$f":"[1]学习成绩!E45","v":{"v":88.67999999999999,"d":"88.6800000"}},{"$f":"[1]智育加分!CR46","v":{"v":0,"d":"0.0000000"}},0,{"v":88.67999999999999,"d":"88.6800000"},{"v":0.7039026328096051,"d":"0.703902633"},{"v":70.39026328096051,"d":"70.39026328"},100,{"$f":"[1]文体加分!N48","v":0},0,100,0.9523809523809523,{"v":95.23809523809523,"d":"95.2380952"},{"v":76.87604901586623,"d":"76.87604902"},39]
["2020310243","刘晗","化工博20",{"$f":"[1]德育基础分!BN44","v":{"v":97.21475409836064,"d":"97.2147541"}},{"$f":"[1]德育加分!AF45","v":2},{"$f":"[1]德育扣分!K44","v":-15},{"v":84.21475409836064,"d":"84.2147541"},{"v":0.7738461075540676,"d":"0.7738461"},77.38461075540675,{"$f":"[1]学习成绩!E43","v":{"v":93.34,"d":"93.3400000"}},{"$f":"[1]智育加分!CR44","v":{"v":0,"d":"0.0000000"}},0,{"v":93.34,"d":"93.3400000"},{"v":0.740891652530994,"d":"0.740891653"},{"v":74.0891652530994,"d":"74.08916525"},100,{"$f":"[1]文体加分!N46","v":0},0,100,0.9523809523809523,{"v":95.23809523809523,"d":"95.2380952"},{"v":76.86314735206044,"d":"76.86314735"},40]
["2020310213","王书琦","化工博20",{"$f":"[1]德育基础分!BN14","v":{"v":97.21475409836064,"d":"97.2147541"}},{"$f":"[1]德育加分!AF15","v":3},{"$f":"[1]德育扣分!K14","v":0},{"v":100.21475409836064,"d":"100.2147541"},{"v":0.9208694866926419,"d":"0.9208695"},92.08694866926419,{"$f":"[1]学习成绩!E13","v":{"v":87.97,"d":"87.9700000"}},{"$f":"[1]智育加分!CR14","v":{"v":0,"d":"0.0000000"}},0,{"v":87.97,"d":"87.9700000"},{"v":0.6982669667147154,"d":"0.698266967"},{"v":69.82669667147154,"d":"69.82669667"},100,{"$f":"[1]文体加分!N16","v":0},0,100,0.9523809523809523,{"v":95.23809523809523,"d":"95.2380952"},{"v":76.81988692769244,"d":"76.81988693"},41]
["2020310209","景仲雨","化工博20",{"$f":"[1]德育基础分!BN10","v":{"v":97.21475409836064,"d":"97.2147541"}},{"$f":"[1]德育加分!AF11","v":0},{"$f":"[1]德育扣分!K10","v":0},{"v":97.21475409836064,"d":"97.2147541"},{"v":0.8933026031041592,"d":"0.8933026"},89.33026031041592,{"$f":"[1]学习成绩!E9","v":{"v":88.84,"d":"88.8400000"}},{"$f":"[1]智育加分!CR10","v":{"v":0,"d":"0.0000000"}},0,{"v":88.84,"d":"88.8400000"},{"v":0.7051726420704254,"d":"0.705172642"},{"v":70.51726420704254,"d":"70.51726421"},100,{"$f":"[1]文体加分!N12","v":0},0,100,0.9523809523809523,{"v":95.23809523809523,"d":"95.2380952"},{"v":76.75194653082248,"d":"76.75194653"},42]
["2020310222","程锋","化工博20",{"$f":"[1]德育基础分!BN23","v":{"v":97.24918032786884,"d":"97.2491803"}},{"$f":"[1]德育加分!AF24","v":0},{"$f":"[1]德育扣分!K23","v":0},{"v":97.24918032786884,"d":"97.2491803"},{"v":0.8936189443912402,"d":"0.8936189"},89.36189443912403,{"$f":"[1]学习成绩!E22","v":{"v":88.28,"d":"88.2800000"}},{"$f":"[1]智育加分!CR23","v":{"v":0.5,"d":"0.5000000"}},0,{"v":88.78,"d":"88.7800000"},{"v":0.7046963885976179,"d":"0.704696389"},{"v":70.46963885976179,"d":"70.46963886"},100,{"$f":"[1]文体加分!N25","v":0},0,100,0.9523809523809523,{"v":95.23809523809523,"d":"95.2380952"},{"v":76.72493561346757,"d":"76.72493561"},43]
["2020310244","王雪杰","化工博20",{"$f":"[1]德育基础分!BN45","v":{"v":97.22622950819671,"d":"97.2262295"}},{"$f":"[1]德育加分!AF46","v":0},{"$f":"[1]德育扣分!K45","v":0},{"v":97.22622950819671,"d":"97.2262295"},{"v":0.8934080501998529,"d":"0.8934081"},89.3408050199853,{"$f":"[1]学习成绩!E44","v":{"v":83.25,"d":"83.2500000"}},{"$f":"[1]智育加分!CR45","v":{"v":5.330555555555556,"d":"5.3305556"}},0,{"v":88.58055555555555,"d":"88.5805556"},{"v":0.7031132867759703,"d":"0.703113287"},{"v":70.31132867759703,"d":"70.31132868"},100,{"$f":"[1]文体加分!N47","v":0},0,100,0.9523809523809523,{"v":95.23809523809523,"d":"95.2380952"},{"v":76.6099006021245,"d":"76.60990060"},44]
["2020315202","肖寒","化工博20",{"$f":"[1]德育基础分!BN58","v":{"v":97.18032786885244,"d":"97.1803279"}},{"$f":"[1]德育加分!AF59","v":0},{"$f":"[1]德育扣分!K58","v":0},{"v":97.18032786885244,"d":"97.1803279"},{"v":0.8929862618170783,"d":"0.8929863"},89.29862618170783,{"$f":"[1]学习成绩!E57","v":{"v":88.46666669999999,"d":"88.4666667"}},{"$f":"[1]智育加分!CR58","v":{"v":0,"d":"0.0000000"}},0,{"v":88.46666669999999,"d":"88.4666667"},{"v":0.7022092873930967,"d":"0.702209287"},{"v":70.22092873930967,"d":"70.22092874"},100,{"$f":"[1]文体加分!N60","v":0},0,100,0.9523809523809523,{"v":95.23809523809523,"d":"95.2380952"},{"v":76.53818487766785,"d":"76.53818488"},45]
["2020310232","李晓倩","化工博20",{"$f":"[1]德育基础分!BN33","v":{"v":97.22622950819671,"d":"97.2262295"}},{"$f":"[1]德育加分!AF34","v":3},{"$f":"[1]德育扣分!K33","v":0},{"v":100.22622950819671,"d":"100.2262295"},{"v":0.9209749337883356,"d":"0.9209749"},92.09749337883356,{"$f":"[1]学习成绩!E32","v":{"v":87.2,"d":"87.2000000"}},{"$f":"[1]智育加分!CR33","v":{"v":0,"d":"0.0000000"}},0,{"v":87.2,"d":"87.2000000"},{"v":0.6921550471470181,"d":"0.692155047"},{"v":69.21550471470181,"d":"69.21550471"},100,{"$f":"[1]文体加分!N35","v":0},0,100,0.9523809523809523,{"v":95.23809523809523,"d":"95.2380952"},{"v":76.3941614998675,"d":"76.39416150"},46]
["2020310216","王文涵","化工博20",{"$f":"[1]德育基础分!BN17","v":{"v":97.20327868852459,"d":"97.2032787"}},{"$f":"[1]德育加分!AF18","v":0},{"$f":"[1]德育扣分!K17","v":0},{"v":97.20327868852459,"d":"97.2032787"},{"v":0.8931971560084657,"d":"0.8931972"},89.31971560084658,{"$f":"[1]学习成绩!E16","v":{"v":87.8,"d":"87.8000000"}},{"$f":"[1]智育加分!CR17","v":{"v":0,"d":"0.0000000"}},0,{"v":87.8,"d":"87.8000000"},{"v":0.6969175818750939,"d":"0.696917582"},{"v":69.6917581875094,"d":"69.69175819"},100,{"$f":"[1]文体加分!N19","v":0},0,100,0.9523809523809523,{"v":95.23809523809523,"d":"95.2380952"},{"v":76.17198337523541,"d":"76.17198338"},47]
["2020315201","贾利娜","化工博20",{"$f":"[1]德育基础分!BN57","v":{"v":97.23770491803279,"d":"97.2377049"}},{"$f":"[1]德育加分!AF58","v":0},{"$f":"[1]德育扣分!K57","v":0},{"v":97.23770491803279,"d":"97.2377049"},{"v":0.8935134972955466,"d":"0.8935135"},89.35134972955467,{"$f":"[1]学习成绩!E56","v":{"v":86.483333333,"d":"86.4833333"}},{"$f":"[1]智育加分!CR57","v":{"v":0,"d":"0.0000000"}},0,{"v":86.483333333,"d":"86.4833333"},{"v":0.6864664639969484,"d":"0.686466464"},{"v":68.64664639969484,"d":"68.64664640"},100,{"$f":"[1]文体加分!N59","v":0},0,100,0.9523809523809523,{"v":95.23809523809523,"d":"95.2380952"},{"v":75.44673194950684,"d":"75.44673195"},48]
["2020310212","葛亚粉","化工博20",{"$f":"[1]德育基础分!BN13","v":{"v":97.19180327868852,"d":"97.1918033"}},{"$f":"[1]德育加分!AF14","v":0},{"$f":"[1]德育扣分!K13","v":0},{"v":97.19180327868852,"d":"97.1918033"},{"v":0.893091708912772,"d":"0.8930917"},89.3091708912772,{"$f":"[1]学习成绩!E12","v":{"v":85.64999999999999,"d":"85.6500000"}},{"$f":"[1]智育加分!CR13","v":{"v":0,"d":"0.0000000"}},0,{"v":85.64999999999999,"d":"85.6500000"},{"v":0.6798518324328222,"d":"0.679851832"},{"v":67.98518324328222,"d":"67.98518324"},100,{"$f":"[1]文体加分!N15","v":0},0,100,0.9523809523809523,{"v":95.23809523809523,"d":"95.2380952"},{"v":74.97527197236252,"d":"74.97527197"},49]
["2020310225","徐猛猛","化工博20",{"$f":"[1]德育基础分!BN26","v":{"v":97.29508196721311,"d":"97.2950820"}},{"$f":"[1]德育加分!AF27","v":3},{"$f":"[1]德育扣分!K26","v":0},{"v":100.29508196721311,"d":"100.2950820"},{"v":0.9216076163624976,"d":"0.9216076"},92.16076163624976,{"$f":"[1]学习成绩!E25","v":{"v":84.6,"d":"84.6000000"}},{"$f":"[1]智育加分!CR26","v":{"v":0,"d":"0.0000000"}},0,{"v":84.6,"d":"84.6000000"},{"v":0.6715173966586896,"d":"0.671517397"},{"v":67.15173966586896,"d":"67.15173967"},100,{"$f":"[1]文体加分!N28","v":0},0,100,0.9523809523809523,{"v":95.23809523809523,"d":"95.2380952"},{"v":74.96217961716775,"d":"74.96217962"},50]
["2020310230","李同辉","化工博20",{"$f":"[1]德育基础分!BN31","v":{"v":97.19180327868852,"d":"97.1918033"}},{"$f":"[1]德育加分!AF32","v":0},{"$f":"[1]德育扣分!K31","v":0},{"v":97.19180327868852,"d":"97.1918033"},{"v":0.893091708912772,"d":"0.8930917"},89.3091708912772,{"$f":"[1]学习成绩!E30","v":{"v":85.35000000000001,"d":"85.3500000"}},{"$f":"[1]智育加分!CR31","v":{"v":0,"d":"0.0000000"}},0,{"v":85.35000000000001,"d":"85.3500000"},{"v":0.6774705650687844,"d":"0.677470565"},{"v":67.74705650687845,"d":"67.74705651"},100,{"$f":"[1]文体加分!N33","v":0},0,100,0.9523809523809523,{"v":95.23809523809523,"d":"95.2380952"},{"v":74.80858325687987,"d":"74.80858326"},51]
["2020315203","张然","化工博20",{"$f":"[1]德育基础分!BN59","v":{"v":97.20327868852459,"d":"97.2032787"}},{"$f":"[1]德育加分!AF60","v":0},{"$f":"[1]德育扣分!K59","v":0},{"v":97.20327868852459,"d":"97.2032787"},{"v":0.8931971560084657,"d":"0.8931972"},89.31971560084658,{"$f":"[1]学习成绩!E58","v":{"v":85.2,"d":"85.2000000"}},{"$f":"[1]智育加分!CR59","v":{"v":0,"d":"0.0000000"}},0,{"v":85.2,"d":"85.2000000"},{"v":0.6762799313867655,"d":"0.676279931"},{"v":67.62799313867654,"d":"67.62799314"},100,{"$f":"[1]文体加分!N61","v":0},0,100,0.9523809523809523,{"v":95.23809523809523,"d":"95.2380952"},{"v":74.72734784105242,"d":"74.72734784"},52]
["2020310207","王超","化工博20",{"$f":"[1]德育基础分!BN8","v":{"v":97.23770491803279,"d":"97.2377049"}},{"$f":"[1]德育加分!AF9","v":0},{"$f":"[1]德育扣分!K8","v":0},{"v":97.23770491803279,"d":"97.2377049"},{"v":0.8935134972955466,"d":"0.8935135"},89.35134972955467,{"$f":"[1]学习成绩!E7","v":{"v":85.08,"d":"85.0800000"}},{"$f":"[1]智育加分!CR8","v":{"v":0,"d":"0.0000000"}},0,{"v":85.08,"d":"85.0800000"},{"v":0.6753274244411502,"d":"0.675327424"},{"v":67.53274244411503,"d":"67.53274244"},100,{"$f":"[1]文体加分!N10","v":0},0,100,0.9523809523809523,{"v":95.23809523809523,"d":"95.2380952"},{"v":74.66699918060097,"d":"74.66699918"},53]
["2020315206","热则耶·热合米图力","化工博20",{"$f":"[1]德育基础分!BN62","v":{"v":97.16885245901639,"d":"97.1688525"}},{"$f":"[1]德育加分!AF63","v":0},{"$f":"[1]德育扣分!K62","v":0},{"v":97.16885245901639,"d":"97.1688525"},{"v":0.8928808147213847,"d":"0.8928808"},89.28808147213847,{"$f":"[1]学习成绩!E61","v":{"v":84.83333329999999,"d":"84.8333333"}},{"$f":"[1]智育加分!CR62","v":{"v":0,"d":"0.0000000"}},0,{"v":84.83333329999999,"d":"84.8333333"},{"v":0.6733694932328005,"d":"0.673369493"},{"v":67.33694932328005,"d":"67.33694932"},100,{"$f":"[1]文体加分!N64","v":0},0,100,0.9523809523809523,{"v":95.23809523809523,"d":"95.2380952"},{"v":74.51729034453325,"d":"74.51729034"},54]
["2020310238","努尔古丽·拉提莆","化工博20",{"$f":"[1]德育基础分!BN39","v":{"v":97.21475409836064,"d":"97.2147541"}},{"$f":"[1]德育加分!AF40","v":0},{"$f":"[1]德育扣分!K39","v":0},{"v":97.21475409836064,"d":"97.2147541"},{"v":0.8933026031041592,"d":"0.8933026"},89.33026031041592,{"$f":"[1]学习成绩!E38","v":{"v":83.8,"d":"83.8000000"}},{"$f":"[1]智育加分!CR39","v":{"v":0,"d":"0.0000000"}},0,{"v":83.8,"d":"83.8000000"},{"v":0.6651673503545885,"d":"0.665167350"},{"v":66.51673503545885,"d":"66.51673504"},100,{"$f":"[1]文体加分!N41","v":0},0,100,0.9523809523809523,{"v":95.23809523809523,"d":"95.2380952"},{"v":73.95157611071389,"d":"73.95157611"},55]
["2020310236","胡浩杰","化工博20",{"$f":"[1]德育基础分!BN37","v":{"v":97.24918032786884,"d":"97.2491803"}},{"$f":"[1]德育加分!AF38","v":0.5},{"$f":"[1]德育扣分!K37","v":0},{"v":97.74918032786884,"d":"97.7491803"},{"v":0.8982134249893207,"d":"0.8982134"},89.82134249893207,{"$f":"[1]学习成绩!E36","v":{"v":81.75,"d":"81.7500000"}},{"$f":"[1]智育加分!CR37","v":{"v":0,"d":"0.0000000"}},0,{"v":81.75,"d":"81.7500000"},{"v":0.6488953567003295,"d":"0.648895357"},{"v":64.88953567003296,"d":"64.88953567"},100,{"$f":"[1]文体加分!N39","v":0},0,100,0.9523809523809523,{"v":95.23809523809523,"d":"95.2380952"},{"v":72.910752992619,"d":"72.91075299"},56]
["2020310202","黄兴","化工博20",{"$f":"[1]德育基础分!BN4","v":{"v":97.23770491803279,"d":"97.2377049"}},{"$f":"[1]德育加分!AF5","v":2},{"$f":"[1]德育扣分!K4","v":-15},{"v":84.23770491803279,"d":"84.2377049"},{"v":0.7740570017454551,"d":"0.7740570"},77.40570017454552,{"$f":"[1]学习成绩!E3","v":{"v":82.82,"d":"82.8200000"}},{"$f":"[1]智育加分!CR4","v":{"v":0,"d":"0.0000000"}},0,{"v":82.82,"d":"82.8200000"},{"v":0.6573885436320647,"d":"0.657388544"},{"v":65.73885436320647,"d":"65.73885436"},100,{"$f":"[1]文体加分!N6","v":0},0,100,0.9523809523809523,{"v":95.23809523809523,"d":"95.2380952"},{"v":71.02214761296315,"d":"71.02214761"},57]
["2020310246","陈风江","化工博20",{"$f":"[1]德育基础分!BN47","v":{"v":97.21475409836064,"d":"97.2147541"}},{"$f":"[1]德育加分!AF48","v":3},{"$f":"[1]德育扣分!K47","v":0},{"v":100.21475409836064,"d":"100.2147541"},{"v":0.9208694866926419,"d":"0.9208695"},92.08694866926419,{"$f":"[1]学习成绩!E46","v":{"v":71.45,"d":"71.4500000"}},{"$f":"[1]智育加分!CR47","v":{"v":0,"d":"0.0000000"}},0,{"v":71.45,"d":"71.4500000"},{"v":0.5671385105350281,"d":"0.567138511"},{"v":56.71385105350281,"d":"56.71385105"},100,{"$f":"[1]文体加分!N49","v":0},0,100,0.9523809523809523,{"v":95.23809523809523,"d":"95.2380952"},{"v":67.64089499511432,"d":"67.64089500"},58]
["2020315204","张磊","化工博20",{"$f":"[1]德育基础分!BN60","v":{"v":97.23770491803279,"d":"97.2377049"}},{"$f":"[1]德育加分!AF61","v":0},{"$f":"[1]德育扣分!K60","v":0},{"v":97.23770491803279,"d":"97.2377049"},{"v":0.8935134972955466,"d":"0.8935135"},89.35134972955467,{"$f":"[1]学习成绩!E59","v":{"v":60.9,"d":"60.9000000"}},{"$f":"[1]智育加分!CR60","v":{"v":0,"d":"0.0000000"}},0,{"v":60.9,"d":"60.9000000"},{"v":0.48339727489969503,"d":"0.483397275"},{"v":48.339727489969505,"d":"48.33972749"},100,{"$f":"[1]文体加分!N62","v":0},0,100,0.9523809523809523,{"v":95.23809523809523,"d":"95.2380952"},{"v":61.23188871269911,"d":"61.23188871"},59]
["2020315205","赵秋实","化工博20",{"$f":"[1]德育基础分!BN61","v":{"v":97.16885245901639,"d":"97.1688525"}},{"$f":"[1]德育加分!AF62","v":0},{"$f":"[1]德育扣分!K61","v":0},{"v":97.16885245901639,"d":"97.1688525"},{"v":0.8928808147213847,"d":"0.8928808"},89.28808147213847,{"$f":"[1]学习成绩!E60","v":{"v":59.5,"d":"59.5000000"}},{"$f":"[1]智育加分!CR61","v":{"v":0,"d":"0.0000000"}},0,{"v":59.5,"d":"59.5000000"},{"v":0.4722846938675181,"d":"0.472284694"},{"v":47.22846938675181,"d":"47.22846939"},100,{"$f":"[1]文体加分!N63","v":0},0,100,0.9523809523809523,{"v":95.23809523809523,"d":"95.2380952"},{"v":60.44135438896348,"d":"60.44135439"},60]
["2020315207","王建立","化工博20",{"$f":"[1]德育基础分!BN63","v":{"v":97.20327868852459,"d":"97.2032787"}},{"$f":"[1]德育加分!AF64","v":0},{"$f":"[1]德育扣分!K63","v":0},{"v":97.20327868852459,"d":"97.2032787"},{"v":0.8931971560084657,"d":"0.8931972"},89.31971560084658,{"$f":"[1]学习成绩!E62","v":{"v":0,"d":"0.0000000"}},{"$f":"[1]智育加分!CR63","v":{"v":0,"d":"0.0000000"}},0,{"v":0,"d":"0.0000000"},{"v":0,"d":"0.000000000"},{"v":0,"d":"0.00000000"},100,{"$f":"[1]文体加分!N65","v":0},0,100,0.9523809523809523,{"v":95.23809523809523,"d":"95.2380952"},{"v":27.387752643978843,"d":"27.38775264"},61]