{"text_format":"3","workbook":"xlsx","n_sheets":9,"sheets":["专业排名汇总表","成绩","德育基础分","德育加分 (2)","德育扣分","智育加分 (2)","智育加分汇总","文体加分 (2)","体测成绩"],"not_rendered":{"defined_names":2,"pivot_tables":1},"read":"whole","date_system":"1900"}

{"sheet":"专业排名汇总表","index":0,"n_rows":104,"n_cols":30,"rows_kept":104,"merged":[[0,0,1,0],[0,1,1,1],[0,2,1,2],[0,3,1,3],[0,4,1,4],[0,5,0,12],[0,13,0,18],[0,19,0,25],[0,26,1,26],[0,27,1,27],[0,28,1,28],[0,29,1,29]]}
["排名"," 必修课排名","学号","姓名","班级","德育成绩",{"$nulls":7},"智育成绩",{"$nulls":5},"体育成绩",{"$nulls":6},"综合测评总分","优良率","四级成绩","是否挂科"]
[{"$nulls":5},"班级互评分","辅导员打分","班级互评分×0.6","辅导员打分×0.4","德育加分","德育扣分","德育成绩","德育成绩×0.2","必修课加权平均分","选修课加权平均分","智育成绩（必修课×0.8+选修课×0.2）","智育加分","智育成绩","智育成绩×0.7","体育课成绩","锻炼成绩","体育课成绩×0.6","锻炼成绩×0.4","体育加分","体育成绩","体育成绩×0.1"]
["示例说明",{"$nulls":4},"vlookup","vlookup","公式求和","公式求和","汇总统计","汇总统计","公式求和","公式求和","vlookup","vlookup","公式求和","汇总统计","公式求和","公式求和","单独做表vlookup","vlookup","公式求和","公式求和","汇总统计","公式求和","公式求和","公式求和","vlookup","vlookup","vlookup"]
[{"$f":"RANK(AA4,AA$4:AA$104)","v":29},{"$f":"RANK(N4,N$4:N$104)","v":19},2022010364,"张姝瑶","化工22-1班",{"$f":"VLOOKUP(C:C,德育基础分!A3:D103,4,0)","v":{"v":99.8782714546561,"d":"99.8783"}},{"v":90,"d":"90.0000"},{"$f":"F4*0.6","v":{"v":59.9269628727937,"d":"59.9270"}},{"$f":"G4*0.4","v":{"v":36,"d":"36.0000"}},{"$f":"VLOOKUP(C:C,'德育加分 (2)'!C:AC,27,0)","v":{"v":0.5,"d":"0.5000"}},{"$f":"VLOOKUP(C:C,德育扣分!A2:F103,6,0)","v":{"v":0,"d":"0.0000"}},{"$f":"H4+I4+J4-K4","v":{"v":96.4269628727937,"d":"96.4270"}},{"$f":"L4*0.2","v":{"v":19.2853925745587,"d":"19.2854"}},{"$f":"VLOOKUP(C:C,成绩!B1:D102,3,0)","v":{"v":84.2266666666667,"d":"84.2267"}},{"$f":"VLOOKUP(C:C,成绩!B:E,4,0)","v":{"v":82.5,"d":"82.5000"}},{"$f":"N4*0.8+O4*0.2","v":{"v":83.8813333333333,"d":"83.8813"}},{"$f":"VLOOKUP(D:D,智育加分汇总!F:G,2,0)","v":{"v":4,"d":"4.0000"}},{"$f":"Q4+P4","v":{"v":87.8813333333333,"d":"87.8813"}},{"$f":"R4*0.7","v":{"v":61.5169333333333,"d":"61.5169"}},{"$f":"VLOOKUP(C:C,成绩!B:F,5,0)","v":{"v":90,"d":"90.0000"}},{"v":100,"d":"100.0000"},{"$f":"T4*0.6","v":{"v":54,"d":"54.0000"}},{"$f":"U4*0.4","v":{"v":40,"d":"40.0000"}},{"$f":"VLOOKUP(C:C,'文体加分 (2)'!C2:O167,13,0)","v":{"v":0,"d":"0.0000"}},{"$f":"V4+W4+X4","v":{"v":94,"d":"94.0000"}},{"$f":"Y4*0.1","v":{"v":9.4,"d":"9.4000"}},{"$f":"Z4+S4+M4","v":{"v":90.2023259078921,"d":"90.2023"}},{"$f":"VLOOKUP(C:C,成绩!B:G,6,0)","v":{"v":0.789473684210526,"d":"78.9474%"}},547,{"$f":"VLOOKUP(C:C,成绩!B:H,7,0)","v":0}]
[{"$f":"RANK(AA5,AA$4:AA$104)","v":81},{"$f":"RANK(N5,N$4:N$104)","v":97},2022010367,"周芹","化工22-1班",{"$f":"VLOOKUP(C:C,德育基础分!A4:D104,4,0)","v":{"v":99.9087035909921,"d":"99.9087"}},{"v":90,"d":"90.0000"},{"$f":"F5*0.6","v":{"v":59.9452221545952,"d":"59.9452"}},{"$f":"G5*0.4","v":{"v":36,"d":"36.0000"}},{"$f":"VLOOKUP(C:C,'德育加分 (2)'!C:AC,27,0)","v":{"v":6.83,"d":"6.8300"}},{"$f":"VLOOKUP(C:C,德育扣分!A3:F104,6,0)","v":{"v":0,"d":"0.0000"}},{"$f":"H5+I5+J5-K5","v":{"v":102.775222154595,"d":"102.7752"}},{"$f":"L5*0.2","v":{"v":20.5550444309191,"d":"20.5550"}},{"$f":"VLOOKUP(C:C,成绩!B2:D103,3,0)","v":{"v":65.641975308642,"d":"65.6420"}},{"$f":"VLOOKUP(C:C,成绩!B:E,4,0)","v":{"v":89,"d":"89.0000"}},{"$f":"N5*0.8+O5*0.2","v":{"v":70.3135802469136,"d":"70.3136"}},{"v":0,"d":"0.0000"},{"$f":"Q5+P5","v":{"v":70.3135802469136,"d":"70.3136"}},{"$f":"R5*0.7","v":{"v":49.2195061728395,"d":"49.2195"}},{"$f":"VLOOKUP(C:C,成绩!B:F,5,0)","v":{"v":92.5,"d":"92.5000"}},{"v":100,"d":"100.0000"},{"v":55.5,"d":"55.5000"},{"v":40,"d":"40.0000"},{"$f":"VLOOKUP(C:C,'文体加分 (2)'!C3:O168,13,0)","v":{"v":0,"d":"0.0000"}},{"$f":"V5+W5+X5","v":{"v":95.5,"d":"95.5000"}},{"$f":"Y5*0.1","v":{"v":9.55,"d":"9.5500"}},{"$f":"Z5+S5+M5","v":{"v":79.3245506037586,"d":"79.3246"}},{"$f":"VLOOKUP(C:C,成绩!B:G,6,0)","v":{"v":0.35,"d":"35.0000%"}},570,{"$f":"VLOOKUP(C:C,成绩!B:H,7,0)","v":4}]
[46,24,2022010369,"李越","化工22-1班",{"$f":"VLOOKUP(C:C,德育基础分!A5:D105,4,0)","v":{"v":99.8782714546561,"d":"99.8783"}},{"v":90,"d":"90.0000"},{"v":59.9269628727937,"d":"59.9270"},{"v":36,"d":"36.0000"},{"$f":"VLOOKUP(C:C,'德育加分 (2)'!C:AC,27,0)","v":{"v":0.5,"d":"0.5000"}},{"$f":"VLOOKUP(C:C,德育扣分!A4:F105,6,0)","v":{"v":0,"d":"0.0000"}},{"v":96.4269628727937,"d":"96.4270"},{"v":19.2853925745587,"d":"19.2854"},{"$f":"VLOOKUP(C:C,成绩!B3:D104,3,0)","v":{"v":83.6266666666667,"d":"83.6267"}},{"$f":"VLOOKUP(C:C,成绩!B:E,4,0)","v":{"v":78.5,"d":"78.5000"}},{"v":82.6013333333333,"d":"82.6013"},{"v":0,"d":"0.0000"},{"v":82.6013333333333,"d":"82.6013"},{"v":57.8209333333333,"d":"57.8209"},{"$f":"VLOOKUP(C:C,成绩!B:F,5,0)","v":{"v":90,"d":"90.0000"}},{"v":100,"d":"100.0000"},{"v":54,"d":"54.0000"},{"v":40,"d":"40.0000"},{"$f":"VLOOKUP(C:C,'文体加分 (2)'!C4:O169,13,0)","v":{"v":0,"d":"0.0000"}},{"v":94,"d":"94.0000"},{"v":9.4,"d":"9.4000"},{"v":86.5063259078921,"d":"86.5063"},{"$f":"VLOOKUP(C:C,成绩!B:G,6,0)","v":{"v":0.736842105263158,"d":"73.6842%"}},"未通过",{"$f":"VLOOKUP(C:C,成绩!B:H,7,0)","v":0}]
[89,79,2022010370,"马海霞","化工22-1班",{"$f":"VLOOKUP(C:C,德育基础分!A6:D106,4,0)","v":{"v":99.8478393183201,"d":"99.8478"}},{"v":90,"d":"90.0000"},{"v":59.9087035909921,"d":"59.9087"},{"v":36,"d":"36.0000"},{"$f":"VLOOKUP(C:C,'德育加分 (2)'!C:AC,27,0)","v":{"v":0.5,"d":"0.5000"}},{"$f":"VLOOKUP(C:C,德育扣分!A5:F106,6,0)","v":{"v":0,"d":"0.0000"}},{"v":96.4087035909921,"d":"96.4087"},{"v":19.2817407181984,"d":"19.2817"},{"$f":"VLOOKUP(C:C,成绩!B4:D105,3,0)","v":{"v":70.8390804597701,"d":"70.8391"}},{"$f":"VLOOKUP(C:C,成绩!B:E,4,0)","v":{"v":72,"d":"72.0000"}},{"v":71.0712643678161,"d":"71.0713"},{"v":0,"d":"0.0000"},{"v":71.0712643678161,"d":"71.0713"},{"v":49.7498850574713,"d":"49.7499"},{"$f":"VLOOKUP(C:C,成绩!B:F,5,0)","v":{"v":75,"d":"75.0000"}},{"v":100,"d":"100.0000"},{"v":45,"d":"45.0000"},{"v":40,"d":"40.0000"},{"$f":"VLOOKUP(C:C,'文体加分 (2)'!C5:O170,13,0)","v":{"v":0,"d":"0.0000"}},{"v":85,"d":"85.0000"},{"v":8.5,"d":"8.5000"},{"v":77.5316257756697,"d":"77.5316"},{"$f":"VLOOKUP(C:C,成绩!B:G,6,0)","v":{"v":0.285714285714286,"d":"28.5714%"}},"未通过",{"$f":"VLOOKUP(C:C,成绩!B:H,7,0)","v":0}]
[41,37,2022010371,"何丽鸿","化工22-1班",{"$f":"VLOOKUP(C:C,德育基础分!A7:D107,4,0)","v":{"v":99.8478393183201,"d":"99.8478"}},{"v":90,"d":"90.0000"},{"v":59.9087035909921,"d":"59.9087"},{"v":36,"d":"36.0000"},{"$f":"VLOOKUP(C:C,'德育加分 (2)'!C:AC,27,0)","v":{"v":3.5,"d":"3.5000"}},{"$f":"VLOOKUP(C:C,德育扣分!A6:F107,6,0)","v":{"v":0,"d":"0.0000"}},{"v":99.4087035909921,"d":"99.4087"},{"v":19.8817407181984,"d":"19.8817"},{"$f":"VLOOKUP(C:C,成绩!B5:D106,3,0)","v":{"v":79.4320987654321,"d":"79.4321"}},{"$f":"VLOOKUP(C:C,成绩!B:E,4,0)","v":{"v":80.25,"d":"80.2500"}},{"v":79.5956790123457,"d":"79.5957"},{"$f":"VLOOKUP(D:D,智育加分汇总!F:G,2,0)","v":{"v":2,"d":"2.0000"}},{"v":81.5956790123457,"d":"81.5957"},{"v":57.116975308642,"d":"57.1170"},{"$f":"VLOOKUP(C:C,成绩!B:F,5,0)","v":{"v":90.5,"d":"90.5000"}},{"v":100,"d":"100.0000"},{"v":54.3,"d":"54.3000"},{"v":40,"d":"40.0000"},{"$f":"VLOOKUP(C:C,'文体加分 (2)'!C6:O171,13,0)","v":{"v":8,"d":"8.0000"}},{"v":102.3,"d":"102.3000"},{"v":10.23,"d":"10.2300"},{"v":87.2287160268404,"d":"87.2287"},{"$f":"VLOOKUP(C:C,成绩!B:G,6,0)","v":{"v":0.55,"d":"55.0000%"}},498,{"$f":"VLOOKUP(C:C,成绩!B:H,7,0)","v":0}]
[45,33,2022010372,"史佳悦","化工22-1班",{"$f":"VLOOKUP(C:C,德育基础分!A8:D108,4,0)","v":{"v":99.5435179549604,"d":"99.5435"}},{"v":90,"d":"90.0000"},{"v":59.7261107729763,"d":"59.7261"},{"v":36,"d":"36.0000"},{"$f":"VLOOKUP(C:C,'德育加分 (2)'!C:AC,27,0)","v":{"v":4.5,"d":"4.5000"}},{"$f":"VLOOKUP(C:C,德育扣分!A7:F108,6,0)","v":{"v":0,"d":"0.0000"}},{"v":100.226110772976,"d":"100.2261"},{"v":20.0452221545953,"d":"20.0452"},{"$f":"VLOOKUP(C:C,成绩!B6:D107,3,0)","v":{"v":80.0133333333333,"d":"80.0133"}},{"$f":"VLOOKUP(C:C,成绩!B:E,4,0)","v":{"v":87.3333333333333,"d":"87.3333"}},{"v":81.4773333333333,"d":"81.4773"},{"v":0,"d":"0.0000"},{"v":81.4773333333333,"d":"81.4773"},{"v":57.0341333333333,"d":"57.0341"},{"$f":"VLOOKUP(C:C,成绩!B:F,5,0)","v":{"v":87,"d":"87.0000"}},{"v":100,"d":"100.0000"},{"v":52.2,"d":"52.2000"},{"v":40,"d":"40.0000"},{"$f":"VLOOKUP(C:C,'文体加分 (2)'!C7:O172,13,0)","v":{"v":4,"d":"4.0000"}},{"v":96.2,"d":"96.2000"},{"v":9.62,"d":"9.6200"},{"v":86.6993554879286,"d":"86.6994"},{"$f":"VLOOKUP(C:C,成绩!B:G,6,0)","v":{"v":0.631578947368421,"d":"63.1579%"}},429,{"$f":"VLOOKUP(C:C,成绩!B:H,7,0)","v":0}]
[4,2,2022010373,"王晴宇","化工22-1班",{"$f":"VLOOKUP(C:C,德育基础分!A9:D109,4,0)","v":{"v":99.8174071819842,"d":"99.8174"}},{"v":90,"d":"90.0000"},{"v":59.8904443091905,"d":"59.8904"},{"v":36,"d":"36.0000"},{"$f":"VLOOKUP(C:C,'德育加分 (2)'!C:AC,27,0)","v":{"v":9.37,"d":"9.3700"}},{"$f":"VLOOKUP(C:C,德育扣分!A8:F109,6,0)","v":{"v":0,"d":"0.0000"}},{"v":105.260444309191,"d":"105.2604"},{"v":21.0520888618381,"d":"21.0521"},{"$f":"VLOOKUP(C:C,成绩!B7:D108,3,0)","v":{"v":88.52,"d":"88.5200"}},{"$f":"VLOOKUP(C:C,成绩!B:E,4,0)","v":{"v":90.6666666666667,"d":"90.6667"}},{"v":88.9493333333333,"d":"88.9493"},{"$f":"VLOOKUP(D:D,智育加分汇总!F:G,2,0)","v":{"v":31.8333333333333,"d":"31.8333"}},{"v":120.782666666667,"d":"120.7827"},{"v":84.5478666666666,"d":"84.5479"},{"$f":"VLOOKUP(C:C,成绩!B:F,5,0)","v":{"v":92,"d":"92.0000"}},{"v":100,"d":"100.0000"},{"v":55.2,"d":"55.2000"},{"v":40,"d":"40.0000"},{"$f":"VLOOKUP(C:C,'文体加分 (2)'!C8:O173,13,0)","v":{"v":0,"d":"0.0000"}},{"v":95.2,"d":"95.2000"},{"v":9.52,"d":"9.5200"},{"v":115.119955528505,"d":"115.1200"},{"$f":"VLOOKUP(C:C,成绩!B:G,6,0)","v":{"v":0.894736842105263,"d":"89.4737%"}},568,{"$f":"VLOOKUP(C:C,成绩!B:H,7,0)","v":0}]
[8,3,2022010374,"袁佳怡","化工22-1班",{"$f":"VLOOKUP(C:C,德育基础分!A10:D110,4,0)","v":{"v":99.8478393183201,"d":"99.8478"}},{"v":90,"d":"90.0000"},{"v":59.9087035909921,"d":"59.9087"},{"v":36,"d":"36.0000"},{"$f":"VLOOKUP(C:C,'德育加分 (2)'!C:AC,27,0)","v":{"v":4.5,"d":"4.5000"}},{"$f":"VLOOKUP(C:C,德育扣分!A9:F110,6,0)","v":{"v":0,"d":"0.0000"}},{"v":100.408703590992,"d":"100.4087"},{"v":20.0817407181984,"d":"20.0817"},{"$f":"VLOOKUP(C:C,成绩!B8:D109,3,0)","v":{"v":88.0266666666667,"d":"88.0267"}},{"$f":"VLOOKUP(C:C,成绩!B:E,4,0)","v":{"v":86.5,"d":"86.5000"}},{"v":87.7213333333333,"d":"87.7213"},{"$f":"VLOOKUP(D:D,智育加分汇总!F:G,2,0)","v":{"v":12,"d":"12.0000"}},{"v":99.7213333333333,"d":"99.7213"},{"v":69.8049333333333,"d":"69.8049"},{"$f":"VLOOKUP(C:C,成绩!B:F,5,0)","v":{"v":95.5,"d":"95.5000"}},{"v":100,"d":"100.0000"},{"v":57.3,"d":"57.3000"},{"v":40,"d":"40.0000"},{"$f":"VLOOKUP(C:C,'文体加分 (2)'!C9:O174,13,0)","v":{"v":0,"d":"0.0000"}},{"v":97.3,"d":"97.3000"},{"v":9.73,"d":"9.7300"},{"v":99.6166740515317,"d":"99.6167"},{"$f":"VLOOKUP(C:C,成绩!B:G,6,0)","v":{"v":0.947368421052632,"d":"94.7368%"}},591,{"$f":"VLOOKUP(C:C,成绩!B:H,7,0)","v":0}]
[75,73,2022012311,"布威麦尔耶姆·麦麦提图尔荪","化工22-1班",{"$f":"VLOOKUP(C:C,德育基础分!A11:D111,4,0)","v":{"v":99.8782714546561,"d":"99.8783"}},{"v":90,"d":"90.0000"},{"v":59.9269628727937,"d":"59.9270"},{"v":36,"d":"36.0000"},{"$f":"VLOOKUP(C:C,'德育加分 (2)'!C:AC,27,0)","v":{"v":0.5,"d":"0.5000"}},{"$f":"VLOOKUP(C:C,德育扣分!A10:F111,6,0)","v":{"v":0,"d":"0.0000"}},{"v":96.4269628727937,"d":"96.4270"},{"v":19.2853925745587,"d":"19.2854"},{"$f":"VLOOKUP(C:C,成绩!B9:D110,3,0)","v":{"v":72.3066666666667,"d":"72.3067"}},{"$f":"VLOOKUP(C:C,成绩!B:E,4,0)","v":{"v":78,"d":"78.0000"}},{"v":73.4453333333333,"d":"73.4453"},{"v":0,"d":"0.0000"},{"v":73.4453333333333,"d":"73.4453"},{"v":51.4117333333333,"d":"51.4117"},{"$f":"VLOOKUP(C:C,成绩!B:F,5,0)","v":{"v":84,"d":"84.0000"}},{"v":100,"d":"100.0000"},{"v":50.4,"d":"50.4000"},{"v":40,"d":"40.0000"},{"$f":"VLOOKUP(C:C,'文体加分 (2)'!C10:O175,13,0)","v":{"v":0,"d":"0.0000"}},{"v":90.4,"d":"90.4000"},{"v":9.04,"d":"9.0400"},{"v":79.7371259078921,"d":"79.7371"},{"$f":"VLOOKUP(C:C,成绩!B:G,6,0)","v":{"v":0.421052631578947,"d":"42.1053%"}},510,{"$f":"VLOOKUP(C:C,成绩!B:H,7,0)","v":1}]
[28,14,2022010397,"李安然","化工22-1班",{"$f":"VLOOKUP(C:C,德育基础分!A12:D112,4,0)","v":{"v":99.8478393183201,"d":"99.8478"}},{"v":90,"d":"90.0000"},{"v":59.9087035909921,"d":"59.9087"},{"v":36,"d":"36.0000"},{"$f":"VLOOKUP(C:C,'德育加分 (2)'!C:AC,27,0)","v":{"v":0.5,"d":"0.5000"}},{"$f":"VLOOKUP(C:C,德育扣分!A11:F112,6,0)","v":{"v":0,"d":"0.0000"}},{"v":96.4087035909921,"d":"96.4087"},{"v":19.2817407181984,"d":"19.2817"},{"$f":"VLOOKUP(C:C,成绩!B10:D111,3,0)","v":{"v":84.9066666666667,"d":"84.9067"}},{"$f":"VLOOKUP(C:C,成绩!B:E,4,0)","v":{"v":81.5,"d":"81.5000"}},{"v":84.2253333333333,"d":"84.2253"},{"$f":"VLOOKUP(D:D,智育加分汇总!F:G,2,0)","v":{"v":4,"d":"4.0000"}},{"v":88.2253333333333,"d":"88.2253"},{"v":61.7577333333333,"d":"61.7577"},{"$f":"VLOOKUP(C:C,成绩!B:F,5,0)","v":{"v":86.5,"d":"86.5000"}},{"v":100,"d":"100.0000"},{"v":51.9,"d":"51.9000"},{"v":40,"d":"40.0000"},{"$f":"VLOOKUP(C:C,'文体加分 (2)'!C11:O176,13,0)","v":{"v":0,"d":"0.0000"}},{"v":91.9,"d":"91.9000"},{"v":9.19,"d":"9.1900"},{"v":90.2294740515318,"d":"90.2295"},{"$f":"VLOOKUP(C:C,成绩!B:G,6,0)","v":{"v":0.947368421052632,"d":"94.7368%"}},580,{"$f":"VLOOKUP(C:C,成绩!B:H,7,0)","v":0}]
[11,9,2022010100,"智玉轩","化工22-1班",{"$f":"VLOOKUP(C:C,德育基础分!A13:D113,4,0)","v":{"v":99.8478393183201,"d":"99.8478"}},{"v":90,"d":"90.0000"},{"v":59.9087035909921,"d":"59.9087"},{"v":36,"d":"36.0000"},{"$f":"VLOOKUP(C:C,'德育加分 (2)'!C:AC,27,0)","v":{"v":8.5,"d":"8.5000"}},{"$f":"VLOOKUP(C:C,德育扣分!A12:F113,6,0)","v":{"v":0,"d":"0.0000"}},{"v":104.408703590992,"d":"104.4087"},{"v":20.8817407181984,"d":"20.8817"},{"$f":"VLOOKUP(C:C,成绩!B11:D112,3,0)","v":{"v":86.55,"d":"86.5500"}},{"$f":"VLOOKUP(C:C,成绩!B:E,4,0)","v":{"v":82,"d":"82.0000"}},{"v":85.64,"d":"85.6400"},{"$f":"VLOOKUP(D:D,智育加分汇总!F:G,2,0)","v":{"v":10,"d":"10.0000"}},{"v":95.64,"d":"95.6400"},{"v":66.948,"d":"66.9480"},{"$f":"VLOOKUP(C:C,成绩!B:F,5,0)","v":{"v":93.5,"d":"93.5000"}},{"v":100,"d":"100.0000"},{"v":56.1,"d":"56.1000"},{"v":40,"d":"40.0000"},{"$f":"VLOOKUP(C:C,'文体加分 (2)'!C12:O177,13,0)","v":{"v":0,"d":"0.0000"}},{"v":96.1,"d":"96.1000"},{"v":9.61,"d":"9.6100"},{"v":97.4397407181984,"d":"97.4397"},{"$f":"VLOOKUP(C:C,成绩!B:G,6,0)","v":{"v":0.952380952380952,"d":"95.2381%"}},626,{"$f":"VLOOKUP(C:C,成绩!B:H,7,0)","v":0}]
[72,58,2022010377,"刘超","化工22-1班",{"$f":"VLOOKUP(C:C,德育基础分!A14:D114,4,0)","v":{"v":100,"d":"100.0000"}},{"v":90,"d":"90.0000"},{"v":60,"d":"60.0000"},{"v":36,"d":"36.0000"},{"$f":"VLOOKUP(C:C,'德育加分 (2)'!C:AC,27,0)","v":{"v":0.5,"d":"0.5000"}},{"$f":"VLOOKUP(C:C,德育扣分!A13:F114,6,0)","v":{"v":0,"d":"0.0000"}},{"v":96.5,"d":"96.5000"},{"v":19.3,"d":"19.3000"},{"$f":"VLOOKUP(C:C,成绩!B12:D113,3,0)","v":{"v":75.8,"d":"75.8000"}},{"$f":"VLOOKUP(C:C,成绩!B:E,4,0)","v":{"v":73,"d":"73.0000"}},{"v":75.24,"d":"75.2400"},{"v":0,"d":"0.0000"},{"v":75.24,"d":"75.2400"},{"v":52.668,"d":"52.6680"},{"$f":"VLOOKUP(C:C,成绩!B:F,5,0)","v":{"v":76,"d":"76.0000"}},{"v":100,"d":"100.0000"},{"v":45.6,"d":"45.6000"},{"v":40,"d":"40.0000"},{"$f":"VLOOKUP(C:C,'文体加分 (2)'!C13:O178,13,0)","v":{"v":0,"d":"0.0000"}},{"v":85.6,"d":"85.6000"},{"v":8.56,"d":"8.5600"},{"v":80.528,"d":"80.5280"},{"$f":"VLOOKUP(C:C,成绩!B:G,6,0)","v":{"v":0.421052631578947,"d":"42.1053%"}},459,{"$f":"VLOOKUP(C:C,成绩!B:H,7,0)","v":0}]
[86,91,2022010379,"孙科","化工22-1班",{"$f":"VLOOKUP(C:C,德育基础分!A15:D115,4,0)","v":{"v":99.4826536822885,"d":"99.4827"}},{"v":90,"d":"90.0000"},{"v":59.6895922093731,"d":"59.6896"},{"v":36,"d":"36.0000"},{"$f":"VLOOKUP(C:C,'德育加分 (2)'!C:AC,27,0)","v":{"v":0.5,"d":"0.5000"}},{"$f":"VLOOKUP(C:C,德育扣分!A14:F115,6,0)","v":{"v":0,"d":"0.0000"}},{"v":96.1895922093731,"d":"96.1896"},{"v":19.2379184418746,"d":"19.2379"},{"$f":"VLOOKUP(C:C,成绩!B13:D114,3,0)","v":{"v":68.6153846153846,"d":"68.6154"}},{"$f":"VLOOKUP(C:C,成绩!B:E,4,0)","v":{"v":84.6666666666667,"d":"84.6667"}},{"v":71.825641025641,"d":"71.8256"},{"v":0,"d":"0.0000"},{"v":71.825641025641,"d":"71.8256"},{"v":50.2779487179487,"d":"50.2779"},{"$f":"VLOOKUP(C:C,成绩!B:F,5,0)","v":{"v":82,"d":"82.0000"}},{"v":100,"d":"100.0000"},{"v":49.2,"d":"49.2000"},{"v":40,"d":"40.0000"},{"$f":"VLOOKUP(C:C,'文体加分 (2)'!C14:O179,13,0)","v":{"v":0,"d":"0.0000"}},{"v":89.2,"d":"89.2000"},{"v":8.92,"d":"8.9200"},{"v":78.4358671598233,"d":"78.4359"},{"$f":"VLOOKUP(C:C,成绩!B:G,6,0)","v":{"v":0.4,"d":"40.0000%"}},"未通过",{"$f":"VLOOKUP(C:C,成绩!B:H,7,0)","v":3}]
[52,43,2022010382,"张铸","化工22-1班",{"$f":"VLOOKUP(C:C,德育基础分!A16:D116,4,0)","v":{"v":99.9391357273281,"d":"99.9391"}},{"v":90,"d":"90.0000"},{"v":59.9634814363968,"d":"59.9635"},{"v":36,"d":"36.0000"},{"$f":"VLOOKUP(C:C,'德育加分 (2)'!C:AC,27,0)","v":{"v":4.9,"d":"4.9000"}},{"$f":"VLOOKUP(C:C,德育扣分!A15:F116,6,0)","v":{"v":0,"d":"0.0000"}},{"v":100.863481436397,"d":"100.8635"},{"v":20.1726962872794,"d":"20.1727"},{"$f":"VLOOKUP(C:C,成绩!B14:D115,3,0)","v":{"v":78.2179487179487,"d":"78.2179"}},{"$f":"VLOOKUP(C:C,成绩!B:E,4,0)","v":{"v":74.6666666666667,"d":"74.6667"}},{"v":77.5076923076923,"d":"77.5077"},{"$f":"VLOOKUP(D:D,智育加分汇总!F:G,2,0)","v":{"v":2,"d":"2.0000"}},{"v":79.5076923076923,"d":"79.5077"},{"v":55.6553846153846,"d":"55.6554"},{"$f":"VLOOKUP(C:C,成绩!B:F,5,0)","v":{"v":87.5,"d":"87.5000"}},{"v":100,"d":"100.0000"},{"v":52.5,"d":"52.5000"},{"v":40,"d":"40.0000"},{"$f":"VLOOKUP(C:C,'文体加分 (2)'!C15:O180,13,0)","v":{"v":0,"d":"0.0000"}},{"v":92.5,"d":"92.5000"},{"v":9.25,"d":"9.2500"},{"v":85.078080902664,"d":"85.0781"},{"$f":"VLOOKUP(C:C,成绩!B:G,6,0)","v":{"v":0.6,"d":"60.0000%"}},514,{"$f":"VLOOKUP(C:C,成绩!B:H,7,0)","v":0}]
[25,47,2022010383,"刘子瑞","化工22-1班",{"$f":"VLOOKUP(C:C,德育基础分!A17:D117,4,0)","v":{"v":99.9087035909921,"d":"99.9087"}},{"v":90,"d":"90.0000"},{"v":59.9452221545952,"d":"59.9452"},{"v":36,"d":"36.0000"},{"$f":"VLOOKUP(C:C,'德育加分 (2)'!C:AC,27,0)","v":{"v":4.9,"d":"4.9000"}},{"$f":"VLOOKUP(C:C,德育扣分!A16:F117,6,0)","v":{"v":0,"d":"0.0000"}},{"v":100.845222154595,"d":"100.8452"},{"v":20.1690444309191,"d":"20.1690"},{"$f":"VLOOKUP(C:C,成绩!B15:D116,3,0)","v":{"v":77.6133333333333,"d":"77.6133"}},{"$f":"VLOOKUP(C:C,成绩!B:E,4,0)","v":{"v":86,"d":"86.0000"}},{"v":79.2906666666667,"d":"79.2907"},{"$f":"VLOOKUP(D:D,智育加分汇总!F:G,2,0)","v":{"v":9,"d":"9.0000"}},{"v":88.2906666666667,"d":"88.2907"},{"v":61.8034666666667,"d":"61.8035"},{"$f":"VLOOKUP(C:C,成绩!B:F,5,0)","v":{"v":81,"d":"81.0000"}},{"v":100,"d":"100.0000"},{"v":48.6,"d":"48.6000"},{"v":40,"d":"40.0000"},{"$f":"VLOOKUP(C:C,'文体加分 (2)'!C16:O181,13,0)","v":{"v":0,"d":"0.0000"}},{"v":88.6,"d":"88.6000"},{"v":8.86,"d":"8.8600"},{"v":90.8325110975857,"d":"90.8325"},{"$f":"VLOOKUP(C:C,成绩!B:G,6,0)","v":{"v":0.684210526315789,"d":"68.4211%"}},490,{"$f":"VLOOKUP(C:C,成绩!B:H,7,0)","v":1}]
[19,5,2022010384,"吴立新","化工22-1班",{"$f":"VLOOKUP(C:C,德育基础分!A18:D118,4,0)","v":{"v":99.969567863664,"d":"99.9696"}},{"v":90,"d":"90.0000"},{"v":59.9817407181984,"d":"59.9817"},{"v":36,"d":"36.0000"},{"$f":"VLOOKUP(C:C,'德育加分 (2)'!C:AC,27,0)","v":{"v":3.5,"d":"3.5000"}},{"$f":"VLOOKUP(C:C,德育扣分!A17:F118,6,0)","v":{"v":0,"d":"0.0000"}},{"v":99.4817407181984,"d":"99.4817"},{"v":19.8963481436397,"d":"19.8963"},{"$f":"VLOOKUP(C:C,成绩!B16:D117,3,0)","v":{"v":87.8,"d":"87.8000"}},{"$f":"VLOOKUP(C:C,成绩!B:E,4,0)","v":{"v":80,"d":"80.0000"}},{"v":86.24,"d":"86.2400"},{"$f":"VLOOKUP(D:D,智育加分汇总!F:G,2,0)","v":{"v":6,"d":"6.0000"}},{"v":92.24,"d":"92.2400"},{"v":64.568,"d":"64.5680"},{"$f":"VLOOKUP(C:C,成绩!B:F,5,0)","v":{"v":83.5,"d":"83.5000"}},{"v":100,"d":"100.0000"},{"v":50.1,"d":"50.1000"},{"v":40,"d":"40.0000"},{"$f":"VLOOKUP(C:C,'文体加分 (2)'!C17:O182,13,0)","v":{"v":2,"d":"2.0000"}},{"v":92.1,"d":"92.1000"},{"v":9.21,"d":"9.2100"},{"v":93.6743481436397,"d":"93.6743"},{"$f":"VLOOKUP(C:C,成绩!B:G,6,0)","v":{"v":0.947368421052632,"d":"94.7368%"}},"未通过",{"$f":"VLOOKUP(C:C,成绩!B:H,7,0)","v":0}]
[55,34,2022010385,"龚泽恩","化工22-1班",{"$f":"VLOOKUP(C:C,德育基础分!A19:D119,4,0)","v":{"v":99.8782714546561,"d":"99.8783"}},{"v":90,"d":"90.0000"},{"v":59.9269628727937,"d":"59.9270"},{"v":36,"d":"36.0000"},{"$f":"VLOOKUP(C:C,'德育加分 (2)'!C:AC,27,0)","v":{"v":0.5,"d":"0.5000"}},{"$f":"VLOOKUP(C:C,德育扣分!A18:F119,6,0)","v":{"v":0,"d":"0.0000"}},{"v":96.4269628727937,"d":"96.4270"},{"v":19.2853925745587,"d":"19.2854"},{"$f":"VLOOKUP(C:C,成绩!B17:D118,3,0)","v":{"v":79.84,"d":"79.8400"}},{"$f":"VLOOKUP(C:C,成绩!B:E,4,0)","v":{"v":80,"d":"80.0000"}},{"v":79.872,"d":"79.8720"},{"v":0,"d":"0.0000"},{"v":79.872,"d":"79.8720"},55.9104,{"$f":"VLOOKUP(C:C,成绩!B:F,5,0)","v":{"v":87,"d":"87.0000"}},{"v":100,"d":"100.0000"},{"v":52.2,"d":"52.2000"},{"v":40,"d":"40.0000"},{"$f":"VLOOKUP(C:C,'文体加分 (2)'!C18:O183,13,0)","v":{"v":0,"d":"0.0000"}},{"v":92.2,"d":"92.2000"},{"v":9.22,"d":"9.2200"},{"v":84.4157925745587,"d":"84.4158"},{"$f":"VLOOKUP(C:C,成绩!B:G,6,0)","v":{"v":0.631578947368421,"d":"63.1579%"}},554,{"$f":"VLOOKUP(C:C,成绩!B:H,7,0)","v":0}]
[42,44,2022010386,"李陶然","化工22-1班",{"$f":"VLOOKUP(C:C,德育基础分!A20:D120,4,0)","v":{"v":99.8782714546561,"d":"99.8783"}},{"v":90,"d":"90.0000"},{"v":59.9269628727937,"d":"59.9270"},{"v":36,"d":"36.0000"},{"$f":"VLOOKUP(C:C,'德育加分 (2)'!C:AC,27,0)","v":{"v":4.9,"d":"4.9000"}},{"$f":"VLOOKUP(C:C,德育扣分!A19:F120,6,0)","v":{"v":0,"d":"0.0000"}},{"v":100.826962872794,"d":"100.8270"},{"v":20.1653925745587,"d":"20.1654"},{"$f":"VLOOKUP(C:C,成绩!B18:D119,3,0)","v":{"v":78.1666666666667,"d":"78.1667"}},{"$f":"VLOOKUP(C:C,成绩!B:E,4,0)","v":{"v":70.5,"d":"70.5000"}},{"v":76.6333333333333,"d":"76.6333"},{"$f":"VLOOKUP(D:D,智育加分汇总!F:G,2,0)","v":{"v":7,"d":"7.0000"}},{"v":83.6333333333333,"d":"83.6333"},{"v":58.5433333333333,"d":"58.5433"},{"$f":"VLOOKUP(C:C,成绩!B:F,5,0)","v":{"v":75,"d":"75.0000"}},{"v":100,"d":"100.0000"},{"v":45,"d":"45.0000"},{"v":40,"d":"40.0000"},{"$f":"VLOOKUP(C:C,'文体加分 (2)'!C19:O184,13,0)","v":{"v":0,"d":"0.0000"}},{"v":85,"d":"85.0000"},{"v":8.5,"d":"8.5000"},{"v":87.2087259078921,"d":"87.2087"},{"$f":"VLOOKUP(C:C,成绩!B:G,6,0)","v":{"v":0.45,"d":"45.0000%"}},478,{"$f":"VLOOKUP(C:C,成绩!B:H,7,0)","v":1}]
[34,35,2022010389,"牛浩镔","化工22-1班",{"$f":"VLOOKUP(C:C,德育基础分!A21:D121,4,0)","v":{"v":99.9391357273281,"d":"99.9391"}},{"v":90,"d":"90.0000"},{"v":59.9634814363968,"d":"59.9635"},{"v":36,"d":"36.0000"},{"$f":"VLOOKUP(C:C,'德育加分 (2)'!C:AC,27,0)","v":{"v":4.1,"d":"4.1000"}},{"$f":"VLOOKUP(C:C,德育扣分!A20:F121,6,0)","v":{"v":0,"d":"0.0000"}},{"v":100.063481436397,"d":"100.0635"},{"v":20.0126962872794,"d":"20.0127"},{"$f":"VLOOKUP(C:C,成绩!B19:D120,3,0)","v":{"v":79.6973684210526,"d":"79.6974"}},{"$f":"VLOOKUP(C:C,成绩!B:E,4,0)","v":{"v":78,"d":"78.0000"}},{"v":79.3578947368421,"d":"79.3579"},{"$f":"VLOOKUP(D:D,智育加分汇总!F:G,2,0)","v":{"v":8,"d":"8.0000"}},{"v":87.3578947368421,"d":"87.3579"},{"v":61.1505263157895,"d":"61.1505"},{"$f":"VLOOKUP(C:C,成绩!B:F,5,0)","v":{"v":75,"d":"75.0000"}},{"v":100,"d":"100.0000"},{"v":45,"d":"45.0000"},{"v":40,"d":"40.0000"},{"$f":"VLOOKUP(C:C,'文体加分 (2)'!C20:O185,13,0)","v":{"v":0,"d":"0.0000"}},{"v":85,"d":"85.0000"},{"v":8.5,"d":"8.5000"},{"v":89.6632226030688,"d":"89.6632"},{"$f":"VLOOKUP(C:C,成绩!B:G,6,0)","v":{"v":0.6,"d":"60.0000%"}},557,{"$f":"VLOOKUP(C:C,成绩!B:H,7,0)","v":0}]
[22,26,2022010390,"申溱","化工22-1班",{"$f":"VLOOKUP(C:C,德育基础分!A22:D122,4,0)","v":{"v":99.5130858186245,"d":"99.5131"}},{"v":90,"d":"90.0000"},{"v":59.7078514911747,"d":"59.7079"},{"v":36,"d":"36.0000"},{"$f":"VLOOKUP(C:C,'德育加分 (2)'!C:AC,27,0)","v":{"v":7.1,"d":"7.1000"}},{"$f":"VLOOKUP(C:C,德育扣分!A21:F122,6,0)","v":{"v":0,"d":"0.0000"}},{"v":102.807851491175,"d":"102.8079"},{"v":20.5615702982349,"d":"20.5616"},{"$f":"VLOOKUP(C:C,成绩!B20:D121,3,0)","v":{"v":82.9866666666667,"d":"82.9867"}},{"$f":"VLOOKUP(C:C,成绩!B:E,4,0)","v":{"v":87,"d":"87.0000"}},{"v":83.7893333333333,"d":"83.7893"},{"$f":"VLOOKUP(D:D,智育加分汇总!F:G,2,0)","v":{"v":7,"d":"7.0000"}},{"v":90.7893333333333,"d":"90.7893"},{"v":63.5525333333333,"d":"63.5525"},{"$f":"VLOOKUP(C:C,成绩!B:F,5,0)","v":{"v":82.5,"d":"82.5000"}},{"v":100,"d":"100.0000"},{"v":49.5,"d":"49.5000"},{"v":40,"d":"40.0000"},{"$f":"VLOOKUP(C:C,'文体加分 (2)'!C21:O186,13,0)","v":{"v":0,"d":"0.0000"}},{"v":89.5,"d":"89.5000"},{"v":8.95,"d":"8.9500"},{"v":93.0641036315683,"d":"93.0641"},{"$f":"VLOOKUP(C:C,成绩!B:G,6,0)","v":{"v":0.789473684210526,"d":"78.9474%"}},584,{"$f":"VLOOKUP(C:C,成绩!B:H,7,0)","v":1}]
[92,17,2022010392,"吴照飞","化工22-1班",{"$f":"VLOOKUP(C:C,德育基础分!A23:D123,4,0)","v":{"v":99.7869750456482,"d":"99.7870"}},{"v":90,"d":"90.0000"},{"v":59.8721850273889,"d":"59.8722"},{"v":36,"d":"36.0000"},{"$f":"VLOOKUP(C:C,'德育加分 (2)'!C:AC,27,0)","v":{"v":0.5,"d":"0.5000"}},{"$f":"VLOOKUP(C:C,德育扣分!A22:F123,6,0)","v":{"v":0,"d":"0.0000"}},{"v":96.3721850273889,"d":"96.3722"},{"v":19.2744370054778,"d":"19.2744"},{"$f":"VLOOKUP(C:C,成绩!B21:D122,3,0)","v":{"v":84.7564102564103,"d":"84.7564"}},{"$f":"VLOOKUP(C:C,成绩!B:E,4,0)","v":{"v":0,"d":"0.0000"}},{"v":67.8051282051282,"d":"67.8051"},{"v":0,"d":"0.0000"},{"v":67.8051282051282,"d":"67.8051"},{"v":47.4635897435897,"d":"47.4636"},{"$f":"VLOOKUP(C:C,成绩!B:F,5,0)","v":{"v":87.5,"d":"87.5000"}},{"v":100,"d":"100.0000"},{"v":52.5,"d":"52.5000"},{"v":40,"d":"40.0000"},{"$f":"VLOOKUP(C:C,'文体加分 (2)'!C22:O187,13,0)","v":{"v":0,"d":"0.0000"}},{"v":92.5,"d":"92.5000"},{"v":9.25,"d":"9.2500"},{"v":75.9880267490675,"d":"75.9880"},{"$f":"VLOOKUP(C:C,成绩!B:G,6,0)","v":{"v":0.8,"d":"80.0000%"}},517,{"$f":"VLOOKUP(C:C,成绩!B:H,7,0)","v":0}]
[35,27,2022010394,"张之翼","化工22-1班",{"$f":"VLOOKUP(C:C,德育基础分!A24:D124,4,0)","v":{"v":99.7261107729763,"d":"99.7261"}},{"v":90,"d":"90.0000"},{"v":59.8356664637857,"d":"59.8357"},{"v":36,"d":"36.0000"},{"$f":"VLOOKUP(C:C,'德育加分 (2)'!C:AC,27,0)","v":{"v":0.5,"d":"0.5000"}},{"$f":"VLOOKUP(C:C,德育扣分!A23:F124,6,0)","v":{"v":0,"d":"0.0000"}},{"v":96.3356664637857,"d":"96.3357"},{"v":19.2671332927572,"d":"19.2671"},{"$f":"VLOOKUP(C:C,成绩!B22:D123,3,0)","v":{"v":82.8974358974359,"d":"82.8974"}},{"$f":"VLOOKUP(C:C,成绩!B:E,4,0)","v":{"v":94,"d":"94.0000"}},{"v":85.1179487179487,"d":"85.1179"},{"v":0,"d":"0.0000"},{"v":85.1179487179487,"d":"85.1179"},{"v":59.5825641025641,"d":"59.5826"},{"$f":"VLOOKUP(C:C,成绩!B:F,5,0)","v":{"v":90.5,"d":"90.5000"}},{"v":100,"d":"100.0000"},{"v":54.3,"d":"54.3000"},{"v":40,"d":"40.0000"},{"$f":"VLOOKUP(C:C,'文体加分 (2)'!C23:O188,13,0)","v":{"v":10,"d":"10.0000"}},{"v":104.3,"d":"104.3000"},{"v":10.43,"d":"10.4300"},{"v":89.2796973953212,"d":"89.2797"},{"$f":"VLOOKUP(C:C,成绩!B:G,6,0)","v":{"v":0.85,"d":"85.0000%"}},610,{"$f":"VLOOKUP(C:C,成绩!B:H,7,0)","v":0}]
[63,45,2022012312,"徐峥","化工22-1班",{"$f":"VLOOKUP(C:C,德育基础分!A25:D125,4,0)","v":{"v":98.7218502738892,"d":"98.7219"}},{"v":90,"d":"90.0000"},{"v":59.2331101643335,"d":"59.2331"},{"v":36,"d":"36.0000"},{"$f":"VLOOKUP(C:C,'德育加分 (2)'!C:AC,27,0)","v":{"v":2.5,"d":"2.5000"}},{"$f":"VLOOKUP(C:C,德育扣分!A24:F125,6,0)","v":{"v":0,"d":"0.0000"}},{"v":97.7331101643335,"d":"97.7331"},{"v":19.5466220328667,"d":"19.5466"},{"$f":"VLOOKUP(C:C,成绩!B23:D124,3,0)","v":{"v":77.8933333333333,"d":"77.8933"}},{"$f":"VLOOKUP(C:C,成绩!B:E,4,0)","v":{"v":79,"d":"79.0000"}},{"v":78.1146666666667,"d":"78.1147"},{"v":0,"d":"0.0000"},{"v":78.1146666666667,"d":"78.1147"},{"v":54.6802666666667,"d":"54.6803"},{"$f":"VLOOKUP(C:C,成绩!B:F,5,0)","v":{"v":76.5,"d":"76.5000"}},{"v":100,"d":"100.0000"},{"v":45.9,"d":"45.9000"},{"v":40,"d":"40.0000"},{"$f":"VLOOKUP(C:C,'文体加分 (2)'!C24:O189,13,0)","v":{"v":0,"d":"0.0000"}},{"v":85.9,"d":"85.9000"},{"v":8.59,"d":"8.5900"},{"v":82.8168886995334,"d":"82.8169"},{"$f":"VLOOKUP(C:C,成绩!B:G,6,0)","v":{"v":0.631578947368421,"d":"63.1579%"}},590,{"$f":"VLOOKUP(C:C,成绩!B:H,7,0)","v":0}]
[74,75,2022010409,"周家艺","化工22-1班",{"$f":"VLOOKUP(C:C,德育基础分!A26:D126,4,0)","v":{"v":99.7869750456482,"d":"99.7870"}},{"v":90,"d":"90.0000"},{"v":59.8721850273889,"d":"59.8722"},{"v":36,"d":"36.0000"},{"$f":"VLOOKUP(C:C,'德育加分 (2)'!C:AC,27,0)","v":{"v":0.5,"d":"0.5000"}},{"$f":"VLOOKUP(C:C,德育扣分!A25:F126,6,0)","v":{"v":0,"d":"0.0000"}},{"v":96.3721850273889,"d":"96.3722"},{"v":19.2744370054778,"d":"19.2744"},{"$f":"VLOOKUP(C:C,成绩!B24:D125,3,0)","v":{"v":71.68,"d":"71.6800"}},{"$f":"VLOOKUP(C:C,成绩!B:E,4,0)","v":{"v":85,"d":"85.0000"}},{"v":74.344,"d":"74.3440"},{"v":0,"d":"0.0000"},{"v":74.344,"d":"74.3440"},52.0408,{"$f":"VLOOKUP(C:C,成绩!B:F,5,0)","v":{"v":81.5,"d":"81.5000"}},{"v":100,"d":"100.0000"},{"v":48.9,"d":"48.9000"},{"v":40,"d":"40.0000"},{"$f":"VLOOKUP(C:C,'文体加分 (2)'!C25:O190,13,0)","v":{"v":0,"d":"0.0000"}},{"v":88.9,"d":"88.9000"},{"v":8.89,"d":"8.8900"},{"v":80.2052370054778,"d":"80.2052"},{"$f":"VLOOKUP(C:C,成绩!B:G,6,0)","v":{"v":0.473684210526316,"d":"47.3684%"}},445,{"$f":"VLOOKUP(C:C,成绩!B:H,7,0)","v":2}]
[79,80,2022010411,"姚锦栋","化工22-1班",{"$f":"VLOOKUP(C:C,德育基础分!A27:D127,4,0)","v":{"v":99.7869750456482,"d":"99.7870"}},{"v":90,"d":"90.0000"},{"v":59.8721850273889,"d":"59.8722"},{"v":36,"d":"36.0000"},{"$f":"VLOOKUP(C:C,'德育加分 (2)'!C:AC,27,0)","v":{"v":0.5,"d":"0.5000"}},{"$f":"VLOOKUP(C:C,德育扣分!A26:F127,6,0)","v":{"v":0,"d":"0.0000"}},{"v":96.3721850273889,"d":"96.3722"},{"v":19.2744370054778,"d":"19.2744"},{"$f":"VLOOKUP(C:C,成绩!B25:D126,3,0)","v":{"v":70.7692307692308,"d":"70.7692"}},{"$f":"VLOOKUP(C:C,成绩!B:E,4,0)","v":{"v":79,"d":"79.0000"}},{"v":72.4153846153846,"d":"72.4154"},{"v":0,"d":"0.0000"},{"v":72.4153846153846,"d":"72.4154"},{"v":50.6907692307692,"d":"50.6908"},{"$f":"VLOOKUP(C:C,成绩!B:F,5,0)","v":{"v":91.5,"d":"91.5000"}},{"v":100,"d":"100.0000"},{"v":54.9,"d":"54.9000"},{"v":40,"d":"40.0000"},{"$f":"VLOOKUP(C:C,'文体加分 (2)'!C26:O191,13,0)","v":{"v":0,"d":"0.0000"}},{"v":94.9,"d":"94.9000"},{"v":9.49,"d":"9.4900"},{"v":79.455206236247,"d":"79.4552"},{"$f":"VLOOKUP(C:C,成绩!B:G,6,0)","v":{"v":0.45,"d":"45.0000%"}},"未通过",{"$f":"VLOOKUP(C:C,成绩!B:H,7,0)","v":2}]
[23,16,2022010412,"代肖彤","化工22-1班",{"$f":"VLOOKUP(C:C,德育基础分!A28:D128,4,0)","v":{"v":99.8174071819842,"d":"99.8174"}},{"v":90,"d":"90.0000"},{"v":59.8904443091905,"d":"59.8904"},{"v":36,"d":"36.0000"},{"$f":"VLOOKUP(C:C,'德育加分 (2)'!C:AC,27,0)","v":{"v":0.5,"d":"0.5000"}},{"$f":"VLOOKUP(C:C,德育扣分!A27:F128,6,0)","v":{"v":0,"d":"0.0000"}},{"v":96.3904443091905,"d":"96.3904"},{"v":19.2780888618381,"d":"19.2781"},{"$f":"VLOOKUP(C:C,成绩!B26:D127,3,0)","v":{"v":84.8533333333333,"d":"84.8533"}},{"$f":"VLOOKUP(C:C,成绩!B:E,4,0)","v":{"v":82.5,"d":"82.5000"}},{"v":84.3826666666667,"d":"84.3827"},{"$f":"VLOOKUP(D:D,智育加分汇总!F:G,2,0)","v":{"v":6,"d":"6.0000"}},{"v":90.3826666666667,"d":"90.3827"},{"v":63.2678666666667,"d":"63.2679"},{"$f":"VLOOKUP(C:C,成绩!B:F,5,0)","v":{"v":92.5,"d":"92.5000"}},{"v":100,"d":"100.0000"},{"v":55.5,"d":"55.5000"},{"v":40,"d":"40.0000"},{"$f":"VLOOKUP(C:C,'文体加分 (2)'!C27:O192,13,0)","v":{"v":0,"d":"0.0000"}},{"v":95.5,"d":"95.5000"},{"v":9.55,"d":"9.5500"},{"v":92.0959555285048,"d":"92.0960"},{"$f":"VLOOKUP(C:C,成绩!B:G,6,0)","v":{"v":0.842105263157895,"d":"84.2105%"}},447,{"$f":"VLOOKUP(C:C,成绩!B:H,7,0)","v":0}]
[85,84,2022010413,"陈恒宇","化工22-1班",{"$f":"VLOOKUP(C:C,德育基础分!A29:D129,4,0)","v":{"v":99.7869750456482,"d":"99.7870"}},{"v":90,"d":"90.0000"},{"v":59.8721850273889,"d":"59.8722"},{"v":36,"d":"36.0000"},{"$f":"VLOOKUP(C:C,'德育加分 (2)'!C:AC,27,0)","v":{"v":0.5,"d":"0.5000"}},{"$f":"VLOOKUP(C:C,德育扣分!A28:F129,6,0)","v":{"v":0,"d":"0.0000"}},{"v":96.3721850273889,"d":"96.3722"},{"v":19.2744370054778,"d":"19.2744"},{"$f":"VLOOKUP(C:C,成绩!B27:D128,3,0)","v":{"v":69.28,"d":"69.2800"}},{"$f":"VLOOKUP(C:C,成绩!B:E,4,0)","v":{"v":81.5,"d":"81.5000"}},{"v":71.724,"d":"71.7240"},{"v":0,"d":"0.0000"},{"v":71.724,"d":"71.7240"},50.2068,{"$f":"VLOOKUP(C:C,成绩!B:F,5,0)","v":{"v":83,"d":"83.0000"}},{"v":100,"d":"100.0000"},{"v":49.8,"d":"49.8000"},{"v":40,"d":"40.0000"},{"$f":"VLOOKUP(C:C,'文体加分 (2)'!C28:O193,13,0)","v":{"v":0,"d":"0.0000"}},{"v":89.8,"d":"89.8000"},{"v":8.98,"d":"8.9800"},{"v":78.4612370054778,"d":"78.4612"},{"$f":"VLOOKUP(C:C,成绩!B:G,6,0)","v":{"v":0.473684210526316,"d":"47.3684%"}},522,{"$f":"VLOOKUP(C:C,成绩!B:H,7,0)","v":3}]
[58,46,2022010414,"潘恒懿","化工22-1班",{"$f":"VLOOKUP(C:C,德育基础分!A30:D130,4,0)","v":{"v":99.8174071819842,"d":"99.8174"}},{"v":90,"d":"90.0000"},{"v":59.8904443091905,"d":"59.8904"},{"v":36,"d":"36.0000"},{"$f":"VLOOKUP(C:C,'德育加分 (2)'!C:AC,27,0)","v":{"v":5.83,"d":"5.8300"}},{"$f":"VLOOKUP(C:C,德育扣分!A29:F130,6,0)","v":{"v":0,"d":"0.0000"}},{"v":101.72044430919,"d":"101.7204"},{"v":20.3440888618381,"d":"20.3441"},{"$f":"VLOOKUP(C:C,成绩!B28:D129,3,0)","v":{"v":77.8630136986301,"d":"77.8630"}},{"$f":"VLOOKUP(C:C,成绩!B:E,4,0)","v":{"v":80.5,"d":"80.5000"}},{"v":78.3904109589041,"d":"78.3904"},{"v":0,"d":"0.0000"},{"v":78.3904109589041,"d":"78.3904"},{"v":54.8732876712329,"d":"54.8733"},{"$f":"VLOOKUP(C:C,成绩!B:F,5,0)","v":{"v":75,"d":"75.0000"}},{"v":100,"d":"100.0000"},{"v":45,"d":"45.0000"},{"v":40,"d":"40.0000"},{"$f":"VLOOKUP(C:C,'文体加分 (2)'!C29:O194,13,0)","v":{"v":0,"d":"0.0000"}},{"v":85,"d":"85.0000"},{"v":8.5,"d":"8.5000"},{"v":83.717376533071,"d":"83.7174"},{"$f":"VLOOKUP(C:C,成绩!B:G,6,0)","v":{"v":0.388888888888889,"d":"38.8889%"}},"未通过",{"$f":"VLOOKUP(C:C,成绩!B:H,7,0)","v":1}]
[88,85,2022010418,"王明堃","化工22-1班",{"$f":"VLOOKUP(C:C,德育基础分!A31:D131,4,0)","v":{"v":99.6348143639683,"d":"99.6348"}},{"v":90,"d":"90.0000"},{"v":59.780888618381,"d":"59.7809"},{"v":36,"d":"36.0000"},{"$f":"VLOOKUP(C:C,'德育加分 (2)'!C:AC,27,0)","v":{"v":0.5,"d":"0.5000"}},{"$f":"VLOOKUP(C:C,德育扣分!A30:F131,6,0)","v":{"v":0,"d":"0.0000"}},{"v":96.280888618381,"d":"96.2809"},{"v":19.2561777236762,"d":"19.2562"},{"$f":"VLOOKUP(C:C,成绩!B29:D130,3,0)","v":{"v":69.2435897435897,"d":"69.2436"}},{"$f":"VLOOKUP(C:C,成绩!B:E,4,0)","v":{"v":78,"d":"78.0000"}},{"v":70.9948717948718,"d":"70.9949"},{"v":0,"d":"0.0000"},{"v":70.9948717948718,"d":"70.9949"},{"v":49.6964102564102,"d":"49.6964"},{"$f":"VLOOKUP(C:C,成绩!B:F,5,0)","v":{"v":80.5,"d":"80.5000"}},{"v":100,"d":"100.0000"},{"v":48.3,"d":"48.3000"},{"v":40,"d":"40.0000"},{"$f":"VLOOKUP(C:C,'文体加分 (2)'!C30:O195,13,0)","v":{"v":0,"d":"0.0000"}},{"v":88.3,"d":"88.3000"},{"v":8.83,"d":"8.8300"},{"v":77.7825879800864,"d":"77.7826"},{"$f":"VLOOKUP(C:C,成绩!B:G,6,0)","v":{"v":0.4,"d":"40.0000%"}},439,{"$f":"VLOOKUP(C:C,成绩!B:H,7,0)","v":2}]
[64,65,2022010419,"史国柱","化工22-1班",{"$f":"VLOOKUP(C:C,德育基础分!A32:D132,4,0)","v":{"v":99.7869750456482,"d":"99.7870"}},{"v":90,"d":"90.0000"},{"v":59.8721850273889,"d":"59.8722"},{"v":36,"d":"36.0000"},{"$f":"VLOOKUP(C:C,'德育加分 (2)'!C:AC,27,0)","v":{"v":3.5,"d":"3.5000"}},{"$f":"VLOOKUP(C:C,德育扣分!A31:F132,6,0)","v":{"v":0,"d":"0.0000"}},{"v":99.3721850273889,"d":"99.3722"},{"v":19.8744370054778,"d":"19.8744"},{"$f":"VLOOKUP(C:C,成绩!B30:D131,3,0)","v":{"v":74.4,"d":"74.4000"}},{"$f":"VLOOKUP(C:C,成绩!B:E,4,0)","v":{"v":84.6666666666667,"d":"84.6667"}},{"v":76.4533333333333,"d":"76.4533"},{"v":0,"d":"0.0000"},{"v":76.4533333333333,"d":"76.4533"},{"v":53.5173333333333,"d":"53.5173"},{"$f":"VLOOKUP(C:C,成绩!B:F,5,0)","v":{"v":84.5,"d":"84.5000"}},{"v":100,"d":"100.0000"},{"v":50.7,"d":"50.7000"},{"v":40,"d":"40.0000"},{"$f":"VLOOKUP(C:C,'文体加分 (2)'!C31:O196,13,0)","v":{"v":0,"d":"0.0000"}},{"v":90.7,"d":"90.7000"},{"v":9.07,"d":"9.0700"},{"v":82.4617703388111,"d":"82.4618"},{"$f":"VLOOKUP(C:C,成绩!B:G,6,0)","v":{"v":0.578947368421053,"d":"57.8947%"}},433,{"$f":"VLOOKUP(C:C,成绩!B:H,7,0)","v":1}]
[14,13,2022010516,"郭智硕","化工22-1班",{"$f":"VLOOKUP(C:C,德育基础分!A33:D133,4,0)","v":{"v":99.7869750456482,"d":"99.7870"}},{"v":90,"d":"90.0000"},{"v":59.8721850273889,"d":"59.8722"},{"v":36,"d":"36.0000"},{"$f":"VLOOKUP(C:C,'德育加分 (2)'!C:AC,27,0)","v":{"v":0.5,"d":"0.5000"}},{"$f":"VLOOKUP(C:C,德育扣分!A32:F133,6,0)","v":{"v":0,"d":"0.0000"}},{"v":96.3721850273889,"d":"96.3722"},{"v":19.2744370054778,"d":"19.2744"},{"$f":"VLOOKUP(C:C,成绩!B31:D132,3,0)","v":{"v":85.0133333333333,"d":"85.0133"}},{"$f":"VLOOKUP(C:C,成绩!B:E,4,0)","v":{"v":89.3333333333333,"d":"89.3333"}},{"v":85.8773333333333,"d":"85.8773"},{"$f":"VLOOKUP(D:D,智育加分汇总!F:G,2,0)","v":{"v":10,"d":"10.0000"}},{"v":95.8773333333333,"d":"95.8773"},{"v":67.1141333333333,"d":"67.1141"},{"$f":"VLOOKUP(C:C,成绩!B:F,5,0)","v":{"v":83.5,"d":"83.5000"}},{"v":100,"d":"100.0000"},{"v":50.1,"d":"50.1000"},{"v":40,"d":"40.0000"},{"$f":"VLOOKUP(C:C,'文体加分 (2)'!C32:O197,13,0)","v":{"v":0,"d":"0.0000"}},{"v":90.1,"d":"90.1000"},{"v":9.01,"d":"9.0100"},{"v":95.3985703388111,"d":"95.3986"},{"$f":"VLOOKUP(C:C,成绩!B:G,6,0)","v":{"v":0.894736842105263,"d":"89.4737%"}},485,{"$f":"VLOOKUP(C:C,成绩!B:H,7,0)","v":0}]
[27,10,2022010518,"贾思远","化工22-1班",{"$f":"VLOOKUP(C:C,德育基础分!A34:D134,4,0)","v":{"v":99.6956786366403,"d":"99.6957"}},{"v":90,"d":"90.0000"},{"v":59.8174071819842,"d":"59.8174"},{"v":36,"d":"36.0000"},{"$f":"VLOOKUP(C:C,'德育加分 (2)'!C:AC,27,0)","v":{"v":0.5,"d":"0.5000"}},{"$f":"VLOOKUP(C:C,德育扣分!A33:F134,6,0)","v":{"v":0,"d":"0.0000"}},{"v":96.3174071819842,"d":"96.3174"},{"v":19.2634814363968,"d":"19.2635"},{"$f":"VLOOKUP(C:C,成绩!B32:D133,3,0)","v":{"v":86,"d":"86.0000"}},{"$f":"VLOOKUP(C:C,成绩!B:E,4,0)","v":{"v":84.3333333333333,"d":"84.3333"}},{"v":85.6666666666667,"d":"85.6667"},{"v":0,"d":"0.0000"},{"v":85.6666666666667,"d":"85.6667"},{"v":59.9666666666667,"d":"59.9667"},{"$f":"VLOOKUP(C:C,成绩!B:F,5,0)","v":{"v":97,"d":"97.0000"}},{"v":100,"d":"100.0000"},{"v":58.2,"d":"58.2000"},{"v":40,"d":"40.0000"},{"$f":"VLOOKUP(C:C,'文体加分 (2)'!C33:O198,13,0)","v":{"v":12,"d":"12.0000"}},{"v":110.2,"d":"110.2000"},{"v":11.02,"d":"11.0200"},{"v":90.2501481030635,"d":"90.2501"},{"$f":"VLOOKUP(C:C,成绩!B:G,6,0)","v":{"v":0.789473684210526,"d":"78.9474%"}},545,{"$f":"VLOOKUP(C:C,成绩!B:H,7,0)","v":0}]
[9,20,2022010519,"李佳俊","化工22-1班",{"$f":"VLOOKUP(C:C,德育基础分!A35:D135,4,0)","v":{"v":99.7565429093122,"d":"99.7565"}},{"v":90,"d":"90.0000"},{"v":59.8539257455873,"d":"59.8539"},{"v":36,"d":"36.0000"},{"$f":"VLOOKUP(C:C,'德育加分 (2)'!C:AC,27,0)","v":{"v":2.5,"d":"2.5000"}},{"$f":"VLOOKUP(C:C,德育扣分!A34:F135,6,0)","v":{"v":0,"d":"0.0000"}},{"v":98.3539257455873,"d":"98.3539"},{"v":19.6707851491175,"d":"19.6708"},{"$f":"VLOOKUP(C:C,成绩!B33:D134,3,0)","v":{"v":84.16,"d":"84.1600"}},{"$f":"VLOOKUP(C:C,成绩!B:E,4,0)","v":{"v":84.6666666666667,"d":"84.6667"}},{"v":84.2613333333333,"d":"84.2613"},{"$f":"VLOOKUP(D:D,智育加分汇总!F:G,2,0)","v":{"v":10,"d":"10.0000"}},{"v":94.2613333333333,"d":"94.2613"},{"v":65.9829333333333,"d":"65.9829"},{"$f":"VLOOKUP(C:C,成绩!B:F,5,0)","v":{"v":97.5,"d":"97.5000"}},{"v":100,"d":"100.0000"},{"v":58.5,"d":"58.5000"},{"v":40,"d":"40.0000"},{"$f":"VLOOKUP(C:C,'文体加分 (2)'!C34:O199,13,0)","v":{"v":28,"d":"28.0000"}},{"v":126.5,"d":"126.5000"},{"v":12.65,"d":"12.6500"},{"v":98.3037184824508,"d":"98.3037"},{"$f":"VLOOKUP(C:C,成绩!B:G,6,0)","v":{"v":0.789473684210526,"d":"78.9474%"}},524,{"$f":"VLOOKUP(C:C,成绩!B:H,7,0)","v":0}]
[98,89,2022010622,"顾凌云","化工22-1班",{"$f":"VLOOKUP(C:C,德育基础分!A36:D136,4,0)","v":{"v":99.7261107729763,"d":"99.7261"}},{"v":90,"d":"90.0000"},{"v":59.8356664637857,"d":"59.8357"},{"v":36,"d":"36.0000"},{"$f":"VLOOKUP(C:C,'德育加分 (2)'!C:AC,27,0)","v":{"v":5.8,"d":"5.8000"}},{"$f":"VLOOKUP(C:C,德育扣分!A35:F136,6,0)","v":{"v":0,"d":"0.0000"}},{"v":101.635666463786,"d":"101.6357"},{"v":20.3271332927571,"d":"20.3271"},{"$f":"VLOOKUP(C:C,成绩!B34:D135,3,0)","v":{"v":68.8356164383562,"d":"68.8356"}},{"$f":"VLOOKUP(C:C,成绩!B:E,4,0)","v":{"v":0,"d":"0.0000"}},{"v":55.0684931506849,"d":"55.0685"},{"v":0,"d":"0.0000"},{"v":55.0684931506849,"d":"55.0685"},{"v":38.5479452054795,"d":"38.5479"},{"$f":"VLOOKUP(C:C,成绩!B:F,5,0)","v":{"v":79.5,"d":"79.5000"}},{"v":100,"d":"100.0000"},{"v":47.7,"d":"47.7000"},{"v":40,"d":"40.0000"},{"$f":"VLOOKUP(C:C,'文体加分 (2)'!C35:O200,13,0)","v":{"v":0,"d":"0.0000"}},{"v":87.7,"d":"87.7000"},{"v":8.77,"d":"8.7700"},{"v":67.6450784982366,"d":"67.6451"},{"$f":"VLOOKUP(C:C,成绩!B:G,6,0)","v":{"v":0.277777777777778,"d":"27.7778%"}},504,{"$f":"VLOOKUP(C:C,成绩!B:H,7,0)","v":2}]
[39,30,2022010429,"程实","化工22-2班",{"$f":"VLOOKUP(C:C,德育基础分!A37:D137,4,0)","v":{"v":99.5473219720024,"d":"99.5473"}},{"v":90,"d":"90.0000"},{"v":59.7283931832014,"d":"59.7284"},{"v":36,"d":"36.0000"},{"$f":"VLOOKUP(C:C,'德育加分 (2)'!C:AC,27,0)","v":{"v":3,"d":"3.0000"}},{"$f":"VLOOKUP(C:C,德育扣分!A36:F137,6,0)","v":{"v":0,"d":"0.0000"}},{"v":98.7283931832014,"d":"98.7284"},{"v":19.7456786366403,"d":"19.7457"},{"$f":"VLOOKUP(C:C,成绩!B35:D136,3,0)","v":{"v":81.44,"d":"81.4400"}},{"$f":"VLOOKUP(C:C,成绩!B:E,4,0)","v":{"v":86,"d":"86.0000"}},{"v":82.352,"d":"82.3520"},{"$f":"VLOOKUP(D:D,智育加分汇总!F:G,2,0)","v":{"v":2,"d":"2.0000"}},{"v":84.352,"d":"84.3520"},59.0464,{"$f":"VLOOKUP(C:C,成绩!B:F,5,0)","v":{"v":90,"d":"90.0000"}},{"v":100,"d":"100.0000"},{"v":54,"d":"54.0000"},{"v":40,"d":"40.0000"},{"$f":"VLOOKUP(C:C,'文体加分 (2)'!C36:O201,13,0)","v":{"v":0,"d":"0.0000"}},{"v":94,"d":"94.0000"},{"v":9.4,"d":"9.4000"},{"v":88.1920786366403,"d":"88.1921"},{"$f":"VLOOKUP(C:C,成绩!B:G,6,0)","v":{"v":0.736842105263158,"d":"73.6842%"}},498,{"$f":"VLOOKUP(C:C,成绩!B:H,7,0)","v":0}]
[15,52,2022010430,"马瑜含","化工22-2班",{"$f":"VLOOKUP(C:C,德育基础分!A38:D138,4,0)","v":{"v":99.6728545343883,"d":"99.6729"}},{"v":90,"d":"90.0000"},{"v":59.803712720633,"d":"59.8037"},{"v":36,"d":"36.0000"},{"$f":"VLOOKUP(C:C,'德育加分 (2)'!C:AC,27,0)","v":{"v":7.534,"d":"7.5340"}},{"$f":"VLOOKUP(C:C,德育扣分!A37:F138,6,0)","v":{"v":0,"d":"0.0000"}},{"v":103.337712720633,"d":"103.3377"},{"v":20.6675425441266,"d":"20.6675"},{"$f":"VLOOKUP(C:C,成绩!B36:D137,3,0)","v":{"v":76.5128205128205,"d":"76.5128"}},{"$f":"VLOOKUP(C:C,成绩!B:E,4,0)","v":{"v":85.5,"d":"85.5000"}},{"v":78.3102564102564,"d":"78.3103"},{"$f":"VLOOKUP(D:D,智育加分汇总!F:G,2,0)","v":{"v":13,"d":"13.0000"}},{"v":91.3102564102564,"d":"91.3103"},{"v":63.9171794871795,"d":"63.9172"},{"$f":"VLOOKUP(C:C,成绩!B:F,5,0)","v":{"v":95,"d":"95.0000"}},{"v":100,"d":"100.0000"},{"v":57,"d":"57.0000"},{"v":40,"d":"40.0000"},{"$f":"VLOOKUP(C:C,'文体加分 (2)'!C37:O202,13,0)","v":{"v":9,"d":"9.0000"}},{"v":106,"d":"106.0000"},{"v":10.6,"d":"10.6000"},{"v":95.1847220313061,"d":"95.1847"},{"$f":"VLOOKUP(C:C,成绩!B:G,6,0)","v":{"v":0.6,"d":"60.0000%"}},536,{"$f":"VLOOKUP(C:C,成绩!B:H,7,0)","v":0}]
[82,86,2022010431,"贺婕","化工22-2班",{"$f":"VLOOKUP(C:C,德育基础分!A39:D139,4,0)","v":{"v":99.618,"d":"99.6180"}},{"v":90,"d":"90.0000"},59.7708,{"v":36,"d":"36.0000"},{"$f":"VLOOKUP(C:C,'德育加分 (2)'!C:AC,27,0)","v":{"v":1.5,"d":"1.5000"}},{"$f":"VLOOKUP(C:C,德育扣分!A38:F139,6,0)","v":{"v":0,"d":"0.0000"}},97.2708,{"v":19.45416,"d":"19.4542"},{"$f":"VLOOKUP(C:C,成绩!B37:D138,3,0)","v":{"v":69.136986,"d":"69.1370"}},{"$f":"VLOOKUP(C:C,成绩!B:E,4,0)","v":{"v":82,"d":"82.0000"}},{"v":71.7095888,"d":"71.7096"},{"v":0,"d":"0.0000"},{"v":71.7095888,"d":"71.7096"},{"v":50.19671216,"d":"50.1967"},{"$f":"VLOOKUP(C:C,成绩!B:F,5,0)","v":{"v":90,"d":"90.0000"}},{"v":100,"d":"100.0000"},{"v":54,"d":"54.0000"},{"v":40,"d":"40.0000"},{"$f":"VLOOKUP(C:C,'文体加分 (2)'!C38:O203,13,0)","v":{"v":0,"d":"0.0000"}},{"v":94,"d":"94.0000"},{"v":9.4,"d":"9.4000"},{"v":79.05087216,"d":"79.0509"},{"v":0.35,"d":"35.0000%"},449,{"$f":"VLOOKUP(C:C,成绩!B:H,7,0)","v":0}]
[96,100,2022010432,"刘雨佳","化工22-2班",{"$f":"VLOOKUP(C:C,德育基础分!A40:D140,4,0)","v":{"v":99.453172550213,"d":"99.4532"}},{"v":90,"d":"90.0000"},{"v":59.6719035301278,"d":"59.6719"},{"v":36,"d":"36.0000"},{"$f":"VLOOKUP(C:C,'德育加分 (2)'!C:AC,27,0)","v":{"v":13.5,"d":"13.5000"}},{"$f":"VLOOKUP(C:C,德育扣分!A39:F140,6,0)","v":{"v":2,"d":"2.0000"}},{"v":107.171903530128,"d":"107.1719"},{"v":21.4343807060256,"d":"21.4344"},{"$f":"VLOOKUP(C:C,成绩!B38:D139,3,0)","v":{"v":58.8108108108108,"d":"58.8108"}},{"$f":"VLOOKUP(C:C,成绩!B:E,4,0)","v":{"v":63,"d":"63.0000"}},{"v":59.6486486486487,"d":"59.6486"},{"v":0,"d":"0.0000"},{"v":59.6486486486487,"d":"59.6486"},{"v":41.7540540540541,"d":"41.7541"},{"$f":"VLOOKUP(C:C,成绩!B:F,5,0)","v":{"v":76.5,"d":"76.5000"}},{"v":100,"d":"100.0000"},{"v":45.9,"d":"45.9000"},{"v":40,"d":"40.0000"},{"$f":"VLOOKUP(C:C,'文体加分 (2)'!C39:O204,13,0)","v":{"v":0,"d":"0.0000"}},{"v":85.9,"d":"85.9000"},{"v":8.59,"d":"8.5900"},{"v":71.7784347600796,"d":"71.7784"},{"$f":"VLOOKUP(C:C,成绩!B:G,6,0)","v":{"v":0.210526315789474,"d":"21.0526%"}},487,{"$f":"VLOOKUP(C:C,成绩!B:H,7,0)","v":6}]
[95,98,2022010435,"秦婧瑶","化工22-2班",{"$f":"VLOOKUP(C:C,德育基础分!A41:D141,4,0)","v":{"v":99.5473219720024,"d":"99.5473"}},{"v":90,"d":"90.0000"},{"v":59.7283931832014,"d":"59.7284"},{"v":36,"d":"36.0000"},{"$f":"VLOOKUP(C:C,'德育加分 (2)'!C:AC,27,0)","v":{"v":2.5,"d":"2.5000"}},{"$f":"VLOOKUP(C:C,德育扣分!A40:F141,6,0)","v":{"v":0,"d":"0.0000"}},{"v":98.2283931832014,"d":"98.2284"},{"v":19.6456786366403,"d":"19.6457"},{"$f":"VLOOKUP(C:C,成绩!B39:D140,3,0)","v":{"v":64.12,"d":"64.1200"}},{"$f":"VLOOKUP(C:C,成绩!B:E,4,0)","v":{"v":64,"d":"64.0000"}},{"v":64.096,"d":"64.0960"},{"v":0,"d":"0.0000"},{"v":64.096,"d":"64.0960"},44.8672,{"$f":"VLOOKUP(C:C,成绩!B:F,5,0)","v":{"v":84.5,"d":"84.5000"}},{"v":100,"d":"100.0000"},{"v":50.7,"d":"50.7000"},{"v":40,"d":"40.0000"},{"$f":"VLOOKUP(C:C,'文体加分 (2)'!C40:O205,13,0)","v":{"v":0,"d":"0.0000"}},{"v":90.7,"d":"90.7000"},{"v":9.07,"d":"9.0700"},{"v":73.5828786366403,"d":"73.5829"},{"$f":"VLOOKUP(C:C,成绩!B:G,6,0)","v":{"v":0.263157894736842,"d":"26.3158%"}},"未通过",{"$f":"VLOOKUP(C:C,成绩!B:H,7,0)","v":3}]
[24,25,2022010436,"孙涵","化工22-2班",{"$f":"VLOOKUP(C:C,德育基础分!A42:D142,4,0)","v":{"v":99.826631923311,"d":"99.8266"}},{"v":90,"d":"90.0000"},{"v":59.8959791539866,"d":"59.8960"},{"v":36,"d":"36.0000"},{"$f":"VLOOKUP(C:C,'德育加分 (2)'!C:AC,27,0)","v":{"v":9.7,"d":"9.7000"}},{"$f":"VLOOKUP(C:C,德育扣分!A41:F142,6,0)","v":{"v":0,"d":"0.0000"}},{"v":105.595979153987,"d":"105.5960"},{"v":21.1191958307973,"d":"21.1192"},{"$f":"VLOOKUP(C:C,成绩!B40:D141,3,0)","v":{"v":83.0133333333333,"d":"83.0133"}},{"$f":"VLOOKUP(C:C,成绩!B:E,4,0)","v":{"v":86.5,"d":"86.5000"}},{"v":83.7106666666667,"d":"83.7107"},{"$f":"VLOOKUP(D:D,智育加分汇总!F:G,2,0)","v":{"v":4,"d":"4.0000"}},{"v":87.7106666666667,"d":"87.7107"},{"v":61.3974666666667,"d":"61.3975"},{"$f":"VLOOKUP(C:C,成绩!B:F,5,0)","v":{"v":80.5,"d":"80.5000"}},{"v":100,"d":"100.0000"},{"v":48.3,"d":"48.3000"},{"v":40,"d":"40.0000"},{"$f":"VLOOKUP(C:C,'文体加分 (2)'!C41:O206,13,0)","v":{"v":0,"d":"0.0000"}},{"v":88.3,"d":"88.3000"},{"v":8.83,"d":"8.8300"},{"v":91.346662497464,"d":"91.3467"},{"$f":"VLOOKUP(C:C,成绩!B:G,6,0)","v":{"v":0.736842105263158,"d":"73.6842%"}},548,{"$f":"VLOOKUP(C:C,成绩!B:H,7,0)","v":0}]
[69,76,2022010437,"王晓弘","化工22-2班",{"$f":"VLOOKUP(C:C,德育基础分!A43:D143,4,0)","v":{"v":99.4845556908095,"d":"99.4846"}},{"v":90,"d":"90.0000"},{"v":59.6907334144857,"d":"59.6907"},{"v":36,"d":"36.0000"},{"$f":"VLOOKUP(C:C,'德育加分 (2)'!C:AC,27,0)","v":{"v":4.5,"d":"4.5000"}},{"$f":"VLOOKUP(C:C,德育扣分!A42:F143,6,0)","v":{"v":0,"d":"0.0000"}},{"v":100.190733414486,"d":"100.1907"},{"v":20.0381466828971,"d":"20.0381"},{"$f":"VLOOKUP(C:C,成绩!B41:D142,3,0)","v":{"v":71.4,"d":"71.4000"}},{"$f":"VLOOKUP(C:C,成绩!B:E,4,0)","v":{"v":83.6666666666667,"d":"83.6667"}},{"v":73.8533333333333,"d":"73.8533"},{"v":0,"d":"0.0000"},{"v":73.8533333333333,"d":"73.8533"},{"v":51.6973333333333,"d":"51.6973"},{"$f":"VLOOKUP(C:C,成绩!B:F,5,0)","v":{"v":86,"d":"86.0000"}},{"v":100,"d":"100.0000"},{"v":51.6,"d":"51.6000"},{"v":40,"d":"40.0000"},{"$f":"VLOOKUP(C:C,'文体加分 (2)'!C42:O207,13,0)","v":{"v":0,"d":"0.0000"}},{"v":91.6,"d":"91.6000"},{"v":9.16,"d":"9.1600"},{"v":80.8954800162305,"d":"80.8955"},{"$f":"VLOOKUP(C:C,成绩!B:G,6,0)","v":{"v":0.421052631578947,"d":"42.1053%"}},477,{"$f":"VLOOKUP(C:C,成绩!B:H,7,0)","v":2}]
[47,49,2022010438,"张涵婷","化工22-2班",{"$f":"VLOOKUP(C:C,德育基础分!A44:D144,4,0)","v":{"v":99.6414713937918,"d":"99.6415"}},{"v":90,"d":"90.0000"},{"v":59.7848828362751,"d":"59.7849"},{"v":36,"d":"36.0000"},{"$f":"VLOOKUP(C:C,'德育加分 (2)'!C:AC,27,0)","v":{"v":9.3,"d":"9.3000"}},{"$f":"VLOOKUP(C:C,德育扣分!A43:F144,6,0)","v":{"v":0,"d":"0.0000"}},{"v":105.084882836275,"d":"105.0849"},{"v":21.016976567255,"d":"21.0170"},{"$f":"VLOOKUP(C:C,成绩!B42:D143,3,0)","v":{"v":77.0933333333333,"d":"77.0933"}},{"$f":"VLOOKUP(C:C,成绩!B:E,4,0)","v":{"v":69,"d":"69.0000"}},{"v":75.4746666666667,"d":"75.4747"},{"$f":"VLOOKUP(D:D,智育加分汇总!F:G,2,0)","v":{"v":4,"d":"4.0000"}},{"v":79.4746666666667,"d":"79.4747"},{"v":55.6322666666667,"d":"55.6323"},{"$f":"VLOOKUP(C:C,成绩!B:F,5,0)","v":{"v":89.5,"d":"89.5000"}},{"v":100,"d":"100.0000"},{"v":53.7,"d":"53.7000"},{"v":40,"d":"40.0000"},{"$f":"VLOOKUP(C:C,'文体加分 (2)'!C43:O208,13,0)","v":{"v":4,"d":"4.0000"}},{"v":97.7,"d":"97.7000"},{"v":9.77,"d":"9.7700"},{"v":86.4192432339217,"d":"86.4192"},{"$f":"VLOOKUP(C:C,成绩!B:G,6,0)","v":{"v":0.526315789473684,"d":"52.6316%"}},"未通过",{"$f":"VLOOKUP(C:C,成绩!B:H,7,0)","v":0}]
[43,49,2022010439,"张心怡","化工22-2班",{"$f":"VLOOKUP(C:C,德育基础分!A45:D145,4,0)","v":{"v":99.4845556908095,"d":"99.4846"}},{"v":90,"d":"90.0000"},{"v":59.6907334144857,"d":"59.6907"},{"v":36,"d":"36.0000"},{"$f":"VLOOKUP(C:C,'德育加分 (2)'!C:AC,27,0)","v":{"v":1.5,"d":"1.5000"}},{"$f":"VLOOKUP(C:C,德育扣分!A44:F145,6,0)","v":{"v":0,"d":"0.0000"}},{"v":97.1907334144857,"d":"97.1907"},{"v":19.4381466828971,"d":"19.4381"},{"$f":"VLOOKUP(C:C,成绩!B43:D144,3,0)","v":{"v":77.0933333333333,"d":"77.0933"}},{"$f":"VLOOKUP(C:C,成绩!B:E,4,0)","v":{"v":88,"d":"88.0000"}},{"v":79.2746666666667,"d":"79.2747"},{"$f":"VLOOKUP(D:D,智育加分汇总!F:G,2,0)","v":{"v":4,"d":"4.0000"}},{"v":83.2746666666667,"d":"83.2747"},{"v":58.2922666666667,"d":"58.2923"},{"$f":"VLOOKUP(C:C,成绩!B:F,5,0)","v":{"v":90.5,"d":"90.5000"}},{"v":100,"d":"100.0000"},{"v":54.3,"d":"54.3000"},{"v":40,"d":"40.0000"},{"$f":"VLOOKUP(C:C,'文体加分 (2)'!C44:O209,13,0)","v":{"v":0,"d":"0.0000"}},{"v":94.3,"d":"94.3000"},{"v":9.43,"d":"9.4300"},{"v":87.1604133495638,"d":"87.1604"},{"$f":"VLOOKUP(C:C,成绩!B:G,6,0)","v":{"v":0.526315789473684,"d":"52.6316%"}},546,{"$f":"VLOOKUP(C:C,成绩!B:H,7,0)","v":0}]
[62,65,2022010494,"唐樱菲","化工22-2班",{"$f":"VLOOKUP(C:C,德育基础分!A46:D146,4,0)","v":{"v":99.8297702373707,"d":"99.8298"}},{"v":90,"d":"90.0000"},{"v":59.8978621424224,"d":"59.8979"},{"v":36,"d":"36.0000"},{"$f":"VLOOKUP(C:C,'德育加分 (2)'!C:AC,27,0)","v":{"v":1.5,"d":"1.5000"}},{"$f":"VLOOKUP(C:C,德育扣分!A45:F146,6,0)","v":{"v":2,"d":"2.0000"}},{"v":95.3978621424224,"d":"95.3979"},{"v":19.0795724284845,"d":"19.0796"},{"$f":"VLOOKUP(C:C,成绩!B44:D145,3,0)","v":{"v":74.4,"d":"74.4000"}},{"$f":"VLOOKUP(C:C,成绩!B:E,4,0)","v":{"v":91,"d":"91.0000"}},{"v":77.72,"d":"77.7200"},{"v":0,"d":"0.0000"},{"v":77.72,"d":"77.7200"},{"v":54.404,"d":"54.4040"},{"$f":"VLOOKUP(C:C,成绩!B:F,5,0)","v":{"v":90.5,"d":"90.5000"}},{"v":100,"d":"100.0000"},{"v":54.3,"d":"54.3000"},{"v":40,"d":"40.0000"},{"$f":"VLOOKUP(C:C,'文体加分 (2)'!C45:O210,13,0)","v":{"v":0,"d":"0.0000"}},{"v":94.3,"d":"94.3000"},{"v":9.43,"d":"9.4300"},{"v":82.9135724284845,"d":"82.9136"},{"$f":"VLOOKUP(C:C,成绩!B:G,6,0)","v":{"v":0.526315789473684,"d":"52.6316%"}},617,{"$f":"VLOOKUP(C:C,成绩!B:H,7,0)","v":0}]
[18,18,2022010499,"曹炜曼","化工22-2班",{"$f":"VLOOKUP(C:C,德育基础分!A47:D147,4,0)","v":{"v":99.6414713937918,"d":"99.6415"}},{"v":90,"d":"90.0000"},{"v":59.7848828362751,"d":"59.7849"},{"v":36,"d":"36.0000"},{"$f":"VLOOKUP(C:C,'德育加分 (2)'!C:AC,27,0)","v":{"v":11.37,"d":"11.3700"}},{"$f":"VLOOKUP(C:C,德育扣分!A46:F147,6,0)","v":{"v":0,"d":"0.0000"}},{"v":107.154882836275,"d":"107.1549"},{"v":21.430976567255,"d":"21.4310"},{"$f":"VLOOKUP(C:C,成绩!B45:D146,3,0)","v":{"v":84.4133333333333,"d":"84.4133"}},{"$f":"VLOOKUP(C:C,成绩!B:E,4,0)","v":{"v":83,"d":"83.0000"}},{"v":84.1306666666667,"d":"84.1307"},{"$f":"VLOOKUP(D:D,智育加分汇总!F:G,2,0)","v":{"v":6,"d":"6.0000"}},{"v":90.1306666666667,"d":"90.1307"},{"v":63.0914666666667,"d":"63.0915"},{"$f":"VLOOKUP(C:C,成绩!B:F,5,0)","v":{"v":91,"d":"91.0000"}},{"v":100,"d":"100.0000"},{"v":54.6,"d":"54.6000"},{"v":40,"d":"40.0000"},{"$f":"VLOOKUP(C:C,'文体加分 (2)'!C46:O211,13,0)","v":{"v":0,"d":"0.0000"}},{"v":94.6,"d":"94.6000"},{"v":9.46,"d":"9.4600"},{"v":93.9824432339217,"d":"93.9824"},{"$f":"VLOOKUP(C:C,成绩!B:G,6,0)","v":{"v":0.789473684210526,"d":"78.9474%"}},467,{"$f":"VLOOKUP(C:C,成绩!B:H,7,0)","v":0}]
[44,39,2022010585,"崔跃兰","化工22-2班",{"$f":"VLOOKUP(C:C,德育基础分!A48:D148,4,0)","v":{"v":99.515938831406,"d":"99.5159"}},{"v":90,"d":"90.0000"},{"v":59.7095632988436,"d":"59.7096"},{"v":36,"d":"36.0000"},{"$f":"VLOOKUP(C:C,'德育加分 (2)'!C:AC,27,0)","v":{"v":9,"d":"9.0000"}},{"$f":"VLOOKUP(C:C,德育扣分!A47:F148,6,0)","v":{"v":0,"d":"0.0000"}},{"v":104.709563298844,"d":"104.7096"},{"v":20.9419126597687,"d":"20.9419"},{"$f":"VLOOKUP(C:C,成绩!B46:D147,3,0)","v":{"v":79.1733333333333,"d":"79.1733"}},{"$f":"VLOOKUP(C:C,成绩!B:E,4,0)","v":{"v":87.5,"d":"87.5000"}},{"v":80.8386666666667,"d":"80.8387"},{"v":0,"d":"0.0000"},{"v":80.8386666666667,"d":"80.8387"},{"v":56.5870666666667,"d":"56.5871"},{"$f":"VLOOKUP(C:C,成绩!B:F,5,0)","v":{"v":92,"d":"92.0000"}},{"v":100,"d":"100.0000"},{"v":55.2,"d":"55.2000"},{"v":40,"d":"40.0000"},{"$f":"VLOOKUP(C:C,'文体加分 (2)'!C47:O212,13,0)","v":{"v":0,"d":"0.0000"}},{"v":95.2,"d":"95.2000"},{"v":9.52,"d":"9.5200"},{"v":87.0489793264354,"d":"87.0490"},{"$f":"VLOOKUP(C:C,成绩!B:G,6,0)","v":{"v":0.684210526315789,"d":"68.4211%"}},561,{"$f":"VLOOKUP(C:C,成绩!B:H,7,0)","v":0}]
[6,63,2022010584,"肖涵芮","化工22-2班",{"$f":"VLOOKUP(C:C,德育基础分!A49:D149,4,0)","v":{"v":99.5473219720024,"d":"99.5473"}},{"v":90,"d":"90.0000"},{"v":59.7283931832014,"d":"59.7284"},{"v":36,"d":"36.0000"},{"$f":"VLOOKUP(C:C,'德育加分 (2)'!C:AC,27,0)","v":{"v":11.2,"d":"11.2000"}},{"$f":"VLOOKUP(C:C,德育扣分!A48:F149,6,0)","v":{"v":0,"d":"0.0000"}},{"v":106.928393183201,"d":"106.9284"},{"v":21.3856786366403,"d":"21.3857"},{"$f":"VLOOKUP(C:C,成绩!B47:D148,3,0)","v":{"v":74.6,"d":"74.6000"}},{"$f":"VLOOKUP(C:C,成绩!B:E,4,0)","v":{"v":79,"d":"79.0000"}},{"v":75.48,"d":"75.4800"},{"$f":"VLOOKUP(D:D,智育加分汇总!F:G,2,0)","v":{"v":26.5,"d":"26.5000"}},{"v":101.98,"d":"101.9800"},{"v":71.386,"d":"71.3860"},{"$f":"VLOOKUP(C:C,成绩!B:F,5,0)","v":{"v":93,"d":"93.0000"}},{"v":100,"d":"100.0000"},{"v":55.8,"d":"55.8000"},{"v":40,"d":"40.0000"},{"$f":"VLOOKUP(C:C,'文体加分 (2)'!C48:O213,13,0)","v":{"v":40,"d":"40.0000"}},{"v":135.8,"d":"135.8000"},{"v":13.58,"d":"13.5800"},{"v":106.35167863664,"d":"106.3517"},{"$f":"VLOOKUP(C:C,成绩!B:G,6,0)","v":{"v":0.421052631578947,"d":"42.1053%"}},574,{"$f":"VLOOKUP(C:C,成绩!B:H,7,0)","v":0}]
[3,6,2022010408,"许文轲","化工22-2班",{"$f":"VLOOKUP(C:C,德育基础分!A50:D150,4,0)","v":{"v":99.7387591296409,"d":"99.7388"}},{"v":90,"d":"90.0000"},{"v":59.8432554777845,"d":"59.8433"},{"v":36,"d":"36.0000"},{"$f":"VLOOKUP(C:C,'德育加分 (2)'!C:AC,27,0)","v":{"v":6.3,"d":"6.3000"}},{"$f":"VLOOKUP(C:C,德育扣分!A49:F150,6,0)","v":{"v":0,"d":"0.0000"}},{"v":102.143255477785,"d":"102.1433"},{"v":20.4286510955569,"d":"20.4287"},{"$f":"VLOOKUP(C:C,成绩!B48:D149,3,0)","v":{"v":87.1333333333333,"d":"87.1333"}},{"$f":"VLOOKUP(C:C,成绩!B:E,4,0)","v":{"v":86.5,"d":"86.5000"}},{"v":87.0066666666667,"d":"87.0067"},{"$f":"VLOOKUP(D:D,智育加分汇总!F:G,2,0)","v":{"v":35,"d":"35.0000"}},{"v":122.006666666667,"d":"122.0067"},{"v":85.4046666666667,"d":"85.4047"},{"$f":"VLOOKUP(C:C,成绩!B:F,5,0)","v":{"v":93,"d":"93.0000"}},{"v":100,"d":"100.0000"},{"v":55.8,"d":"55.8000"},{"v":40,"d":"40.0000"},{"$f":"VLOOKUP(C:C,'文体加分 (2)'!C49:O214,13,0)","v":{"v":4,"d":"4.0000"}},{"v":99.8,"d":"99.8000"},{"v":9.98,"d":"9.9800"},{"v":115.813317762224,"d":"115.8133"},{"$f":"VLOOKUP(C:C,成绩!B:G,6,0)","v":{"v":0.894736842105263,"d":"89.4737%"}},603,{"$f":"VLOOKUP(C:C,成绩!B:H,7,0)","v":0}]
[7,15,2022010422,"江锦欣","化工22-2班",{"$f":"VLOOKUP(C:C,德育基础分!A51:D151,4,0)","v":{"v":99.8297702373707,"d":"99.8298"}},{"v":90,"d":"90.0000"},{"v":59.8978621424224,"d":"59.8979"},{"v":36,"d":"36.0000"},{"$f":"VLOOKUP(C:C,'德育加分 (2)'!C:AC,27,0)","v":{"v":8.3,"d":"8.3000"}},{"$f":"VLOOKUP(C:C,德育扣分!A50:F151,6,0)","v":{"v":0,"d":"0.0000"}},{"v":104.197862142422,"d":"104.1979"},{"v":20.8395724284845,"d":"20.8396"},{"$f":"VLOOKUP(C:C,成绩!B49:D150,3,0)","v":{"v":84.8666666666667,"d":"84.8667"}},{"$f":"VLOOKUP(C:C,成绩!B:E,4,0)","v":{"v":85.6666666666667,"d":"85.6667"}},{"v":85.0266666666667,"d":"85.0267"},{"$f":"VLOOKUP(D:D,智育加分汇总!F:G,2,0)","v":{"v":21,"d":"21.0000"}},{"v":106.026666666667,"d":"106.0267"},{"v":74.2186666666667,"d":"74.2187"},{"$f":"VLOOKUP(C:C,成绩!B:F,5,0)","v":{"v":83,"d":"83.0000"}},{"v":100,"d":"100.0000"},{"v":49.8,"d":"49.8000"},{"v":40,"d":"40.0000"},{"$f":"VLOOKUP(C:C,'文体加分 (2)'!C50:O215,13,0)","v":{"v":0,"d":"0.0000"}},{"v":89.8,"d":"89.8000"},{"v":8.98,"d":"8.9800"},{"v":104.038239095151,"d":"104.0382"},{"$f":"VLOOKUP(C:C,成绩!B:G,6,0)","v":{"v":0.947368421052632,"d":"94.7368%"}},567,{"$f":"VLOOKUP(C:C,成绩!B:H,7,0)","v":0}]
[77,71,2022010426,"赵群","化工22-2班",{"$f":"VLOOKUP(C:C,德育基础分!A52:D152,4,0)","v":{"v":99.7042376749848,"d":"99.7042"}},{"v":90,"d":"90.0000"},{"v":59.8225426049909,"d":"59.8225"},{"v":36,"d":"36.0000"},{"$f":"VLOOKUP(C:C,'德育加分 (2)'!C:AC,27,0)","v":{"v":1.5,"d":"1.5000"}},{"$f":"VLOOKUP(C:C,德育扣分!A51:F152,6,0)","v":{"v":0,"d":"0.0000"}},{"v":97.3225426049909,"d":"97.3225"},{"v":19.4645085209982,"d":"19.4645"},{"$f":"VLOOKUP(C:C,成绩!B50:D151,3,0)","v":{"v":72.7466666666667,"d":"72.7467"}},{"$f":"VLOOKUP(C:C,成绩!B:E,4,0)","v":{"v":76,"d":"76.0000"}},{"v":73.3973333333333,"d":"73.3973"},{"v":0,"d":"0.0000"},{"v":73.3973333333333,"d":"73.3973"},{"v":51.3781333333333,"d":"51.3781"},{"$f":"VLOOKUP(C:C,成绩!B:F,5,0)","v":{"v":78,"d":"78.0000"}},{"v":100,"d":"100.0000"},{"v":46.8,"d":"46.8000"},{"v":40,"d":"40.0000"},{"$f":"VLOOKUP(C:C,'文体加分 (2)'!C51:O216,13,0)","v":{"v":0,"d":"0.0000"}},{"v":86.8,"d":"86.8000"},{"v":8.68,"d":"8.6800"},{"v":79.5226418543315,"d":"79.5226"},{"$f":"VLOOKUP(C:C,成绩!B:G,6,0)","v":{"v":0.368421052631579,"d":"36.8421%"}},541,{"$f":"VLOOKUP(C:C,成绩!B:H,7,0)","v":2}]
[66,67,2022010427,"周慧林","化工22-2班",{"$f":"VLOOKUP(C:C,德育基础分!A53:D153,4,0)","v":{"v":99.8297702373707,"d":"99.8298"}},{"v":90,"d":"90.0000"},{"v":59.8978621424224,"d":"59.8979"},{"v":36,"d":"36.0000"},{"$f":"VLOOKUP(C:C,'德育加分 (2)'!C:AC,27,0)","v":{"v":1.5,"d":"1.5000"}},{"$f":"VLOOKUP(C:C,德育扣分!A52:F153,6,0)","v":{"v":0,"d":"0.0000"}},{"v":97.3978621424224,"d":"97.3979"},{"v":19.4795724284845,"d":"19.4796"},{"$f":"VLOOKUP(C:C,成绩!B51:D152,3,0)","v":{"v":73.6933333333333,"d":"73.6933"}},{"$f":"VLOOKUP(C:C,成绩!B:E,4,0)","v":{"v":90,"d":"90.0000"}},{"v":76.9546666666667,"d":"76.9547"},{"v":0,"d":"0.0000"},{"v":76.9546666666667,"d":"76.9547"},{"v":53.8682666666667,"d":"53.8683"},{"$f":"VLOOKUP(C:C,成绩!B:F,5,0)","v":{"v":80,"d":"80.0000"}},{"v":100,"d":"100.0000"},{"v":48,"d":"48.0000"},{"v":40,"d":"40.0000"},{"$f":"VLOOKUP(C:C,'文体加分 (2)'!C52:O217,13,0)","v":{"v":0,"d":"0.0000"}},{"v":88,"d":"88.0000"},{"v":8.8,"d":"8.8000"},{"v":82.1478390951511,"d":"82.1478"},{"$f":"VLOOKUP(C:C,成绩!B:G,6,0)","v":{"v":0.526315789473684,"d":"52.6316%"}},465,{"$f":"VLOOKUP(C:C,成绩!B:H,7,0)","v":0}]
[68,83,2022010440,"黄颖聪","化工22-2班",{"$f":"VLOOKUP(C:C,德育基础分!A54:D154,4,0)","v":{"v":99.7010993609251,"d":"99.7011"}},{"v":90,"d":"90.0000"},{"v":59.8206596165551,"d":"59.8207"},{"v":36,"d":"36.0000"},{"$f":"VLOOKUP(C:C,'德育加分 (2)'!C:AC,27,0)","v":{"v":2.5,"d":"2.5000"}},{"$f":"VLOOKUP(C:C,德育扣分!A53:F154,6,0)","v":{"v":0,"d":"0.0000"}},{"v":98.3206596165551,"d":"98.3207"},{"v":19.664131923311,"d":"19.6641"},{"$f":"VLOOKUP(C:C,成绩!B52:D153,3,0)","v":{"v":70.4266666666667,"d":"70.4267"}},{"$f":"VLOOKUP(C:C,成绩!B:E,4,0)","v":{"v":86.5,"d":"86.5000"}},{"v":73.6413333333333,"d":"73.6413"},{"$f":"VLOOKUP(D:D,智育加分汇总!F:G,2,0)","v":{"v":2,"d":"2.0000"}},{"v":75.6413333333333,"d":"75.6413"},{"v":52.9489333333333,"d":"52.9489"},{"$f":"VLOOKUP(C:C,成绩!B:F,5,0)","v":{"v":82,"d":"82.0000"}},{"v":100,"d":"100.0000"},{"v":49.2,"d":"49.2000"},{"v":40,"d":"40.0000"},{"$f":"VLOOKUP(C:C,'文体加分 (2)'!C53:O218,13,0)","v":{"v":0,"d":"0.0000"}},{"v":89.2,"d":"89.2000"},{"v":8.92,"d":"8.9200"},{"v":81.5330652566443,"d":"81.5331"},{"$f":"VLOOKUP(C:C,成绩!B:G,6,0)","v":{"v":0.421052631578947,"d":"42.1053%"}},429,{"$f":"VLOOKUP(C:C,成绩!B:H,7,0)","v":0}]
[21,36,2022010441,"白兆","化工22-2班",{"$f":"VLOOKUP(C:C,德育基础分!A55:D155,4,0)","v":{"v":99.1016813755326,"d":"99.1017"}},{"v":90,"d":"90.0000"},{"v":59.4610088253195,"d":"59.4610"},{"v":36,"d":"36.0000"},{"$f":"VLOOKUP(C:C,'德育加分 (2)'!C:AC,27,0)","v":{"v":9.7,"d":"9.7000"}},{"$f":"VLOOKUP(C:C,德育扣分!A54:F155,6,0)","v":{"v":0,"d":"0.0000"}},{"v":105.16100882532,"d":"105.1610"},{"v":21.0322017650639,"d":"21.0322"},{"$f":"VLOOKUP(C:C,成绩!B53:D154,3,0)","v":{"v":79.6933333333333,"d":"79.6933"}},{"$f":"VLOOKUP(C:C,成绩!B:E,4,0)","v":{"v":83,"d":"83.0000"}},{"v":80.3546666666667,"d":"80.3547"},{"$f":"VLOOKUP(D:D,智育加分汇总!F:G,2,0)","v":{"v":6.5,"d":"6.5000"}},{"v":86.8546666666667,"d":"86.8547"},{"v":60.7982666666667,"d":"60.7983"},{"$f":"VLOOKUP(C:C,成绩!B:F,5,0)","v":{"v":93.5,"d":"93.5000"}},{"v":100,"d":"100.0000"},{"v":56.1,"d":"56.1000"},{"v":40,"d":"40.0000"},{"$f":"VLOOKUP(C:C,'文体加分 (2)'!C54:O219,13,0)","v":{"v":19,"d":"19.0000"}},{"v":115.1,"d":"115.1000"},{"v":11.51,"d":"11.5100"},{"v":93.3404684317306,"d":"93.3405"},{"$f":"VLOOKUP(C:C,成绩!B:G,6,0)","v":{"v":0.631578947368421,"d":"63.1579%"}},511,{"$f":"VLOOKUP(C:C,成绩!B:H,7,0)","v":0}]
[87,94,2022010442,"尹泽","化工22-2班",{"$f":"VLOOKUP(C:C,德育基础分!A56:D156,4,0)","v":{"v":99.6069499391357,"d":"99.6069"}},{"v":90,"d":"90.0000"},{"v":59.7641699634814,"d":"59.7642"},{"v":36,"d":"36.0000"},{"$f":"VLOOKUP(C:C,'德育加分 (2)'!C:AC,27,0)","v":{"v":9.5,"d":"9.5000"}},{"$f":"VLOOKUP(C:C,德育扣分!A55:F156,6,0)","v":{"v":10,"d":"10.0000"}},{"v":95.2641699634814,"d":"95.2642"},{"v":19.0528339926963,"d":"19.0528"},{"$f":"VLOOKUP(C:C,成绩!B54:D155,3,0)","v":{"v":68.2954545454545,"d":"68.2955"}},{"$f":"VLOOKUP(C:C,成绩!B:E,4,0)","v":{"v":84,"d":"84.0000"}},{"v":71.4363636363636,"d":"71.4364"},{"v":0,"d":"0.0000"},{"v":71.4363636363636,"d":"71.4364"},{"v":50.0054545454545,"d":"50.0055"},{"$f":"VLOOKUP(C:C,成绩!B:F,5,0)","v":{"v":80.5,"d":"80.5000"}},{"v":100,"d":"100.0000"},{"v":48.3,"d":"48.3000"},{"v":40,"d":"40.0000"},{"$f":"VLOOKUP(C:C,'文体加分 (2)'!C55:O220,13,0)","v":{"v":0,"d":"0.0000"}},{"v":88.3,"d":"88.3000"},{"v":8.83,"d":"8.8300"},{"v":77.8882885381508,"d":"77.8883"},{"$f":"VLOOKUP(C:C,成绩!B:G,6,0)","v":{"v":0.333333333333333,"d":"33.3333%"}},439,{"$f":"VLOOKUP(C:C,成绩!B:H,7,0)","v":3}]
[59,62,2022010443,"杨志文","化工22-2班",{"$f":"VLOOKUP(C:C,德育基础分!A57:D157,4,0)","v":{"v":99.7042376749848,"d":"99.7042"}},{"v":90,"d":"90.0000"},{"v":59.8225426049909,"d":"59.8225"},{"v":36,"d":"36.0000"},{"$f":"VLOOKUP(C:C,'德育加分 (2)'!C:AC,27,0)","v":{"v":5.43,"d":"5.4300"}},{"$f":"VLOOKUP(C:C,德育扣分!A56:F157,6,0)","v":{"v":0,"d":"0.0000"}},{"v":101.252542604991,"d":"101.2525"},{"v":20.2505085209982,"d":"20.2505"},{"$f":"VLOOKUP(C:C,成绩!B55:D156,3,0)","v":{"v":75.16,"d":"75.1600"}},{"$f":"VLOOKUP(C:C,成绩!B:E,4,0)","v":{"v":90.3333333333333,"d":"90.3333"}},{"v":78.1946666666667,"d":"78.1947"},{"v":0,"d":"0.0000"},{"v":78.1946666666667,"d":"78.1947"},{"v":54.7362666666667,"d":"54.7363"},{"$f":"VLOOKUP(C:C,成绩!B:F,5,0)","v":{"v":76,"d":"76.0000"}},{"v":100,"d":"100.0000"},{"v":45.6,"d":"45.6000"},{"v":40,"d":"40.0000"},{"$f":"VLOOKUP(C:C,'文体加分 (2)'!C56:O221,13,0)","v":{"v":0,"d":"0.0000"}},{"v":85.6,"d":"85.6000"},{"v":8.56,"d":"8.5600"},{"v":83.5467751876648,"d":"83.5468"},{"$f":"VLOOKUP(C:C,成绩!B:G,6,0)","v":{"v":0.315789473684211,"d":"31.5789%"}},503,{"$f":"VLOOKUP(C:C,成绩!B:H,7,0)","v":1}]
[53,51,2022010445,"赵国平","化工22-2班",{"$f":"VLOOKUP(C:C,德育基础分!A58:D158,4,0)","v":{"v":99.7670039561777,"d":"99.7670"}},{"v":90,"d":"90.0000"},{"v":59.8602023737066,"d":"59.8602"},{"v":36,"d":"36.0000"},{"$f":"VLOOKUP(C:C,'德育加分 (2)'!C:AC,27,0)","v":{"v":4.5,"d":"4.5000"}},{"$f":"VLOOKUP(C:C,德育扣分!A57:F158,6,0)","v":{"v":0,"d":"0.0000"}},{"v":100.360202373707,"d":"100.3602"},{"v":20.0720404747413,"d":"20.0720"},{"$f":"VLOOKUP(C:C,成绩!B56:D157,3,0)","v":{"v":76.8,"d":"76.8000"}},{"$f":"VLOOKUP(C:C,成绩!B:E,4,0)","v":{"v":85,"d":"85.0000"}},{"v":78.44,"d":"78.4400"},{"$f":"VLOOKUP(D:D,智育加分汇总!F:G,2,0)","v":{"v":2,"d":"2.0000"}},{"v":80.44,"d":"80.4400"},{"v":56.308,"d":"56.3080"},{"$f":"VLOOKUP(C:C,成绩!B:F,5,0)","v":{"v":75.5,"d":"75.5000"}},{"v":100,"d":"100.0000"},{"v":45.3,"d":"45.3000"},{"v":40,"d":"40.0000"},{"$f":"VLOOKUP(C:C,'文体加分 (2)'!C57:O222,13,0)","v":{"v":0,"d":"0.0000"}},{"v":85.3,"d":"85.3000"},{"v":8.53,"d":"8.5300"},{"v":84.9100404747413,"d":"84.9100"},{"$f":"VLOOKUP(C:C,成绩!B:G,6,0)","v":{"v":0.421052631578947,"d":"42.1053%"}},"未通过",{"$f":"VLOOKUP(C:C,成绩!B:H,7,0)","v":0}]
[26,48,2022010446,"金立民","化工22-2班",{"$f":"VLOOKUP(C:C,德育基础分!A59:D159,4,0)","v":{"v":99.6446097078515,"d":"99.6446"}},{"v":90,"d":"90.0000"},{"v":59.7867658247109,"d":"59.7868"},{"v":36,"d":"36.0000"},{"$f":"VLOOKUP(C:C,'德育加分 (2)'!C:AC,27,0)","v":{"v":1.5,"d":"1.5000"}},{"$f":"VLOOKUP(C:C,德育扣分!A58:F159,6,0)","v":{"v":0,"d":"0.0000"}},{"v":97.2867658247109,"d":"97.2868"},{"v":19.4573531649422,"d":"19.4574"},{"$f":"VLOOKUP(C:C,成绩!B57:D158,3,0)","v":{"v":77.2763157894737,"d":"77.2763"}},{"$f":"VLOOKUP(C:C,成绩!B:E,4,0)","v":{"v":74.5,"d":"74.5000"}},{"v":76.721052631579,"d":"76.7211"},{"$f":"VLOOKUP(D:D,智育加分汇总!F:G,2,0)","v":{"v":11,"d":"11.0000"}},{"v":87.721052631579,"d":"87.7211"},{"v":61.4047368421053,"d":"61.4047"},{"$f":"VLOOKUP(C:C,成绩!B:F,5,0)","v":{"v":92,"d":"92.0000"}},{"v":100,"d":"100.0000"},{"v":55.2,"d":"55.2000"},{"v":40,"d":"40.0000"},{"$f":"VLOOKUP(C:C,'文体加分 (2)'!C58:O223,13,0)","v":{"v":0,"d":"0.0000"}},{"v":95.2,"d":"95.2000"},{"v":9.52,"d":"9.5200"},{"v":90.3820900070474,"d":"90.3821"},{"$f":"VLOOKUP(C:C,成绩!B:G,6,0)","v":{"v":0.473684210526316,"d":"47.3684%"}},521,{"$f":"VLOOKUP(C:C,成绩!B:H,7,0)","v":0}]
[40,32,2022010448,"王增智","化工22-2班",{"$f":"VLOOKUP(C:C,德育基础分!A60:D160,4,0)","v":{"v":99.6414713937918,"d":"99.6415"}},{"v":90,"d":"90.0000"},{"v":59.7848828362751,"d":"59.7849"},{"v":36,"d":"36.0000"},{"$f":"VLOOKUP(C:C,'德育加分 (2)'!C:AC,27,0)","v":{"v":4.5,"d":"4.5000"}},{"$f":"VLOOKUP(C:C,德育扣分!A59:F160,6,0)","v":{"v":0,"d":"0.0000"}},{"v":100.284882836275,"d":"100.2849"},{"v":20.056976567255,"d":"20.0570"},{"$f":"VLOOKUP(C:C,成绩!B58:D159,3,0)","v":{"v":80.04,"d":"80.0400"}},{"$f":"VLOOKUP(C:C,成绩!B:E,4,0)","v":{"v":78.3333333333333,"d":"78.3333"}},{"v":79.6986666666667,"d":"79.6987"},{"v":0,"d":"0.0000"},{"v":79.6986666666667,"d":"79.6987"},{"v":55.7890666666667,"d":"55.7891"},{"$f":"VLOOKUP(C:C,成绩!B:F,5,0)","v":{"v":98,"d":"98.0000"}},{"v":100,"d":"100.0000"},{"v":58.8,"d":"58.8000"},{"v":40,"d":"40.0000"},{"$f":"VLOOKUP(C:C,'文体加分 (2)'!C59:O224,13,0)","v":{"v":16,"d":"16.0000"}},{"v":114.8,"d":"114.8000"},{"v":11.48,"d":"11.4800"},{"v":87.3260432339217,"d":"87.3260"},{"$f":"VLOOKUP(C:C,成绩!B:G,6,0)","v":{"v":0.578947368421053,"d":"57.8947%"}},"未通过",{"$f":"VLOOKUP(C:C,成绩!B:H,7,0)","v":0}]
[16,8,2022010449,"郑少杰","化工22-2班",{"$f":"VLOOKUP(C:C,德育基础分!A61:D161,4,0)","v":{"v":99.7105143031041,"d":"99.7105"}},{"v":90,"d":"90.0000"},{"v":59.8263085818624,"d":"59.8263"},{"v":36,"d":"36.0000"},{"$f":"VLOOKUP(C:C,'德育加分 (2)'!C:AC,27,0)","v":{"v":8.17,"d":"8.1700"}},{"$f":"VLOOKUP(C:C,德育扣分!A60:F161,6,0)","v":{"v":10,"d":"10.0000"}},{"v":93.9963085818624,"d":"93.9963"},{"v":18.7992617163725,"d":"18.7993"},{"$f":"VLOOKUP(C:C,成绩!B59:D160,3,0)","v":{"v":86.64,"d":"86.6400"}},{"$f":"VLOOKUP(C:C,成绩!B:E,4,0)","v":{"v":87,"d":"87.0000"}},{"v":86.712,"d":"86.7120"},{"$f":"VLOOKUP(D:D,智育加分汇总!F:G,2,0)","v":{"v":8,"d":"8.0000"}},{"v":94.712,"d":"94.7120"},66.2984,{"$f":"VLOOKUP(C:C,成绩!B:F,5,0)","v":{"v":92.5,"d":"92.5000"}},{"v":100,"d":"100.0000"},{"v":55.5,"d":"55.5000"},{"v":40,"d":"40.0000"},{"$f":"VLOOKUP(C:C,'文体加分 (2)'!C60:O225,13,0)","v":{"v":0,"d":"0.0000"}},{"v":95.5,"d":"95.5000"},{"v":9.55,"d":"9.5500"},{"v":94.6476617163725,"d":"94.6477"},{"$f":"VLOOKUP(C:C,成绩!B:G,6,0)","v":{"v":0.894736842105263,"d":"89.4737%"}},525,{"$f":"VLOOKUP(C:C,成绩!B:H,7,0)","v":0}]
[1,1,2022010452,"康胜","化工22-2班",{"$f":"VLOOKUP(C:C,德育基础分!A62:D162,4,0)","v":{"v":99.7670039561777,"d":"99.7670"}},{"v":90,"d":"90.0000"},{"v":59.8602023737066,"d":"59.8602"},{"v":36,"d":"36.0000"},{"$f":"VLOOKUP(C:C,'德育加分 (2)'!C:AC,27,0)","v":{"v":5.3,"d":"5.3000"}},{"$f":"VLOOKUP(C:C,德育扣分!A61:F162,6,0)","v":{"v":0,"d":"0.0000"}},{"v":101.160202373707,"d":"101.1602"},{"v":20.2320404747413,"d":"20.2320"},{"$f":"VLOOKUP(C:C,成绩!B60:D161,3,0)","v":{"v":89.7066666666667,"d":"89.7067"}},{"$f":"VLOOKUP(C:C,成绩!B:E,4,0)","v":{"v":85,"d":"85.0000"}},{"v":88.7653333333333,"d":"88.7653"},{"$f":"VLOOKUP(D:D,智育加分汇总!F:G,2,0)","v":{"v":46,"d":"46.0000"}},{"v":134.765333333333,"d":"134.7653"},{"v":94.3357333333333,"d":"94.3357"},{"$f":"VLOOKUP(C:C,成绩!B:F,5,0)","v":{"v":98,"d":"98.0000"}},{"v":100,"d":"100.0000"},{"v":58.8,"d":"58.8000"},{"v":40,"d":"40.0000"},{"$f":"VLOOKUP(C:C,'文体加分 (2)'!C61:O226,13,0)","v":{"v":0,"d":"0.0000"}},{"v":98.8,"d":"98.8000"},{"v":9.88,"d":"9.8800"},{"v":124.447773808075,"d":"124.4478"},{"$f":"VLOOKUP(C:C,成绩!B:G,6,0)","v":{"v":0.947368421052632,"d":"94.7368%"}},593,{"$f":"VLOOKUP(C:C,成绩!B:H,7,0)","v":0}]
[101,99,2022010453,"李成歆","化工22-2班",{"$f":"VLOOKUP(C:C,德育基础分!A63:D163,4,0)","v":{"v":99.515938831406,"d":"99.5159"}},{"v":90,"d":"90.0000"},{"v":59.7095632988436,"d":"59.7096"},{"v":36,"d":"36.0000"},{"$f":"VLOOKUP(C:C,'德育加分 (2)'!C:AC,27,0)","v":{"v":1.5,"d":"1.5000"}},{"$f":"VLOOKUP(C:C,德育扣分!A62:F163,6,0)","v":{"v":0,"d":"0.0000"}},{"v":97.2095632988436,"d":"97.2096"},{"v":19.4419126597687,"d":"19.4419"},{"$f":"VLOOKUP(C:C,成绩!B61:D162,3,0)","v":{"v":63.4,"d":"63.4000"}},{"$f":"VLOOKUP(C:C,成绩!B:E,4,0)","v":{"v":0,"d":"0.0000"}},{"v":50.72,"d":"50.7200"},{"v":0,"d":"0.0000"},{"v":50.72,"d":"50.7200"},{"v":35.504,"d":"35.5040"},{"$f":"VLOOKUP(C:C,成绩!B:F,5,0)","v":{"v":73,"d":"73.0000"}},{"v":100,"d":"100.0000"},{"v":43.8,"d":"43.8000"},{"v":40,"d":"40.0000"},{"$f":"VLOOKUP(C:C,'文体加分 (2)'!C62:O227,13,0)","v":{"v":0,"d":"0.0000"}},{"v":83.8,"d":"83.8000"},{"v":8.38,"d":"8.3800"},{"v":63.3259126597687,"d":"63.3259"},{"$f":"VLOOKUP(C:C,成绩!B:G,6,0)","v":{"v":0.315789473684211,"d":"31.5789%"}},579,{"$f":"VLOOKUP(C:C,成绩!B:H,7,0)","v":4}]
[33,21,2022010454,"孙琪桐","化工22-2班",{"$f":"VLOOKUP(C:C,德育基础分!A64:D164,4,0)","v":{"v":99.515938831406,"d":"99.5159"}},{"v":90,"d":"90.0000"},{"v":59.7095632988436,"d":"59.7096"},{"v":36,"d":"36.0000"},{"$f":"VLOOKUP(C:C,'德育加分 (2)'!C:AC,27,0)","v":{"v":7,"d":"7.0000"}},{"$f":"VLOOKUP(C:C,德育扣分!A63:F164,6,0)","v":{"v":0,"d":"0.0000"}},{"v":102.709563298844,"d":"102.7096"},{"v":20.5419126597687,"d":"20.5419"},{"$f":"VLOOKUP(C:C,成绩!B62:D163,3,0)","v":{"v":84.0666666666667,"d":"84.0667"}},{"$f":"VLOOKUP(C:C,成绩!B:E,4,0)","v":{"v":85,"d":"85.0000"}},{"v":84.2533333333333,"d":"84.2533"},{"v":0,"d":"0.0000"},{"v":84.2533333333333,"d":"84.2533"},{"v":58.9773333333333,"d":"58.9773"},{"$f":"VLOOKUP(C:C,成绩!B:F,5,0)","v":{"v":86,"d":"86.0000"}},{"v":100,"d":"100.0000"},{"v":51.6,"d":"51.6000"},{"v":40,"d":"40.0000"},{"$f":"VLOOKUP(C:C,'文体加分 (2)'!C63:O228,13,0)","v":{"v":10,"d":"10.0000"}},{"v":101.6,"d":"101.6000"},{"v":10.16,"d":"10.1600"},{"v":89.679245993102,"d":"89.6792"},{"$f":"VLOOKUP(C:C,成绩!B:G,6,0)","v":{"v":0.894736842105263,"d":"89.4737%"}},535,{"$f":"VLOOKUP(C:C,成绩!B:H,7,0)","v":0}]
[31,4,2022010456,"吴金琪","化工22-2班",{"$f":"VLOOKUP(C:C,德育基础分!A65:D165,4,0)","v":{"v":99.453172550213,"d":"99.4532"}},{"v":90,"d":"90.0000"},{"v":59.6719035301278,"d":"59.6719"},{"v":36,"d":"36.0000"},{"$f":"VLOOKUP(C:C,'德育加分 (2)'!C:AC,27,0)","v":{"v":1.5,"d":"1.5000"}},{"$f":"VLOOKUP(C:C,德育扣分!A64:F165,6,0)","v":{"v":0,"d":"0.0000"}},{"v":97.1719035301278,"d":"97.1719"},{"v":19.4343807060256,"d":"19.4344"},{"$f":"VLOOKUP(C:C,成绩!B63:D164,3,0)","v":{"v":87.92,"d":"87.9200"}},{"$f":"VLOOKUP(C:C,成绩!B:E,4,0)","v":{"v":90,"d":"90.0000"}},{"v":88.336,"d":"88.3360"},{"v":0,"d":"0.0000"},{"v":88.336,"d":"88.3360"},61.8352,{"$f":"VLOOKUP(C:C,成绩!B:F,5,0)","v":{"v":77,"d":"77.0000"}},{"v":100,"d":"100.0000"},{"v":46.2,"d":"46.2000"},{"v":40,"d":"40.0000"},{"$f":"VLOOKUP(C:C,'文体加分 (2)'!C64:O229,13,0)","v":{"v":0,"d":"0.0000"}},{"v":86.2,"d":"86.2000"},{"v":8.62,"d":"8.6200"},{"v":89.8895807060256,"d":"89.8896"},{"$f":"VLOOKUP(C:C,成绩!B:G,6,0)","v":{"v":0.842105263157895,"d":"84.2105%"}},"未通过",{"$f":"VLOOKUP(C:C,成绩!B:H,7,0)","v":0}]
[65,60,2022010458,"赵帅","化工22-2班",{"$f":"VLOOKUP(C:C,德育基础分!A66:D166,4,0)","v":{"v":99.6289181375532,"d":"99.6289"}},{"v":90,"d":"90.0000"},{"v":59.7773508825319,"d":"59.7774"},{"v":36,"d":"36.0000"},{"$f":"VLOOKUP(C:C,'德育加分 (2)'!C:AC,27,0)","v":{"v":1.5,"d":"1.5000"}},{"$f":"VLOOKUP(C:C,德育扣分!A65:F166,6,0)","v":{"v":0,"d":"0.0000"}},{"v":97.2773508825319,"d":"97.2774"},{"v":19.4554701765064,"d":"19.4555"},{"$f":"VLOOKUP(C:C,成绩!B64:D165,3,0)","v":{"v":75.4246575342466,"d":"75.4247"}},{"$f":"VLOOKUP(C:C,成绩!B:E,4,0)","v":{"v":83,"d":"83.0000"}},{"v":76.9397260273973,"d":"76.9397"},{"v":0,"d":"0.0000"},{"v":76.9397260273973,"d":"76.9397"},{"v":53.8578082191781,"d":"53.8578"},{"$f":"VLOOKUP(C:C,成绩!B:F,5,0)","v":{"v":74,"d":"74.0000"}},{"v":100,"d":"100.0000"},{"v":44.4,"d":"44.4000"},{"v":40,"d":"40.0000"},{"$f":"VLOOKUP(C:C,'文体加分 (2)'!C65:O230,13,0)","v":{"v":4,"d":"4.0000"}},{"v":88.4,"d":"88.4000"},{"v":8.84,"d":"8.8400"},{"v":82.1532783956845,"d":"82.1533"},{"$f":"VLOOKUP(C:C,成绩!B:G,6,0)","v":{"v":0.388888888888889,"d":"38.8889%"}},478,{"$f":"VLOOKUP(C:C,成绩!B:H,7,0)","v":0}]
[48,41,2022010459,"朱行健","化工22-2班",{"$f":"VLOOKUP(C:C,德育基础分!A67:D167,4,0)","v":{"v":99.5630135423007,"d":"99.5630"}},{"v":90,"d":"90.0000"},{"v":59.7378081253804,"d":"59.7378"},{"v":36,"d":"36.0000"},{"$f":"VLOOKUP(C:C,'德育加分 (2)'!C:AC,27,0)","v":{"v":4.034,"d":"4.0340"}},{"$f":"VLOOKUP(C:C,德育扣分!A66:F167,6,0)","v":{"v":0,"d":"0.0000"}},{"v":99.7718081253804,"d":"99.7718"},{"v":19.9543616250761,"d":"19.9544"},{"$f":"VLOOKUP(C:C,成绩!B65:D166,3,0)","v":{"v":79.08,"d":"79.0800"}},{"$f":"VLOOKUP(C:C,成绩!B:E,4,0)","v":{"v":80,"d":"80.0000"}},{"v":79.264,"d":"79.2640"},{"v":0,"d":"0.0000"},{"v":79.264,"d":"79.2640"},55.4848,{"$f":"VLOOKUP(C:C,成绩!B:F,5,0)","v":{"v":88.5,"d":"88.5000"}},{"v":100,"d":"100.0000"},{"$f":"T68*0.6","v":{"v":53.1,"d":"53.1000"}},{"$f":"U68*0.4","v":{"v":40,"d":"40.0000"}},{"$f":"VLOOKUP(C:C,'文体加分 (2)'!C66:O231,13,0)","v":{"v":14,"d":"14.0000"}},{"v":107.1,"d":"107.1000"},{"v":10.71,"d":"10.7100"},{"v":86.1491616250761,"d":"86.1492"},{"$f":"VLOOKUP(C:C,成绩!B:G,6,0)","v":{"v":0.526315789473684,"d":"52.6316%"}},494,{"$f":"VLOOKUP(C:C,成绩!B:H,7,0)","v":0}]
[{"$f":"RANK(AA69,AA$4:AA$104)","v":83},{"$f":"RANK(N69,N$4:N$104)","v":95},2022012316,"陈语","化工22-2班",{"$f":"VLOOKUP(C:C,德育基础分!A68:D168,4,0)","v":{"v":99.6885461046865,"d":"99.6885"}},{"v":90,"d":"90.0000"},{"$f":"F69*0.6","v":{"v":59.8131276628119,"d":"59.8131"}},{"$f":"G69*0.4","v":{"v":36,"d":"36.0000"}},{"$f":"VLOOKUP(C:C,'德育加分 (2)'!C:AC,27,0)","v":{"v":3.1,"d":"3.1000"}},{"$f":"VLOOKUP(C:C,德育扣分!A67:F168,6,0)","v":{"v":0,"d":"0.0000"}},{"$f":"H69+I69+J69-K69","v":{"v":98.9131276628119,"d":"98.9131"}},{"$f":"L69*0.2","v":{"v":19.7826255325624,"d":"19.7826"}},{"$f":"VLOOKUP(C:C,成绩!B66:D167,3,0)","v":{"v":66.7283950617284,"d":"66.7284"}},{"$f":"VLOOKUP(C:C,成绩!B:E,4,0)","v":{"v":81.5,"d":"81.5000"}},{"$f":"N69*0.8+O69*0.2","v":{"v":69.6827160493827,"d":"69.6827"}},{"v":0,"d":"0.0000"},{"$f":"Q69+P69","v":{"v":69.6827160493827,"d":"69.6827"}},{"$f":"R69*0.7","v":{"v":48.7779012345679,"d":"48.7779"}},{"$f":"VLOOKUP(C:C,成绩!B:F,5,0)","v":{"v":94.5,"d":"94.5000"}},{"v":100,"d":"100.0000"},{"v":56.7,"d":"56.7000"},{"v":40,"d":"40.0000"},{"$f":"VLOOKUP(C:C,'文体加分 (2)'!C67:O232,13,0)","v":{"v":8,"d":"8.0000"}},{"$f":"V69+W69+X69","v":{"v":104.7,"d":"104.7000"}},{"$f":"Y69*0.1","v":{"v":10.47,"d":"10.4700"}},{"$f":"Z69+S69+M69","v":{"v":79.0305267671303,"d":"79.0305"}},{"$f":"VLOOKUP(C:C,成绩!B:G,6,0)","v":{"v":0.35,"d":"35.0000%"}},561,{"$f":"VLOOKUP(C:C,成绩!B:H,7,0)","v":3}]
[71,78,2022010511,"罗小刚","化工22-2班",{"$f":"VLOOKUP(C:C,德育基础分!A69:D169,4,0)","v":{"v":99.5473219720024,"d":"99.5473"}},{"v":90,"d":"90.0000"},{"v":59.7283931832014,"d":"59.7284"},{"v":36,"d":"36.0000"},{"$f":"VLOOKUP(C:C,'德育加分 (2)'!C:AC,27,0)","v":{"v":4.5,"d":"4.5000"}},{"$f":"VLOOKUP(C:C,德育扣分!A68:F169,6,0)","v":{"v":0,"d":"0.0000"}},{"v":100.228393183201,"d":"100.2284"},{"v":20.0456786366403,"d":"20.0457"},{"$f":"VLOOKUP(C:C,成绩!B67:D168,3,0)","v":{"v":71.1358024691358,"d":"71.1358"}},{"$f":"VLOOKUP(C:C,成绩!B:E,4,0)","v":{"v":81,"d":"81.0000"}},{"v":73.1086419753086,"d":"73.1086"},{"v":0,"d":"0.0000"},{"v":73.1086419753086,"d":"73.1086"},{"v":51.176049382716,"d":"51.1760"},{"$f":"VLOOKUP(C:C,成绩!B:F,5,0)","v":{"v":85,"d":"85.0000"}},{"v":100,"d":"100.0000"},{"v":51,"d":"51.0000"},{"v":40,"d":"40.0000"},{"$f":"VLOOKUP(C:C,'文体加分 (2)'!C68:O233,13,0)","v":{"v":4,"d":"4.0000"}},{"v":95,"d":"95.0000"},{"v":9.5,"d":"9.5000"},{"v":80.7217280193563,"d":"80.7217"},{"$f":"VLOOKUP(C:C,成绩!B:G,6,0)","v":{"v":0.4,"d":"40.0000%"}},"未通过",{"$f":"VLOOKUP(C:C,成绩!B:H,7,0)","v":2}]
[36,38,2022010512,"陈俊逸","化工22-2班",{"$f":"VLOOKUP(C:C,德育基础分!A70:D170,4,0)","v":{"v":99.5473219720024,"d":"99.5473"}},{"v":90,"d":"90.0000"},{"v":59.7283931832014,"d":"59.7284"},{"v":36,"d":"36.0000"},{"$f":"VLOOKUP(C:C,'德育加分 (2)'!C:AC,27,0)","v":{"v":8.17,"d":"8.1700"}},{"$f":"VLOOKUP(C:C,德育扣分!A69:F170,6,0)","v":{"v":0,"d":"0.0000"}},{"v":103.898393183201,"d":"103.8984"},{"v":20.7796786366403,"d":"20.7797"},{"$f":"VLOOKUP(C:C,成绩!B68:D169,3,0)","v":{"v":79.1866666666667,"d":"79.1867"}},{"$f":"VLOOKUP(C:C,成绩!B:E,4,0)","v":{"v":87,"d":"87.0000"}},{"v":80.7493333333333,"d":"80.7493"},{"$f":"VLOOKUP(D:D,智育加分汇总!F:G,2,0)","v":{"v":4,"d":"4.0000"}},{"v":84.7493333333333,"d":"84.7493"},{"v":59.3245333333333,"d":"59.3245"},{"$f":"VLOOKUP(C:C,成绩!B:F,5,0)","v":{"v":70,"d":"70.0000"}},{"v":100,"d":"100.0000"},{"v":42,"d":"42.0000"},{"v":40,"d":"40.0000"},{"$f":"VLOOKUP(C:C,'文体加分 (2)'!C69:O234,13,0)","v":{"v":4,"d":"4.0000"}},{"v":86,"d":"86.0000"},{"v":8.6,"d":"8.6000"},{"v":88.7042119699736,"d":"88.7042"},{"$f":"VLOOKUP(C:C,成绩!B:G,6,0)","v":{"v":0.578947368421053,"d":"57.8947%"}},455,{"$f":"VLOOKUP(C:C,成绩!B:H,7,0)","v":1}]
[10,56,2022010406,"彭莎莎","化工22-3班",{"$f":"VLOOKUP(C:C,德育基础分!A71:D171,4,0)","v":{"v":100,"d":"100.0000"}},{"v":90,"d":"90.0000"},{"v":60,"d":"60.0000"},{"v":36,"d":"36.0000"},{"$f":"VLOOKUP(C:C,'德育加分 (2)'!C:AC,27,0)","v":{"v":5,"d":"5.0000"}},{"$f":"VLOOKUP(C:C,德育扣分!A70:F171,6,0)","v":{"v":0,"d":"0.0000"}},{"v":101,"d":"101.0000"},{"v":20.2,"d":"20.2000"},{"$f":"VLOOKUP(C:C,成绩!B69:D170,3,0)","v":{"v":76.1733333333333,"d":"76.1733"}},{"$f":"VLOOKUP(C:C,成绩!B:E,4,0)","v":{"v":79.5,"d":"79.5000"}},{"v":76.8386666666667,"d":"76.8387"},{"$f":"VLOOKUP(D:D,智育加分汇总!F:G,2,0)","v":{"v":20,"d":"20.0000"}},{"v":96.8386666666667,"d":"96.8387"},{"v":67.7870666666667,"d":"67.7871"},{"$f":"VLOOKUP(C:C,成绩!B:F,5,0)","v":{"v":90,"d":"90.0000"}},{"v":100,"d":"100.0000"},{"v":54,"d":"54.0000"},{"v":40,"d":"40.0000"},{"$f":"VLOOKUP(C:C,'文体加分 (2)'!C70:O235,13,0)","v":{"v":8,"d":"8.0000"}},{"v":102,"d":"102.0000"},{"v":10.2,"d":"10.2000"},{"v":98.1870666666667,"d":"98.1871"},{"$f":"VLOOKUP(C:C,成绩!B:G,6,0)","v":{"v":0.473684210526316,"d":"47.3684%"}},433,{"$f":"VLOOKUP(C:C,成绩!B:H,7,0)","v":0}]
[5,7,2022010407,"叶海宇","化工22-3班",{"$f":"VLOOKUP(C:C,德育基础分!A72:D172,4,0)","v":{"v":100,"d":"100.0000"}},{"v":90,"d":"90.0000"},{"v":60,"d":"60.0000"},{"v":36,"d":"36.0000"},{"$f":"VLOOKUP(C:C,'德育加分 (2)'!C:AC,27,0)","v":{"v":3,"d":"3.0000"}},{"$f":"VLOOKUP(C:C,德育扣分!A71:F172,6,0)","v":{"v":0,"d":"0.0000"}},{"v":99,"d":"99.0000"},{"v":19.8,"d":"19.8000"},{"$f":"VLOOKUP(C:C,成绩!B70:D171,3,0)","v":{"v":87.0133333333333,"d":"87.0133"}},{"$f":"VLOOKUP(C:C,成绩!B:E,4,0)","v":{"v":88,"d":"88.0000"}},{"v":87.2106666666667,"d":"87.2107"},{"$f":"VLOOKUP(D:D,智育加分汇总!F:G,2,0)","v":{"v":23,"d":"23.0000"}},{"v":110.210666666667,"d":"110.2107"},{"v":77.1474666666667,"d":"77.1475"},{"$f":"VLOOKUP(C:C,成绩!B:F,5,0)","v":{"v":98,"d":"98.0000"}},{"v":100,"d":"100.0000"},{"v":58.8,"d":"58.8000"},{"v":40,"d":"40.0000"},{"$f":"VLOOKUP(C:C,'文体加分 (2)'!C71:O236,13,0)","v":{"v":15,"d":"15.0000"}},{"v":113.8,"d":"113.8000"},{"v":11.38,"d":"11.3800"},{"v":108.327466666667,"d":"108.3275"},{"$f":"VLOOKUP(C:C,成绩!B:G,6,0)","v":{"v":0.894736842105263,"d":"89.4737%"}},558,{"$f":"VLOOKUP(C:C,成绩!B:H,7,0)","v":0}]
[97,101,2022010460,"努尔斯巴·买提库尔班","化工22-3班",{"$f":"VLOOKUP(C:C,德育基础分!A73:D173,4,0)","v":{"v":99.6874023132229,"d":"99.6874"}},{"v":90,"d":"90.0000"},{"v":59.8124413879337,"d":"59.8124"},{"v":36,"d":"36.0000"},{"$f":"VLOOKUP(C:C,'德育加分 (2)'!C:AC,27,0)","v":{"v":0,"d":"0.0000"}},{"$f":"VLOOKUP(C:C,德育扣分!A72:F173,6,0)","v":{"v":0,"d":"0.0000"}},{"v":95.8124413879337,"d":"95.8124"},{"v":19.1624882775867,"d":"19.1625"},{"$f":"VLOOKUP(C:C,成绩!B71:D172,3,0)","v":{"v":57.8666666666667,"d":"57.8667"}},{"$f":"VLOOKUP(C:C,成绩!B:E,4,0)","v":{"v":81,"d":"81.0000"}},{"v":62.4933333333333,"d":"62.4933"},{"v":0,"d":"0.0000"},{"v":62.4933333333333,"d":"62.4933"},{"v":43.7453333333333,"d":"43.7453"},{"$f":"VLOOKUP(C:C,成绩!B:F,5,0)","v":{"v":68,"d":"68.0000"}},{"v":100,"d":"100.0000"},{"v":40.8,"d":"40.8000"},{"v":40,"d":"40.0000"},{"$f":"VLOOKUP(C:C,'文体加分 (2)'!C72:O237,13,0)","v":{"v":0,"d":"0.0000"}},{"v":80.8,"d":"80.8000"},{"v":8.08,"d":"8.0800"},{"v":70.9878216109201,"d":"70.9878"},{"$f":"VLOOKUP(C:C,成绩!B:G,6,0)","v":{"v":0.368421052631579,"d":"36.8421%"}},"未通过",{"$f":"VLOOKUP(C:C,成绩!B:H,7,0)","v":10}]
[2,39,2022010461,"吴芷璇","化工22-3班",{"$f":"VLOOKUP(C:C,德育基础分!A74:D174,4,0)","v":{"v":99.6874023132229,"d":"99.6874"}},{"v":90,"d":"90.0000"},{"v":59.8124413879337,"d":"59.8124"},{"v":36,"d":"36.0000"},{"$f":"VLOOKUP(C:C,'德育加分 (2)'!C:AC,27,0)","v":{"v":7.3,"d":"7.3000"}},{"$f":"VLOOKUP(C:C,德育扣分!A73:F174,6,0)","v":{"v":0,"d":"0.0000"}},{"v":103.112441387934,"d":"103.1124"},{"v":20.6224882775867,"d":"20.6225"},{"$f":"VLOOKUP(C:C,成绩!B72:D173,3,0)","v":{"v":79.1733333333333,"d":"79.1733"}},{"$f":"VLOOKUP(C:C,成绩!B:E,4,0)","v":{"v":83.5,"d":"83.5000"}},{"v":80.0386666666667,"d":"80.0387"},{"$f":"VLOOKUP(D:D,智育加分汇总!F:G,2,0)","v":{"v":44.9933333333333,"d":"44.9933"}},{"v":125.032,"d":"125.0320"},87.5224,{"$f":"VLOOKUP(C:C,成绩!B:F,5,0)","v":{"v":96.5,"d":"96.5000"}},{"v":100,"d":"100.0000"},{"v":57.9,"d":"57.9000"},{"v":40,"d":"40.0000"},{"$f":"VLOOKUP(C:C,'文体加分 (2)'!C73:O238,13,0)","v":{"v":16,"d":"16.0000"}},{"v":113.9,"d":"113.9000"},{"v":11.39,"d":"11.3900"},{"v":119.534888277587,"d":"119.5349"},{"$f":"VLOOKUP(C:C,成绩!B:G,6,0)","v":{"v":0.526315789473684,"d":"52.6316%"}},450,{"$f":"VLOOKUP(C:C,成绩!B:H,7,0)","v":0}]
[49,88,2022010463,"孙千翔","化工22-3班",{"$f":"VLOOKUP(C:C,德育基础分!A75:D175,4,0)","v":{"v":99.6874023132229,"d":"99.6874"}},{"v":90,"d":"90.0000"},{"v":59.8124413879337,"d":"59.8124"},{"v":36,"d":"36.0000"},{"$f":"VLOOKUP(C:C,'德育加分 (2)'!C:AC,27,0)","v":{"v":7,"d":"7.0000"}},{"$f":"VLOOKUP(C:C,德育扣分!A74:F175,6,0)","v":{"v":0,"d":"0.0000"}},{"v":102.812441387934,"d":"102.8124"},{"v":20.5624882775867,"d":"20.5625"},{"$f":"VLOOKUP(C:C,成绩!B73:D174,3,0)","v":{"v":68.88,"d":"68.8800"}},{"$f":"VLOOKUP(C:C,成绩!B:E,4,0)","v":{"v":79.3333333333333,"d":"79.3333"}},{"v":70.9706666666667,"d":"70.9707"},{"$f":"VLOOKUP(D:D,智育加分汇总!F:G,2,0)","v":{"v":9.5,"d":"9.5000"}},{"v":80.4706666666667,"d":"80.4707"},{"v":56.3294666666667,"d":"56.3295"},{"$f":"VLOOKUP(C:C,成绩!B:F,5,0)","v":{"v":82.5,"d":"82.5000"}},{"v":100,"d":"100.0000"},{"v":49.5,"d":"49.5000"},{"v":40,"d":"40.0000"},{"$f":"VLOOKUP(C:C,'文体加分 (2)'!C74:O239,13,0)","v":{"v":0,"d":"0.0000"}},{"v":89.5,"d":"89.5000"},{"v":8.95,"d":"8.9500"},{"v":85.8419549442534,"d":"85.8420"},{"$f":"VLOOKUP(C:C,成绩!B:G,6,0)","v":{"v":0.368421052631579,"d":"36.8421%"}},551,{"$f":"VLOOKUP(C:C,成绩!B:H,7,0)","v":2}]
[13,12,2022010465,"陈飞月","化工22-3班",{"$f":"VLOOKUP(C:C,德育基础分!A76:D176,4,0)","v":{"v":100,"d":"100.0000"}},{"v":90,"d":"90.0000"},{"v":60,"d":"60.0000"},{"v":36,"d":"36.0000"},{"$f":"VLOOKUP(C:C,'德育加分 (2)'!C:AC,27,0)","v":{"v":4.534,"d":"4.5340"}},{"$f":"VLOOKUP(C:C,德育扣分!A75:F176,6,0)","v":{"v":0,"d":"0.0000"}},{"v":100.534,"d":"100.5340"},20.1068,{"$f":"VLOOKUP(C:C,成绩!B74:D175,3,0)","v":{"v":85.0533333333333,"d":"85.0533"}},{"$f":"VLOOKUP(C:C,成绩!B:E,4,0)","v":{"v":89.5,"d":"89.5000"}},{"v":85.9426666666667,"d":"85.9427"},{"$f":"VLOOKUP(D:D,智育加分汇总!F:G,2,0)","v":{"v":7,"d":"7.0000"}},{"v":92.9426666666667,"d":"92.9427"},{"v":65.0598666666667,"d":"65.0599"},{"$f":"VLOOKUP(C:C,成绩!B:F,5,0)","v":{"v":94,"d":"94.0000"}},{"v":100,"d":"100.0000"},{"v":56.4,"d":"56.4000"},{"v":40,"d":"40.0000"},{"$f":"VLOOKUP(C:C,'文体加分 (2)'!C75:O240,13,0)","v":{"v":8,"d":"8.0000"}},{"v":104.4,"d":"104.4000"},{"v":10.44,"d":"10.4400"},{"v":95.6066666666667,"d":"95.6067"},{"$f":"VLOOKUP(C:C,成绩!B:G,6,0)","v":{"v":0.789473684210526,"d":"78.9474%"}},521,{"$f":"VLOOKUP(C:C,成绩!B:H,7,0)","v":0}]
[50,54,2022010467,"石彩君","化工22-3班",{"$f":"VLOOKUP(C:C,德育基础分!A77:D177,4,0)","v":{"v":100,"d":"100.0000"}},{"v":90,"d":"90.0000"},{"v":60,"d":"60.0000"},{"v":36,"d":"36.0000"},{"$f":"VLOOKUP(C:C,'德育加分 (2)'!C:AC,27,0)","v":{"v":11.9333333333333,"d":"11.9333"}},{"$f":"VLOOKUP(C:C,德育扣分!A76:F177,6,0)","v":{"v":0,"d":"0.0000"}},{"v":107.933333333333,"d":"107.9333"},{"v":21.5866666666667,"d":"21.5867"},{"$f":"VLOOKUP(C:C,成绩!B75:D176,3,0)","v":{"v":76.24,"d":"76.2400"}},{"$f":"VLOOKUP(C:C,成绩!B:E,4,0)","v":{"v":83.3333333333333,"d":"83.3333"}},{"v":77.6586666666667,"d":"77.6587"},{"v":0,"d":"0.0000"},{"v":77.6586666666667,"d":"77.6587"},{"v":54.3610666666667,"d":"54.3611"},{"$f":"VLOOKUP(C:C,成绩!B:F,5,0)","v":{"v":89.5,"d":"89.5000"}},{"v":100,"d":"100.0000"},{"v":53.7,"d":"53.7000"},{"v":40,"d":"40.0000"},{"$f":"VLOOKUP(C:C,'文体加分 (2)'!C76:O241,13,0)","v":{"v":0,"d":"0.0000"}},{"v":93.7,"d":"93.7000"},{"v":9.37,"d":"9.3700"},{"v":85.3177333333333,"d":"85.3177"},{"$f":"VLOOKUP(C:C,成绩!B:G,6,0)","v":{"v":0.421052631578947,"d":"42.1053%"}},479,{"$f":"VLOOKUP(C:C,成绩!B:H,7,0)","v":0}]
[57,77,2022010468,"吴忆","化工22-3班",{"$f":"VLOOKUP(C:C,德育基础分!A78:D178,4,0)","v":{"v":100,"d":"100.0000"}},{"v":90,"d":"90.0000"},{"v":60,"d":"60.0000"},{"v":36,"d":"36.0000"},{"$f":"VLOOKUP(C:C,'德育加分 (2)'!C:AC,27,0)","v":{"v":9.53,"d":"9.5300"}},{"$f":"VLOOKUP(C:C,德育扣分!A77:F178,6,0)","v":{"v":0,"d":"0.0000"}},{"v":105.53,"d":"105.5300"},{"v":21.106,"d":"21.1060"},{"$f":"VLOOKUP(C:C,成绩!B76:D177,3,0)","v":{"v":71.16,"d":"71.1600"}},{"$f":"VLOOKUP(C:C,成绩!B:E,4,0)","v":{"v":70,"d":"70.0000"}},{"v":70.928,"d":"70.9280"},{"$f":"VLOOKUP(D:D,智育加分汇总!F:G,2,0)","v":{"v":5.83333333333333,"d":"5.8333"}},{"v":76.7613333333333,"d":"76.7613"},{"v":53.7329333333333,"d":"53.7329"},{"$f":"VLOOKUP(C:C,成绩!B:F,5,0)","v":{"v":82,"d":"82.0000"}},{"v":100,"d":"100.0000"},{"v":49.2,"d":"49.2000"},{"v":40,"d":"40.0000"},{"$f":"VLOOKUP(C:C,'文体加分 (2)'!C77:O242,13,0)","v":{"v":0,"d":"0.0000"}},{"v":89.2,"d":"89.2000"},{"v":8.92,"d":"8.9200"},{"v":83.7589333333333,"d":"83.7589"},{"$f":"VLOOKUP(C:C,成绩!B:G,6,0)","v":{"v":0.473684210526316,"d":"47.3684%"}},544,{"$f":"VLOOKUP(C:C,成绩!B:H,7,0)","v":1}]
[56,42,2022010469,"许馨月","化工22-3班",{"$f":"VLOOKUP(C:C,德育基础分!A79:D179,4,0)","v":{"v":100,"d":"100.0000"}},{"v":90,"d":"90.0000"},{"v":60,"d":"60.0000"},{"v":36,"d":"36.0000"},{"$f":"VLOOKUP(C:C,'德育加分 (2)'!C:AC,27,0)","v":{"v":9.33,"d":"9.3300"}},{"$f":"VLOOKUP(C:C,德育扣分!A78:F179,6,0)","v":{"v":2,"d":"2.0000"}},{"v":103.33,"d":"103.3300"},{"v":20.666,"d":"20.6660"},{"$f":"VLOOKUP(C:C,成绩!B77:D178,3,0)","v":{"v":78.28,"d":"78.2800"}},{"$f":"VLOOKUP(C:C,成绩!B:E,4,0)","v":{"v":75,"d":"75.0000"}},{"v":77.624,"d":"77.6240"},{"v":0,"d":"0.0000"},{"v":77.624,"d":"77.6240"},54.3368,{"$f":"VLOOKUP(C:C,成绩!B:F,5,0)","v":{"v":90,"d":"90.0000"}},{"v":100,"d":"100.0000"},{"v":54,"d":"54.0000"},{"v":40,"d":"40.0000"},{"$f":"VLOOKUP(C:C,'文体加分 (2)'!C78:O243,13,0)","v":{"v":0,"d":"0.0000"}},{"v":94,"d":"94.0000"},{"v":9.4,"d":"9.4000"},84.4028,{"$f":"VLOOKUP(C:C,成绩!B:G,6,0)","v":{"v":0.526315789473684,"d":"52.6316%"}},482,{"$f":"VLOOKUP(C:C,成绩!B:H,7,0)","v":0}]
[12,64,2022010471,"张支铭","化工22-3班",{"$f":"VLOOKUP(C:C,德育基础分!A80:D180,4,0)","v":{"v":100,"d":"100.0000"}},{"v":90,"d":"90.0000"},{"v":60,"d":"60.0000"},{"v":36,"d":"36.0000"},{"$f":"VLOOKUP(C:C,'德育加分 (2)'!C:AC,27,0)","v":{"v":9.364,"d":"9.3640"}},{"$f":"VLOOKUP(C:C,德育扣分!A79:F180,6,0)","v":{"v":0,"d":"0.0000"}},{"v":105.364,"d":"105.3640"},21.0728,{"$f":"VLOOKUP(C:C,成绩!B78:D179,3,0)","v":{"v":74.5333333333333,"d":"74.5333"}},{"$f":"VLOOKUP(C:C,成绩!B:E,4,0)","v":{"v":85,"d":"85.0000"}},{"v":76.6266666666667,"d":"76.6267"},{"$f":"VLOOKUP(D:D,智育加分汇总!F:G,2,0)","v":{"v":18,"d":"18.0000"}},{"v":94.6266666666667,"d":"94.6267"},{"v":66.2386666666667,"d":"66.2387"},{"$f":"VLOOKUP(C:C,成绩!B:F,5,0)","v":{"v":90,"d":"90.0000"}},{"v":100,"d":"100.0000"},{"v":54,"d":"54.0000"},{"v":40,"d":"40.0000"},{"$f":"VLOOKUP(C:C,'文体加分 (2)'!C79:O244,13,0)","v":{"v":0,"d":"0.0000"}},{"v":94,"d":"94.0000"},{"v":9.4,"d":"9.4000"},{"v":96.7114666666667,"d":"96.7115"},{"$f":"VLOOKUP(C:C,成绩!B:G,6,0)","v":{"v":0.526315789473684,"d":"52.6316%"}},536,{"$f":"VLOOKUP(C:C,成绩!B:H,7,0)","v":0}]
[30,11,2022010500,"马倩","化工22-3班",{"$f":"VLOOKUP(C:C,德育基础分!A81:D181,4,0)","v":{"v":100,"d":"100.0000"}},{"v":90,"d":"90.0000"},{"v":60,"d":"60.0000"},{"v":36,"d":"36.0000"},{"$f":"VLOOKUP(C:C,'德育加分 (2)'!C:AC,27,0)","v":{"v":4,"d":"4.0000"}},{"$f":"VLOOKUP(C:C,德育扣分!A80:F181,6,0)","v":{"v":0,"d":"0.0000"}},{"v":100,"d":"100.0000"},{"v":20,"d":"20.0000"},{"$f":"VLOOKUP(C:C,成绩!B79:D180,3,0)","v":{"v":85.9866666666667,"d":"85.9867"}},{"$f":"VLOOKUP(C:C,成绩!B:E,4,0)","v":{"v":90.5,"d":"90.5000"}},{"v":86.8893333333333,"d":"86.8893"},{"v":0,"d":"0.0000"},{"v":86.8893333333333,"d":"86.8893"},{"v":60.8225333333333,"d":"60.8225"},{"$f":"VLOOKUP(C:C,成绩!B:F,5,0)","v":{"v":85.5,"d":"85.5000"}},{"v":100,"d":"100.0000"},{"$f":"T82*0.6","v":{"v":51.3,"d":"51.3000"}},{"$f":"U82*0.4","v":{"v":40,"d":"40.0000"}},{"$f":"VLOOKUP(C:C,'文体加分 (2)'!C80:O245,13,0)","v":{"v":0,"d":"0.0000"}},{"v":91.3,"d":"91.3000"},{"v":9.13,"d":"9.1300"},{"v":89.9525333333333,"d":"89.9525"},{"$f":"VLOOKUP(C:C,成绩!B:G,6,0)","v":{"v":0.947368421052632,"d":"94.7368%"}},545,{"$f":"VLOOKUP(C:C,成绩!B:H,7,0)","v":0}]
[37,31,2022010501,"屈芷晴","化工22-3班",{"$f":"VLOOKUP(C:C,德育基础分!A82:D182,4,0)","v":{"v":100,"d":"100.0000"}},{"v":90,"d":"90.0000"},{"v":60,"d":"60.0000"},{"v":36,"d":"36.0000"},{"$f":"VLOOKUP(C:C,'德育加分 (2)'!C:AC,27,0)","v":{"v":1,"d":"1.0000"}},{"$f":"VLOOKUP(C:C,德育扣分!A81:F182,6,0)","v":{"v":0,"d":"0.0000"}},{"v":97,"d":"97.0000"},{"v":19.4,"d":"19.4000"},{"$f":"VLOOKUP(C:C,成绩!B80:D181,3,0)","v":{"v":81.1733333333333,"d":"81.1733"}},{"$f":"VLOOKUP(C:C,成绩!B:E,4,0)","v":{"v":89,"d":"89.0000"}},{"v":82.7386666666667,"d":"82.7387"},{"v":0,"d":"0.0000"},{"v":82.7386666666667,"d":"82.7387"},{"v":57.9170666666667,"d":"57.9171"},{"$f":"VLOOKUP(C:C,成绩!B:F,5,0)","v":{"v":99,"d":"99.0000"}},{"v":100,"d":"100.0000"},{"v":59.4,"d":"59.4000"},{"v":40,"d":"40.0000"},{"$f":"VLOOKUP(C:C,'文体加分 (2)'!C81:O246,13,0)","v":{"v":14,"d":"14.0000"}},{"v":113.4,"d":"113.4000"},{"v":11.34,"d":"11.3400"},{"v":88.6570666666667,"d":"88.6571"},{"$f":"VLOOKUP(C:C,成绩!B:G,6,0)","v":{"v":0.631578947368421,"d":"63.1579%"}},495,{"$f":"VLOOKUP(C:C,成绩!B:H,7,0)","v":0}]
[70,57,2022010421,"季磊","化工22-3班",{"$f":"VLOOKUP(C:C,德育基础分!A83:D183,4,0)","v":{"v":100,"d":"100.0000"}},{"v":90,"d":"90.0000"},{"v":60,"d":"60.0000"},{"v":36,"d":"36.0000"},{"$f":"VLOOKUP(C:C,'德育加分 (2)'!C:AC,27,0)","v":{"v":0,"d":"0.0000"}},{"$f":"VLOOKUP(C:C,德育扣分!A82:F183,6,0)","v":{"v":0,"d":"0.0000"}},{"v":96,"d":"96.0000"},{"v":19.2,"d":"19.2000"},{"$f":"VLOOKUP(C:C,成绩!B81:D182,3,0)","v":{"v":76.0133333333333,"d":"76.0133"}},{"$f":"VLOOKUP(C:C,成绩!B:E,4,0)","v":{"v":72,"d":"72.0000"}},{"v":75.2106666666667,"d":"75.2107"},{"v":0,"d":"0.0000"},{"v":75.2106666666667,"d":"75.2107"},{"v":52.6474666666667,"d":"52.6475"},{"$f":"VLOOKUP(C:C,成绩!B:F,5,0)","v":{"v":83.5,"d":"83.5000"}},{"v":100,"d":"100.0000"},{"v":50.1,"d":"50.1000"},{"v":40,"d":"40.0000"},{"$f":"VLOOKUP(C:C,'文体加分 (2)'!C82:O247,13,0)","v":{"v":0,"d":"0.0000"}},{"v":90.1,"d":"90.1000"},{"v":9.01,"d":"9.0100"},{"v":80.8574666666667,"d":"80.8575"},{"$f":"VLOOKUP(C:C,成绩!B:G,6,0)","v":{"v":0.473684210526316,"d":"47.3684%"}},535,{"$f":"VLOOKUP(C:C,成绩!B:H,7,0)","v":0}]
[76,72,2022010423,"汪礼俊","化工22-3班",{"$f":"VLOOKUP(C:C,德育基础分!A84:D184,4,0)","v":{"v":100,"d":"100.0000"}},{"v":90,"d":"90.0000"},{"v":60,"d":"60.0000"},{"v":36,"d":"36.0000"},{"$f":"VLOOKUP(C:C,'德育加分 (2)'!C:AC,27,0)","v":{"v":0,"d":"0.0000"}},{"$f":"VLOOKUP(C:C,德育扣分!A83:F184,6,0)","v":{"v":0,"d":"0.0000"}},{"v":96,"d":"96.0000"},{"v":19.2,"d":"19.2000"},{"$f":"VLOOKUP(C:C,成绩!B82:D183,3,0)","v":{"v":72.6266666666667,"d":"72.6267"}},{"$f":"VLOOKUP(C:C,成绩!B:E,4,0)","v":{"v":76,"d":"76.0000"}},{"v":73.3013333333333,"d":"73.3013"},{"v":0,"d":"0.0000"},{"v":73.3013333333333,"d":"73.3013"},{"v":51.3109333333333,"d":"51.3109"},{"$f":"VLOOKUP(C:C,成绩!B:F,5,0)","v":{"v":84,"d":"84.0000"}},{"v":100,"d":"100.0000"},{"v":50.4,"d":"50.4000"},{"v":40,"d":"40.0000"},{"$f":"VLOOKUP(C:C,'文体加分 (2)'!C83:O248,13,0)","v":{"v":0,"d":"0.0000"}},{"v":90.4,"d":"90.4000"},{"v":9.04,"d":"9.0400"},{"v":79.5509333333333,"d":"79.5509"},{"$f":"VLOOKUP(C:C,成绩!B:G,6,0)","v":{"v":0.421052631578947,"d":"42.1053%"}},492,{"$f":"VLOOKUP(C:C,成绩!B:H,7,0)","v":0}]
[78,74,2022010424,"席振昌","化工22-3班",{"$f":"VLOOKUP(C:C,德育基础分!A85:D185,4,0)","v":{"v":99.5311034698343,"d":"99.5311"}},{"v":90,"d":"90.0000"},{"v":59.7186620819006,"d":"59.7187"},{"v":36,"d":"36.0000"},{"$f":"VLOOKUP(C:C,'德育加分 (2)'!C:AC,27,0)","v":{"v":0,"d":"0.0000"}},{"$f":"VLOOKUP(C:C,德育扣分!A84:F185,6,0)","v":{"v":0,"d":"0.0000"}},{"v":95.7186620819006,"d":"95.7187"},{"v":19.1437324163801,"d":"19.1437"},{"$f":"VLOOKUP(C:C,成绩!B83:D184,3,0)","v":{"v":72.0533333333333,"d":"72.0533"}},{"$f":"VLOOKUP(C:C,成绩!B:E,4,0)","v":{"v":79,"d":"79.0000"}},{"v":73.4426666666667,"d":"73.4427"},{"v":0,"d":"0.0000"},{"v":73.4426666666667,"d":"73.4427"},{"v":51.4098666666667,"d":"51.4099"},{"$f":"VLOOKUP(C:C,成绩!B:F,5,0)","v":{"v":82.5,"d":"82.5000"}},{"v":100,"d":"100.0000"},{"v":49.5,"d":"49.5000"},{"v":40,"d":"40.0000"},{"$f":"VLOOKUP(C:C,'文体加分 (2)'!C84:O249,13,0)","v":{"v":0,"d":"0.0000"}},{"v":89.5,"d":"89.5000"},{"v":8.95,"d":"8.9500"},{"v":79.5035990830468,"d":"79.5036"},{"$f":"VLOOKUP(C:C,成绩!B:G,6,0)","v":{"v":0.368421052631579,"d":"36.8421%"}},582,{"$f":"VLOOKUP(C:C,成绩!B:H,7,0)","v":0}]
[94,96,2022010425,"闫杨奇昊","化工22-3班",{"$f":"VLOOKUP(C:C,德育基础分!A86:D186,4,0)","v":{"v":100,"d":"100.0000"}},{"v":90,"d":"90.0000"},{"v":60,"d":"60.0000"},{"v":36,"d":"36.0000"},{"$f":"VLOOKUP(C:C,'德育加分 (2)'!C:AC,27,0)","v":{"v":0,"d":"0.0000"}},{"$f":"VLOOKUP(C:C,德育扣分!A85:F186,6,0)","v":{"v":0,"d":"0.0000"}},{"v":96,"d":"96.0000"},{"v":19.2,"d":"19.2000"},{"$f":"VLOOKUP(C:C,成绩!B84:D185,3,0)","v":{"v":66.2266666666667,"d":"66.2267"}},{"$f":"VLOOKUP(C:C,成绩!B:E,4,0)","v":{"v":71,"d":"71.0000"}},{"v":67.1813333333333,"d":"67.1813"},{"v":0,"d":"0.0000"},{"v":67.1813333333333,"d":"67.1813"},{"v":47.0269333333333,"d":"47.0269"},{"$f":"VLOOKUP(C:C,成绩!B:F,5,0)","v":{"v":72,"d":"72.0000"}},{"v":100,"d":"100.0000"},{"v":43.2,"d":"43.2000"},{"v":40,"d":"40.0000"},{"$f":"VLOOKUP(C:C,'文体加分 (2)'!C85:O250,13,0)","v":{"v":0,"d":"0.0000"}},{"v":83.2,"d":"83.2000"},{"v":8.32,"d":"8.3200"},{"v":74.5469333333333,"d":"74.5469"},{"$f":"VLOOKUP(C:C,成绩!B:G,6,0)","v":{"v":0.210526315789474,"d":"21.0526%"}},495,{"$f":"VLOOKUP(C:C,成绩!B:H,7,0)","v":2}]
[80,68,2022010473,"刘源兴","化工22-3班",{"$f":"VLOOKUP(C:C,德育基础分!A87:D187,4,0)","v":{"v":99.6874023132229,"d":"99.6874"}},{"v":90,"d":"90.0000"},{"v":59.8124413879337,"d":"59.8124"},{"v":36,"d":"36.0000"},{"$f":"VLOOKUP(C:C,'德育加分 (2)'!C:AC,27,0)","v":{"v":0,"d":"0.0000"}},{"$f":"VLOOKUP(C:C,德育扣分!A86:F187,6,0)","v":{"v":0,"d":"0.0000"}},{"v":95.8124413879337,"d":"95.8124"},{"v":19.1624882775867,"d":"19.1625"},{"$f":"VLOOKUP(C:C,成绩!B85:D186,3,0)","v":{"v":73.6133333333333,"d":"73.6133"}},{"$f":"VLOOKUP(C:C,成绩!B:E,4,0)","v":{"v":73,"d":"73.0000"}},{"v":73.4906666666667,"d":"73.4907"},{"v":0,"d":"0.0000"},{"v":73.4906666666667,"d":"73.4907"},{"v":51.4434666666667,"d":"51.4435"},{"$f":"VLOOKUP(C:C,成绩!B:F,5,0)","v":{"v":79.5,"d":"79.5000"}},{"v":100,"d":"100.0000"},{"v":47.7,"d":"47.7000"},{"v":40,"d":"40.0000"},{"$f":"VLOOKUP(C:C,'文体加分 (2)'!C86:O251,13,0)","v":{"v":0,"d":"0.0000"}},{"v":87.7,"d":"87.7000"},{"v":8.77,"d":"8.7700"},{"v":79.3759549442534,"d":"79.3760"},{"$f":"VLOOKUP(C:C,成绩!B:G,6,0)","v":{"v":0.368421052631579,"d":"36.8421%"}},464,{"$f":"VLOOKUP(C:C,成绩!B:H,7,0)","v":1}]
[100,92,2022010476,"何岩松","化工22-3班",{"$f":"VLOOKUP(C:C,德育基础分!A88:D188,4,0)","v":{"v":99.6874023132229,"d":"99.6874"}},{"v":90,"d":"90.0000"},{"v":59.8124413879337,"d":"59.8124"},{"v":36,"d":"36.0000"},{"$f":"VLOOKUP(C:C,'德育加分 (2)'!C:AC,27,0)","v":{"v":0,"d":"0.0000"}},{"$f":"VLOOKUP(C:C,德育扣分!A87:F188,6,0)","v":{"v":0,"d":"0.0000"}},{"v":95.8124413879337,"d":"95.8124"},{"v":19.1624882775867,"d":"19.1625"},{"$f":"VLOOKUP(C:C,成绩!B86:D187,3,0)","v":{"v":68.6,"d":"68.6000"}},{"$f":"VLOOKUP(C:C,成绩!B:E,4,0)","v":{"v":0,"d":"0.0000"}},{"v":54.88,"d":"54.8800"},{"v":0,"d":"0.0000"},{"v":54.88,"d":"54.8800"},{"v":38.416,"d":"38.4160"},{"$f":"VLOOKUP(C:C,成绩!B:F,5,0)","v":{"v":82.5,"d":"82.5000"}},{"v":100,"d":"100.0000"},{"v":49.5,"d":"49.5000"},{"v":40,"d":"40.0000"},{"$f":"VLOOKUP(C:C,'文体加分 (2)'!C87:O252,13,0)","v":{"v":0,"d":"0.0000"}},{"v":89.5,"d":"89.5000"},{"v":8.95,"d":"8.9500"},{"v":66.5284882775867,"d":"66.5285"},{"$f":"VLOOKUP(C:C,成绩!B:G,6,0)","v":{"v":0.3,"d":"30.0000%"}},432,{"$f":"VLOOKUP(C:C,成绩!B:H,7,0)","v":4}]
[32,55,2022010477,"张帅","化工22-3班",{"$f":"VLOOKUP(C:C,德育基础分!A89:D189,4,0)","v":{"v":100,"d":"100.0000"}},{"v":90,"d":"90.0000"},{"v":60,"d":"60.0000"},{"v":36,"d":"36.0000"},{"$f":"VLOOKUP(C:C,'德育加分 (2)'!C:AC,27,0)","v":{"v":10.0633333333333,"d":"10.0633"}},{"$f":"VLOOKUP(C:C,德育扣分!A88:F189,6,0)","v":{"v":0,"d":"0.0000"}},{"v":106.063333333333,"d":"106.0633"},{"v":21.2126666666667,"d":"21.2127"},{"$f":"VLOOKUP(C:C,成绩!B87:D188,3,0)","v":{"v":76.1866666666667,"d":"76.1867"}},{"$f":"VLOOKUP(C:C,成绩!B:E,4,0)","v":{"v":82,"d":"82.0000"}},{"v":77.3493333333333,"d":"77.3493"},{"$f":"VLOOKUP(D:D,智育加分汇总!F:G,2,0)","v":{"v":6.66666666666667,"d":"6.6667"}},{"v":84.016,"d":"84.0160"},58.8112,{"$f":"VLOOKUP(C:C,成绩!B:F,5,0)","v":{"v":97.5,"d":"97.5000"}},{"v":100,"d":"100.0000"},{"v":58.5,"d":"58.5000"},{"v":40,"d":"40.0000"},{"$f":"VLOOKUP(C:C,'文体加分 (2)'!C88:O253,13,0)","v":{"v":0,"d":"0.0000"}},{"v":98.5,"d":"98.5000"},{"v":9.85,"d":"9.8500"},{"v":89.8738666666667,"d":"89.8739"},{"$f":"VLOOKUP(C:C,成绩!B:G,6,0)","v":{"v":0.526315789473684,"d":"52.6316%"}},462,{"$f":"VLOOKUP(C:C,成绩!B:H,7,0)","v":1}]
[38,23,2022010478,"李煌","化工22-3班",{"$f":"VLOOKUP(C:C,德育基础分!A90:D190,4,0)","v":{"v":99.6874023132229,"d":"99.6874"}},{"v":90,"d":"90.0000"},{"v":59.8124413879337,"d":"59.8124"},{"v":36,"d":"36.0000"},{"$f":"VLOOKUP(C:C,'德育加分 (2)'!C:AC,27,0)","v":{"v":3.666,"d":"3.6660"}},{"$f":"VLOOKUP(C:C,德育扣分!A89:F190,6,0)","v":{"v":0,"d":"0.0000"}},{"v":99.4784413879337,"d":"99.4784"},{"v":19.8956882775867,"d":"19.8957"},{"$f":"VLOOKUP(C:C,成绩!B88:D189,3,0)","v":{"v":83.7733333333333,"d":"83.7733"}},{"$f":"VLOOKUP(C:C,成绩!B:E,4,0)","v":{"v":0,"d":"0.0000"}},{"v":67.0186666666667,"d":"67.0187"},{"$f":"VLOOKUP(D:D,智育加分汇总!F:G,2,0)","v":{"v":18,"d":"18.0000"}},{"v":85.0186666666667,"d":"85.0187"},{"v":59.5130666666667,"d":"59.5131"},{"$f":"VLOOKUP(C:C,成绩!B:F,5,0)","v":{"v":83.5,"d":"83.5000"}},{"v":100,"d":"100.0000"},{"v":50.1,"d":"50.1000"},{"v":40,"d":"40.0000"},{"$f":"VLOOKUP(C:C,'文体加分 (2)'!C89:O254,13,0)","v":{"v":0,"d":"0.0000"}},{"v":90.1,"d":"90.1000"},{"v":9.01,"d":"9.0100"},{"v":88.4187549442534,"d":"88.4188"},{"$f":"VLOOKUP(C:C,成绩!B:G,6,0)","v":{"v":0.842105263157895,"d":"84.2105%"}},532,{"$f":"VLOOKUP(C:C,成绩!B:H,7,0)","v":0}]
[73,69,2022010479,"杨广军","化工22-3班",{"$f":"VLOOKUP(C:C,德育基础分!A91:D191,4,0)","v":{"v":100,"d":"100.0000"}},{"v":90,"d":"90.0000"},{"v":60,"d":"60.0000"},{"v":36,"d":"36.0000"},{"$f":"VLOOKUP(C:C,'德育加分 (2)'!C:AC,27,0)","v":{"v":2,"d":"2.0000"}},{"$f":"VLOOKUP(C:C,德育扣分!A90:F191,6,0)","v":{"v":0,"d":"0.0000"}},{"v":98,"d":"98.0000"},{"v":19.6,"d":"19.6000"},{"$f":"VLOOKUP(C:C,成绩!B89:D190,3,0)","v":{"v":72.96,"d":"72.9600"}},{"$f":"VLOOKUP(C:C,成绩!B:E,4,0)","v":{"v":76,"d":"76.0000"}},{"v":73.568,"d":"73.5680"},{"v":0,"d":"0.0000"},{"v":73.568,"d":"73.5680"},51.4976,{"$f":"VLOOKUP(C:C,成绩!B:F,5,0)","v":{"v":87.5,"d":"87.5000"}},{"v":100,"d":"100.0000"},{"v":52.5,"d":"52.5000"},{"v":40,"d":"40.0000"},{"$f":"VLOOKUP(C:C,'文体加分 (2)'!C90:O255,13,0)","v":{"v":0,"d":"0.0000"}},{"v":92.5,"d":"92.5000"},{"v":9.25,"d":"9.2500"},80.3476,{"$f":"VLOOKUP(C:C,成绩!B:G,6,0)","v":{"v":0.421052631578947,"d":"42.1053%"}},"未通过",{"$f":"VLOOKUP(C:C,成绩!B:H,7,0)","v":0}]
[99,87,2022010480,"杨明涛","化工22-3班",{"$f":"VLOOKUP(C:C,德育基础分!A92:D192,4,0)","v":{"v":100,"d":"100.0000"}},{"v":90,"d":"90.0000"},{"v":60,"d":"60.0000"},{"v":36,"d":"36.0000"},{"$f":"VLOOKUP(C:C,'德育加分 (2)'!C:AC,27,0)","v":{"v":0,"d":"0.0000"}},{"$f":"VLOOKUP(C:C,德育扣分!A91:F192,6,0)","v":{"v":0,"d":"0.0000"}},{"v":96,"d":"96.0000"},{"v":19.2,"d":"19.2000"},{"$f":"VLOOKUP(C:C,成绩!B90:D191,3,0)","v":{"v":68.96,"d":"68.9600"}},{"$f":"VLOOKUP(C:C,成绩!B:E,4,0)","v":{"v":0,"d":"0.0000"}},{"v":55.168,"d":"55.1680"},{"v":0,"d":"0.0000"},{"v":55.168,"d":"55.1680"},38.6176,{"$f":"VLOOKUP(C:C,成绩!B:F,5,0)","v":{"v":86,"d":"86.0000"}},{"v":100,"d":"100.0000"},{"v":51.6,"d":"51.6000"},{"v":40,"d":"40.0000"},{"$f":"VLOOKUP(C:C,'文体加分 (2)'!C91:O256,13,0)","v":{"v":0,"d":"0.0000"}},{"v":91.6,"d":"91.6000"},{"v":9.16,"d":"9.1600"},66.9776,{"$f":"VLOOKUP(C:C,成绩!B:G,6,0)","v":{"v":0.315789473684211,"d":"31.5789%"}},"未通过",{"$f":"VLOOKUP(C:C,成绩!B:H,7,0)","v":3}]
[61,29,2022010482,"傅世坤","化工22-3班",{"$f":"VLOOKUP(C:C,德育基础分!A93:D193,4,0)","v":{"v":99.8437011566114,"d":"99.8437"}},{"v":90,"d":"90.0000"},{"v":59.9062206939669,"d":"59.9062"},{"v":36,"d":"36.0000"},{"$f":"VLOOKUP(C:C,'德育加分 (2)'!C:AC,27,0)","v":{"v":5.534,"d":"5.5340"}},{"$f":"VLOOKUP(C:C,德育扣分!A92:F193,6,0)","v":{"v":10,"d":"10.0000"}},{"v":91.4402206939669,"d":"91.4402"},{"v":18.2880441387934,"d":"18.2880"},{"$f":"VLOOKUP(C:C,成绩!B91:D192,3,0)","v":{"v":81.7333333333333,"d":"81.7333"}},{"$f":"VLOOKUP(C:C,成绩!B:E,4,0)","v":{"v":73.2,"d":"73.2000"}},{"v":80.0266666666667,"d":"80.0267"},{"v":0,"d":"0.0000"},{"v":80.0266666666667,"d":"80.0267"},{"v":56.0186666666667,"d":"56.0187"},{"$f":"VLOOKUP(C:C,成绩!B:F,5,0)","v":{"v":77,"d":"77.0000"}},{"v":100,"d":"100.0000"},{"v":46.2,"d":"46.2000"},{"v":40,"d":"40.0000"},{"$f":"VLOOKUP(C:C,'文体加分 (2)'!C92:O257,13,0)","v":{"v":0,"d":"0.0000"}},{"v":86.2,"d":"86.2000"},{"v":8.62,"d":"8.6200"},{"v":82.92671080546,"d":"82.9267"},{"$f":"VLOOKUP(C:C,成绩!B:G,6,0)","v":{"v":0.736842105263158,"d":"73.6842%"}},532,1]
[90,53,2022010483,"李浩永","化工22-3班",{"$f":"VLOOKUP(C:C,德育基础分!A94:D194,4,0)","v":{"v":100,"d":"100.0000"}},{"v":90,"d":"90.0000"},{"v":60,"d":"60.0000"},{"v":36,"d":"36.0000"},{"$f":"VLOOKUP(C:C,'德育加分 (2)'!C:AC,27,0)","v":{"v":3,"d":"3.0000"}},{"$f":"VLOOKUP(C:C,德育扣分!A93:F194,6,0)","v":{"v":0,"d":"0.0000"}},{"v":99,"d":"99.0000"},{"v":19.8,"d":"19.8000"},{"$f":"VLOOKUP(C:C,成绩!B92:D193,3,0)","v":{"v":76.32,"d":"76.3200"}},{"$f":"VLOOKUP(C:C,成绩!B:E,4,0)","v":{"v":50,"d":"50.0000"}},{"v":71.056,"d":"71.0560"},{"v":0,"d":"0.0000"},{"v":71.056,"d":"71.0560"},49.7392,{"$f":"VLOOKUP(C:C,成绩!B:F,5,0)","v":{"v":65.5,"d":"65.5000"}},{"v":100,"d":"100.0000"},{"v":39.3,"d":"39.3000"},{"v":40,"d":"40.0000"},{"$f":"VLOOKUP(C:C,'文体加分 (2)'!C93:O258,13,0)","v":{"v":0,"d":"0.0000"}},{"v":79.3,"d":"79.3000"},{"v":7.93,"d":"7.9300"},77.4692,{"$f":"VLOOKUP(C:C,成绩!B:G,6,0)","v":{"v":0.578947368421053,"d":"57.8947%"}},510,2]
[91,93,2022010487,"涂景豪","化工22-3班",{"$f":"VLOOKUP(C:C,德育基础分!A95:D195,4,0)","v":{"v":100,"d":"100.0000"}},{"v":90,"d":"90.0000"},{"v":60,"d":"60.0000"},{"v":36,"d":"36.0000"},{"$f":"VLOOKUP(C:C,'德育加分 (2)'!C:AC,27,0)","v":{"v":0,"d":"0.0000"}},{"$f":"VLOOKUP(C:C,德育扣分!A94:F195,6,0)","v":{"v":0,"d":"0.0000"}},{"v":96,"d":"96.0000"},{"v":19.2,"d":"19.2000"},{"$f":"VLOOKUP(C:C,成绩!B93:D194,3,0)","v":{"v":68.52,"d":"68.5200"}},{"$f":"VLOOKUP(C:C,成绩!B:E,4,0)","v":{"v":74.6666666666667,"d":"74.6667"}},{"v":69.7493333333333,"d":"69.7493"},{"v":0,"d":"0.0000"},{"v":69.7493333333333,"d":"69.7493"},{"v":48.8245333333333,"d":"48.8245"},{"$f":"VLOOKUP(C:C,成绩!B:F,5,0)","v":{"v":79,"d":"79.0000"}},{"v":100,"d":"100.0000"},{"v":47.4,"d":"47.4000"},{"v":40,"d":"40.0000"},{"$f":"VLOOKUP(C:C,'文体加分 (2)'!C94:O259,13,0)","v":{"v":0,"d":"0.0000"}},{"v":87.4,"d":"87.4000"},{"v":8.74,"d":"8.7400"},{"v":76.7645333333333,"d":"76.7645"},{"$f":"VLOOKUP(C:C,成绩!B:G,6,0)","v":{"v":0.157894736842105,"d":"15.7895%"}},581,{"$f":"VLOOKUP(C:C,成绩!B:H,7,0)","v":1}]
[54,82,2022010489,"谢林洲","化工22-3班",{"$f":"VLOOKUP(C:C,德育基础分!A96:D196,4,0)","v":{"v":100,"d":"100.0000"}},{"v":90,"d":"90.0000"},{"v":60,"d":"60.0000"},{"v":36,"d":"36.0000"},{"$f":"VLOOKUP(C:C,'德育加分 (2)'!C:AC,27,0)","v":{"v":4.6,"d":"4.6000"}},{"$f":"VLOOKUP(C:C,德育扣分!A95:F196,6,0)","v":{"v":0,"d":"0.0000"}},{"v":100.6,"d":"100.6000"},{"v":20.12,"d":"20.1200"},{"$f":"VLOOKUP(C:C,成绩!B94:D195,3,0)","v":{"v":70.4823529411765,"d":"70.4824"}},{"$f":"VLOOKUP(C:C,成绩!B:E,4,0)","v":{"v":83.5,"d":"83.5000"}},{"v":73.0858823529412,"d":"73.0859"},{"$f":"VLOOKUP(D:D,智育加分汇总!F:G,2,0)","v":{"v":5,"d":"5.0000"}},{"v":78.0858823529412,"d":"78.0859"},{"v":54.6601176470588,"d":"54.6601"},{"$f":"VLOOKUP(C:C,成绩!B:F,5,0)","v":{"v":91.5,"d":"91.5000"}},{"v":100,"d":"100.0000"},{"v":54.9,"d":"54.9000"},{"v":40,"d":"40.0000"},{"$f":"VLOOKUP(C:C,'文体加分 (2)'!C95:O260,13,0)","v":{"v":6,"d":"6.0000"}},{"v":100.9,"d":"100.9000"},{"v":10.09,"d":"10.0900"},{"v":84.8701176470588,"d":"84.8701"},{"$f":"VLOOKUP(C:C,成绩!B:G,6,0)","v":{"v":0.3,"d":"30.0000%"}},568,{"$f":"VLOOKUP(C:C,成绩!B:H,7,0)","v":1}]
[60,59,2022010490,"严臻睿","化工22-3班",{"$f":"VLOOKUP(C:C,德育基础分!A97:D197,4,0)","v":{"v":100,"d":"100.0000"}},{"v":90,"d":"90.0000"},{"v":60,"d":"60.0000"},{"v":36,"d":"36.0000"},{"$f":"VLOOKUP(C:C,'德育加分 (2)'!C:AC,27,0)","v":{"v":6,"d":"6.0000"}},{"$f":"VLOOKUP(C:C,德育扣分!A96:F197,6,0)","v":{"v":0,"d":"0.0000"}},{"v":102,"d":"102.0000"},{"v":20.4,"d":"20.4000"},{"$f":"VLOOKUP(C:C,成绩!B95:D196,3,0)","v":{"v":75.6666666666667,"d":"75.6667"}},{"$f":"VLOOKUP(C:C,成绩!B:E,4,0)","v":{"v":85,"d":"85.0000"}},{"v":77.5333333333333,"d":"77.5333"},{"v":0,"d":"0.0000"},{"v":77.5333333333333,"d":"77.5333"},{"v":54.2733333333333,"d":"54.2733"},{"$f":"VLOOKUP(C:C,成绩!B:F,5,0)","v":{"v":80.5,"d":"80.5000"}},{"v":100,"d":"100.0000"},{"v":48.3,"d":"48.3000"},{"v":40,"d":"40.0000"},{"$f":"VLOOKUP(C:C,'文体加分 (2)'!C96:O261,13,0)","v":{"v":0,"d":"0.0000"}},{"v":88.3,"d":"88.3000"},{"v":8.83,"d":"8.8300"},{"v":83.5033333333333,"d":"83.5033"},{"$f":"VLOOKUP(C:C,成绩!B:G,6,0)","v":{"v":0.421052631578947,"d":"42.1053%"}},644,{"$f":"VLOOKUP(C:C,成绩!B:H,7,0)","v":0}]
[84,70,2022010504,"李宇翔","化工22-3班",{"$f":"VLOOKUP(C:C,德育基础分!A98:D198,4,0)","v":{"v":100,"d":"100.0000"}},{"v":90,"d":"90.0000"},{"v":60,"d":"60.0000"},{"v":36,"d":"36.0000"},{"$f":"VLOOKUP(C:C,'德育加分 (2)'!C:AC,27,0)","v":{"v":0,"d":"0.0000"}},{"$f":"VLOOKUP(C:C,德育扣分!A97:F198,6,0)","v":{"v":0,"d":"0.0000"}},{"v":96,"d":"96.0000"},{"v":19.2,"d":"19.2000"},{"$f":"VLOOKUP(C:C,成绩!B96:D197,3,0)","v":{"v":72.8133333333333,"d":"72.8133"}},{"$f":"VLOOKUP(C:C,成绩!B:E,4,0)","v":{"v":72.5,"d":"72.5000"}},{"v":72.7506666666667,"d":"72.7507"},{"v":0,"d":"0.0000"},{"v":72.7506666666667,"d":"72.7507"},{"v":50.9254666666667,"d":"50.9255"},{"$f":"VLOOKUP(C:C,成绩!B:F,5,0)","v":{"v":73.5,"d":"73.5000"}},{"v":100,"d":"100.0000"},{"v":44.1,"d":"44.1000"},{"v":40,"d":"40.0000"},{"$f":"VLOOKUP(C:C,'文体加分 (2)'!C97:O262,13,0)","v":{"v":0,"d":"0.0000"}},{"v":84.1,"d":"84.1000"},{"v":8.41,"d":"8.4100"},{"v":78.5354666666667,"d":"78.5355"},{"$f":"VLOOKUP(C:C,成绩!B:G,6,0)","v":{"v":0.210526315789474,"d":"21.0526%"}},477,{"$f":"VLOOKUP(C:C,成绩!B:H,7,0)","v":1}]
[51,81,2022010506,"张席地","化工22-3班",{"$f":"VLOOKUP(C:C,德育基础分!A99:D199,4,0)","v":{"v":100,"d":"100.0000"}},{"v":90,"d":"90.0000"},{"v":60,"d":"60.0000"},{"v":36,"d":"36.0000"},{"$f":"VLOOKUP(C:C,'德育加分 (2)'!C:AC,27,0)","v":{"v":7.2,"d":"7.2000"}},{"$f":"VLOOKUP(C:C,德育扣分!A98:F199,6,0)","v":{"v":0,"d":"0.0000"}},{"v":103.2,"d":"103.2000"},{"v":20.64,"d":"20.6400"},{"$f":"VLOOKUP(C:C,成绩!B97:D198,3,0)","v":{"v":70.632183908046,"d":"70.6322"}},{"$f":"VLOOKUP(C:C,成绩!B:E,4,0)","v":{"v":82.5,"d":"82.5000"}},{"v":73.0057471264368,"d":"73.0057"},{"$f":"VLOOKUP(D:D,智育加分汇总!F:G,2,0)","v":{"v":4,"d":"4.0000"}},{"v":77.0057471264368,"d":"77.0057"},{"v":53.9040229885057,"d":"53.9040"},{"$f":"VLOOKUP(C:C,成绩!B:F,5,0)","v":{"v":99,"d":"99.0000"}},{"v":100,"d":"100.0000"},{"v":59.4,"d":"59.4000"},{"v":40,"d":"40.0000"},{"$f":"VLOOKUP(C:C,'文体加分 (2)'!C98:O263,13,0)","v":{"v":7,"d":"7.0000"}},{"v":106.4,"d":"106.4000"},{"v":10.64,"d":"10.6400"},{"v":85.1840229885057,"d":"85.1840"},{"$f":"VLOOKUP(C:C,成绩!B:G,6,0)","v":{"v":0.45,"d":"45.0000%"}},528,{"$f":"VLOOKUP(C:C,成绩!B:H,7,0)","v":1}]
[93,90,2022010507,"马凯园","化工22-3班",{"$f":"VLOOKUP(C:C,德育基础分!A100:D200,4,0)","v":{"v":100,"d":"100.0000"}},{"v":90,"d":"90.0000"},{"v":60,"d":"60.0000"},{"v":36,"d":"36.0000"},{"$f":"VLOOKUP(C:C,'德育加分 (2)'!C:AC,27,0)","v":{"v":0,"d":"0.0000"}},{"$f":"VLOOKUP(C:C,德育扣分!A99:F200,6,0)","v":{"v":0,"d":"0.0000"}},{"v":96,"d":"96.0000"},{"v":19.2,"d":"19.2000"},{"$f":"VLOOKUP(C:C,成绩!B98:D199,3,0)","v":{"v":68.8133333333333,"d":"68.8133"}},{"$f":"VLOOKUP(C:C,成绩!B:E,4,0)","v":{"v":60.5,"d":"60.5000"}},{"v":67.1506666666667,"d":"67.1507"},{"v":0,"d":"0.0000"},{"v":67.1506666666667,"d":"67.1507"},{"v":47.0054666666667,"d":"47.0055"},{"$f":"VLOOKUP(C:C,成绩!B:F,5,0)","v":{"v":75,"d":"75.0000"}},{"v":100,"d":"100.0000"},{"v":45,"d":"45.0000"},{"v":40,"d":"40.0000"},{"$f":"VLOOKUP(C:C,'文体加分 (2)'!C99:O264,13,0)","v":{"v":0,"d":"0.0000"}},{"v":85,"d":"85.0000"},{"v":8.5,"d":"8.5000"},{"v":74.7054666666667,"d":"74.7055"},{"$f":"VLOOKUP(C:C,成绩!B:G,6,0)","v":{"v":0.0526315789473684,"d":"5.2632%"}},512,{"$f":"VLOOKUP(C:C,成绩!B:H,7,0)","v":0}]
[17,28,2022011451,"喻治坤","化工22-3班",{"$f":"VLOOKUP(C:C,德育基础分!A101:D201,4,0)","v":{"v":100,"d":"100.0000"}},{"v":90,"d":"90.0000"},{"v":60,"d":"60.0000"},{"v":36,"d":"36.0000"},{"$f":"VLOOKUP(C:C,'德育加分 (2)'!C:AC,27,0)","v":{"v":1,"d":"1.0000"}},{"$f":"VLOOKUP(C:C,德育扣分!A100:F201,6,0)","v":{"v":0,"d":"0.0000"}},{"v":97,"d":"97.0000"},{"v":19.4,"d":"19.4000"},{"$f":"VLOOKUP(C:C,成绩!B99:D200,3,0)","v":{"v":82.0675675675676,"d":"82.0676"}},{"$f":"VLOOKUP(C:C,成绩!B:E,4,0)","v":{"v":74.3333333333333,"d":"74.3333"}},{"v":80.5207207207207,"d":"80.5207"},{"$f":"VLOOKUP(D:D,智育加分汇总!F:G,2,0)","v":{"v":13.67,"d":"13.6700"}},{"v":94.1907207207207,"d":"94.1907"},{"v":65.9335045045045,"d":"65.9335"},{"$f":"VLOOKUP(C:C,成绩!B:F,5,0)","v":{"v":81.5,"d":"81.5000"}},{"v":100,"d":"100.0000"},{"v":48.9,"d":"48.9000"},{"v":40,"d":"40.0000"},{"$f":"VLOOKUP(C:C,'文体加分 (2)'!C100:O265,13,0)","v":{"v":0,"d":"0.0000"}},{"v":88.9,"d":"88.9000"},{"v":8.89,"d":"8.8900"},{"v":94.2235045045045,"d":"94.2235"},{"$f":"VLOOKUP(C:C,成绩!B:G,6,0)","v":{"v":0.75,"d":"75.0000%"}},458,{"$f":"VLOOKUP(C:C,成绩!B:H,7,0)","v":0}]
[20,22,2022010837,"陈伟玄","化工22-3班",{"$f":"VLOOKUP(C:C,德育基础分!A102:D202,4,0)","v":{"v":100,"d":"100.0000"}},{"v":90,"d":"90.0000"},{"v":60,"d":"60.0000"},{"v":36,"d":"36.0000"},{"$f":"VLOOKUP(C:C,'德育加分 (2)'!C:AC,27,0)","v":{"v":0,"d":"0.0000"}},{"v":0,"d":"0.0000"},{"v":96,"d":"96.0000"},{"v":19.2,"d":"19.2000"},{"$f":"VLOOKUP(C:C,成绩!B100:D201,3,0)","v":{"v":83.9146341463415,"d":"83.9146"}},{"$f":"VLOOKUP(C:C,成绩!B:E,4,0)","v":{"v":79.5,"d":"79.5000"}},{"v":83.0317073170732,"d":"83.0317"},{"$f":"VLOOKUP(D:D,智育加分汇总!F:G,2,0)","v":{"v":9,"d":"9.0000"}},{"v":92.0317073170732,"d":"92.0317"},{"v":64.4221951219512,"d":"64.4222"},{"$f":"VLOOKUP(C:C,成绩!B:F,5,0)","v":{"v":97.5,"d":"97.5000"}},{"v":100,"d":"100.0000"},{"v":58.5,"d":"58.5000"},{"v":40,"d":"40.0000"},{"$f":"VLOOKUP(C:C,'文体加分 (2)'!C101:O266,13,0)","v":{"v":0,"d":"0.0000"}},{"v":98.5,"d":"98.5000"},{"v":9.85,"d":"9.8500"},{"v":93.4721951219512,"d":"93.4722"},{"$f":"VLOOKUP(C:C,成绩!B:G,6,0)","v":{"v":0.857142857142857,"d":"85.7143%"}},503,{"$f":"VLOOKUP(C:C,成绩!B:H,7,0)","v":0}]
[67,61,2022010547,"黄一翀","化工22-3班",{"$f":"VLOOKUP(C:C,德育基础分!A103:D203,4,0)","v":{"v":99.7186620819006,"d":"99.7187"}},{"v":90,"d":"90.0000"},{"v":59.8311972491404,"d":"59.8312"},{"v":36,"d":"36.0000"},{"$f":"VLOOKUP(C:C,'德育加分 (2)'!C:AC,27,0)","v":{"v":2,"d":"2.0000"}},{"$f":"VLOOKUP(C:C,德育扣分!A102:F203,6,0)","v":{"v":0,"d":"0.0000"}},{"v":97.8311972491404,"d":"97.8312"},{"v":19.5662394498281,"d":"19.5662"},{"$f":"VLOOKUP(C:C,成绩!B101:D202,3,0)","v":{"v":75.1733333333333,"d":"75.1733"}},{"$f":"VLOOKUP(C:C,成绩!B:E,4,0)","v":{"v":79,"d":"79.0000"}},{"v":75.9386666666667,"d":"75.9387"},{"v":0,"d":"0.0000"},{"v":75.9386666666667,"d":"75.9387"},{"v":53.1570666666667,"d":"53.1571"},{"$f":"VLOOKUP(C:C,成绩!B:F,5,0)","v":{"v":87,"d":"87.0000"}},{"v":100,"d":"100.0000"},{"v":52.2,"d":"52.2000"},{"v":40,"d":"40.0000"},{"$f":"VLOOKUP(C:C,'文体加分 (2)'!C102:O267,13,0)","v":{"v":0,"d":"0.0000"}},{"v":92.2,"d":"92.2000"},{"v":9.22,"d":"9.2200"},{"v":81.9433061164947,"d":"81.9433"},{"$f":"VLOOKUP(C:C,成绩!B:G,6,0)","v":{"v":0.421052631578947,"d":"42.1053%"}},526,{"$f":"VLOOKUP(C:C,成绩!B:H,7,0)","v":0}]

{"sheet":"成绩","index":1,"n_rows":102,"n_cols":8,"rows_kept":102}
["序号","学号","姓名","必修课加权平均分","选修课加权平均分","体育课成绩","必修课优良率","挂科数"]
[1,2022010364,"张姝瑶",{"v":84.2266666666667,"d":"84.23"},{"v":82.5,"d":"82.50"},{"v":90,"d":"90.00"},{"v":0.789473684210526,"d":"78.95%"},0]
[2,2022010367,"周芹",{"v":65.641975308642,"d":"65.64"},{"v":89,"d":"89.00"},{"v":92.5,"d":"92.50"},{"v":0.35,"d":"35.00%"},4]
[3,2022010369,"李越",{"v":83.6266666666667,"d":"83.63"},{"v":78.5,"d":"78.50"},{"v":90,"d":"90.00"},{"v":0.736842105263158,"d":"73.68%"},0]
[4,2022010370,"马海霞",{"v":70.8390804597701,"d":"70.84"},{"v":72,"d":"72.00"},{"v":75,"d":"75.00"},{"v":0.285714285714286,"d":"28.57%"},0]
[5,2022010371,"何丽鸿",{"v":79.4320987654321,"d":"79.43"},80.25,{"v":90.5,"d":"90.50"},{"v":0.55,"d":"55.00%"},0]
[6,2022010372,"史佳悦",{"v":80.0133333333333,"d":"80.01"},{"v":87.3333333333333,"d":"87.33"},{"v":87,"d":"87.00"},{"v":0.631578947368421,"d":"63.16%"},0]
[7,2022010373,"王晴宇",88.52,{"v":90.6666666666667,"d":"90.67"},{"v":92,"d":"92.00"},{"v":0.894736842105263,"d":"89.47%"},0]
[8,2022010374,"袁佳怡",{"v":88.0266666666667,"d":"88.03"},{"v":86.5,"d":"86.50"},{"v":95.5,"d":"95.50"},{"v":0.947368421052632,"d":"94.74%"},0]
[9,2022012311,"布威麦尔耶姆·麦麦提图尔荪",{"v":72.3066666666667,"d":"72.31"},{"v":78,"d":"78.00"},{"v":84,"d":"84.00"},{"v":0.421052631578947,"d":"42.11%"},1]
[10,2022010397,"李安然",{"v":84.9066666666667,"d":"84.91"},{"v":81.5,"d":"81.50"},{"v":86.5,"d":"86.50"},{"v":0.947368421052632,"d":"94.74%"},0]
[11,2022010100,"智玉轩",86.55,{"v":82,"d":"82.00"},{"v":93.5,"d":"93.50"},{"v":0.952380952380952,"d":"95.24%"},0]
[12,2022010377,"刘超",{"v":75.8,"d":"75.80"},{"v":73,"d":"73.00"},{"v":76,"d":"76.00"},{"v":0.421052631578947,"d":"42.11%"},0]
[13,2022010379,"孙科",{"v":68.6153846153846,"d":"68.62"},{"v":84.6666666666667,"d":"84.67"},{"v":82,"d":"82.00"},{"v":0.4,"d":"40.00%"},3]
[14,2022010382,"张铸",{"v":78.2179487179487,"d":"78.22"},{"v":74.6666666666667,"d":"74.67"},{"v":87.5,"d":"87.50"},{"v":0.6,"d":"60.00%"},0]
[15,2022010383,"刘子瑞",{"v":77.6133333333333,"d":"77.61"},{"v":86,"d":"86.00"},{"v":81,"d":"81.00"},{"v":0.684210526315789,"d":"68.42%"},1]
[16,2022010384,"吴立新",{"v":87.8,"d":"87.80"},{"v":80,"d":"80.00"},{"v":83.5,"d":"83.50"},{"v":0.947368421052632,"d":"94.74%"},0]
[17,2022010385,"龚泽恩",79.84,{"v":80,"d":"80.00"},{"v":87,"d":"87.00"},{"v":0.631578947368421,"d":"63.16%"},0]
[18,2022010386,"李陶然",{"v":78.1666666666667,"d":"78.17"},{"v":70.5,"d":"70.50"},{"v":75,"d":"75.00"},{"v":0.45,"d":"45.00%"},1]
[19,2022010389,"牛浩镔",{"v":79.6973684210526,"d":"79.70"},{"v":78,"d":"78.00"},{"v":75,"d":"75.00"},{"v":0.6,"d":"60.00%"},0]
[20,2022010390,"申溱",{"v":82.9866666666667,"d":"82.99"},{"v":87,"d":"87.00"},{"v":82.5,"d":"82.50"},{"v":0.789473684210526,"d":"78.95%"},1]
[21,2022010392,"吴照飞",{"v":84.7564102564103,"d":"84.76"},{"v":0,"d":"0.00"},{"v":87.5,"d":"87.50"},{"v":0.8,"d":"80.00%"},0]
[22,2022010394,"张之翼",{"v":82.8974358974359,"d":"82.90"},{"v":94,"d":"94.00"},{"v":90.5,"d":"90.50"},{"v":0.85,"d":"85.00%"},0]
[23,2022012312,"徐峥",{"v":77.8933333333333,"d":"77.89"},{"v":79,"d":"79.00"},{"v":76.5,"d":"76.50"},{"v":0.631578947368421,"d":"63.16%"},0]
[24,2022010409,"周家艺",71.68,{"v":85,"d":"85.00"},{"v":81.5,"d":"81.50"},{"v":0.473684210526316,"d":"47.37%"},2]
[25,2022010411,"姚锦栋",{"v":70.7692307692308,"d":"70.77"},{"v":79,"d":"79.00"},{"v":91.5,"d":"91.50"},{"v":0.45,"d":"45.00%"},2]
[26,2022010412,"代肖彤",{"v":84.8533333333333,"d":"84.85"},{"v":82.5,"d":"82.50"},{"v":92.5,"d":"92.50"},{"v":0.842105263157895,"d":"84.21%"},0]
[27,2022010413,"陈恒宇",69.28,{"v":81.5,"d":"81.50"},{"v":83,"d":"83.00"},{"v":0.473684210526316,"d":"47.37%"},3]
[28,2022010414,"潘恒懿",{"v":77.8630136986301,"d":"77.86"},{"v":80.5,"d":"80.50"},{"v":75,"d":"75.00"},{"v":0.388888888888889,"d":"38.89%"},1]
[29,2022010418,"王明堃",{"v":69.2435897435897,"d":"69.24"},{"v":78,"d":"78.00"},{"v":80.5,"d":"80.50"},{"v":0.4,"d":"40.00%"},2]
[30,2022010419,"史国柱",{"v":74.4,"d":"74.40"},{"v":84.6666666666667,"d":"84.67"},{"v":84.5,"d":"84.50"},{"v":0.578947368421053,"d":"57.89%"},1]
[31,2022010516,"郭智硕",{"v":85.0133333333333,"d":"85.01"},{"v":89.3333333333333,"d":"89.33"},{"v":83.5,"d":"83.50"},{"v":0.894736842105263,"d":"89.47%"},0]
[32,2022010518,"贾思远",{"v":86,"d":"86.00"},{"v":84.3333333333333,"d":"84.33"},{"v":97,"d":"97.00"},{"v":0.789473684210526,"d":"78.95%"},0]
[33,2022010519,"李佳俊",84.16,{"v":84.6666666666667,"d":"84.67"},{"v":97.5,"d":"97.50"},{"v":0.789473684210526,"d":"78.95%"},0]
[34,2022010622,"顾凌云",{"v":68.8356164383562,"d":"68.84"},{"v":0,"d":"0.00"},{"v":79.5,"d":"79.50"},{"v":0.277777777777778,"d":"27.78%"},2]
[35,2022010429,"程实",81.44,{"v":86,"d":"86.00"},{"v":90,"d":"90.00"},{"v":0.736842105263158,"d":"73.68%"},0]
[36,2022010430,"马瑜含",{"v":76.5128205128205,"d":"76.51"},{"v":85.5,"d":"85.50"},{"v":95,"d":"95.00"},{"v":0.6,"d":"60.00%"},0]
[37,2022010431,"贺婕",{"v":69.136986,"d":"69.14"},{"v":82,"d":"82.00"},{"v":90,"d":"90.00"},{"v":0,"d":"0.00%"},0]
[38,2022010432,"刘雨佳",{"v":58.8108108108108,"d":"58.81"},{"v":63,"d":"63.00"},{"v":76.5,"d":"76.50"},{"v":0.210526315789474,"d":"21.05%"},6]
[39,2022010435,"秦婧瑶",64.12,{"v":64,"d":"64.00"},{"v":84.5,"d":"84.50"},{"v":0.263157894736842,"d":"26.32%"},3]
[40,2022010436,"孙涵",{"v":83.0133333333333,"d":"83.01"},{"v":86.5,"d":"86.50"},{"v":80.5,"d":"80.50"},{"v":0.736842105263158,"d":"73.68%"},0]
[41,2022010437,"王晓弘",{"v":71.4,"d":"71.40"},{"v":83.6666666666667,"d":"83.67"},{"v":86,"d":"86.00"},{"v":0.421052631578947,"d":"42.11%"},2]
[42,2022010438,"张涵婷",{"v":77.0933333333333,"d":"77.09"},{"v":69,"d":"69.00"},{"v":89.5,"d":"89.50"},{"v":0.526315789473684,"d":"52.63%"},0]
[43,2022010439,"张心怡",{"v":77.0933333333333,"d":"77.09"},{"v":88,"d":"88.00"},{"v":90.5,"d":"90.50"},{"v":0.526315789473684,"d":"52.63%"},0]
[44,2022010494,"唐樱菲",{"v":74.4,"d":"74.40"},{"v":91,"d":"91.00"},{"v":90.5,"d":"90.50"},{"v":0.526315789473684,"d":"52.63%"},0]
[45,2022010499,"曹炜曼",{"v":84.4133333333333,"d":"84.41"},{"v":83,"d":"83.00"},{"v":91,"d":"91.00"},{"v":0.789473684210526,"d":"78.95%"},0]
[46,2022010585,"崔跃兰",{"v":79.1733333333333,"d":"79.17"},{"v":87.5,"d":"87.50"},{"v":92,"d":"92.00"},{"v":0.684210526315789,"d":"68.42%"},0]
[47,2022010584,"肖涵芮",{"v":74.6,"d":"74.60"},{"v":79,"d":"79.00"},{"v":93,"d":"93.00"},{"v":0.421052631578947,"d":"42.11%"},0]
[48,2022010408,"许文轲",{"v":87.1333333333333,"d":"87.13"},{"v":86.5,"d":"86.50"},{"v":93,"d":"93.00"},{"v":0.894736842105263,"d":"89.47%"},0]
[49,2022010422,"江锦欣",{"v":84.8666666666667,"d":"84.87"},{"v":85.6666666666667,"d":"85.67"},{"v":83,"d":"83.00"},{"v":0.947368421052632,"d":"94.74%"},0]
[50,2022010426,"赵群",{"v":72.7466666666667,"d":"72.75"},{"v":76,"d":"76.00"},{"v":78,"d":"78.00"},{"v":0.368421052631579,"d":"36.84%"},2]
[51,2022010427,"周慧林",{"v":73.6933333333333,"d":"73.69"},{"v":90,"d":"90.00"},{"v":80,"d":"80.00"},{"v":0.526315789473684,"d":"52.63%"},0]
[52,2022010440,"黄颖聪",{"v":70.4266666666667,"d":"70.43"},{"v":86.5,"d":"86.50"},{"v":82,"d":"82.00"},{"v":0.421052631578947,"d":"42.11%"},0]
[53,2022010441,"白兆",{"v":79.6933333333333,"d":"79.69"},{"v":83,"d":"83.00"},{"v":93.5,"d":"93.50"},{"v":0.631578947368421,"d":"63.16%"},0]
[54,2022010442,"尹泽",{"v":68.2954545454545,"d":"68.30"},{"v":84,"d":"84.00"},{"v":80.5,"d":"80.50"},{"v":0.333333333333333,"d":"33.33%"},3]
[55,2022010443,"杨志文",75.16,{"v":90.3333333333333,"d":"90.33"},{"v":76,"d":"76.00"},{"v":0.315789473684211,"d":"31.58%"},1]
[56,2022010445,"赵国平",{"v":76.8,"d":"76.80"},{"v":85,"d":"85.00"},{"v":75.5,"d":"75.50"},{"v":0.421052631578947,"d":"42.11%"},0]
[57,2022010446,"金立民",{"v":77.2763157894737,"d":"77.28"},{"v":74.5,"d":"74.50"},{"v":92,"d":"92.00"},{"v":0.473684210526316,"d":"47.37%"},0]
[58,2022010448,"王增智",80.04,{"v":78.3333333333333,"d":"78.33"},{"v":98,"d":"98.00"},{"v":0.578947368421053,"d":"57.89%"},0]
[59,2022010449,"郑少杰",86.64,{"v":87,"d":"87.00"},{"v":92.5,"d":"92.50"},{"v":0.894736842105263,"d":"89.47%"},0]
[60,2022010452,"康胜",{"v":89.7066666666667,"d":"89.71"},{"v":85,"d":"85.00"},{"v":98,"d":"98.00"},{"v":0.947368421052632,"d":"94.74%"},0]
[61,2022010453,"李成歆",{"v":63.4,"d":"63.40"},{"v":0,"d":"0.00"},{"v":73,"d":"73.00"},{"v":0.315789473684211,"d":"31.58%"},4]
[62,2022010454,"孙琪桐",{"v":84.0666666666667,"d":"84.07"},{"v":85,"d":"85.00"},{"v":86,"d":"86.00"},{"v":0.894736842105263,"d":"89.47%"},0]
[63,2022010456,"吴金琪",87.92,{"v":90,"d":"90.00"},{"v":77,"d":"77.00"},{"v":0.842105263157895,"d":"84.21%"},0]
[64,2022010458,"赵帅",{"v":75.4246575342466,"d":"75.42"},{"v":83,"d":"83.00"},{"v":74,"d":"74.00"},{"v":0.388888888888889,"d":"38.89%"},0]
[65,2022010459,"朱行健",79.08,{"v":80,"d":"80.00"},{"v":88.5,"d":"88.50"},{"v":0.526315789473684,"d":"52.63%"},0]
[66,2022012316,"陈语",{"v":66.7283950617284,"d":"66.73"},{"v":81.5,"d":"81.50"},{"v":94.5,"d":"94.50"},{"v":0.35,"d":"35.00%"},3]
[67,2022010511,"罗小刚",{"v":71.1358024691358,"d":"71.14"},{"v":81,"d":"81.00"},{"v":85,"d":"85.00"},{"v":0.4,"d":"40.00%"},2]
[68,2022010512,"陈俊逸",{"v":79.1866666666667,"d":"79.19"},{"v":87,"d":"87.00"},{"v":70,"d":"70.00"},{"v":0.578947368421053,"d":"57.89%"},1]
[69,2022010406,"彭莎莎",{"v":76.1733333333333,"d":"76.17"},{"v":79.5,"d":"79.50"},{"v":90,"d":"90.00"},{"v":0.473684210526316,"d":"47.37%"},0]
[70,2022010407,"叶海宇",{"v":87.0133333333333,"d":"87.01"},{"v":88,"d":"88.00"},{"v":98,"d":"98.00"},{"v":0.894736842105263,"d":"89.47%"},0]
[71,2022010460,"努尔斯巴·买提库尔班",{"v":57.8666666666667,"d":"57.87"},{"v":81,"d":"81.00"},{"v":68,"d":"68.00"},{"v":0.368421052631579,"d":"36.84%"},10]
[72,2022010461,"吴芷璇",{"v":79.1733333333333,"d":"79.17"},{"v":83.5,"d":"83.50"},{"v":96.5,"d":"96.50"},{"v":0.526315789473684,"d":"52.63%"},0]
[73,2022010463,"孙千翔",68.88,{"v":79.3333333333333,"d":"79.33"},{"v":82.5,"d":"82.50"},{"v":0.368421052631579,"d":"36.84%"},2]
[74,2022010465,"陈飞月",{"v":85.0533333333333,"d":"85.05"},{"v":89.5,"d":"89.50"},{"v":94,"d":"94.00"},{"v":0.789473684210526,"d":"78.95%"},0]
[75,2022010467,"石彩君",76.24,{"v":83.3333333333333,"d":"83.33"},{"v":89.5,"d":"89.50"},{"v":0.421052631578947,"d":"42.11%"},0]
[76,2022010468,"吴忆",71.16,{"v":70,"d":"70.00"},{"v":82,"d":"82.00"},{"v":0.473684210526316,"d":"47.37%"},1]
[77,2022010469,"许馨月",78.28,{"v":75,"d":"75.00"},{"v":90,"d":"90.00"},{"v":0.526315789473684,"d":"52.63%"},0]
[78,2022010471,"张支铭",{"v":74.5333333333333,"d":"74.53"},{"v":85,"d":"85.00"},{"v":90,"d":"90.00"},{"v":0.526315789473684,"d":"52.63%"},0]
[79,2022010500,"马倩",{"v":85.9866666666667,"d":"85.99"},{"v":90.5,"d":"90.50"},{"v":85.5,"d":"85.50"},{"v":0.947368421052632,"d":"94.74%"},0]
[80,2022010501,"屈芷晴",{"v":81.1733333333333,"d":"81.17"},{"v":89,"d":"89.00"},{"v":99,"d":"99.00"},{"v":0.631578947368421,"d":"63.16%"},0]
[81,2022010421,"季磊",{"v":76.0133333333333,"d":"76.01"},{"v":72,"d":"72.00"},{"v":83.5,"d":"83.50"},{"v":0.473684210526316,"d":"47.37%"},0]
[82,2022010423,"汪礼俊",{"v":72.6266666666667,"d":"72.63"},{"v":76,"d":"76.00"},{"v":84,"d":"84.00"},{"v":0.421052631578947,"d":"42.11%"},0]
[83,2022010424,"席振昌",{"v":72.0533333333333,"d":"72.05"},{"v":79,"d":"79.00"},{"v":82.5,"d":"82.50"},{"v":0.368421052631579,"d":"36.84%"},0]
[84,2022010425,"闫杨奇昊",{"v":66.2266666666667,"d":"66.23"},{"v":71,"d":"71.00"},{"v":72,"d":"72.00"},{"v":0.210526315789474,"d":"21.05%"},2]
[85,2022010473,"刘源兴",{"v":73.6133333333333,"d":"73.61"},{"v":73,"d":"73.00"},{"v":79.5,"d":"79.50"},{"v":0.368421052631579,"d":"36.84%"},1]
[86,2022010476,"何岩松",{"v":68.6,"d":"68.60"},{"v":0,"d":"0.00"},{"v":82.5,"d":"82.50"},{"v":0.3,"d":"30.00%"},4]
[87,2022010477,"张帅",{"v":76.1866666666667,"d":"76.19"},{"v":82,"d":"82.00"},{"v":97.5,"d":"97.50"},{"v":0.526315789473684,"d":"52.63%"},1]
[88,2022010478,"李煌",{"v":83.7733333333333,"d":"83.77"},{"v":0,"d":"0.00"},{"v":83.5,"d":"83.50"},{"v":0.842105263157895,"d":"84.21%"},0]
[89,2022010479,"杨广军",72.96,{"v":76,"d":"76.00"},{"v":87.5,"d":"87.50"},{"v":0.421052631578947,"d":"42.11%"},0]
[90,2022010480,"杨明涛",68.96,{"v":0,"d":"0.00"},{"v":86,"d":"86.00"},{"v":0.315789473684211,"d":"31.58%"},3]
[91,2022010482,"傅世坤",{"v":81.7333333333333,"d":"81.73"},{"v":73.2,"d":"73.20"},{"v":77,"d":"77.00"},{"v":0.736842105263158,"d":"73.68%"},1]
[92,2022010483,"李浩永",76.32,{"v":50,"d":"50.00"},{"v":65.5,"d":"65.50"},{"v":0.578947368421053,"d":"57.89%"},2]
[93,2022010487,"涂景豪",68.52,{"v":74.6666666666667,"d":"74.67"},{"v":79,"d":"79.00"},{"v":0.157894736842105,"d":"15.79%"},1]
[94,2022010489,"谢林洲",{"v":70.4823529411765,"d":"70.48"},{"v":83.5,"d":"83.50"},{"v":91.5,"d":"91.50"},{"v":0.3,"d":"30.00%"},1]
[95,2022010490,"严臻睿",{"v":75.6666666666667,"d":"75.67"},{"v":85,"d":"85.00"},{"v":80.5,"d":"80.50"},{"v":0.421052631578947,"d":"42.11%"},0]
[96,2022010504,"李宇翔",{"v":72.8133333333333,"d":"72.81"},{"v":72.5,"d":"72.50"},{"v":73.5,"d":"73.50"},{"v":0.210526315789474,"d":"21.05%"},1]
[97,2022010506,"张席地",{"v":70.632183908046,"d":"70.63"},{"v":82.5,"d":"82.50"},{"v":99,"d":"99.00"},{"v":0.45,"d":"45.00%"},1]
[98,2022010507,"马凯园",{"v":68.8133333333333,"d":"68.81"},{"v":60.5,"d":"60.50"},{"v":75,"d":"75.00"},{"v":0.0526315789473684,"d":"5.26%"},0]
[99,2022011451,"喻治坤",{"v":82.0675675675676,"d":"82.07"},{"v":74.3333333333333,"d":"74.33"},{"v":81.5,"d":"81.50"},{"v":0.75,"d":"75.00%"},0]
[100,2022010837,"陈伟玄",{"v":83.9146341463415,"d":"83.91"},{"v":79.5,"d":"79.50"},{"v":97.5,"d":"97.50"},{"v":0.857142857142857,"d":"85.71%"},0]
[101,2022010547,"黄一翀",{"v":75.1733333333333,"d":"75.17"},{"v":79,"d":"79.00"},{"v":87,"d":"87.00"},{"v":0.421052631578947,"d":"42.11%"},0]

{"sheet":"德育基础分","index":2,"n_rows":103,"n_cols":5,"rows_kept":103,"merged":[[0,0,0,4]]}
["辅导员打分"]
["学号","姓名","班级","互评分","辅导员打分"]
[2022010364,"张姝瑶","化工22-1班",{"v":99.8782714546561,"d":"99.88"},90]
[2022010367,"周芹","化工22-1班",{"v":99.9087035909921,"d":"99.91"},90]
[2022010369,"李越","化工22-1班",{"v":99.8782714546561,"d":"99.88"},90]
[2022010370,"马海霞","化工22-1班",{"v":99.8478393183201,"d":"99.85"},90]
[2022010371,"何丽鸿","化工22-1班",{"v":99.8478393183201,"d":"99.85"},90]
[2022010372,"史佳悦","化工22-1班",{"v":99.5435179549604,"d":"99.54"},90]
[2022010373,"王晴宇","化工22-1班",{"v":99.8174071819842,"d":"99.82"},90]
[2022010374,"袁佳怡","化工22-1班",{"v":99.8478393183201,"d":"99.85"},90]
[2022012311,"布威麦尔耶姆·麦麦提图尔荪","化工22-1班",{"v":99.8782714546561,"d":"99.88"},90]
[2022010397,"李安然","化工22-1班",{"v":99.8478393183201,"d":"99.85"},90]
[2022010100,"智玉轩","化工22-1班",{"v":99.8478393183201,"d":"99.85"},90]
[2022010377,"刘超","化工22-1班",{"v":100,"d":"100.00"},90]
[2022010379,"孙科","化工22-1班",{"v":99.4826536822885,"d":"99.48"},90]
[2022010382,"张铸","化工22-1班",{"v":99.9391357273281,"d":"99.94"},90]
[2022010383,"刘子瑞","化工22-1班",{"v":99.9087035909921,"d":"99.91"},90]
[2022010384,"吴立新","化工22-1班",{"v":99.969567863664,"d":"99.97"},90]
[2022010385,"龚泽恩","化工22-1班",{"v":99.8782714546561,"d":"99.88"},90]
[2022010386,"李陶然","化工22-1班",{"v":99.8782714546561,"d":"99.88"},90]
[2022010389,"牛浩镔","化工22-1班",{"v":99.9391357273281,"d":"99.94"},90]
[2022010390,"申溱","化工22-1班",{"v":99.5130858186245,"d":"99.51"},90]
[2022010392,"吴照飞","化工22-1班",{"v":99.7869750456482,"d":"99.79"},90]
[2022010394,"张之翼","化工22-1班",{"v":99.7261107729763,"d":"99.73"},90]
[2022012312,"徐峥","化工22-1班",{"v":98.7218502738892,"d":"98.72"},90]
[2022010409,"周家艺","化工22-1班",{"v":99.7869750456482,"d":"99.79"},90]
[2022010411,"姚锦栋","化工22-1班",{"v":99.7869750456482,"d":"99.79"},90]
[2022010412,"代肖彤","化工22-1班",{"v":99.8174071819842,"d":"99.82"},90]
[2022010413,"陈恒宇","化工22-1班",{"v":99.7869750456482,"d":"99.79"},90]
[2022010414,"潘恒懿","化工22-1班",{"v":99.8174071819842,"d":"99.82"},90]
[2022010418,"王明堃","化工22-1班",{"v":99.6348143639683,"d":"99.63"},90]
[2022010419,"史国柱","化工22-1班",{"v":99.7869750456482,"d":"99.79"},90]
[2022010516,"郭智硕","化工22-1班",{"v":99.7869750456482,"d":"99.79"},90]
[2022010518,"贾思远","化工22-1班",{"v":99.6956786366403,"d":"99.70"},90]
[2022010519,"李佳俊","化工22-1班",{"v":99.7565429093122,"d":"99.76"},90]
[2022010622,"顾凌云","化工22-1班",{"v":99.7261107729763,"d":"99.73"},90]
[2022010429,"程实","化工22-2班",{"v":99.5473219720024,"d":"99.55"},90]
[2022010430,"马瑜含","化工22-2班",{"v":99.6728545343883,"d":"99.67"},90]
[2022010431,"贺婕","化工22-2班",{"v":99.618,"d":"99.62"},90]
[2022010432,"刘雨佳","化工22-2班",{"v":99.453172550213,"d":"99.45"},90]
[2022010435,"秦婧瑶","化工22-2班",{"v":99.5473219720024,"d":"99.55"},90]
[2022010436,"孙涵","化工22-2班",{"v":99.826631923311,"d":"99.83"},90]
[2022010437,"王晓弘","化工22-2班",{"v":99.4845556908095,"d":"99.48"},90]
[2022010438,"张涵婷","化工22-2班",{"v":99.6414713937918,"d":"99.64"},90]
[2022010439,"张心怡","化工22-2班",{"v":99.4845556908095,"d":"99.48"},90]
[2022010494,"唐樱菲","化工22-2班",{"v":99.8297702373707,"d":"99.83"},90]
[2022010499,"曹炜曼","化工22-2班",{"v":99.6414713937918,"d":"99.64"},90]
[2022010585,"崔跃兰","化工22-2班",{"v":99.515938831406,"d":"99.52"},90]
[2022010584,"肖涵芮","化工22-2班",{"v":99.5473219720024,"d":"99.55"},90]
[2022010408,"许文轲","化工22-2班",{"v":99.7387591296409,"d":"99.74"},90]
[2022010422,"江锦欣","化工22-2班",{"v":99.8297702373707,"d":"99.83"},90]
[2022010426,"赵群","化工22-2班",{"v":99.7042376749848,"d":"99.70"},90]
[2022010427,"周慧林","化工22-2班",{"v":99.8297702373707,"d":"99.83"},90]
[2022010440,"黄颖聪","化工22-2班",{"v":99.7010993609251,"d":"99.70"},90]
[2022010441,"白兆","化工22-2班",{"v":99.1016813755326,"d":"99.10"},90]
[2022010442,"尹泽","化工22-2班",{"v":99.6069499391357,"d":"99.61"},90]
[2022010443,"杨志文","化工22-2班",{"v":99.7042376749848,"d":"99.70"},90]
[2022010445,"赵国平","化工22-2班",{"v":99.7670039561777,"d":"99.77"},90]
[2022010446,"金立民","化工22-2班",{"v":99.6446097078515,"d":"99.64"},90]
[2022010448,"王增智","化工22-2班",{"v":99.6414713937918,"d":"99.64"},90]
[2022010449,"郑少杰","化工22-2班",{"v":99.7105143031041,"d":"99.71"},90]
[2022010452,"康胜","化工22-2班",{"v":99.7670039561777,"d":"99.77"},90]
[2022010453,"李成歆","化工22-2班",{"v":99.515938831406,"d":"99.52"},90]
[2022010454,"孙琪桐","化工22-2班",{"v":99.515938831406,"d":"99.52"},90]
[2022010456,"吴金琪","化工22-2班",{"v":99.453172550213,"d":"99.45"},90]
[2022010458,"赵帅","化工22-2班",{"v":99.6289181375532,"d":"99.63"},90]
[2022010459,"朱行健","化工22-2班",{"v":99.5630135423007,"d":"99.56"},90]
[2022012316,"陈语","化工22-2班",{"v":99.6885461046865,"d":"99.69"},90]
[2022010511,"罗小刚","化工22-2班",{"v":99.5473219720024,"d":"99.55"},90]
[2022010512,"陈俊逸","化工22-2班",{"v":99.5473219720024,"d":"99.55"},90]
[2022010406,"彭莎莎","化工22-3班",{"v":100,"d":"100.00"},90]
[2022010407,"叶海宇","化工22-3班",{"v":100,"d":"100.00"},90]
[2022010460,"努尔斯巴·买提库尔班","化工22-3班",{"v":99.6874023132229,"d":"99.69"},90]
[2022010461,"吴芷璇","化工22-3班",{"v":99.6874023132229,"d":"99.69"},90]
[2022010463,"孙千翔","化工22-3班",{"v":99.6874023132229,"d":"99.69"},90]
[2022010465,"陈飞月","化工22-3班",{"v":100,"d":"100.00"},90]
[2022010467,"石彩君","化工22-3班",{"v":100,"d":"100.00"},90]
[2022010468,"吴忆","化工22-3班",{"v":100,"d":"100.00"},90]
[2022010469,"许馨月","化工22-3班",{"v":100,"d":"100.00"},90]
[2022010471,"张支铭","化工22-3班",{"v":100,"d":"100.00"},90]
[2022010500,"马倩","化工22-3班",{"v":100,"d":"100.00"},90]
[2022010501,"屈芷晴","化工22-3班",{"v":100,"d":"100.00"},90]
[2022010421,"季磊","化工22-3班",{"v":100,"d":"100.00"},90]
[2022010423,"汪礼俊","化工22-3班",{"v":100,"d":"100.00"},90]
[2022010424,"席振昌","化工22-3班",{"v":99.5311034698343,"d":"99.53"},90]
[2022010425,"闫杨奇昊","化工22-3班",{"v":100,"d":"100.00"},90]
[2022010473,"刘源兴","化工22-3班",{"v":99.6874023132229,"d":"99.69"},90]
[2022010476,"何岩松","化工22-3班",{"v":99.6874023132229,"d":"99.69"},90]
[2022010477,"张帅","化工22-3班",{"v":100,"d":"100.00"},90]
[2022010478,"李煌","化工22-3班",{"v":99.6874023132229,"d":"99.69"},90]
[2022010479,"杨广军","化工22-3班",{"v":100,"d":"100.00"},90]
[2022010480,"杨明涛","化工22-3班",{"v":100,"d":"100.00"},90]
[2022010482,"傅世坤","化工22-3班",{"v":99.8437011566114,"d":"99.84"},90]
[2022010483,"李浩永","化工22-3班",{"v":100,"d":"100.00"},90]
[2022010487,"涂景豪","化工22-3班",{"v":100,"d":"100.00"},90]
[2022010489,"谢林洲","化工22-3班",{"v":100,"d":"100.00"},90]
[2022010490,"严臻睿","化工22-3班",{"v":100,"d":"100.00"},90]
[2022010504,"李宇翔","化工22-3班",{"v":100,"d":"100.00"},90]
[2022010506,"张席地","化工22-3班",{"v":100,"d":"100.00"},90]
[2022010507,"马凯园","化工22-3班",{"v":100,"d":"100.00"},90]
[2022011451,"喻治坤","化工22-3班",{"v":100,"d":"100.00"},90]
[2022010837,"陈伟玄","化工22-3班",{"v":100,"d":"100.00"},90]
[2022010547,"黄一翀","化工22-3班",{"v":99.7186620819006,"d":"99.72"},90]

{"sheet":"德育加分 (2)","index":3,"n_rows":167,"n_cols":29,"rows_kept":167,"merged":[[0,0,2,0],[0,1,2,1],[0,2,2,2],[0,3,2,3],[0,4,0,10],[0,11,0,17],[0,18,0,22],[0,23,0,27],[0,28,2,28],[1,4,1,6],[1,7,1,9],[1,10,2,10],[1,11,1,16],[1,17,2,17],[1,18,1,19],[1,20,1,21],[1,22,2,22],[1,23,1,24],[1,25,1,26],[1,27,2,27]]}
["序号","班级","学号","姓名","学生团体及班级干部",{"$nulls":6},"社会实践获奖（参与奖、优秀奖不加分）2023年的",{"$nulls":6},"大型活动",{"$nulls":4},"荣誉称号",{"$nulls":4},"德育加分求和"]
[{"$nulls":4},"第一项",null,null,"第二项×0.2",null,null,"总计","社会实践",{"$nulls":5},"总计","第一项",null,"第二项",null,"总计","第一项",null,"第二项",null,"总计"]
[{"$nulls":4},"项目","原始加分","校院级折合（不填）","项目","原始加分","校院级折合（不填）",null,"第一项目","是否为队长","加分","第二项目","是否为队长","加分（×0.5）",null,"项目","加分","项目","加分",null,"项目","加分","项目","加分"]
[1,"化工22-1班",2022010364,"张姝瑶",{"$nulls":6},{"$f":"G4+J4*0.2","v":0},{"$nulls":6},{"$f":"N4+Q4*0.5","v":0},{"$nulls":4},{"$f":"T4+V4","v":0},"示范班集体",0.5,null,null,{"$f":"Y4+AA4","v":0.5},{"$f":"K4+R4+W4+AB4","v":0.5}]
[2,"化工22-1班",2022010367,"周芹","校红十字会血液部部长",8,5.33,"化工22-1副班长",5,5,6.33,{"$nulls":6},0,{"$nulls":4},0,"示范班集体",0.5,null,null,0.5,6.83]
[3,"化工22-1班",2022010369,"李越",{"$nulls":6},0,{"$nulls":6},0,{"$nulls":4},0,"示范班集体",0.5,null,null,0.5,0.5]
[4,"化工22-1班",2022010370,"马海霞",{"$nulls":6},0,{"$nulls":6},0,{"$nulls":4},0,"示范班集体",0.5,null,null,0.5,0.5]
[5,"化工22-1班",2022010371,"何丽鸿","有机实验课代表",3,3,{"$nulls":3},3,{"$nulls":6},0,{"$nulls":4},0,"示范班集体",0.5,null,null,0.5,3.5]
[6,"化工22-1班",2022010372,"史佳悦","化工22-1班宣传委员",4,4,{"$nulls":3},4,{"$nulls":6},0,{"$nulls":4},0,"示范班集体",0.5,null,null,0.5,4.5]
[7,"化工22-1班",2022010373,"王晴宇","校青年实践创新中心创新部部长",10,6.67,"化工22-1班团支书",6,6,7.87,"2023红色“1+1”校三等奖","否",1,{"$nulls":3},1,{"$nulls":4},0,"示范班集体",0.5,null,null,0.5,9.37]
[8,"化工22-1班",2022010374,"袁佳怡","化工22-1班组织委员",4,4,{"$nulls":3},4,{"$nulls":6},0,{"$nulls":4},0,"示范班集体",0.5,null,null,0.5,4.5]
[9,"化工22-1班",2022012311,"布威麦尔耶姆·麦麦提图尔荪",{"$nulls":6},0,{"$nulls":6},0,{"$nulls":4},0,"示范班集体",0.5,null,null,0.5,0.5]
[10,"化工22-1班",2022010397,"李安然",{"$nulls":6},0,{"$nulls":6},0,{"$nulls":4},0,"示范班集体",0.5,null,null,0.5,0.5]
[11,"化工22-1班",2022010100,"智玉轩","化工22-1班长",6,6,{"$nulls":3},6,{"$nulls":6},0,{"$nulls":4},0,"示范班集体",0.5,"校级优秀宿舍",2,2.5,8.5]
[12,"化工22-1班",2022010377,"刘超",{"$nulls":6},0,{"$nulls":6},0,{"$nulls":4},0,"示范班集体",0.5,null,null,0.5,0.5]
[13,"化工22-1班",2022010379,"孙科",{"$nulls":6},0,{"$nulls":6},0,{"$nulls":4},0,"示范班集体",0.5,null,null,0.5,0.5]
[14,"化工22-1班",2022010382,"张铸","文体委员",3.8,3.8,"物化实验课代表",3,3,4.4,{"$nulls":6},0,{"$nulls":4},0,"示范班集体",0.5,null,null,0.5,4.9]
[15,"化工22-1班",2022010383,"刘子瑞","化工22-1班心理委员",3.8,3.8,"寝室长",3,3,4.4,{"$nulls":6},0,{"$nulls":4},0,"示范班集体",0.5,null,null,0.5,4.9]
[16,"化工22-1班",2022010384,"吴立新","大物课代表",3,3,{"$nulls":3},3,{"$nulls":6},0,{"$nulls":4},0,"示范班集体",0.5,null,null,0.5,3.5]
[17,"化工22-1班",2022010385,"龚泽恩",{"$nulls":6},0,{"$nulls":6},0,{"$nulls":4},0,"示范班集体",0.5,null,null,0.5,0.5]
[18,"化工22-1班",2022010386,"李陶然","化工22-1班学习委员",3.8,3.8,"化工原理（Ⅰ）课代表",3,3,4.4,{"$nulls":6},0,{"$nulls":4},0,"示范班集体",0.5,null,null,0.5,4.9]
[19,"化工22-1班",2022010389,"牛浩镔","物理化学（上）课代表",3,3,"机械制图课代表",3,3,3.6,{"$nulls":6},0,{"$nulls":4},0,"示范班集体",0.5,null,null,0.5,4.1]
[20,"化工22-1班",2022010390,"申溱","化院青协办公室部长",6,6,"物理化学（下）课代表",3,3,6.6,{"$nulls":6},0,{"$nulls":4},0,"示范班集体",0.5,null,null,0.5,7.1]
[21,"化工22-1班",2022010392,"吴照飞",{"$nulls":3},"  ",null,null,0,{"$nulls":6},0,{"$nulls":4},0,"示范班集体",0.5,null,null,0.5,0.5]
[22,"化工22-1班",2022010394,"张之翼",{"$nulls":6},0,{"$nulls":6},0,{"$nulls":4},0,"示范班集体",0.5,null,null,0.5,0.5]
[23,"化工22-1班",2022012312,"徐峥","大学生记者团部委",3,2,{"$nulls":3},2,{"$nulls":6},0,{"$nulls":4},0,"示范班集体",0.5,null,null,0.5,2.5]
[24,"化工22-1班",2022010409,"周家艺",{"$nulls":6},0,{"$nulls":6},0,{"$nulls":4},0,"示范班集体",0.5,null,null,0.5,0.5]
[25,"化工22-1班",2022010411,"姚锦栋",{"$nulls":6},0,{"$nulls":6},0,{"$nulls":4},0,"示范班集体",0.5,null,null,0.5,0.5]
[26,"化工22-1班",2022010412,"代肖彤","网球协会部委",0,0,{"$nulls":3},0,{"$nulls":6},0,{"$nulls":4},0,"示范班集体",0.5,null,null,0.5,0.5]
[27,"化工22-1班",2022010413,"陈恒宇",{"$nulls":6},0,{"$nulls":6},0,{"$nulls":4},0,"示范班集体",0.5,null,null,0.5,0.5]
[28,"化工22-1班",2022010414,"潘恒懿","中石大传媒视创部部长",8,5.33,{"$nulls":3},5.33,{"$nulls":6},0,{"$nulls":4},0,"示范班集体",0.5,null,null,0.5,5.83]
[29,"化工22-1班",2022010418,"王明堃",{"$nulls":6},0,{"$nulls":6},0,{"$nulls":4},0,"示范班集体",0.5,null,null,0.5,0.5]
[30,"化工22-1班",2022010419,"史国柱","寝室长",3,3,"开放原子开源社运营部部委",0,0,3,{"$nulls":6},0,{"$nulls":4},0,"示范班集体",0.5,null,null,0.5,3.5]
[31,"化工22-1班",2022010516,"郭智硕","AlChE–CUPB部长",null,null,"星罗天文社部委",0,0,0,{"$nulls":6},0,{"$nulls":4},0,"示范班集体",0.5,null,null,0.5,0.5]
[32,"化工22-1班",2022010518,"贾思远",{"$nulls":6},0,{"$nulls":6},0,{"$nulls":4},0,"示范班集体",0.5,null,null,0.5,0.5]
[33,"化工22-1班",2022010519,"李佳俊","校田径协会副主席",2,2,"铁三协会部长",0,0,{"$f":"G36+J36*0.2","v":2},{"$nulls":6},{"$f":"N36+Q36*0.5","v":0},{"$nulls":4},{"$f":"T36+V36","v":0},"示范班集体",0.5,null,null,{"$f":"Y36+AA36","v":0.5},{"$f":"K36+R36+W36+AB36","v":2.5}]
[34,"化工22-1班",2022010622,"顾凌云","化院学习部部长",4.5,4.5,"信息员",4,4,5.3,{"$nulls":6},0,{"$nulls":4},0,"示范班集体",0.5,null,null,0.5,5.8]
[35,"化工22-2班",2022010429,"程实",{"$nulls":6},0,{"$nulls":6},0,{"$nulls":4},0,"先锋团支部",1,"校级文明宿舍",2,3,3]
[36,"化工22-2班",2022010430,"马瑜含","文体委员",4,4,"青年实践创新中心部委",4,2.67,4.534,{"$nulls":6},0,{"$nulls":4},0,"先锋团支部",1,"校级文明宿舍",2,3,7.534]
[37,"化工22-2班",2022010431,"贺婕",{"$nulls":6},0,{"$nulls":6},0,{"$nulls":4},0,"先锋团支部",1,"示范班集体",0.5,1.5,1.5]
[38,"化工22-2班",2022010432,"刘雨佳","青年艺术发展中心舞蹈团团长",15,10,{"$nulls":3},10,{"$nulls":6},0,"校庆舞蹈演员",2,null,null,2,"先锋团支部",1,"示范班集体",0.5,1.5,13.5]
[39,"化工22-2班",2022010435,"秦婧瑶",{"$nulls":6},0,{"$nulls":6},0,"运动会啦啦队",1,null,null,1,"先锋团支部",1,"示范班集体",0.5,1.5,2.5]
[40,"化工22-2班",2022010436,"孙涵","化院青协实践部部长",6,6,"班长",6,6,7.2,"校级三等奖","否",1,{"$nulls":3},1,{"$nulls":4},0,"先锋团支部",1,"示范班集体",0.5,1.5,9.7]
[41,"化工22-2班",2022010437,"王晓弘","宿舍长",3,{"$nulls":4},3,{"$nulls":6},0,{"$nulls":4},0,"先锋团支部",1,"示范班集体",0.5,1.5,4.5]
[42,"化工22-2班",2022010438,"张涵婷","化院青协实践部部长",6,6,"信息员",4,4,6.8,{"$nulls":6},0,"运动会方阵",1,null,null,1,"先锋团支部",1,"示范班集体",0.5,1.5,9.3]
[43,"化工22-2班",2022010439,"张心怡",{"$nulls":6},0,{"$nulls":6},0,{"$nulls":4},0,"先锋团支部",1,"示范班集体",0.5,1.5,1.5]
[44,"化工22-2班",2022010494,"唐樱菲","创新创业活动中心部委",0,0,{"$nulls":3},0,{"$nulls":6},0,{"$nulls":4},0,"先锋团支部",1,"示范班集体",0.5,1.5,1.5]
[45,"化工22-2班",2022010499,"曹炜曼","校团委办公室部长",10,6.67,"团支书",6,6,7.87,{"$nulls":6},0,"校庆演员合唱团",2,null,null,2,"先锋团支部",1,"示范班集体",0.5,1.5,11.37]
[46,"化工22-2班",2022010585,"崔跃兰","院青协外事部部长",6,6,"开放原子开源社团活动部部委",0,0,6,{"$nulls":6},0,{"$nulls":4},0,"先锋团支部",1,"校级文明宿舍",2,3,9]
[47,"化工22-2班",2022010584,"肖涵芮","校学生会办公室部长",9,6,"绿芽社团宣传部长",6,6,7.2,"红色“1+1”校级三等奖","否",1,{"$nulls":3},1,{"$nulls":4},0,"先锋团支部",1,"校级文明宿舍",2,3,11.2]
[48,"化工22-2班",2022010408,"许文轲","青年实践创新中心部委",6,4,"乒乓球爱好者协会部长",6,4,4.8,{"$nulls":6},0,{"$nulls":4},0,"先锋团支部",1,"示范班集体",0.5,1.5,6.3]
[49,"化工22-2班",2022010422,"江锦欣","校团委办公室部长",9,6,"心理委员",4,4,6.8,{"$nulls":6},0,{"$nulls":4},0,"先锋团支部",1,"示范班集体",0.5,1.5,8.3]
[50,"化工22-2班",2022010426,"赵群",{"$nulls":6},0,{"$nulls":6},0,{"$nulls":4},0,"先锋团支部",1,"示范班集体",0.5,1.5,1.5]
[51,"化工22-2班",2022010427,"周慧林",{"$nulls":6},0,{"$nulls":6},0,{"$nulls":4},0,"先锋团支部",1,"示范班集体",0.5,1.5,1.5]
[52,"化工22-2班",2022010440,"黄颖聪",{"$nulls":6},0,{"$nulls":6},0,"运动会拉拉队",1,null,null,1,"先锋团支部",1,"示范班集体",0.5,1.5,2.5]
[53,"化工22-2班",2022010441,"白兆","院学生会部长",6,6,"化成天下运营部部长",6,6,7.2,"校级三等奖","否",1,{"$nulls":3},1,{"$nulls":4},0,"先锋团支部",1,"示范班集体",0.5,1.5,9.7]
[54,"化工22-2班",2022010442,"尹泽","校团委办公室部长",9,6,"副班长",5,5,7,"校级三等奖","否",1,{"$nulls":3},1,{"$nulls":4},0,"先锋团支部",1,"示范班集体",0.5,1.5,9.5]
[55,"化工22-2班",2022010443,"杨志文","青年实践创新中心部委",5,3.33,"寝室长",3,3,3.93,{"$nulls":6},0,{"$nulls":4},0,"先锋团支部",1,"示范班集体",0.5,1.5,5.43]
[56,"化工22-2班",2022010445,"赵国平","青年实践创新中心部委",3,2,{"$nulls":3},2,"校级三等奖","否",1,{"$nulls":3},1,{"$nulls":4},0,"先锋团支部",1,"示范班集体",0.5,1.5,4.5]
[57,"化工22-2班",2022010446,"金立民","AIChE-CUPB社团部长",{"$nulls":5},0,{"$nulls":6},0,{"$nulls":4},0,"先锋团支部",1,"示范班集体",0.5,1.5,1.5]
[58,"化工22-2班",2022010448,"王增智","寝室长",3,3,{"$nulls":3},3,{"$nulls":6},0,{"$nulls":4},0,"先锋团支部",1,"示范班集体",0.5,1.5,4.5]
[59,"化工22-2班",2022010449,"郑少杰","实践中心办公室部长",10,6.67,"大艺团话剧团团员",0,0,6.67,{"$nulls":6},0,{"$nulls":4},0,"先锋团支部",1,"示范班集体",0.5,1.5,8.17]
[60,"化工22-2班",2022010452,"康胜","学习委员",3,3,"职业发展协会部长",6,4,3.8,{"$nulls":6},0,{"$nulls":4},0,"先锋团支部",1,"示范班集体",0.5,1.5,5.3]
[61,"化工22-2班",2022010453,"李成歆",{"$nulls":6},0,{"$nulls":6},0,{"$nulls":4},0,"先锋团支部",1,"示范班集体",0.5,1.5,1.5]
[62,"化工22-2班",2022010454,"孙琪桐","院学生会活动部部长",5.5,5.5,{"$nulls":3},5.5,{"$nulls":6},0,{"$nulls":4},0,"先锋团支部",1,"示范班集体",0.5,1.5,7]
[63,"化工22-2班",2022010456,"吴金琪",{"$nulls":6},0,{"$nulls":6},0,{"$nulls":4},0,"先锋团支部",1,"示范班集体",0.5,1.5,1.5]
[64,"化工22-2班",2022010458,"赵帅",{"$nulls":6},0,{"$nulls":6},0,{"$nulls":4},0,"先锋团支部",1,"示范班集体",0.5,1.5,1.5]
[65,"化工22-2班",2022010459,"朱行健","流云车协活动部部长",null,null,"管弦乐团团员",4,2.67,{"$f":"G68+J68*0.2","v":0.534},"校级三等奖","否",1,{"$nulls":3},{"$f":"N68+Q68*0.5","v":1},"运动会拉拉队",1,null,null,{"$f":"T68+V68","v":1},"先锋团支部",1,"示范班集体",0.5,{"$f":"Y68+AA68","v":1.5},{"$f":"K68+R68+W68+AB68","v":4.034}]
[66,"化工22-2班",2022012316,"陈语","star冰雪运动协会宣传部部长",null,null,"寝室长",3,3,0.6,"校级三等奖","否",1,{"$nulls":3},1,{"$nulls":4},0,"先锋团支部",1,"示范班集体",0.5,1.5,3.1]
[67,"化工22-2班",2022010511,"罗小刚","寝室长",3,3,{"$nulls":3},3,{"$nulls":6},0,{"$nulls":4},0,"先锋团支部",1,"示范班集体",0.5,1.5,4.5]
[68,"化工22-2班",2022010512,"陈俊逸","青年志愿服务指导中心部长",10,6.67,{"$nulls":3},6.67,{"$nulls":6},0,{"$nulls":4},0,"先锋团支部",1,"示范班集体",0.5,1.5,8.17]
[69,"化工22-3班",2022010406,"彭莎莎","宿舍长",3,3,{"$nulls":3},3,{"$nulls":6},0,{"$nulls":4},0,"2022-2023年度中国石油大学（北京）“文明宿舍”",2,"2022-2023年度中国石油大学（北京）“科技创新先进个人”",0,2,5]
[70,"化工22-3班",2022010407,"叶海宇","觅音社综合联络部部长",1,1,"九州武社部委",0,0,1,{"$nulls":6},0,"秋季运动会裁判",0,null,null,0,"2022-2023年度中国石油大学（北京）“文明宿舍”",2,null,null,2,3]
[71,"化工22-3班",2022010460,"努尔斯巴·买提库尔班",{"$nulls":6},0,{"$nulls":6},0,{"$nulls":4},0,{"$nulls":4},0,0]
[72,"化工22-3班",2022010461,"吴芷璇","院学生会体育部部长",5.5,5.5,"国旗仪仗队实践部部长",6,4,6.3,"振兴小分队","否",1,{"$nulls":3},1,{"$nulls":4},0,"2022-2023年度中国石油大学（北京）\"科技创新先进个人\"",0,"第二十一届校长奖",0,0,7.3]
[73,"化工22-3班",2022010463,"孙千翔","石创空间部长",9,6,"化工22-3班副班长",5,5,7,{"$nulls":6},0,{"$nulls":4},0,"2022-2023年度中国石油大学（北京）\"科技创新先进个人\"",0,null,null,0,7]
[74,"化工22-3班",2022010465,"陈飞月","化工22-3班宣传委员",4,4,"校广播台部委",4,2.67,4.534,{"$nulls":6},0,{"$nulls":4},0,{"$nulls":4},0,4.534]
[75,"化工22-3班",2022010467,"石彩君","青年文化发展中心大学生艺术团话剧团团长",14,{"$f":"F78*2/3","v":9.33333333333333},"寝室长",3,3,9.93333333333333,{"$nulls":6},0,"70周年校庆文艺晚会演员",2,null,null,2,{"$nulls":4},0,11.9333333333333]
[76,"化工22-3班",2022010468,"吴忆","校团委组织部中心主任",10,6.33,"化工22-3班团支书",6,6,7.53,{"$nulls":6},0,{"$nulls":4},0,"2022-2023年度中国石油大学（北京）“文明宿舍”",2,null,null,2,9.53]
[77,"化工22-3班",2022010469,"许馨月","青年文化发展中心办公室组长",8,5.33,{"$nulls":3},5.33,"振兴小分队","否",1,{"$nulls":3},1,"春季运动会方阵成员",1,null,null,1,"2022-2023年度中国石油大学（北京）“文明宿舍”",2,null,null,2,9.33]
[78,"化工22-3班",2022010471,"张支铭","勤工助学中心校外部部长",8,5.33,"国旗仪仗队实践部部长",4,2.67,5.864,"“石子农情”团队","否",1,"振兴小分队","否",1,1.5,{"$nulls":4},0,"2022-2023年度中国石油大学（北京）“文明宿舍”",2,null,null,2,9.364]
[79,"化工22-3班",2022010500,"马倩","化工22-3班信息委员",4,4,{"$nulls":3},4,{"$nulls":6},0,{"$nulls":4},0,{"$nulls":4},0,4]
[80,"化工22-3班",2022010501,"屈芷晴","石大羽协部长",1,1,{"$nulls":3},1,{"$nulls":6},0,{"$nulls":4},0,{"$nulls":4},0,1]
[81,"化工22-3班",2022010421,"季磊",{"$nulls":6},0,{"$nulls":6},0,{"$nulls":4},0,{"$nulls":4},0,0]
[82,"化工22-3班",2022010423,"汪礼俊",{"$nulls":6},0,{"$nulls":6},0,{"$nulls":4},0,{"$nulls":4},0,0]
[83,"化工22-3班",2022010424,"席振昌",{"$nulls":6},0,{"$nulls":6},0,{"$nulls":4},0,{"$nulls":4},0,0]
[84,"化工22-3班",2022010425,"闫杨奇昊",{"$nulls":6},0,{"$nulls":6},0,{"$nulls":4},0,{"$nulls":4},0,0]
[85,"化工22-3班",2022010473,"刘源兴",{"$nulls":6},0,{"$nulls":6},0,{"$nulls":4},0,{"$nulls":4},0,0]
[86,"化工22-3班",2022010476,"何岩松",{"$nulls":6},0,{"$nulls":6},0,{"$nulls":4},0,{"$nulls":4},0,0]
[87,"化工22-3班",2022010477,"张帅","青年文化发展中心活动组组长",10,6.33,"九州武社主席",2,2,6.73,"2023年暑期社会实践“三等奖”","是",{"v":1.33333333333333,"d":"1.33"},{"$nulls":3},1.33333333333333,"70年校庆文艺晚会武术演员",1,"春季运动会学院啦啦队",1,2,"2022-2023年度文体活动先进个人",0,"2022-2023年度社会实践优秀个人",0,0,10.0633333333333]
[88,"化工22-3班",2022010478,"李煌","职业发展协会招聘部部委",3,2,"青年文化发展中心活动组部委",5,3.33,2.666,"振兴小分队","否",1,{"$nulls":3},1,{"$nulls":4},0,{"$nulls":4},0,3.666]
[89,"化工22-3班",2022010479,"杨广军","青年文化发展中心活动组部委",3,2,{"$nulls":3},2,{"$nulls":6},0,{"$nulls":4},0,{"$nulls":4},0,2]
[90,"化工22-3班",2022010480,"杨明涛",{"$nulls":6},0,{"$nulls":6},0,{"$nulls":4},0,{"$nulls":4},0,0]
[91,"化工22-3班",2022010482,"傅世坤","化工22-3班组织委员",4,4,"石创空间创业部部委",4,2.67,4.534,{"$nulls":6},0,"春季运动会方阵成员",1,null,null,1,{"$nulls":4},0,5.534]
[92,"化工22-3班",2022010483,"李浩永","化工22-3班心理委员",3,3,"星罗天文社部委",0,0,3,{"$nulls":6},0,{"$nulls":4},0,{"$nulls":4},0,3]
[93,"化工22-3班",2022010487,"涂景豪",{"$nulls":6},0,{"$nulls":6},0,{"$nulls":4},0,{"$nulls":4},0,0]
[94,"化工22-3班",2022010489,"谢林洲","招生大使团办公室部长",6,4,"概率论课代表",3,3,4.6,{"$nulls":6},0,{"$nulls":4},0,{"$nulls":4},0,4.6]
[95,"化工22-3班",2022010490,"严臻睿","院权益部部长",6,{"$nulls":4},6,{"$nulls":6},0,{"$nulls":4},0,{"$nulls":4},0,6]
[96,"化工22-3班",2022010504,"李宇翔",{"$nulls":6},0,{"$nulls":6},0,{"$nulls":4},0,{"$nulls":4},0,0]
[97,"化工22-3班",2022010506,"张席地","中石大传媒工作室主席",9,6,"化工22-3班班长",6,6,{"$f":"G100+J100*0.2","v":7.2},{"$nulls":6},{"$f":"N100+Q100*0.5","v":0},{"$nulls":4},{"$f":"T100+V100","v":0},{"$nulls":4},{"$f":"Y100+AA100","v":0},{"$f":"K100+R100+W100+AB100","v":7.2}]
[98,"化工22-3班",2022010507,"马凯园",{"$nulls":6},0,{"$nulls":6},0,{"$nulls":4},0,{"$nulls":4},0,0]
[99,"化工22-3班",2022011451,"喻治坤",{"$nulls":6},0,"校三等奖","否",1,{"$nulls":3},1,{"$nulls":4},0,{"$nulls":4},0,1]
[100,"化工22-3班",2022010837,"陈伟玄",{"$nulls":6},0,{"$nulls":6},0,{"$nulls":4},0,{"$nulls":4},0,0]
[101,"化工22-3班",2022010547,"黄一翀","青年文化发展中心活动组部委",3,2,{"$nulls":3},2,{"$nulls":6},0,{"$nulls":4},0,{"$nulls":4},0,2]
[102,"能化22-1班",2022010398,"杨慧","校红会同伴教育部部委",6,4,"田径协会部长",1,1,4.2,{"$nulls":6},0,{"$nulls":4},0,{"$nulls":4},0,4.2]
[103,"能化22-1班",2022010399,"邱绮慧","校团委宣传部部长",10,6.67,"田径协会部长",1,1,6.87,{"$nulls":6},0,{"$nulls":4},0,{"$nulls":4},0,6.87]
[104,"能化22-1班",2022010400,"王一伊","院学生会体育部部长",5.5,5.5,"田径协会主席",2,2,5.9,{"$nulls":6},0,{"$nulls":4},0,{"$nulls":4},0,5.9]
[105,"能化22-1班",2022010401,"贾文青","校红会同伴教育部部委",6,4,"田径协会部长",1,1,4.2,{"$nulls":6},0,{"$nulls":4},0,{"$nulls":4},0,4.2]
[106,"能化22-1班",2022010402,"季睿","红十字会同伴教育部部长",8,5.33,"田径协会部长",1,1,5.53,{"$nulls":6},0,"校庆情景朗诵演员",1,null,null,1,{"$nulls":4},0,6.53]
[107,"能化22-1班",2022010403,"成思宇","校红会青红部委",5,3.33,"能化22-1班信息员",4,4,4.13,{"$nulls":6},0,{"$nulls":4},0,{"$nulls":4},0,4.13]
[108,"能化22-1班",2022010404,"付晨汐",{"$nulls":6},0,{"$nulls":6},0,{"$nulls":4},0,"校级文明宿舍",2,null,null,2,2]
[109,"能化22-1班",2022012313,"巴合加娜提·加冷",{"$nulls":6},0,{"$nulls":6},0,{"$nulls":4},0,{"$nulls":4},0,0]
[110,"能化22-1班",2022010428,"马芬",{"$nulls":6},0,{"$nulls":6},0,{"$nulls":4},0,"校级文明宿舍",2,null,null,2,2]
[111,"能化22-1班",2022010433,"陈禾婕","校青年实践与创新中心办公室部长",10,6.67,"青年文化发展中心话剧团团长",10,6.67,8.004,{"$nulls":6},0,{"$nulls":4},0,{"$nulls":4},0,8.004]
["   ","能化22-1班",2022010470,"张润霞","校学生会权益部部门负责人",10,6.67,"青年文化发展中心办公室部长",9,6,7.87,"“振兴小分队”社会实践校级三等奖","是",{"v":1.33333333333333,"d":"1.33"},{"$nulls":3},1.33333333333333,{"$nulls":4},0,"校级文明宿舍",2,null,null,2,11.2033333333333]
[113,"能化22-1班",2022010376,"刘珣",{"$nulls":6},0,{"$nulls":6},0,{"$nulls":4},0,{"$nulls":4},0,0]
[114,"能化22-1班",2022010380,"张茂霖",{"$nulls":6},0,{"$nulls":6},0,{"$nulls":4},0,{"$nulls":4},0,0]
[115,"能化22-1班",2022010381,"耿智盖灵",{"$nulls":6},0,{"$nulls":6},0,{"$nulls":4},0,{"$nulls":4},0,0]
[116,"能化22-1班",2022010387,"陈方旭","能化22-1班心理委员",3,3,"宿舍长",3,3,3.6,{"$nulls":6},0,{"$nulls":4},0,{"$nulls":4},0,3.6]
[117,"能化22-1班",2022010388,"缪祥麟",{"$nulls":6},0,{"$nulls":6},0,{"$nulls":4},0,{"$nulls":4},0,0]
[118,"能化22-1班",2022010391,"王禹程",{"$nulls":6},0,{"$nulls":6},0,{"$nulls":4},0,{"$nulls":4},0,0]
[119,"能化22-1班",2022010410,"王子路","能化22-1班组织委员",4,4,"物理化学课代表",3,3,4.6,{"$nulls":6},0,"校庆开幕式",1,null,null,1,{"$nulls":4},0,5.6]
[120,"能化22-1班",2022010417,"段少坤",{"$nulls":6},0,{"$nulls":6},0,{"$nulls":4},0,{"$nulls":4},0,0]
[121,"能化22-1班",2022010420,"曹坤阳",{"$nulls":6},0,{"$nulls":6},0,{"$nulls":4},0,{"$nulls":4},0,0]
[122,"能化22-1班",2022010444,"汪洋",{"$nulls":6},0,{"$nulls":6},0,{"$nulls":4},0,{"$nulls":4},0,0]
[123,"能化22-1班",2022010447,"王冰宇",{"$nulls":6},0,{"$nulls":6},0,{"$nulls":4},0,{"$nulls":4},0,0]
[124,"能化22-1班",2022010451,"蒋子强","大学生记者团部长",6,4,"能化22-1班学习委员",3,3,4.6,{"$nulls":6},0,{"$nulls":4},0,{"$nulls":4},0,4.6]
[125,"能化22-1班",2022010455,"王德民","能化22-1班班长",{"$nulls":5},0,{"$nulls":6},0,{"$nulls":4},0,{"$nulls":4},0,0]
[126,"能化22-1班",2022010457,"杨乐辰",{"$nulls":6},0,{"$nulls":6},0,{"$nulls":4},0,{"$nulls":4},0,0]
[127,"能化22-1班",2022010474,"杨志远",{"$nulls":6},0,{"$nulls":6},0,{"$nulls":4},0,{"$nulls":4},0,0]
[128,"能化22-1班",2022010475,"蔡进鹏",{"$nulls":6},0,{"$nulls":6},0,{"$nulls":4},0,{"$nulls":4},0,0]
[129,"能化22-1班",2022012318,"阿尔帕提·阿卜杜合力力","能化22-1班副班长",5,5,{"$nulls":3},{"$f":"G132+J132*0.2","v":5},{"$nulls":6},{"$f":"N132+Q132*0.5","v":0},{"$nulls":4},{"$f":"T132+V132","v":0},{"$nulls":4},{"$f":"Y132+AA132","v":0},{"$f":"K132+R132+W132+AB132","v":5}]
[130,"能化22-1班",2022010513,"陈心","宿舍长",3,3,{"$nulls":3},3,{"$nulls":6},0,{"$nulls":4},0,{"$nulls":4},0,3]
[131,"能化22-1班",2022010517,"郝信淳",{"$nulls":6},0,{"$nulls":6},0,{"$nulls":4},0,{"$nulls":4},0,0]
[132,"能化22-1班",2022010520,"孙祖麟",{"$nulls":6},0,{"$nulls":6},0,{"$nulls":4},0,{"$nulls":4},0,0]
[133,"能化22-1班",2022010523,"章俊阳",{"$nulls":6},0,{"$nulls":6},0,{"$nulls":4},0,{"$nulls":4},0,0]
[134,"能化22-2班",2022010365,"杨秋瑶","红十字会外联部部长",8,5.33,"化院学生会权益部部长",4.5,4.5,6.23,{"$nulls":6},0,{"$nulls":4},0,{"$nulls":4},0,6.23]
[135,"能化22-2班",2022010368,"张露","能化22-2班副班长",5,5,"化院学生会新媒体部长",6,6,6.2,{"$nulls":6},0,{"$nulls":4},0,{"$nulls":4},0,6.2]
[136,"能化22-2班",2022010396,"邵兰贺",{"$nulls":3},"校团委办公室部长",7,4.67,0.934,{"$nulls":6},0,{"$nulls":4},0,{"$nulls":4},0,0.934]
[137,"能化22-2班",2022010462,"胡咪","石创空间宣传部部委",4,2.67,{"$nulls":3},2.67,{"$nulls":6},0,{"$nulls":4},0,{"$nulls":4},0,2.67]
[138,"能化22-2班",2022010464,"邓姣","校红会手语部部委",4,2.67,"石创空间宣传部部委",4,2.67,3.204,{"$nulls":6},0,{"$nulls":4},0,{"$nulls":4},0,3.204]
[139,"能化22-2班",2022010492,"钮缨雪","能化22-2团支书",6,6,"中石大传媒工作室部长",8,5.33,7.066,{"$nulls":6},0,{"$nulls":4},0,"校级文明宿舍",2,null,null,2,9.066]
[140,"能化22-2班",2022010493,"付锦依","院青协宣传部部长",6,6,"组织委员",3,3,6.6,{"$nulls":6},0,{"$nulls":4},0,"校级文明宿舍",2,null,null,2,8.6]
[141,"能化22-2班",2022010495,"何欣怡",{"$nulls":6},0,{"$nulls":6},0,{"$nulls":4},0,{"$nulls":4},0,0]
[142,"能化22-2班",2022010496,"张鑫","红十字会部委",6,4,"心理委员",3,3,4.6,{"$nulls":6},0,{"$nulls":4},0,{"$nulls":4},0,4.6]
[143,"能化22-2班",2022010497,"达娃卓玛",{"$nulls":6},0,{"$nulls":6},0,{"$nulls":4},0,{"$nulls":4},0,0]
[144,"能化22-2班",2022010395,"赵志帆",{"$nulls":6},0,{"$nulls":6},0,{"$nulls":4},0,{"$nulls":4},0,0]
[145,"能化22-2班",2022012314,"努尔兰·吐尔军",{"$nulls":6},0,{"$nulls":6},0,{"$nulls":4},0,{"$nulls":4},0,0]
[146,"能化22-2班",2022010450,"阿坚全",{"$nulls":6},0,{"$nulls":6},0,{"$nulls":4},0,{"$nulls":4},0,0]
[147,"能化22-2班",2022010472,"王奕喆",{"$nulls":6},0,{"$nulls":6},0,{"$nulls":4},0,{"$nulls":4},0,0]
[148,"能化22-2班",2022010481,"施孔君",{"$nulls":6},0,{"$nulls":6},0,{"$nulls":4},0,{"$nulls":4},0,0]
[149,"能化22-2班",2022010484,"李芃钰",{"$nulls":6},0,"扶贫南华显真情，支教路上并肩行","否",1,{"$nulls":3},1,{"$nulls":4},0,{"$nulls":4},0,1]
[150,"能化22-2班",2022010485,"刘帅杰",{"$nulls":6},0,{"$nulls":6},0,{"$nulls":4},0,{"$nulls":4},0,0]
[151,"能化22-2班",2022010486,"邵科元",{"$nulls":6},0,{"$nulls":6},0,{"$nulls":4},0,{"$nulls":4},0,0]
[152,"能化22-2班",2022010491,"张志彬","能化22-2班班长",6,6,"化成天下工作室部长",6,6,7.2,{"$nulls":6},0,{"$nulls":4},0,{"$nulls":4},0,7.2]
[153,"能化22-2班",2022012317,"萨比尔·库尔班江",{"$nulls":6},0,{"$nulls":6},0,{"$nulls":4},0,{"$nulls":4},0,0]
[154,"能化22-2班",2022010503,"袁祺瑞",{"$nulls":6},0,{"$nulls":6},0,{"$nulls":4},0,{"$nulls":4},0,0]
[155,"能化22-2班",2022010505,"叶斯波力·叶尔生","文体委员",3,3,{"$nulls":3},3,{"$nulls":6},0,{"$nulls":4},0,{"$nulls":4},0,3]
[156,"能化22-2班",2022010508,"郝政凯",{"$nulls":6},0,{"$nulls":6},0,{"$nulls":4},0,{"$nulls":4},0,0]
[157,"能化22-2班",2022010509,"李京运",{"$nulls":6},0,{"$nulls":6},0,{"$nulls":4},0,{"$nulls":4},0,0]
[158,"能化22-2班",2022010510,"李君成",{"$nulls":6},0,{"$nulls":6},0,{"$nulls":4},0,{"$nulls":4},0,0]
[159,"能化22-2班",2022010515,"郭家栋",{"$nulls":6},0,{"$nulls":6},0,{"$nulls":4},0,{"$nulls":4},0,0]
[160,"能化22-2班",2022010521,"吴振宇",{"$nulls":6},0,{"$nulls":6},0,{"$nulls":4},0,{"$nulls":4},0,0]
[161,"能化22-2班",2022010522,"熊俊程","能化22-2班学习委员",4,4,{"$nulls":3},{"$f":"G164+J164*0.2","v":4},{"$nulls":6},{"$f":"N164+Q164*0.5","v":0},{"$nulls":4},{"$f":"T164+V164","v":0},{"$nulls":4},{"$f":"Y164+AA164","v":0},{"$f":"K164+R164+W164+AB164","v":4}]
[162,"能化22-2班",2022012319,"李文杰",{"$nulls":6},0,{"$nulls":6},0,{"$nulls":4},0,{"$nulls":4},0,0]
[163,"能化22-2班",2022012320,"阿布杜拉·居乃都拉",{"$nulls":6},0,{"$nulls":6},0,{"$nulls":4},0,{"$nulls":4},0,0]
[164,"能化22-2班",2022012012,"欧子俊",{"$nulls":6},0,{"$nulls":6},0,{"$nulls":4},0,{"$nulls":4},0,0]

{"sheet":"德育扣分","index":4,"n_rows":103,"n_cols":6,"rows_kept":103,"merged":[[0,0,0,5]]}
["德育扣分"]
["学号","姓名","班级","翘课学时","通报批评","德育扣分"]
[2022010364,"张姝瑶","化工22-1班"]
[2022010367,"周芹","化工22-1班"]
[2022010369,"李越","化工22-1班"]
[2022010370,"马海霞","化工22-1班"]
[2022010371,"何丽鸿","化工22-1班"]
[2022010372,"史佳悦","化工22-1班"]
[2022010373,"王晴宇","化工22-1班"]
[2022010374,"袁佳怡","化工22-1班"]
[2022012311,"布威麦尔耶姆·麦麦提图尔荪","化工22-1班"]
[2022010397,"李安然","化工22-1班"]
[2022010100,"智玉轩","化工22-1班"]
[2022010377,"刘超","化工22-1班"]
[2022010379,"孙科","化工22-1班"]
[2022010382,"张铸","化工22-1班"]
[2022010383,"刘子瑞","化工22-1班"]
[2022010384,"吴立新","化工22-1班"]
[2022010385,"龚泽恩","化工22-1班"]
[2022010386,"李陶然","化工22-1班"]
[2022010389,"牛浩镔","化工22-1班"]
[2022010390,"申溱","化工22-1班"]
[2022010392,"吴照飞","化工22-1班"]
[2022010394,"张之翼","化工22-1班"]
[2022012312,"徐峥","化工22-1班"]
[2022010409,"周家艺","化工22-1班"]
[2022010411,"姚锦栋","化工22-1班"]
[2022010412,"代肖彤","化工22-1班"]
[2022010413,"陈恒宇","化工22-1班"]
[2022010414,"潘恒懿","化工22-1班"]
[2022010418,"王明堃","化工22-1班"]
[2022010419,"史国柱","化工22-1班"]
[2022010516,"郭智硕","化工22-1班"]
[2022010518,"贾思远","化工22-1班"]
[2022010519,"李佳俊","化工22-1班"]
[2022010622,"顾凌云","化工22-1班"]
[2022010429,"程实","化工22-2班"]
[2022010430,"马瑜含","化工22-2班"]
[2022010431,"贺婕","化工22-2班"]
[2022010432,"刘雨佳","化工22-2班",2,null,2]
[2022010435,"秦婧瑶","化工22-2班"]
[2022010436,"孙涵","化工22-2班"]
[2022010437,"王晓弘","化工22-2班"]
[2022010438,"张涵婷","化工22-2班"]
[2022010439,"张心怡","化工22-2班"]
[2022010494,"唐樱菲","化工22-2班",2,null,2]
[2022010499,"曹炜曼","化工22-2班"]
[2022010585,"崔跃兰","化工22-2班"]
[2022010584,"肖涵芮","化工22-2班"]
[2022010408,"许文轲","化工22-2班"]
[2022010422,"江锦欣","化工22-2班"]
[2022010426,"赵群","化工22-2班"]
[2022010427,"周慧林","化工22-2班"]
[2022010440,"黄颖聪","化工22-2班"]
[2022010441,"白兆","化工22-2班"]
[2022010442,"尹泽","化工22-2班",null,"通报批评",10]
[2022010443,"杨志文","化工22-2班"]
[2022010445,"赵国平","化工22-2班"]
[2022010446,"金立民","化工22-2班"]
[2022010448,"王增智","化工22-2班"]
[2022010449,"郑少杰","化工22-2班",null,"通报批评",10]
[2022010452,"康胜","化工22-2班"]
[2022010453,"李成歆","化工22-2班"]
[2022010454,"孙琪桐","化工22-2班"]
[2022010456,"吴金琪","化工22-2班"]
[2022010458,"赵帅","化工22-2班"]
[2022010459,"朱行健","化工22-2班"]
[2022012316,"陈语","化工22-2班"]
[2022010511,"罗小刚","化工22-2班"]
[2022010512,"陈俊逸","化工22-2班"]
[2022010406,"彭莎莎","化工22-3班"]
[2022010407,"叶海宇","化工22-3班"]
[2022010460,"努尔斯巴·买提库尔班","化工22-3班"]
[2022010461,"吴芷璇","化工22-3班"]
[2022010463,"孙千翔","化工22-3班"]
[2022010465,"陈飞月","化工22-3班"]
[2022010467,"石彩君","化工22-3班"]
[2022010468,"吴忆","化工22-3班"]
[2022010469,"许馨月","化工22-3班",2,null,2]
[2022010471,"张支铭","化工22-3班"]
[2022010500,"马倩","化工22-3班"]
[2022010501,"屈芷晴","化工22-3班"]
[2022010421,"季磊","化工22-3班"]
[2022010423,"汪礼俊","化工22-3班"]
[2022010424,"席振昌","化工22-3班"]
[2022010425,"闫杨奇昊","化工22-3班"]
[2022010473,"刘源兴","化工22-3班"]
[2022010476,"何岩松","化工22-3班"]
[2022010477,"张帅","化工22-3班"]
[2022010478,"李煌","化工22-3班"]
[2022010479,"杨广军","化工22-3班"]
[2022010480,"杨明涛","化工22-3班"]
[2022010482,"傅世坤","化工22-3班",null,"通报批评",10]
[2022010483,"李浩永","化工22-3班"]
[2022010487,"涂景豪","化工22-3班"]
[2022010489,"谢林洲","化工22-3班"]
[2022010490,"严臻睿","化工22-3班"]
[2022010504,"李宇翔","化工22-3班"]
[2022010506,"张席地","化工22-3班"]
[2022010507,"马凯园","化工22-3班"]
[2022011451,"喻治坤","化工22-3班"]
[2022010837,"陈伟玄","化工22-3班",null,null,"  "]
[2022010547,"黄一翀","化工22-3班"]

{"sheet":"智育加分 (2)","index":5,"n_rows":286,"n_cols":13,"rows_kept":286,"merged":[[0,4,0,10],[2,0,6,0],[154,0,156,0],[158,0,160,0],[162,0,164,0],[166,0,167,0],[169,0,170,0],[172,0,173,0],[175,0,176,0],[184,0,186,0],[188,0,189,0],[191,0,201,0],[206,0,207,0]]}
[{"$nulls":4},"智育加分"]
["序号","学号","姓名","班级","竞赛名称","主办单位","竞赛级别","获奖等级","是否为团队项目","若为团队竞赛，填写团队成员；若为个人竞赛，则无需填写","加分(辅导员填写)"]
["　实例",2018010615,"张山","能化18-1班","2020年第十二届北京市大学生化学实验竞赛","北京化工大学化学实验竞赛组委会","省部级","二等奖","否","　"]
[null,2018010615,"张山","能化18-1班","2020年中国石油大学（北京）第十二届北京市大学生化学实验竞赛校内选拔赛","中国石油大学（北京）化学爱好者协会","校级","一等奖","否","　"]
[null,2018010615,"张山","能化18-1班","2020年第十届亚太地区大学生数学建模竞赛","北京图象图形学学会","省部级","三等奖","是","张山，李四，王五"]
[null,"　","　","　","第十二届全国大学生化学实验邀请赛校赛","中国石油大学（北京）","国家级","三等奖","否","李四、王五、张山、赵六"]
[null,"　","　","　","　","　","　","　","　","合计"]
[null,2022010491,"张志彬","能化22-2班","青创北京\"挑战杯\"首都大学生课外学术科技作品竞赛","北京市教育委员会","省部级","一等奖","是","张志彬  吴忆  孟婧涵  王晴宇  曹炜曼  张润霞  孙涵  叶海宇",{"v":5.33333333333333,"d":"5.33"}]
[null,2022010491,"张志彬",null,"“创青春”碳中和创新创业大赛","“创青春”中国青年碳中和创新创业大赛组委会","国家级","鼓励奖","是","郭飞扬、吴忆、张伊蕊、张志彬、齐嘉莹、钮缨雪、李佳蕊",{"v":2.5,"d":"2.50"}]
[null,2022010491,"张志彬",null,"2024年第十七届全国大学生节能减排社会实践与科技竞赛","中国石油大学（北京）","校级","三等奖","是","吴忆,左丁伟,张志彬,孟婧涵,曹炜曼,周一凡,霍宇欣",{"v":1.33333333333333,"d":"1.33"}]
[{"$nulls":9},"合计"]
[null,2022010493,"付锦依","能化22-2班","2024年第十七届全国大学生节能减排社会实践与科技竞赛","中国石油大学（华东）","国家级","二等奖","是","张润霞、王德民、蒋子强、付锦依、王泽寰、邵兰贺、孙鑫洋",{"v":4.5,"d":"4.50"}]
[null,2022010493,"付锦依",null,"2024年中国石油大学（北京）第十五届北京市大学生化学实验竞赛校内选拔赛","中国石油大学（北京）理学院","校级","一等奖","否",null,{"v":5,"d":"5.00"}]
[null,2022010494,"付锦依",null,"2024年全国大学生英语竞赛","高等学校大学外语教研会","校级","三等奖","否",null,{"v":2,"d":"2.00"}]
[null,2022010495,"付锦依",null,"2024年首届青年绿色科技创新大赛","北京林业大学 中国长城绿化促进会","国家级","一等奖","否","吴芷璇、傅世坤、李芃钰、张支铭、张帅、张馨瑶、付锦依、池双佑"]
[{"$nulls":9},"合计"]
[null,2022010522,"熊俊程","能化22-2班","2024年中国石油大学（北京）第十五届北京市大学生化学实验竞赛校内选拔赛","中国石油大学（北京）理学院","校级","三等奖","否",null,{"v":2,"d":"2.00"}]
[null,null,"熊俊程",null,"2023年中国石油大学（北京）大学生物理竞赛","中国石油大学（北京）理学院","校级","三等奖","否",null,{"v":2,"d":"2.00"}]
[{"$nulls":9},"合计"]
[null,2022010496,"张鑫","能化22-2班","2024年中国石油大学（北京）第十五届北京市大学生化学实验竞赛校内选拔赛","中国石油大学（北京）理学院","校级","三等奖","否",null,{"v":2,"d":"2.00"}]
[{"$nulls":9},"合计"]
[null,2022010486,"邵科元","能化22-22","2024中国大学生Chem-E-Car竞赛","中国化工学会","国家级","一等奖","是","邵科元 潘思迪 康胜 王德民等13人",{"v":6,"d":"6.00"}]
[{"$nulls":9},"合计"]
[null,2022012012,"欧子俊","能化22-2班","2024年中国石油大学（北京）第十五届北京市大学生化学实验竞赛校内选拔赛","中国石油大学（北京）理学院","校级","三等奖","否",null,{"v":2,"d":"2.00"}]
[{"$nulls":9},"合计"]
[null,2022010492,"钮缨雪","能化22-22","“创青春”碳中和创新创业大赛","“创青春”中国青年碳中和创新创业大赛组委会","国家级","鼓励奖","是","郭飞扬、吴忆、张伊蕊、张志彬、齐嘉莹、钮缨雪、李佳蕊",{"v":2.5,"d":"2.50"}]
[null,null,"钮缨雪",null,"2024年第十七届全国大学生节能减排社会实践与科技竞赛","中国石油大学（北京）","校级","三等奖","是","郭飞扬、黄凯涵、李佳蕊、齐嘉莹、钮缨雪、张伊蕊",{"v":1.33333333333333,"d":"1.33"}]
[{"$nulls":9},"合计"]
[null,2022010368,"张露","能化22-2","2024年中国石油大学（北京）第十五届北京市大学生化学实验竞赛校内选拔赛","中国石油大学（北京）理学院","校级","一等奖","否",null,{"v":5,"d":"5.00"}]
[null,null,"张露",null,"2023年中国石油大学（北京）大学生物理竞赛","中国石油大学（北京）理学院","校级","一等奖","否",null,{"v":5,"d":"5.00"}]
[null,null,"张露",null,"2023年北京市第三十四届大学生数学竞赛（非数学专业甲组）","北京数学会","市级","三等奖","否",null,{"v":6,"d":"6.00"}]
[null,null,"张露",null,"2023年第十五届全国大学生数学竞赛（非数学A类）","中国数学会","国家级","三等奖","否",null,{"v":6,"d":"6.00"}]
[{"$nulls":9},"合计"]
[null,2022010365,"杨秋瑶","能化22-2","2024年中国石油大学（北京）第十五届北京市大学生化学实验竞赛校内选拔赛 \n","中国石油大学（北京）理学院","校级","二等奖","否",null,{"v":4,"d":"4.00"}]
[null,null,"杨秋瑶",null,"2024年大学生英语竞赛","高等学校大学外语教研会   \n","国家级","三等奖","否",null,{"v":6,"d":"6.00"}]
[null,null,"杨秋瑶",null,"2023年中国石油大学（北京）大学生物理竞赛\n","中国石油大学（北京）理学院 \n","校级","一等奖","否",null,{"v":5,"d":"5.00"}]
[{"$nulls":9},"合计"]
[null,2022010464,"邓姣","能化22-2","2024年中国石油大学（北京）第十五届北京市大学生化学实验竞赛校内选拔赛","中国石油大学（北京）理学院","校级","一等奖","否",null,{"v":5,"d":"5.00"}]
[null,null,"邓姣",null,"北京市大学生化工原理竞赛","中国石油大学（北京）理学院","校级","三等奖","否",null,{"v":2,"d":"2.00"}]
[{"$nulls":9},"合计"]
[null,2022010484,"李芃钰","能化22-2","2024年首届青年绿色科技创新大赛","北京林业大学 中国长城绿化促进会","国家级","一等奖","是","吴芷璇、傅世坤、李芃钰、张支铭、张帅、张馨瑶、付锦依、池双佑"]
[null,null,"李芃钰",null,"2023年“CAN油”中国石油大学(北京)创业大赛\n","共青团中国石油大学(北京)委员会\n创新创业教育学院","校级","一等奖","是","吴芷璇、吴思玮、陈子骏、李芃钰、张支铭、池双佑、张馨瑶、徐卫星、康 胜、张诗曼、张心怡、李俊杰、陈 妮、余曼妮",{"v":2.5,"d":"2.50"}]
[null,null,"李芃钰",null,"第六届北京市大学生节能节水低碳减排社会实践与科技竞赛","北京市教育委员会","市级","三等奖","是","吴芷璇,吴思玮,张支铭,池双佑,陈子骏,马晟哲,李芃钰",{"v":2.5,"d":"2.50"}]
[null,null,"李芃钰",null,"2023 年北京高校大学生创新创业训练校际合作计划","北京高校创新创业人才培养指导中心，北京邮电大学","市级","一等奖","是","吴芷璇、傅世坤、李芃钰、张支铭、陈妮",{"v":0,"d":"0.00"}]
[{"$nulls":9},"合计"]
[null,2022010455,"王德民","能化22-1","2023年中国石油大学（北京）大学生物理竞赛","中国石油大学（北京）","校级","一等奖","否",null,{"v":5,"d":"5.00"}]
[null,null,"王德民",null,"第十五届北京市化学实验竞赛校赛","中国石油大学（北京）","校级","一等奖","否",null,{"v":5,"d":"5.00"}]
[null,null,"王德民",null,"2024年中国石油大学（北京）大学生化工原理竞赛","中国石油大学（北京）","校级","三等奖","否",null,{"v":2,"d":"2.00"}]
[null,null,"王德民",null,"2024中国大学生Chem-e-car竞赛","中国化工学会","国家级","一等奖","是","潘思迪，郭智硕，金立民，刘庆炽，李佳俊，周怡辰，王德民，康胜，王佳琪，陈佳佳，刘润昊，邵科元，张磊",{"v":6,"d":"6.00"}]
[null,null,"王德民",null,"第十七届全国大学生节能减排社会实践与科技竞赛","全国大学生节能减排社会实践与科技竞赛委员会","国家级","二等奖","是","张润霞，王德民，蒋子强，付锦依，王泽寰，邵兰贺，孙鑫洋",{"v":4.5,"d":"4.50"}]
[{"$nulls":9},"合计"]
[null,2022010513,"陈心","能化22-1","2023年中国石油大学（北京）大学生物理竞赛","中国石油大学（北京）","校级","二等奖","否",null,{"v":4,"d":"4.00"}]
[{"$nulls":9},"合计"]
[null,2022010470,"张润霞","能化22-1","第十五届北京市化学实验竞赛校赛","中国石油大学（北京）","校级","二等奖","否",null,{"v":4,"d":"4.00"}]
[null,null,"张润霞",null,"第十七届全国大学生节能减排社会实践与科技竞赛","全国大学生节能减排社会实践与科技竞赛委员会","国家级","二等奖","是","张润霞，王德民，蒋子强，付锦依，王泽寰，邵兰贺，孙鑫洋",{"v":6,"d":"6.00"}]
[null,null,"张润霞",null,"中国国际大学生创新大赛（2024）北京赛区“青年红色筑梦之旅”赛道","北京市教育委员会","省部级","三等奖","是","罗楚龙，孙一铭，戴的珊，宋暑寒，张清爽，于闿歌，黄乐，罗语涵，邹怀墨，杨杭，张润霞，刘紫颖，巨博雅，段雨杨，孙润祺",{"v":3,"d":"3.00"}]
[null,null,"张润霞",null,"2023年“CAN油”中国石油大学（北京）创业大赛暨2024年“挑战杯”中国大学生创业计划竞赛","共青团中国石油大学（北京）委员会创新创业教育学院","校级","二等奖","是","孙一铭，戴的珊，贾亿博，康栗铭，孟婧涵，黄乐，罗语涵，邹怀墨，杨安琦，张润霞，董家琛，巨博雅，段雨杨，孙润祺，许铭伟",{"v":2,"d":"2.00"}]
[null,null,"张润霞",null,"“青创北京” 2024年“挑战杯”首都大学生创业计划竞赛","市教委、团市委、市学联、市科协","省部级","二等奖","是","吴忆，孟婧涵，王晴宇，曹炜曼，张润霞，孙涵",{"v":3,"d":"3.00"}]
[{"$nulls":9},"合计"]
[null,2022010387,"陈方旭","能化22-1","第十五届北京市化学实验竞赛校赛","中国石油大学（北京）","校级","三等奖","否",null,{"v":2,"d":"2.00"}]
[{"$nulls":9},"合计"]
[null,2022010401,"贾文青","能化22-1","2024年中国石油大学（北京）大学生化工原理竞赛","中国石油大学(北京)","校级","三等奖","否",null,{"v":2,"d":"2.00"}]
[{"$nulls":9},"合计"]
[null,2022010402,"季睿","能化22-1","2024年中国石油大学（北京）大学生化工原理竞赛","中国石油大学（北京）","校级","三等奖","否",null,{"v":2,"d":"2.00"}]
[{"$nulls":9},"合计"]
[null,2022010451,"蒋子强","能化22-1","2023年中国石油大学（北京）大学生物理竞赛","中国石油大学（北京）","校极","二等奖","否",null,{"v":4,"d":"4.00"}]
[null,null,"蒋子强",null,"第十五届北京市化学实验竞赛校赛","中国石油大学（北京）","校级","一等奖","否",null,{"v":5,"d":"5.00"}]
[null,null,"蒋子强",null,"2024年中国石油大学（北京）大学生化工原理竞赛","中国石油大学（北京）","校级","三等奖","否",null,{"v":2,"d":"2.00"}]
[null,null,"蒋子强",null,"第十七届全国大学生节能减排社会实践与科技竞赛","全国大学生节能减排社会实践与科技竞赛委员会","国家级","二等奖","是","张润霞，王德民，蒋子强，付锦依，王泽寰，邵兰贺，孙鑫洋",{"v":4.5,"d":"4.50"}]
[{"$nulls":9},"合计"]
[null,2022010433,"陈禾婕","能化22-1","2024全国大学生英语能力竞赛","中国石油大学（北京）","校级","一等奖","否",null,{"v":5,"d":"5.00"}]
[null,null,"陈禾婕",null,"2023年外教杯","中国石油大学（北京）","校级","三等奖","是","陈雨薇，陈禾婕，袁佳怡",{"v":1,"d":"1.00"}]
[null,null,"陈禾婕",null,"“青创北京”2024挑战杯首都大学生创业计划竞赛","市教委，团市委，市学联，市科协","省部级","三等奖","是","陈禾婕，郑少杰，廖沛沛，蔡宜含，麦卜文，李沁芸，杨晨曦，姜慧，郭文宣，郭园粟",{"v":2.66666666666667,"d":"2.67"}]
[null,null,"陈禾婕",null,"2024外研杯全国大学生英语写作大赛","中国石油大学（北京）","校级","三等奖","否",null,{"v":2,"d":"2.00"}]
[{"$nulls":9},"合计"]
[null,2022010399,"邱绮慧","能化22-1","第十五届北京市化学实验竞赛校赛","中国石油大学（北京）","校级","三等奖","否",null,{"v":2,"d":"2.00"}]
[null,null,"邱绮慧",null,"中国国际大学生创新大赛","北京市教育委员会","省部级","三等奖","是","周子正，凌晨，陈凯毅，李永峰，马广，李泽辰，孟钰明，谭雪，刘雨欣，陈锐，邱绮慧，乐嘉宇",{"v":3,"d":"3.00"}]
[{"$nulls":9},"合计"]
[null,2022010465,"陈飞月","化工-22-3班","2024年北京市大学生化工原理竞赛","北京市教育委员会","省部级","三等奖","否",null,{"v":4,"d":"4.00"}]
[null,2022010465,"陈飞月","化工-22-3班","2024年北京市大学生化工原理竞赛","北京市教育委员会","省部级","团体二等奖","是",null,{"v":3,"d":"3.00"}]
[{"$nulls":9},"合计"]
[null,2022010463,"孙千翔","化工-22-3班","2023“CAN油”中国石油大学（北京）创业大赛暨2024年“挑战杯”中国大学生创业计划竞赛校内选拔赛","共青团中国石油大学（北京）委员会  创新创业教育学院","校级","一等奖","是","章姝，杨欣悦,张仁婕,张伊萌,张思为,武妤珈,乔琳舒,王心悦,温绮婷,李健凯,唐舞,王奕欢,孙千翔,董皊希,阿丽亚",{"v":2.5,"d":"2.50"}]
[null,2022010463,"孙千翔","化工-22-3班","\"青创北京\"2024年\"挑战杯\"首都大学生创业计划竞赛主赛道","共青团北京市委员会联合北京市教育委员会、北京市人力资源和社会保障局、北京市科学技术协会、北京市青年联合会、北京市学生联合会","省级","银奖","是","章姝，杨欣悦,张仁婕,张伊萌,张思为,武妤珈,乔琳舒,王心悦,温绮婷,李健凯,唐舞,王奕欢,孙千翔,董皊希,阿丽亚",{"v":3,"d":"3.00"}]
[null,2022010463,"孙千翔","化工-22-3班","第十四届全国大学生电子商务\"创新、创意及创业\"挑战赛北京赛区省级选拔赛","教育部高等学校电子商务类专业教学指导委员会","省级","二等奖","是","章姝，杨欣悦,张仁婕,张伊萌,张思为,武妤珈,乔琳舒,王心悦,温绮婷,李健凯,唐舞,王奕欢,孙千翔,董皊希,阿丽亚",{"v":4,"d":"4.00"}]
[{"$nulls":9},"合计"]
[null,2022010407,"叶海宇","化工-22-3班","中国国际大学生创新大赛","教育部、中央统战部、中央网信办、国家发展改革委、工业和信息化部、人力资源社会保障部、农业农村部、 中国科学院、中国工程院、国家知识产权局、国家乡村振兴局、 共青团中央和上海市人民政府","省部级","三等奖","是","彭莎莎 许文轲 江锦欣 杨雨珊 任正元 彭圆圆 叶海宇 袁佳怡 乔译萱 张文柯 王宇昕",{"v":3,"d":"3.00"}]
[null,2022010407,"叶海宇","化工-22-3班","2024年第十五届北京市大学生化学实验竞赛","北京市教育委员会","校级","二等奖","否",null,{"v":4,"d":"4.00"}]
[null,2022010407,"叶海宇","化工-22-3班","第六届全国大学生语言文字能力大赛","中国语文报刊协会","国家级","非专业组金奖","否",null,{"v":12,"d":"12.00"}]
[null,2022010407,"叶海宇","化工-22-3班","“青创北京”2024年“挑战杯”首都大学生创业计划竞赛","共青团北京市委员会、北京市教育委员会、北京市人力资源和社会保障局、北京市科学技术协会、北京市青年联合会、北京市学生联合会","省部级","铜奖","是","张志彬  吴忆  孟婧涵  王晴宇  曹炜曼  张润霞  孙涵  叶海宇",{"v":2,"d":"2.00"}]
[null,2022010407,"叶海宇","化工-22-3班","2024年中国石油大学（北京）大学生化工原理竞赛（校赛）","北京市教育委员会","校级","三等奖","否",null,{"v":2,"d":"2.00"}]
[{"$nulls":9},"合计"]
[null,2022010468,"吴忆","化工-22-3班","第十五届中国石油大学（北京） 节能减排社会实践和科技竞赛（校级）","中国石油大学（北京）","校级","三等奖","是","吴忆 左丁伟 张志彬 孟婧涵 曹炜曼 周一凡 霍宇欣",{"v":1.33333333333333,"d":"1.33"}]
[null,2022010468,"吴忆","化工-22-3班","“创青春”中国青年碳中和创新创业大赛","“创青春”中国青年碳中和创新创业大赛全国组委会","国家级","华北赛区二等奖","是","郭飞扬 吴忆 张伊蕊 张志彬 齐嘉莹 钮缨雪 李佳蕊",{"v":2.5,"d":"2.50"},"省部级"]
[null,2022010468,"吴忆","化工-22-3班","“青创北京”2024年“挑战杯”首都大学生创业计划竞赛","共青团中央","省部级","三等奖","是","张志彬 吴忆 孟婧涵 王晴宇 叶海宇 张润霞 曹炜曼 孙涵",{"v":2,"d":"2.00"}]
[{"$nulls":9},"合计"]
[null,2022010477,"张帅","化工-22-3班","2023年大学生创新创业训练计划项目 —创新训练项目","中国石油大学（北京）","国家级","A","是","郭敬薇、张帅、冯麟喧、黄允恩、姚爽",null,"科创评级不加分"]
[null,2022010477,"张帅","化工-22-3班","2024年第十五届北京市大学生化学实验竞赛校内选拔赛","中国石油大学（北京）","校级","三等奖","否",null,{"v":2,"d":"2.00"}]
[null,2022010477,"张帅","化工-22-3班","2024年第十届全国大学生物理实验讲课竞赛校内选拔赛","中国石油大学（北京）","校级","一等奖","否",null,null,"不在库里"]
[null,2022010477,"张帅","化工-22-3班","“青创北京”2024年“挑战杯”首都大学生创业计划竞赛“青系四海”专项赛","共青团北京市委员会","省部级","铜奖","是","张帅、 周晓光、 张晨曦、 黄允恩、 冯麟喧、 王嘉雨、 吴芷璇、 李朵朵、 史优果、 杨超",{"v":2.66666666666667,"d":"2.67"}]
[null,2022010477,"张帅","化工-22-3班","2024年第十四届MathorCup数学应用挑战赛","中国优选法统筹法与经济数学研究会","国家级","三等奖","是","张帅、张京生、史优果"]
[null,2022010477,"张帅","化工-22-3班","首届青年绿色科技创新大赛","共青团中央社会联络部","国家级","金奖","是","吴芷璇、傅世坤、李芃钰、张支铭、张帅、张馨瑶、付锦依、池双佑"]
[null,2022010477,"张帅","化工-22-3班","第二届“创青春”中国青年碳中和创新创业大赛","全国组委会","国家级","华北赛区铜奖","是","吴芷璇、张支铭、张帅、孙涵、池双佑、陈妮、鲁硕、张瑶馨",{"v":2,"d":"2.00"},"省部级"]
[{"$nulls":9},"合计"]
[null,2022010506,"张席地","化工-22-3班","北京高校学生信息素养大赛","中国石油大学（北京）","校级","三等奖","否",null,{"v":2,"d":"2.00"}]
[null,2022010506,"张席地","化工-22-3班","“青创北京”2024年“挑战杯”首都大学生创业计划竞赛","共青团北京市委员会","省部级","铜奖","是","马燕、格思尔、文璐、卢永丽、张席地",{"v":2,"d":"2.00"}]
[{"$nulls":9},"合计"]
[null,2022010837,"陈伟玄","化工-22-3班","2023年全国大学生物理竞赛——校内选拔赛","中国石油大学（北京）理学院","校级","二等奖","否",null,{"v":4,"d":"4.00"}]
[null,2022010837,"陈伟玄","化工-22-3班","2024年第十五届北京市大学生化学实验竞赛校\n内选拔赛","中国石油大学（北京）理学院","校级","一等奖","否",null,{"v":5,"d":"5.00"}]
[{"$nulls":9},"合计"]
[null,2022010406,"彭莎莎","化工-22-3班","北京市化学实验竞赛","北京市教育委员会","校级","一等奖","否",null,{"v":8,"d":"8.00"}]
[null,2022010406,"彭莎莎","化工-22-3班","全国大学生物理实验讲课比赛","国家级实验教学示范中心联席会物理学科组、教育部大学物理课程教学指导委员会大学物理实验专项委员会、全国高等学校实验物理教学研究会、中国物理学会物理教学委员会、全国大学生物理实验竞赛组织委员会联合主办","校级","一等奖","否",null,{"v":5,"d":"5.00"}]
[null,2022010406,"彭莎莎","化工-22-3班","中国国际大学生创新大赛","教育部、中央统战部、中央网信办、国家发展改革委、工业和信息化部、人力资源社会保障部、农业农村部、中国科学院、中国工程院、国家知识产权局、国家乡村振兴局、共青团中央和上海市人民政府联合主办","省部级","三等奖","是","彭莎莎，许文轲,江锦欣,杨雨珊,任正元,彭圆圆，叶海宇，袁佳怡，乔译萱,张文柯,王宇昕",{"v":4,"d":"4.00"}]
[null,2022010406,"彭莎莎","化工-22-3班","中国国际大学生创新大赛","教育部、中央统战部、中央网信办、国家发展改革委、工业和信息化部、人力资源社会保障部、农业农村部、中国科学院、中国工程院、国家知识产权局、国家乡村振兴局、共青团中央和上海市人民政府联合主办","省部级","三等奖","是","乔译萱，张文柯,王宇昕,尹嘉鑫,任正元,石瀚坤,金美萱,杨雨萌,彭莎莎,许文轲,江锦欣,喻治坤",{"v":3,"d":"3.00"}]
[{"$nulls":9},"合计"]
[null,2022011451,"喻治坤","化工-22-3班","化学实验竞赛","中国石油大学北京理学院","C类","校一等奖","否",null,{"v":5,"d":"5.00"}]
[null,2022011451,"喻治坤","化工-22-3班","北京市大学生数学竞赛","北京数学会","B类","省三等奖","否",null,{"v":4,"d":"4.00"},null,"    "]
[null,2022011451,"喻治坤","化工-22-3班",null,"节能减排比赛","b类","校一等奖","是","喻治坤，王培硕，王浙，任正元，马梓宸，白兆",{"v":0,"d":"0.00"}]
[null,2022011451,"喻治坤","化工-22-3班",null,"节水节能减排","c类","省一等奖","是","喻治坤，王培硕，王浙，任正元，马梓宸，桑松涛",{"$f":"7*2/3","v":{"v":4.66666666666667,"d":"4.67"}}]
[{"$nulls":9},"合计"]
[null,2022010478,"李煌","化工-22-3班","北京市第三十四届大学生数学竞赛","北京数学会","省部级","三等奖","否",null,{"v":4,"d":"4.00"}]
[null,2022010478,"李煌","化工-22-3班","第十五届全国大学生数学竞赛","中国数学会","国家级","三等奖","否",null,{"v":6,"d":"6.00"}]
[null,2022010478,"李煌","化工-22-3班","全国大学生电子商务“创新，创意及创业”挑战赛","全国大学生电子商务“创新，创意及创业”挑战赛竞赛组织委员会","省部级","二等奖","是","吴芷璇、张支铭、李煌、池双佑、陈子骏",{"v":4,"d":"4.00"}]
[null,2022010478,"李煌","化工-22-3班","第十五届北京市化学实验竞赛校赛","中国石油大学（北京）","校级","二等奖","否",null,{"v":4,"d":"4.00"}]
[{"$nulls":9},"合计"]
[null,2022010490,"严臻睿","化工-22-3班","《废塑料催化剂研究进展》","塑料科技",{"$nulls":3},"严臻睿、谢林洲"]
[{"$nulls":9},"合计"]
[null,2022010489,"谢林洲","化工-22-3班","北京市大学生化学实验竞赛校内选拔赛","中国石油大学（北京）理学院","校级","校一等奖","否",null,{"v":5,"d":"5.00"}]
[null,2022010489,"谢林洲","化工-22-3班","《塑料科技》期刊发表",{"$nulls":3},"是","严臻睿、谢林洲","   "]
[{"$nulls":9},"合计"]
[null,2022010471,"张支铭","化工-22-3班","第二届“创青春”中国青年碳中和创新创业大赛","“创青春”中国青年碳中和创新创业大赛全国组委会","华北赛区","铜奖","是","吴芷璇、张支铭、张帅、孙涵、池双佑、陈妮、鲁硕、张馨瑶",{"v":2,"d":"2.00"}]
[null,2022010471,"张支铭","化工-22-3班","“青创北京”2024年“挑战杯”中国大学生创业计划竞赛主赛道","共青团北京市委员会联合北京市教育委员会、北京市人力资源和社会保障局、北京市科学技术协会、北京市青年联合会、北京市学生联合会","市级","金奖","是","吴芷璇 吴思玮 张纯懿 杨佳豪 张支铭 池双佑 陈子骏 徐卫星 康胜 张心怡 高文月 黄允恩 刘双 陈凯毅 张东元",{"v":4,"d":"4.00"}]
[null,2022010471,"张支铭","化工-22-3班","首届青年绿色科技创新大赛","全国青少年生态文明教育中心北京林业大学中国长城绿化促进会","国家级","金奖","是","吴芷璇、傅世坤、李芃钰、张支铭、张帅、张馨瑶、付锦依、池双佑"]
[null,2022010471,"张支铭","化工-22-3班","第十四届全国大学生电子商务“创新、创意及创业”挑战赛","全国大学生电子商务“创新、创意及创业”挑战赛竞赛组织委员会","市级","二等奖","是","吴芷璇、张支铭、李煌、池双佑、陈子骏",{"v":4,"d":"4.00"}]
[null,2022010471,"张支铭","化工-22-3班","中国国际大学生创新大赛（2024）北京赛区复赛决赛高教主赛道","中国国际大学生创新大赛组织委员会","市级","二等奖","是","吴芷璇,吴思玮,陈子骏,池双佑,张支铭,康胜,马晟哲,黎之旭,贾子琨,全震,丁彬,叶为民,黄允恩,周子正",{"v":4,"d":"4.00"}]
[null,2022010471,"张支铭","化工-22-3班","第十五届中国石油大学(北京)节能减排社会实践和科技竞赛","中国石油大学（北京）","校级","一等奖","是","吴芷璇,吴思玮,陈子骏,张支铭,池双佑,马晟哲,康胜",{"v":0,"d":"0.00"}]
[null,2022010471,"张支铭","化工-22-3班","第六届北京市大学生节能节水低碳减排社会实践与科技竞赛","北京市教育委员会","市级","三等奖","是","吴芷璇,吴思玮,张支铭,池双佑,陈子骏,马晟哲,李芃钰",{"v":2.5,"d":"2.50"},"市赛国赛加高的"]
[null,2022010471,"张支铭","化工-22-3班","第三届“京彩大创”北京大学生创新创业大赛","北京市教育委员会、北京市人力资源和社会保障局、北京市发展和改革委员会","市级","创业百强团队","是","吴芷璇、吴思玮、陈子骏、张支铭、池双佑、康胜、马晟哲、张诗曼、王一伊、钮缨雪",{"v":1.5,"d":"1.50"}]
[null,2022010471,"张支铭","化工-22-3班","2023 年北京高校大学生创新创业训练校际合作计划","北京高校创新创业人才培养指导中心，北京邮电大学","市级","一等奖","是","吴芷璇、傅世坤、李芃钰、张支铭、汪于晏",null,"不在库里"]
[{"$nulls":9},"合计"]
[null,2022010461,"吴芷璇","化工-22-3班","第二届“创青春”中国青年碳中和创新创业大赛","“创青春”中国青年碳中和创新创业大赛全国组委会","华北赛区","铜奖","是","吴芷璇、张支铭、张帅、孙涵、池双佑、陈妮、鲁硕、张馨瑶",{"v":2.66666666666667,"d":"2.67"}]
[null,2022010461,"吴芷璇","化工-22-3班","“青创北京”2024年“挑战杯”首都大学生创业计划竞赛主赛道","共青团北京市委员会联合北京市教育委员会、北京市人力资源和社会保障局、北京市科学技术协会、北京市青年联合会、北京市学生联合会","市级","金奖","是","吴芷璇 吴思玮 张纯懿 杨佳豪 张支铭 池双佑 陈子骏 徐卫星 康胜 张心怡 高文月 黄允恩 刘双 陈凯毅 张东元",{"v":5.33333333333333,"d":"5.33"}]
[null,2022010461,"吴芷璇","化工-22-3班","首届青年绿色科技创新大赛","全国青少年生态文明教育中心北京林业大学中国长城绿化促进会","国家级","金奖","是","吴芷璇、傅世坤、李芃钰、张支铭、张帅、张馨瑶、付锦依、池双佑",null,"不在库里"]
[null,2022010461,"吴芷璇","化工-22-3班","第十四届全国大学生电子商务“创新、创意及创业”挑战赛","全国大学生电子商务“创新、创意及创业”挑战赛竞赛组织委员会","市级","二等奖","是","吴芷璇、张支铭、李煌、池双佑、陈子骏",{"v":5.33333333333333,"d":"5.33"}]
[null,2022010461,"吴芷璇","化工-22-3班","中国国际大学生创新大赛（2024）北京赛区复赛决赛高教主赛道","中国国际大学生创新大赛组织委员会","市级","二等奖","是","吴芷璇,吴思玮,陈子骏,池双佑,张支铭,康胜,马晟哲,黎之旭,贾子琨,全震,丁彬,叶为民,黄允恩,周子正",5.33]
[null,2022010461,"吴芷璇","化工-22-3班","第十五届中国石油大学(北京)节能减排社会实践和科技竞赛","中国石油大学（北京）","校级","一等奖","是","吴芷璇,吴思玮,陈子骏,张支铭,池双佑,马晟哲,康胜",{"v":0,"d":"0.00"}]
[null,2022010461,"吴芷璇","化工-22-3班","第六届北京市大学生节能节水低碳减排社会实践与科技竞赛","北京市教育委员会","市级","三等奖","是","吴芷璇,吴思玮,张支铭,池双佑,陈子骏,马晟哲,李芃钰",3.33]
[null,2022010461,"吴芷璇","化工-22-3班","第三届“京彩大创”北京大学生创新创业大赛","北京市教育委员会、北京市人力资源和社会保障局、北京市发展和改革委员会","市级","创业百强团队","是","吴芷璇、吴思玮、陈子骏、张支铭、池双佑、康胜、马晟哲、张诗曼、王一伊、钮缨雪",{"v":2,"d":"2.00"}]
[null,2022010461,"吴芷璇","化工-22-3班","2023 年北京高校大学生创新创业训练校际合作计划","北京高校创新创业人才培养指导中心，北京邮电大学","市级","一等奖","是","吴芷璇、傅世坤、李芃钰、张支铭、汪于晏",null,"不在库里"]
[null,2022010461,"吴芷璇","化工-22-3班","“青创北京”2024年“挑战杯”首都大学生创业计划竞赛“青系四海”赛道","共青团北京市委员会联合北京市教育委员会、北京市人力资源和社会保障局、北京市科学技术协会、北京市青年联合会、北京市学生联合会","市级","三等奖","是","张帅、冯麟喧、黄允恩、周晓光、史优果、李朵朵、吴芷璇、杨超、王嘉雨、张晨曦",{"v":2,"d":"2.00"}]
[null,2022010461,"吴芷璇","化工-22-3班","第十八届“挑战杯”全国大学生课外学术科技作品竞赛“黑科技”","共青团中央、中国科协、教育部、中国社会科学院、全国学联、贵州省人民政府","国家级","三等奖","否",null,{"v":8,"d":"8.00"}]
[null,2022010461,"吴芷璇","化工-22-3班","第十五届北京市化学实验竞赛校赛","中国石油大学（北京）","校级","三等奖","否",null,{"v":2,"d":"2.00"}]
[null,2022010461,"吴芷璇","化工-22-3班","中国国际大学生创新大赛（2024）北京赛区复赛决赛高教主赛道","中国国际大学生创新大赛组织委员会","市级","二等奖","是","刘双、马广、张纯懿、黄允恩、高文月、杨明佩、马瑜含、陈浩鑫、黄睿、王祎婧、张泽欣、杨金琦、吴芷璇、周子正、王荣亮",{"v":4,"d":"4.00"}]
[null,2022010461,"吴芷璇","化工-22-3班","中国国际大学生创新大赛（2024）北京赛区复赛决赛高教主赛道","中国国际大学生创新大赛组织委员会","市级","一等奖","是","周子正、凌晨、党雨欣、谭雪、刘彦君、乐嘉宇、刘芮萌、张彩乐、罗禹涵、王瑞瑞、吴芷璇、黄允恩、徐润仪、高文月",{"v":5,"d":"5.00"}]
[{"$nulls":9},"合计"]
[null,2022010519,"李佳俊","化工22-1班","2024中国大学生chem e car竞赛","中国化工协会","国家级","一等奖","是","潘思迪 李佳俊  周怡辰 郭智硕 金立民 刘庆炽 康胜 王德民 陈佳佳 刘润昊 王佳琪 邵科元 张磊 ",{"v":6,"d":"6.00"}]
[null,2022010519,"李佳俊","化工22-1班","2024年中国石油大学（北京）第十五届北京市大学生化学实验竞赛校内选拔赛","中国石油大学（北京）化学爱好者协会","校级","三等奖","否",null,{"v":2,"d":"2.00"}]
[null,2022010519,"李佳俊","化工22-1班","2024中国石油大学（北京）大学生化工原理竞赛","中国石油大学(北京)","校级","三等奖","否",null,{"v":2,"d":"2.00"}]
[{"$nulls":9},"合计"]
[null,2022010390,"申溱","化工22-1班","第十五届北京市化学实验竞赛校赛","中国石油大学（北京）化学爱好者协会","校级","一等奖","否",null,{"v":5,"d":"5.00"}]
[null,2022010390,"申溱","化工22-1班","2024年全国大学生英语竞赛校赛","中国石油大学(北京)","校级","三等奖","否",null,{"v":2,"d":"2.00"}]
[null,2022010390,"申溱","化工22-1班","第五届“华数杯”全国大学生数学建模竞赛","天津市未来与预测科学研究会","国家级","三等奖","是","申溱 智玉轩 赵国平",null,"不在库里"]
[{"$nulls":9},"合计"]
[null,2022010374,"袁佳怡","化工22-1班","全国大学生英语竞赛","高等学校大学外语教学指导委员会","国家级","二等奖","否",null,{"v":8,"d":"8.00"}]
[null,2022010374,"袁佳怡","化工22-1班","中国国际大学生创新大赛（2024）","教育部、陕西省人民政府","省部级","三等奖","是","许文轲 江锦欣 杨雨珊 任正元 彭圆圆 叶海宇 袁佳怡 乔译萱 张文柯 王宇昕",{"v":3,"d":"3.00"}]
[null,2022010374,"袁佳怡","化工22-1班","“外教社杯”北京高校青年人才国际胜任力大赛","中国石油大学（北京）外国语学院","校级","三等奖","是","袁佳怡 陈雨薇 陈禾婕",{"v":1,"d":"1.00"}]
[{"$nulls":9},"合计"]
[null,2022010389,"牛浩镔","化工22-1班","2024年全国大学生英语竞赛","高等学校大学外语教学研究会；全国高等师范院校外语教学与研究协作组","校级","二等奖","否",null,{"v":4,"d":"4.00"}]
[null,2022010389,"牛浩镔","化工22-1班","第十五届北京市化学实验竞赛校赛","中国石油大学（北京）化学爱好者协会","校级","二等奖","否",null,{"v":4,"d":"4.00"}]
[{"$nulls":9},"合计"]
[null,2022010386,"李陶然","化工22-1班","第十五届北京市化学实验竞赛校赛","中国石油大学（北京）化学爱好者协会","校级","一等奖","否",null,{"v":5,"d":"5.00"}]
[null,2022010386,"李陶然","化工22-1班","2023年中国石油大学（北京）大学生物理竞赛","中国石油大学（北京）","校级","三等奖","否",null,{"v":2,"d":"2.00"}]
[{"$nulls":9},"合计"]
[null,2022010383,"刘子瑞","化工22-1班","第十五届北京市化学实验竞赛校赛","中国石油大学（北京）化学爱好者协会","校级","一等奖","否",null,{"v":5,"d":"5.00"}]
[null,2022010383,"刘子瑞","化工22-1班","2023年中国石油大学（北京）大学生物理竞赛","中国石油大学（北京）","校级","二等奖","否",null,{"v":4,"d":"4.00"}]
[{"$nulls":9},"合计"]
[null,2022010384,"吴立新","化工22-1班","2023年中国石油大学（北京）大学生物理竞赛","中国石油大学（北京）","校级","二等奖","否",null,{"v":4,"d":"4.00"}]
[null,2022010384,"吴立新","化工22-1班","2024中国石油大学（北京）大学生化工原理竞赛","中国石油大学(北京)","校级","三等奖","否",null,{"v":2,"d":"2.00"}]
[{"$nulls":9},"合计"]
[null,2022010364,"张姝瑶","化工22-1班","第十五届北京市化学实验竞赛校赛","中国石油大学（北京）化学爱好者协会","校级","二等奖","否",null,{"v":4,"d":"4.00"}]
[{"$nulls":9},"合计"]
[null,2022010371,"何丽鸿","化工22-1班","第二十六届外研社国才杯全国大学生英语辩论赛","北京外国语大学","校级","三等奖","否",null,{"v":2,"d":"2.00"}]
[{"$nulls":9},"合计"]
[null,2022010397,"李安然","化工22-1班","2024年全国大学生英语竞赛","高等学校大学外语教学研究会；全国高等师范院校外语教学与研究协作组","校级","二等奖","否",null,{"v":4,"d":"4.00"}]
[{"$nulls":9},"合计"]
[null,2022010100,"智玉轩","化工22-1班","第十五届北京市化学实验竞赛校赛","中国石油大学（北京）化学爱好者协会","校级","二等奖","否",null,{"v":4,"d":"4.00"}]
[null,2022010100,"智玉轩","化工22-1班","2024年全国大学生英语竞赛校赛","中国石油大学(北京)","国家级","三等奖","否",null,{"v":6,"d":"6.00"}]
[null,2022010100,"智玉轩","化工22-1班","第五届“华数杯”全国大学生数学建模竞赛","天津市未来与预测科学研究会","国家级","三等奖","是","申溱    智玉轩   赵国平",null,"不在库里"]
[{"$nulls":9},"合计"]
[null,2022010412,"代肖彤","化工22-1班","2023年中国石油大学（北京）大学生物理竞赛","中国石油大学（北京）","校级","二等奖","否",null,{"v":4,"d":"4.00"}]
[null,2022010412,"代肖彤","化工22-1班","第十五届北京市化学实验竞赛校赛","中国石油大学（北京）化学爱好者协会","校级","三等奖","否",null,{"v":2,"d":"2.00"}]
[{"$nulls":9},"合计"]
[null,2022010373,"王晴宇","化工22-1班","第二届“创青春”中国青年碳中和创新创业大赛","中国青年创业就业基金会、中国石油大学（北京）、中国石油天然气集团有限公司、中国石油化工集团有限公司、中国海洋石油集团有限公司","省部级","银奖","是","赵玉婷、张仁婕、王晴宇、刘靖娴、姜慧、徐美娟、李羽涵",{"v":3,"d":"3.00"}]
[null,2022010373,"王晴宇","化工22-1班","第六届北京市大学生节能节水低碳减排社会实践与科技竞赛","北京市教育委员会","省部级","二等奖","是","王一铭，王晴宇，蒋子明,吴万锦,桑松涛,曲家彤,吴晶宇",{"v":0,"d":"0.00"},"加国家级的"]
[null,2022010373,"王晴宇","化工22-1班","“青创北京”2024年“挑战杯”首都大学生创业计划竞赛","共青团北京市委员会、北京市教育委员会、北京市人力资源和社会保障局、北京市科学技术协会、北京市青年联合会、北京市学生联合会","省部级","银奖","是","刘高/姜慧/赵玉婷/王晴宇/王一铭/彭彦舒/刘靖娴/梁坛/徐美娟/李易达/蒋子明",{"v":3,"d":"3.00"}]
[null,2022010373,"王晴宇","化工22-1班","“青创北京”2024年“挑战杯”首都大学生创业计划竞赛","共青团北京市委员会、北京市教育委员会、北京市人力资源和社会保障局、北京市科学技术协会、北京市青年联合会、北京市学生联合会","省部级","铜奖","是","张志彬/吴忆/孟婧涵/王晴宇/曹炜曼/张润霞/孙涵",{"v":2,"d":"2.00"}]
[null,2022010373,"王晴宇","化工22-1班","中国国际大学生创新大赛(2024)","北京市教育委员会","省部级","二等奖","是","王晴宇，姜慧，徐卫星，王一铭，蒋子明，彭彦舒，杨欣悦，李彤辉，王宇诠，姜恒，吴万锦，刘高，杨程程，池虹希，贺雨欣",{"v":5.33333333333333,"d":"5.33"}]
[null,2022010373,"王晴宇","化工22-1班","中国国际大学生创新大赛(2024)","北京市教育委员会","省部级","三等奖","是","姜慧，张仁婕,王一铭,赵玉婷,王晴宇,刘靖娴,蒋子明,王宇诠,吴万锦,杨欣\n",{"v":3,"d":"3.00"}]
[null,2022010373,"王晴宇","化工22-1班","第十五届中国大学生服务外包创新创业大赛","中华人民共和国教育部、中华人民共和国商务部、无锡市人民政府","国家级","三等奖","是","姜慧，张仁婕，王晴宇，王一铭，蒋子明\n",{"v":3,"d":"3.00"}]
[null,2022010373,"王晴宇","化工22-1班","第十七届全国大学生节能减排社会实践与科技竞赛","教育部高等学校能源动力类专业教学指导委员会、全国大学生节能减排社会实践与科技竞赛委员会","国家级","三等奖","是","杨欣悦、彭彦舒、孙嘉璐、乔琳舒、蒋子明、王一铭、王晴宇",{"v":3.5,"d":"3.50"}]
[null,2022010373,"王晴宇","化工22-1班","第十五届北京市化学实验竞赛","中国石油大学（北京）化学爱好者协会","校级","一等奖","否",null,{"v":5,"d":"5.00"}]
[null,2022010373,"王晴宇","化工22-1班","第十四届全国大学生电子商务“创新、创意及创业”挑战赛","中国石油大学（北京）","校级","二等奖","是","姜慧 ，罗阳，王晴宇，王宇诠，吴万锦",{"v":2,"d":"2.00"}]
[null,2022010373,"王晴宇","化工22-1班","2024中国石油大学（北京）大学生化工原理竞赛","中国石油大学（北京）","校级","三等奖","否",null,{"v":2,"d":"2.00"}]
[{"$nulls":9},"合计"]
[null,2022010516,"郭智硕",null,"第十五届北京市化学实验竞赛","中国石油大学（北京）化学爱好者协会","校级","一等奖","否",null,{"v":4,"d":"4.00"}]
[null,2022010516,"郭智硕",null,"第八届中国大学生Chem-E-Car竞赛","中国化工学会","国家级","一等奖","是",null,{"v":6,"d":"6.00"}]
[{"$nulls":9},"合计"]
[null,2022010452,"康胜","化工22-2班","2024年第七届全国互联网+化学反应工程课模大赛","中国化工学会","国家级","二等奖","是","刘昶，康胜，陈凯炫",{"v":4,"d":"4.00"}]
[null,2022010452,"康胜","化工22-2班","第八届中国大学生Chem-E-Car竞赛","中国化工学会","国家级","一等奖","是",null,{"v":6,"d":"6.00"}]
[null,2022010452,"康胜","化工22-2班","第六届北京市大学生节能节水低碳社会实践竞赛","北京市教育委员会","省部级","二等奖","是","刘昶,陈凯炫,康胜,李新,肖涵芮, 冯家乐,杨欣悦",{"v":3.5,"d":"3.50"}]
[null,2022010452,"康胜","化工22-2班","第六届北京市大学生节能节水低碳社会实践竞赛","北京市教育委员会，中国石油大学（北京）","校级","一等奖","是","吴芷璇,吴思玮,陈子骏,张文铭,池政话,马最督,康胜",null,"去年加过只能加一项"]
[null,2022010452,"康胜","化工22-2班","第十四届北京市大学生化学实验竞赛(2023)","北京市教育委员会","省部级","二等奖","否",null,{"v":6,"d":"6.00"}]
[null,2022010452,"康胜","化工22-2班","第十五届北京市大学生化学实验竞赛(2024)","北京市教育委员会，中国石油大学（北京）","校级","一等奖","否",null,{"v":5,"d":"5.00"}]
[null,2022010452,"康胜","化工22-2班","中国国际大学生创新大赛（2024）北京赛区","北京市教育委员会","省部级","二等奖","是","吴芷璇,吴思玮,陈子骏,池双佑,张支铭,康胜,马晟哲,黎之旭,贾子琨,全震,丁彬,叶为民,黄允恩,周子正",{"v":4,"d":"4.00"}]
[null,2022010452,"康胜","化工22-2班","中国国际大学生创新大赛（2024）北京赛区","北京市教育委员会","省部级","三等奖","是","陈凯炫,徐森,冯家乐,伦英琦,刘昶,张科萌,龚卓洋,张书妍,张成基,康胜",{"v":3,"d":"3.00"}]
[null,2022010452,"康胜","化工22-2班","中国国际大学生创新大赛（2024）北京赛区","北京市教育委员会","省部级","三等奖","是","刘昶,张晨曦,徐森,杨金灿,肖涵芮,曲梓嫣,陈凯炫,刘爱,肖欣,康胜,冯家乐,全震",{"v":3,"d":"3.00"}]
[null,2022010452,"康胜","化工22-2班","2024年北京市大学生化工原理竞赛","北京市教育委员会，中国石油大学（北京）","校级","二等奖","否",null,{"v":4,"d":"4.00"}]
[null,2022010452,"康胜","化工22-2班","大学生物理竞赛","中国石油大学（北京）","校级","三等奖","否",null,{"v":2,"d":"2.00"}]
[null,2022010452,"康胜","化工22-2班","挑战抔首都大学生系列科技学术竞赛","北京市教育委员会","省部级","一等奖","是","吴芷璇 吴思玮 张纯懿 杨佳豪 张支铭 池双佑 陈子骏 徐卫星 康胜 张心怡 高文月 黄允恩 刘双 陈凯毅 张东元",{"v":4,"d":"4.00"}]
[null,2022010452,"康胜","化工22-2班","第三届“京彩大创”北京大学生创新创业大赛","北京市教育委员会、北京市人力资源和社会保障局、北京市发展和改革委员会","省部级","鼓励奖，创业百强团队","是","吴芷璇、吴思玮、陈子骏、张支铭、池双佑、康胜、马晟哲、张诗曼、王一伊、钮缨雪",{"v":1.5,"d":"1.50"}]
[{"$nulls":9},"合计"]
[null,2022010439,"张心怡","化工22-2班","挑战抔首都大学生系列科技学术竞赛","北京市教育委员会","省部级","一等奖","是","吴芷璇 吴思玮 张纯懿 杨佳豪 张支铭 池双佑 陈子骏 徐卫星 康胜 张心怡 高文月 黄允恩 刘双 陈凯毅 张东元",{"v":4,"d":"4.00"}]
[{"$nulls":9},"合计"]
[null,2022010449,"郑少杰","化工22-2班","华教杯全国大学生数学竞赛","华教杯全国大学生数学竞赛组委会、吉林省科技教育学会","国家","三等奖","否",null,{"v":6,"d":"6.00"}]
[null,2022010449,"郑少杰","化工22-2班","青创北京挑战杯首都大学生创业计划竞赛","市教委、团市委、市学联、市科协","省部级","三等奖","是","陈禾婕 郑少杰 廖沛沛 蔡宜含 姜慧 麦卜文 郭园粟 李沁云 杨晨曦 郭文宣",{"v":2,"d":"2.00"}]
[{"$nulls":9},"合计"]
[null,2022010512,"陈俊逸","化工22-2班","第十五届北京市大学生化学实验竞赛（2024）","北京市教育委员会，中国石油大学（北京）","校级","二等奖","否",null,{"v":4,"d":"4.00"}]
[{"$nulls":9},"合计"]
[null,2022010441,"白兆","化工22-2班","第五届中华经典诵写讲大赛","教育部 国家语委 北京市教委","省部级","三等奖","否",null,{"v":4,"d":"4.00"}]
[null,2022010441,"白兆","化工22-2班","第十五届中国石油大学(北京)节能减排社会实践和科技竞赛","中国石油大学（北京）","校级","一等奖","是","喻治坤,王培硕,王浙,任正元,马梓宸,白兆",{"v":2.5,"d":"2.50"}]
[{"$nulls":9},"合计"]
[null,2022010446,"金立民","化工22-2班","第十五届北京市大学生化学实验竞赛（2024）","北京市教育委员会、中国石油大学（北京）","校级","一等奖","否",null,{"v":5,"d":"5.00"}]
[null,2022010446,"金立民","化工22-2班","第八届中国大学生Chem-E-Car竞赛","中国化工学会","国家级","一等奖","是","潘思迪 李佳俊 周怡辰 刘庆炽 郭智硕 金立民 康胜 王德民 王佳琪 陈佳佳 刘润昊 张磊 邵科元",{"v":6,"d":"6.00"}]
[null,2022010446,"金立民","化工22-2班","2024 Annual Student Conference Chem-E-Car Competition® Finals","美国化学工程师协会","全球级","二等奖","是","彭云飞 潘思迪 金立民 郭智硕 刘庆炽 李佳俊 刘子涵 柴启航 王秋杨 周怡辰 史晓飞 王温琪 焦怡萱",{"v":0,"d":"0.00"}]
[{"$nulls":9},"合计"]
[null,2022010430,"马瑜含","化工22-2班","创青春中国青年碳中和创新创业大赛","中国青年创业就业基金会、中国石油大学（北京）、中国石油天然气有限公司、中国石油化工集团有限公司、中国海洋石油集团有限公司","国家级","二等奖","是","黄允恩 高文月 杨明佩 马瑜含 叶文欣 陈子骏 钱永智 霍振涛 徐嘉宁",{"v":4,"d":"4.00"}]
[null,2022010430,"马瑜含","化工22-2班","全国大学生节能减排社会实践与科技竞赛","教育部","校级","二等奖","是","高文月,黄允恩,张东元,廖顺,杨明佩,张晨曦,马瑜含",{"v":2,"d":"2.00"}]
[null,2022010430,"马瑜含","化工22-2班","“互联网+”大学生创新创业大赛","教育部","省部级","二等奖","是","刘双，马广,张纯懿,黄允恩,高文月,杨明佩,马瑜含,陈浩鑫,黄睿,王祎婧,张泽欣,杨金琦,吴芷璇,周子正,王荣亮",{"v":5,"d":"5.00"}]
[null,2022010430,"马瑜含","化工22-2班","青年绿色科技创新大赛","全国青少年生态文明教育中心 北京林业大学 中国长城绿化促进会","国家级","三等奖","是","黄允恩,高文月，杨明佩,张晨曦,马瑜含，陈子骏，廖顺，霍振涛",null,"不在库里"]
[null,2022010430,"马瑜含","化工22-2班","全国挑战杯（课外学术科技作品和创业计划）","教育部、团中央、全国学联、中国科协","校级","二等奖","是","黄允恩,高文月，杨明佩,张晨曦,马瑜含，陈子骏，廖顺，霍振涛，徐润仪，叶文欣，谭雪，王瑞瑞，刘雨欣，徐卫星，张纯懿",{"v":2,"d":"2.00"}]
[{"$nulls":9},"合计"]
[null,2022010584,"肖涵芮","化工22-2班","“创青春”中国青年碳中和创新创业大赛","中国青年创业就业基金会、中国石油大学（北京）、中国石油天然气有限公司、中国石油化工集团有限公司、中国海洋石油集团有限公司","省部级","三等奖","是","陈祥伟、黄文军、宋瀚轩、郑秋炼、罗俊杰、闫家慧、李娇、王超然、肖涵芮、丁怡",{"v":2,"d":"2.00"}]
[null,2022010584,"肖涵芮","化工22-2班","全国大学生电子商务“创新、创意及创业”挑战赛","教育部高等学校电子商务类专业教学指导委员会","校级","二等奖","是","肖涵芮、王俊雅、王露羲、林雯俊、张风琦",{"v":4,"d":"4.00"}]
[null,2022010584,"肖涵芮","化工22-2班","全国挑战杯（课外学术科技作品和创业计划）","教育部、团中央、全国学联、中国科协","校级","优秀奖","是","肖涵芮、刘昶、王俊雅、沈雪清、林雯俊、张风琦、王露羲、杨杭",null,"优秀奖不加分"]
[null,2022010584,"肖涵芮","化工22-2班","全国挑战杯（课外学术科技作品和创业计划）","教育部、团中央、全国学联、中国科协","校级","二等奖","是","罗楚龙、张清爽、姚为杰、宋暑寒、杨彦钰、白玉冰、张泽驿、杨杭、肖涵芮、郭加西、崔航博、段思雨、谢毅立、马泽辉",{"v":2,"d":"2.00"}]
[null,2022010584,"肖涵芮","化工22-2班","中国国际“互联网+”生态环境大赛","生态环境产教联盟、北控水务集团","国家级","优秀奖","是","陈祥伟、黄文军、闫家慧、肖涵芮、王立、罗俊杰、李娇、王超然、丁怡、张文龙、薛鹏程、李驰、宋瀚轩",null,"不在库里"]
[null,2022010584,"肖涵芮","化工22-2班","第六届北京市大学生节能节水低碳社会实践竞赛","北京市教育委员会","省部级","二等奖","是","刘昶,陈凯炫,康胜,李新,肖涵芮, 冯家乐,杨欣悦",{"v":3.5,"d":"3.50"}]
[null,2022010584,"肖涵芮","化工22-2班","全国大学生节能减排社会实践与科技竞赛","教育部高等教育司","校级","三等奖","是","刘昶,陈凯炫,李新,肖涵芮, 冯家乐,杨欣悦",{"v":0,"d":"0.00"},"加获奖高级别比赛"]
[null,2022010584,"肖涵芮","化工22-2班","“互联网+”大学生创新创业大赛","教育部、陕西省人民政府","省部级","一等奖","是","张晨曦、张田慧、严子雄、刘昶、陈阳毅、李子涵、程鑫祺、刘家钰、张依明、肖涵芮",{"v":5,"d":"5.00"}]
[null,2022010584,"肖涵芮","化工22-2班","“互联网+”大学生创新创业大赛","教育部、陕西省人民政府","省部级","三等奖","是","肖涵芮、王俊雅、张晨曦、林雯俊、刘昶、沈雪清、张风琦、杨杭、马子豪、王江帆、郭加西",{"v":4,"d":"4.00"}]
[null,2022010584,"肖涵芮","化工22-2班","“互联网+”大学生创新创业大赛","教育部、陕西省人民政府","省部级","三等奖","是","郭加西、唐真艺、许椿枫、张扬、王思雨、董博然、宋子硕、张雅军、陆炼、融禹彤、于秀洋、肖涵芮",{"v":3,"d":"3.00"}]
[null,2022010584,"肖涵芮","化工22-2班","“互联网+”大学生创新创业大赛","教育部、陕西省人民政府","省部级","三等奖","是","刘昶、张晨曦、徐森、杨金灿、肖涵芮、曲梓嫣、陈凯炫、刘爱、肖欣、康胜、冯家乐、全震",{"v":3,"d":"3.00"}]
[{"$nulls":9},"合计"]
[null,2022010408,"许文轲","化工22-2班","第十五届全国大学生数学竞赛","中国数学会","国家级","二等奖","否",null,{"v":8,"d":"8.00"}]
[null,2022010408,"许文轲","化工22-2班","第六届华教杯全国大学生数学竞赛","华教杯全国大学生数学竞赛组委会、吉林省科技教育学会、山东北斗教育研究院","国家级","三等奖","否",null,{"v":6,"d":"6.00"}]
[null,2022010408,"许文轲","化工22-2班","北京市第三十四届大学生数学竞赛","北京数学会","省部级","二等奖","否",null,{"v":6,"d":"6.00"}]
[null,2022010408,"许文轲","化工22-2班","第十五届北京市大学生化学实验竞赛（2024）","北京市教育委员会、中国石油大学（北京）","校级","一等奖","否",null,{"v":5,"d":"5.00"}]
[null,2022010408,"许文轲","化工22-2班","大学生物理竞赛","中国石油大学（北京）","校级","二等奖","否",null,{"v":4,"d":"4.00"}]
[null,2022010408,"许文轲","化工22-2班","中国国际大学生创新大赛（2024）北京赛区","北京市教育委员会","省部级","三等奖","是","乔译萱、张文柯、王宇昕、尹嘉鑫、任正元、石瀚坤、金美萱、杨雨萌、彭莎莎、许文轲、江锦欣、喻治坤",{"v":3,"d":"3.00"}]
[null,2022010408,"许文轲","化工22-2班","中国国际大学生创新大赛（2024）北京赛区","北京市教育委员会","省部级","三等奖","是","彭莎莎、许文轲、江锦欣、杨雨珊、任正元、彭圆圆、叶海宇、袁佳怡、乔译萱、张文柯、王宇昕",{"v":3,"d":"3.00"}]
[{"$nulls":9},"合计"]
[null,2022010429,"程实","化工22-2班","第十五届北京市大学生化学实验竞赛（2024）","北京市教育委员会、中国石油大学（北京）","校级","三等奖","否",null,{"v":2,"d":"2.00"}]
[{"$nulls":9},"合计"]
[null,2022010440,"黄颖聪","化工22-2班","第十五届北京市大学生化学实验竞赛(2024)","北京市教育委员会、中国石油大学（北京）","校级","三等奖","否",null,{"v":2,"d":"2.00"}]
[{"$nulls":9},"合计"]
[null,2022010499,"曹炜曼","化工22-2班","“青创北京” 2024年“挑战杯”首都大学生创业计划竞赛","团市委、市教委、市学联、市科协","省部级","三等奖","是","张志彬 吴忆 孟婧涵 王晴字 曹炜曼 张润霞 孙涵 叶海宇",{"v":2,"d":"2.00"}]
[null,2022010499,"曹炜曼","化工22-2班","第十五届中国石油大学(北京)节能减排社会实践和科技竞赛","中国石油大学（北京）","校级","三等奖","是","吴忆，左丁伟，张志彬，孟婧涵，曹炜曼，周一凡，霍字欣",{"v":1,"d":"1.00"}]
[null,2022010499,"曹炜曼","化工22-2班","中国国际大学生创新大赛（2024）北京赛区","北京市教育委员会","省部级","三等奖","是","李宇骞,王以静,强紫萌,张天予,戴铭萱,徐宁慧,付明林,聂贺,丁彬,曹炜曼,张玥,刘帅,李慧琳,黄子祺,丁嘉欣",{"v":3,"d":"3.00"}]
[{"$nulls":9},"合计"]
[null,2022010422,"江锦欣","化工22-2班","中国国际大学生创新大赛（2024）北京赛区","北京市教育委员会","省部级","三等奖","是","乔译萱、张文柯、王宇昕、尹嘉鑫、任正元、石瀚坤、金美萱、杨雨萌、彭莎莎、许文轲、江锦欣、喻治坤",{"v":3,"d":"3.00"}]
[null,2022010422,"江锦欣","化工22-2班","中国国际大学生创新大赛（2024）北京赛区","北京市教育委员会","省部级","三等奖","是","彭莎莎、许文轲、江锦欣、杨雨珊、任正元、彭圆圆、叶海宇、袁佳怡、乔译萱、张文柯、王宇昕",{"v":3,"d":"3.00"}]
[null,2022010422,"江锦欣","化工22-2班","第六届华教杯全国大学生数学竞赛","华教杯全国大学生数学竞赛组委会、吉林省科技教育学会、山东北斗教育研究院","国家级","三等奖","否",null,{"v":6,"d":"6.00"}]
[null,2022010422,"江锦欣","化工22-2班","2024年北京市大学生化工原理竞赛","北京市教育委员会，中国石油大学（北京）","校级","二等奖","否",null,{"v":4,"d":"4.00"}]
[null,2022010422,"江锦欣","化工22-2班","第十五届北京市大学生化学实验竞赛（2024）","北京市教育委员会、中国石油大学（北京）","校级","一等奖","否",null,{"v":5,"d":"5.00"}]
[{"$nulls":9},"合计"]
[null,2022010432,"刘雨佳","化工22-2班","2024年第十四届MathorCup数学应用挑战赛","中国优选法统筹法与经济数学研究会","省部级","成功参赛奖","是","耿伯瑜、刘雨佳",null,"成功参赛奖不加分"]
[{"$nulls":9},"合计"]
[null,2022010436,"孙涵","化工22-2班","“青创北京” 2024年“挑战杯”首都大学生创业计划竞赛","团市委、市教委、市学联、市科协","省部级","三等奖","是","张志彬 吴忆 孟婧涵 王晴字 曹炜曼 张润霞 孙涵 叶海宇",{"v":2,"d":"2.00"}]
[null,2022010436,"孙涵","化工22-2班","“创青春”中国青年碳中和创新创业大赛华北赛区","中国青年创业就业基金会、北京化工大学、中国石油天然气有限公司、中国石油化工集团有限公司、中国海洋石油集团有限公司","省部级","三等奖","是","吴芷璇 张支铭 张帅 孙涵 池双佑 陈妮 鲁硕 张馨瑶",{"v":2,"d":"2.00"}]
[{"$nulls":9},"合计"]
[null,2022010445,"赵国平","化工22-2班","第十五届北京市大学生化学实验竞赛(2024)","北京市教育委员会、中国石油大学（北京）","校级","三等奖","否",null,{"v":2,"d":"2.00"}]
[null,2022010445,"赵国平","化工22-2班","2024年第五届“华数杯”全国大学生数学建模竞赛","华数杯全国大学生数学建模竞赛组委会、天津市未来与预测科学研究会、中国未来研究会大数据与数学模型专业委员会（协办）","国家级","三等奖","是","申溱 智玉轩 赵国平",null,"不在库里"]
[{"$nulls":9},"合计"]
[null,2022010438,"张涵婷","化工22-2班","第十五届北京市大学生化学实验竞赛(2024)","北京市教育委员会，中国石油大学（北京）","校级","二等奖","否",null,{"v":4,"d":"4.00"}]
[{"$nulls":9},"合计"]
[null,2022010382,"张铸",null,"第十五届北京市化学实验竞赛校赛","中国石油大学（北京）化学爱好者协会","校级","三等奖","否",null,{"v":2,"d":"2.00"}]
[{"$nulls":9},"合计"]

{"sheet":"智育加分汇总","index":6,"n_rows":186,"n_cols":7,"rows_kept":186}
["学号","姓名","加分(辅导员填写)"]
[2022010491,"张志彬",{"v":5.33333333333333,"d":"5.33"},null,null,"姓名","求和项：加分(辅导员填写)"]
[2022010491,"张志彬",{"v":2.5,"d":"2.50"},null,null,"金立民",11]
[2022010491,"张志彬",{"v":1.33333333333333,"d":"1.33"},null,null,"江锦欣",21]
[2022010493,"付锦依",{"v":4.5,"d":"4.50"},null,null,"陈方旭",2]
[2022010493,"付锦依",{"v":5,"d":"5.00"},null,null,"陈飞月",7]
[2022010494,"付锦依",{"v":2,"d":"2.00"},null,null,"陈禾婕",10.6666666666667]
[2022010522,"熊俊程",{"v":2,"d":"2.00"},null,null,"白兆",6.5]
[null,"熊俊程",{"v":2,"d":"2.00"},null,null,"陈伟玄",9]
[2022010496,"张鑫",{"v":2,"d":"2.00"},null,null,"陈心",4]
[2022010486,"邵科元",{"v":6,"d":"6.00"},null,null,"黄颖聪",2]
[2022012012,"欧子俊",{"v":2,"d":"2.00"},null,null,"王晴宇",31.8333333333333]
[2022010492,"钮缨雪",{"v":2.5,"d":"2.50"},null,null,"邓姣",7]
[null,"钮缨雪",{"v":1.33333333333333,"d":"1.33"},null,null,"付锦依",11.5]
[2022010368,"张露",{"v":5,"d":"5.00"},null,null,"康胜",46]
[null,"张露",{"v":5,"d":"5.00"},null,null,"李安然",4]
[null,"张露",{"v":6,"d":"6.00"},null,null,"曹炜曼",6]
[null,"张露",{"v":6,"d":"6.00"},null,null,"季睿",2]
[2022010365,"杨秋瑶",{"v":4,"d":"4.00"},null,null,"贾文青",2]
[null,"杨秋瑶",{"v":6,"d":"6.00"},null,null,"孙涵",4]
[null,"杨秋瑶",{"v":5,"d":"5.00"},null,null,"蒋子强",15.5]
[2022010464,"邓姣",{"v":5,"d":"5.00"},null,null,"马瑜含",13]
[null,"邓姣",{"v":2,"d":"2.00"},null,null,"张心怡",4]
[null,"李芃钰",{"v":2.5,"d":"2.50"},null,null,"智玉轩",10]
[null,"李芃钰",{"v":2.5,"d":"2.50"},null,null,"谢林洲",5]
[2022010455,"王德民",{"v":5,"d":"5.00"},null,null,"申溱",7]
[null,"王德民",{"v":5,"d":"5.00"},null,null,"李芃钰",5]
[null,"王德民",{"v":2,"d":"2.00"},null,null,"刘子瑞",9]
[null,"王德民",{"v":6,"d":"6.00"},null,null,"吴立新",6]
[null,"王德民",{"v":4.5,"d":"4.50"},null,null,"肖涵芮",26.5]
[2022010513,"陈心",{"v":4,"d":"4.00"},null,null,"李陶然",7]
[2022010470,"张润霞",{"v":4,"d":"4.00"},null,null,"钮缨雪",3.83333333333333]
[null,"张润霞",{"v":6,"d":"6.00"},null,null,"欧子俊",2]
[null,"张润霞",{"v":3,"d":"3.00"},null,null,"彭莎莎",20]
[null,"张润霞",{"v":2,"d":"2.00"},null,null,"邱绮慧",5]
[null,"张润霞",{"v":3,"d":"3.00"},null,null,"邵科元",6]
[2022010387,"陈方旭",{"v":2,"d":"2.00"},null,null,"袁佳怡",12]
[2022010401,"贾文青",{"v":2,"d":"2.00"},null,null,"赵国平",2]
[2022010402,"季睿",{"v":2,"d":"2.00"},null,null,"孙千翔",9.5]
[2022010451,"蒋子强",{"v":4,"d":"4.00"},null,null,"王德民",22.5]
[null,"蒋子强",{"v":5,"d":"5.00"},null,null,"郭智硕",10]
[null,"蒋子强",{"v":2,"d":"2.00"},null,null,"张姝瑶",4]
[null,"蒋子强",{"v":4.5,"d":"4.50"},null,null,"吴忆",5.83333333333333]
[2022010433,"陈禾婕",{"v":5,"d":"5.00"},null,null,"李佳俊",10]
[null,"陈禾婕",{"v":1,"d":"1.00"},null,null,"许文轲",35]
[null,"陈禾婕",{"v":2.66666666666667,"d":"2.67"},null,null,"张支铭",18]
[null,"陈禾婕",{"v":2,"d":"2.00"},null,null,"熊俊程",4]
[2022010399,"邱绮慧",{"v":2,"d":"2.00"},null,null,"程实",2]
[null,"邱绮慧",{"v":3,"d":"3.00"},null,null,"杨秋瑶",15]
[2022010465,"陈飞月",{"v":4,"d":"4.00"},null,null,"叶海宇",23]
[2022010465,"陈飞月",{"v":3,"d":"3.00"},null,null,"李煌",18]
[2022010463,"孙千翔",{"v":2.5,"d":"2.50"},null,null,"牛浩镔",8]
[2022010463,"孙千翔",{"v":3,"d":"3.00"},null,null,"张铸",2]
[2022010463,"孙千翔",{"v":4,"d":"4.00"},null,null,"张露",22]
[2022010407,"叶海宇",{"v":3,"d":"3.00"},null,null,"张润霞",18]
[2022010407,"叶海宇",{"v":4,"d":"4.00"},null,null,"何丽鸿",2]
[2022010407,"叶海宇",{"v":12,"d":"12.00"},null,null,"张帅",6.66666666666667]
[2022010407,"叶海宇",{"v":2,"d":"2.00"},null,null,"张席地",4]
[2022010407,"叶海宇",{"v":2,"d":"2.00"},null,null,"张鑫",2]
[2022010468,"吴忆",{"v":1.33333333333333,"d":"1.33"},null,null,"郑少杰",8]
[2022010468,"吴忆",{"v":2.5,"d":"2.50"},null,null,"张志彬",9.16666666666666]
[2022010468,"吴忆",{"v":2,"d":"2.00"},null,null,"吴芷璇",44.9933333333333]
[2022010477,"张帅",{"v":2,"d":"2.00"},null,null,"张涵婷",4]
[2022010477,"张帅",{"v":2.66666666666667,"d":"2.67"},null,null,"陈俊逸",4]
[2022010477,"张帅",{"v":2,"d":"2.00"},null,null,"代肖彤",6]
[2022010506,"张席地",{"v":2,"d":"2.00"},null,null,"喻治坤",13.67]
[2022010506,"张席地",{"v":2,"d":"2.00"},null,null,"总计",677.663333333333]
[2022010837,"陈伟玄",{"v":4,"d":"4.00"}]
[2022010837,"陈伟玄",{"v":5,"d":"5.00"}]
[2022010406,"彭莎莎",{"v":8,"d":"8.00"}]
[2022010406,"彭莎莎",{"v":4,"d":"4.00"}]
[2022010406,"彭莎莎",{"v":3,"d":"3.00"}]
[2022010406,"彭莎莎",{"v":5,"d":"5.00"}]
[2022011451,"喻治坤",{"v":5,"d":"5.00"}]
[2022011451,"喻治坤",8.67]
[2022010478,"李煌",{"v":4,"d":"4.00"}]
[2022010478,"李煌",{"v":6,"d":"6.00"}]
[2022010478,"李煌",{"v":4,"d":"4.00"}]
[2022010478,"李煌",{"v":4,"d":"4.00"}]
[2022010489,"谢林洲",{"v":5,"d":"5.00"}]
[2022010471,"张支铭",{"v":2,"d":"2.00"}]
[2022010471,"张支铭",{"v":4,"d":"4.00"}]
[2022010471,"张支铭",{"v":4,"d":"4.00"}]
[2022010471,"张支铭",{"v":4,"d":"4.00"}]
[2022010471,"张支铭",{"v":2.5,"d":"2.50"}]
[2022010471,"张支铭",{"v":1.5,"d":"1.50"}]
[2022010461,"吴芷璇",{"v":2.66666666666667,"d":"2.67"}]
[2022010461,"吴芷璇",{"v":5.33333333333333,"d":"5.33"}]
[2022010461,"吴芷璇",{"v":5.33333333333333,"d":"5.33"}]
[2022010461,"吴芷璇",5.33]
[2022010461,"吴芷璇",3.33]
[2022010461,"吴芷璇",{"v":2,"d":"2.00"}]
[2022010461,"吴芷璇",{"v":2,"d":"2.00"}]
[2022010461,"吴芷璇",{"v":8,"d":"8.00"}]
[2022010461,"吴芷璇",{"v":2,"d":"2.00"}]
[2022010461,"吴芷璇",{"v":4,"d":"4.00"}]
[2022010461,"吴芷璇",{"v":5,"d":"5.00"}]
[2022010519,"李佳俊",{"v":6,"d":"6.00"}]
[2022010519,"李佳俊",{"v":2,"d":"2.00"}]
[2022010519,"李佳俊",{"v":2,"d":"2.00"}]
[2022010390,"申溱",{"v":5,"d":"5.00"}]
[2022010390,"申溱",{"v":2,"d":"2.00"}]
[2022010374,"袁佳怡",{"v":8,"d":"8.00"}]
[2022010374,"袁佳怡",{"v":3,"d":"3.00"}]
[2022010374,"袁佳怡",{"v":1,"d":"1.00"}]
[2022010389,"牛浩镔",{"v":4,"d":"4.00"}]
[2022010389,"牛浩镔",{"v":4,"d":"4.00"}]
[2022010386,"李陶然",{"v":5,"d":"5.00"}]
[2022010386,"李陶然",{"v":2,"d":"2.00"}]
[2022010383,"刘子瑞",{"v":5,"d":"5.00"}]
[2022010383,"刘子瑞",{"v":4,"d":"4.00"}]
[2022010384,"吴立新",{"v":4,"d":"4.00"}]
[2022010384,"吴立新",{"v":2,"d":"2.00"}]
[2022010364,"张姝瑶",{"v":4,"d":"4.00"}]
[2022010371,"何丽鸿",{"v":2,"d":"2.00"}]
[2022010397,"李安然",{"v":4,"d":"4.00"}]
[2022010100,"智玉轩",{"v":4,"d":"4.00"}]
[2022010100,"智玉轩",{"v":6,"d":"6.00"}]
[2022010412,"代肖彤",{"v":4,"d":"4.00"}]
[2022010412,"代肖彤",{"v":2,"d":"2.00"}]
[2022010373,"王晴宇",{"v":3,"d":"3.00"}]
[2022010373,"王晴宇",{"v":3,"d":"3.00"}]
[2022010373,"王晴宇",{"v":2,"d":"2.00"}]
[2022010373,"王晴宇",{"v":5.33333333333333,"d":"5.33"}]
[2022010373,"王晴宇",{"v":3,"d":"3.00"}]
[2022010373,"王晴宇",{"v":3,"d":"3.00"}]
[2022010373,"王晴宇",{"v":3.5,"d":"3.50"}]
[2022010373,"王晴宇",{"v":5,"d":"5.00"}]
[2022010373,"王晴宇",{"v":2,"d":"2.00"}]
[2022010373,"王晴宇",{"v":2,"d":"2.00"}]
[2022010516,"郭智硕",{"v":4,"d":"4.00"}]
[2022010516,"郭智硕",{"v":6,"d":"6.00"}]
[2022010452,"康胜",{"v":4,"d":"4.00"}]
[2022010452,"康胜",{"v":6,"d":"6.00"}]
[2022010452,"康胜",{"v":3.5,"d":"3.50"}]
[2022010452,"康胜",{"v":6,"d":"6.00"}]
[2022010452,"康胜",{"v":5,"d":"5.00"}]
[2022010452,"康胜",{"v":4,"d":"4.00"}]
[2022010452,"康胜",{"v":3,"d":"3.00"}]
[2022010452,"康胜",{"v":3,"d":"3.00"}]
[2022010452,"康胜",{"v":4,"d":"4.00"}]
[2022010452,"康胜",{"v":2,"d":"2.00"}]
[2022010452,"康胜",{"v":4,"d":"4.00"}]
[2022010452,"康胜",{"v":1.5,"d":"1.50"}]
[2022010439,"张心怡",{"v":4,"d":"4.00"}]
[2022010449,"郑少杰",{"v":6,"d":"6.00"}]
[2022010449,"郑少杰",{"v":2,"d":"2.00"}]
[2022010512,"陈俊逸",{"v":4,"d":"4.00"}]
[2022010441,"白兆",{"v":4,"d":"4.00"}]
[2022010441,"白兆",{"v":2.5,"d":"2.50"}]
[2022010446,"金立民",{"v":5,"d":"5.00"}]
[2022010446,"金立民",{"v":6,"d":"6.00"}]
[2022010430,"马瑜含",{"v":4,"d":"4.00"}]
[2022010430,"马瑜含",{"v":2,"d":"2.00"}]
[2022010430,"马瑜含",{"v":5,"d":"5.00"}]
[2022010430,"马瑜含",{"v":2,"d":"2.00"}]
[2022010584,"肖涵芮",{"v":2,"d":"2.00"}]
[2022010584,"肖涵芮",{"v":4,"d":"4.00"}]
[2022010584,"肖涵芮",{"v":2,"d":"2.00"}]
[2022010584,"肖涵芮",{"v":3.5,"d":"3.50"}]
[2022010584,"肖涵芮",{"v":5,"d":"5.00"}]
[2022010584,"肖涵芮",{"v":4,"d":"4.00"}]
[2022010584,"肖涵芮",{"v":3,"d":"3.00"}]
[2022010584,"肖涵芮",{"v":3,"d":"3.00"}]
[2022010408,"许文轲",{"v":8,"d":"8.00"}]
[2022010408,"许文轲",{"v":6,"d":"6.00"}]
[2022010408,"许文轲",{"v":6,"d":"6.00"}]
[2022010408,"许文轲",{"v":5,"d":"5.00"}]
[2022010408,"许文轲",{"v":4,"d":"4.00"}]
[2022010408,"许文轲",{"v":3,"d":"3.00"}]
[2022010408,"许文轲",{"v":3,"d":"3.00"}]
[2022010429,"程实",{"v":2,"d":"2.00"}]
[2022010440,"黄颖聪",{"v":2,"d":"2.00"}]
[2022010499,"曹炜曼",{"v":2,"d":"2.00"}]
[2022010499,"曹炜曼",{"v":1,"d":"1.00"}]
[2022010499,"曹炜曼",{"v":3,"d":"3.00"}]
[2022010422,"江锦欣",{"v":3,"d":"3.00"}]
[2022010422,"江锦欣",{"v":3,"d":"3.00"}]
[2022010422,"江锦欣",{"v":6,"d":"6.00"}]
[2022010422,"江锦欣",{"v":4,"d":"4.00"}]
[2022010422,"江锦欣",{"v":5,"d":"5.00"}]
[2022010436,"孙涵",{"v":2,"d":"2.00"}]
[2022010436,"孙涵",{"v":2,"d":"2.00"}]
[2022010445,"赵国平",{"v":2,"d":"2.00"}]
[2022010438,"张涵婷",{"v":4,"d":"4.00"}]
[2022010382,"张铸",{"v":2,"d":"2.00"}]

{"sheet":"文体加分 (2)","index":7,"n_rows":167,"n_cols":15,"rows_kept":167,"merged":[[0,0,0,14],[1,0,2,0],[1,1,2,1],[1,2,2,2],[1,3,2,3],[1,4,1,7],[1,8,2,8],[1,9,1,12],[1,13,2,13],[1,14,2,14]]}
["文体加分汇总"]
["序号","班级","学号","姓名","文艺活动加分",{"$nulls":3},"合计","体育活动加分",{"$nulls":3},"合计","总计"]
[{"$nulls":4},"项目","加分","项目","加分",null,"项目","加分","项目","加分"]
[1,"化工22-1班",2022010364,"张姝瑶",{"$nulls":4},{"$f":"F4+H4","v":0},{"$nulls":4},{"$f":"K4+M4","v":0},{"$f":"I4+N4","v":0}]
[2,"化工22-1班",2022010367,"周芹",{"$nulls":4},0,{"$nulls":4},0,0]
[3,"化工22-1班",2022010369,"李越",{"$nulls":4},0,{"$nulls":4},0,0]
[4,"化工22-1班",2022010370,"马海霞",{"$nulls":4},0,{"$nulls":4},0,0]
[5,"化工22-1班",2022010371,"何丽鸿",{"$nulls":4},0,"第一届石油杯毽绳比赛女子4*30秒双摇跳（接力第二名）",8,null,null,8,8]
[6,"化工22-1班",2022010372,"史佳悦","2023年学生资助诚信教育主题活动校级三等奖",4,null,null,4,{"$nulls":4},0,4]
[7,"化工22-1班",2022010373,"王晴宇",{"$nulls":4},0,{"$nulls":4},0,0]
[8,"化工22-1班",2022010374,"袁佳怡",{"$nulls":4},0,{"$nulls":4},0,0]
[9,"化工22-1班",2022012311,"布威麦尔耶姆·麦麦提图尔荪",{"$nulls":4},0,{"$nulls":4},0,0]
[10,"化工22-1班",2022010397,"李安然",{"$nulls":4},0,{"$nulls":4},0,0]
[11,"化工22-1班",2022010100,"智玉轩",{"$nulls":4},0,{"$nulls":4},0,0]
[12,"化工22-1班",2022010377,"刘超",{"$nulls":4},0,{"$nulls":4},0,0]
[13,"化工22-1班",2022010379,"孙科",{"$nulls":4},0,{"$nulls":4},0,0]
[14,"化工22-1班",2022010382,"张铸",{"$nulls":4},0,{"$nulls":4},0,0]
[15,"化工22-1班",2022010383,"刘子瑞",{"$nulls":4},0,{"$nulls":4},0,0]
[16,"化工22-1班",2022010384,"吴立新","第一届全国石油和化工科普作品征集省部级鼓励奖",2,null,null,2,{"$nulls":4},0,2]
[17,"化工22-1班",2022010385,"龚泽恩",{"$nulls":4},0,{"$nulls":4},0,0]
[18,"化工22-1班",2022010386,"李陶然",{"$nulls":4},0,{"$nulls":4},0,0]
[19,"化工22-1班",2022010389,"牛浩镔",{"$nulls":4},0,{"$nulls":4},0,0]
[20,"化工22-1班",2022010390,"申溱",{"$nulls":4},0,{"$nulls":4},0,0]
[21,"化工22-1班",2022010392,"吴照飞",{"$nulls":4},0,{"$nulls":4},0,0]
[22,"化工22-1班",2022010394,"张之翼","第13届外语风采大赛书画类三等奖",4,null,null,4,"2023石油杯毽绳比赛男子60秒单脚踢毽第三名",6,null,null,6,10]
[23,"化工22-1班",2022012312,"徐峥",{"$nulls":4},0,{"$nulls":4},0,0]
[24,"化工22-1班",2022010409,"周家艺",{"$nulls":4},0,{"$nulls":4},0,0]
[25,"化工22-1班",2022010411,"姚锦栋",{"$nulls":4},0,{"$nulls":4},0,0]
[26,"化工22-1班",2022010412,"代肖彤",{"$nulls":4},0,{"$nulls":4},0,0]
[27,"化工22-1班",2022010413,"陈恒宇",{"$nulls":4},0,{"$nulls":4},0,0]
[28,"化工22-1班",2022010414,"潘恒懿",{"$nulls":4},0,{"$nulls":4},0,0]
[29,"化工22-1班",2022010418,"王明堃",{"$nulls":4},0,{"$nulls":4},0,0]
[30,"化工22-1班",2022010419,"史国柱",{"$nulls":4},0,{"$nulls":4},0,0]
[31,"化工22-1班",2022010516,"郭智硕",{"$nulls":4},0,{"$nulls":4},0,0]
[32,"化工22-1班",2022010518,"贾思远",{"$nulls":4},0,"2023中国石油大学（北京）学生游泳比赛4×50m蛙泳腿接力男子组第一名",8,"2023中国石油大学（北京）学生游泳比赛4×50m蛙泳接力男子组第六名",4,12,12]
[33,"化工22-1班",2022010519,"李佳俊",{"$nulls":4},{"$f":"F36+H36","v":0},"首高田径精英赛男子学生组跳远第二名",20,"中国石油大学（北京）2024春季运动会男子4100m接力第一名",8,{"$f":"K36+M36","v":28},{"$f":"I36+N36","v":28}]
[34,"化工22-1班",2022010622,"顾凌云",{"$nulls":4},0,{"$nulls":4},0,0]
[35,"化工22-2班",2022010429,"程实",{"$nulls":4},0,{"$nulls":4},0,0]
[36,"化工22-2班",2022010430,"马瑜含",{"$nulls":4},0,"校运动会毛毛虫集体项目第五名",4,"首都高校大学生第五届滑冰比赛",5,9,9]
[37,"化工22-2班",2022010431,"贺婕",{"$nulls":4},0,{"$nulls":4},0,0]
[38,"化工22-2班",2022010432,"刘雨佳",{"$nulls":4},0,{"$nulls":4},0,0]
[39,"化工22-2班",2022010435,"秦婧瑶",{"$nulls":4},0,{"$nulls":4},0,0]
[40,"化工22-2班",2022010436,"孙涵",{"$nulls":4},0,{"$nulls":4},0,0]
[41,"化工22-2班",2022010437,"王晓弘",{"$nulls":4},0,{"$nulls":4},0,0]
[42,"化工22-2班",2022010438,"张涵婷",{"$nulls":4},0,"校运动会毛毛虫集体项目第5名",4,null,null,4,4]
[43,"化工22-2班",2022010439,"张心怡",{"$nulls":4},0,{"$nulls":4},0,0]
[44,"化工22-2班",2022010494,"唐樱菲",{"$nulls":4},0,{"$nulls":4},0,0]
[45,"化工22-2班",2022010499,"曹炜曼",{"$nulls":4},0,{"$nulls":4},0,0]
[46,"化工22-2班",2022010585,"崔跃兰",{"$nulls":4},0,{"$nulls":4},0,0]
[47,"化工22-2班",2022010584,"肖涵芮",{"$nulls":4},0,"首都高校第十五届体育舞蹈比赛六人维也纳华尔兹第一名",20,"首都高校第十五届体育舞蹈比赛混合交谊舞队列舞第二名",20,40,40]
[48,"化工22-2班",2022010408,"许文轲",{"$nulls":4},0,"中国石油大学（北京）“石油杯”乒乓球男子双打第五名",4,null,null,4,4]
[49,"化工22-2班",2022010422,"江锦欣",{"$nulls":4},0,{"$nulls":4},0,0]
[50,"化工22-2班",2022010426,"赵群",{"$nulls":4},0,{"$nulls":4},0,0]
[51,"化工22-2班",2022010427,"周慧林",{"$nulls":4},0,{"$nulls":4},0,0]
[52,"化工22-2班",2022010440,"黄颖聪",{"$nulls":4},0,{"$nulls":4},0,0]
[53,"化工22-2班",2022010441,"白兆",{"$nulls":4},0,"首都高等学校第十届徒步运动大会北京市二等奖",15,"校运动会毛毛虫集体项目第五",4,19,19]
[54,"化工22-2班",2022010442,"尹泽",{"$nulls":4},0,{"$nulls":4},0,0]
[55,"化工22-2班",2022010443,"杨志文",{"$nulls":4},0,{"$nulls":4},0,0]
[56,"化工22-2班",2022010445,"赵国平",{"$nulls":4},0,{"$nulls":4},0,0]
[57,"化工22-2班",2022010446,"金立民",{"$nulls":4},0,{"$nulls":4},0,0]
[58,"化工22-2班",2022010448,"王增智",{"$nulls":4},0,"校级蛙泳50m男子组第二名",8,"校级蛙泳腿50m男子组第二名",8,16,16]
[59,"化工22-2班",2022010449,"郑少杰",{"$nulls":4},0,{"$nulls":3},"   ",0,0]
[60,"化工22-2班",2022010452,"康胜",{"$nulls":4},0,{"$nulls":4},{"$f":"K63+M63","v":0},0]
[61,"化工22-2班",2022010453,"李成歆",{"$nulls":4},0,{"$nulls":4},0,0]
[62,"化工22-2班",2022010454,"孙琪桐",{"$nulls":4},0,"校运动会袋鼠跳第四",6,"校运动会毛毛虫集体项目第五",4,10,10]
[63,"化工22-2班",2022010456,"吴金琪",{"$nulls":4},0,{"$nulls":4},0,0]
[64,"化工22-2班",2022010458,"赵帅",{"$nulls":4},0,"2023年中国石油大学（北京）纪念一二九运动全校拔河比赛第五名",4,null,null,4,4]
[65,"化工22-2班",2022010459,"朱行健",{"$nulls":4},{"$f":"F68+H68","v":0},"校运动会4*100第一名",8,"校运动会400m第四",6,14,{"$f":"I68+N68","v":14}]
[66,"化工22-2班",2022012316,"陈语",{"$nulls":4},0,"校运动会跳大绳第一名",8,null,null,8,8]
[67,"化工22-2班",2022010511,"罗小刚",{"$nulls":4},0,"校运动会毛毛虫第五",4,null,null,4,4]
[68,"化工22-2班",2022010512,"陈俊逸",{"$nulls":4},0,"校运动会毛毛虫集体项目第五",4,null,null,4,4]
[69,"化工22-3班",2022010406,"彭莎莎",{"$nulls":4},0,"第一届石油杯毽绳比赛女子4x30秒双摇跳（接力）团体第二名",8,null,null,8,8]
[70,"化工22-3班",2022010407,"叶海宇",{"$nulls":4},0,"首都高等学校第八届健身气功比赛 马王堆导引术甲组第四名",15,null,null,15,15]
[71,"化工22-3班",2022010460,"努尔斯巴·买提库尔班",{"$nulls":4},0,{"$nulls":4},0,0]
[72,"化工22-3班",2022010461,"吴芷璇",{"$nulls":4},0,"2024年中国石油大学（北京）春季学生运动会女子400米第2名",8,"2024年中国石油大学（北京）春季学生运动会4x400接力女子第2名",8,16,16]
[73,"化工22-3班",2022010463,"孙千翔",{"$nulls":4},0,{"$nulls":4},0,0]
[74,"化工22-3班",2022010465,"陈飞月","第二届“学史爱校 悟思传薪” 党史校情应知应会知识竞赛（初赛）校级三等奖",4,null,null,4,"春季学生运动会双人单摇跳绳比赛女子组第六名",4,null,null,4,8]
[75,"化工22-3班",2022010467,"石彩君","第18届企业奖学金颁奖典礼演员",0,null,null,0,{"$nulls":4},0,0]
[76,"化工22-3班",2022010468,"吴忆",{"$nulls":4},0,{"$nulls":4},0,0]
[77,"化工22-3班",2022010469,"许馨月",{"$nulls":4},0,{"$nulls":4},0,0]
[78,"化工22-3班",2022010471,"张支铭",{"$nulls":4},0,{"$nulls":4},0,0]
[79,"化工22-3班",2022010500,"马倩",{"$nulls":4},0,{"$nulls":4},0,0]
[80,"化工22-3班",2022010501,"屈芷晴",{"$nulls":4},0,"石油杯羽毛球第四",6,"石油杯毽绳第二",8,14,14]
[81,"化工22-3班",2022010421,"季磊",{"$nulls":4},0,{"$nulls":4},0,0]
[82,"化工22-3班",2022010423,"汪礼俊",{"$nulls":4},0,{"$nulls":4},0,0]
[83,"化工22-3班",2022010424,"席振昌",{"$nulls":4},0,{"$nulls":4},0,0]
[84,"化工22-3班",2022010425,"闫杨奇昊",{"$nulls":4},0,{"$nulls":4},0,0]
[85,"化工22-3班",2022010473,"刘源兴",{"$nulls":4},0,{"$nulls":4},0,0]
[86,"化工22-3班",2022010476,"何岩松",{"$nulls":4},0,{"$nulls":4},0,0]
[87,"化工22-3班",2022010477,"张帅",{"$nulls":4},0,{"$nulls":4},0,0]
[88,"化工22-3班",2022010478,"李煌",{"$nulls":4},0,{"$nulls":4},0,0]
[89,"化工22-3班",2022010479,"杨广军",{"$nulls":4},0,{"$nulls":4},0,0]
[90,"化工22-3班",2022010480,"杨明涛",{"$nulls":4},0,{"$nulls":4},0,0]
[91,"化工22-3班",2022010482,"傅世坤",{"$nulls":4},0,{"$nulls":4},0,0]
[92,"化工22-3班",2022010483,"李浩永",{"$nulls":4},0,{"$nulls":4},{"$f":"K95+M95","v":0},0]
[93,"化工22-3班",2022010487,"涂景豪",{"$nulls":4},0,{"$nulls":4},0,0]
[94,"化工22-3班",2022010489,"谢林洲",{"$nulls":4},0,"新生杯排球赛第五名",4,"石油杯排球赛第七名",2,6,6]
[95,"化工22-3班",2022010490,"严臻睿",{"$nulls":4},0,{"$nulls":4},0,0]
[96,"化工22-3班",2022010504,"李宇翔",{"$nulls":4},0,{"$nulls":4},0,0]
[97,"化工22-3班",2022010506,"张席地",{"$nulls":4},{"$f":"F100+H100","v":0},"石油杯排球赛第七名",2,"北京市高运会触式橄榄球第七名",5,7,{"$f":"I100+N100","v":7}]
[98,"化工22-3班",2022010507,"马凯园",{"$nulls":4},0,{"$nulls":4},0,0]
[99,"化工22-3班",2022011451,"喻治坤",{"$nulls":4},0,{"$nulls":4},0,0]
[100,"化工22-3班",2022010837,"陈伟玄",{"$nulls":4},0,{"$nulls":4},0,0]
[101,"化工22-3班",2022010547,"黄一翀",{"$nulls":4},0,{"$nulls":4},0,0]
[102,"能化22-1班",2022010398,"杨慧",{"$nulls":4},0,{"$nulls":4},0,0]
[103,"能化22-1班",2022010399,"邱绮慧",{"$nulls":4},0,{"$nulls":4},0,0]
[104,"能化22-1班",2022010400,"王一伊",{"$nulls":4},0,"首都高等学校第39届田径精英赛女200米项目第三名",15,"首都高等学校第14届秋季学生田径运动会女4X100米接力项目第四名",15,30,30]
[105,"能化22-1班",2022010401,"贾文青",{"$nulls":4},0,{"$nulls":4},0,0]
[106,"能化22-1班",2022010402,"季睿",{"$nulls":4},0,{"$nulls":4},0,0]
[107,"能化22-1班",2022010403,"成思宇",{"$nulls":4},0,{"$nulls":4},0,0]
[108,"能化22-1班",2022010404,"付晨汐",{"$nulls":4},0,{"$nulls":4},0,0]
[109,"能化22-1班",2022012313,"巴合加娜提·加冷",{"$nulls":4},0,{"$nulls":4},0,0]
[110,"能化22-1班",2022010428,"马芬",{"$nulls":4},0,{"$nulls":4},0,0]
[111,"能化22-1班",2022010433,"陈禾婕",{"$nulls":4},0,{"$nulls":4},0,0]
[112,"能化22-1班",2022010470,"张润霞",{"$nulls":4},0,{"$nulls":4},0,0]
[113,"能化22-1班",2022010376,"刘珣",{"$nulls":4},0,{"$nulls":4},0,0]
[114,"能化22-1班",2022010380,"张茂霖",{"$nulls":4},0,{"$nulls":4},0,0]
[115,"能化22-1班",2022010381,"耿智盖灵",{"$nulls":4},0,{"$nulls":4},0,0]
[116,"能化22-1班",2022010387,"陈方旭","第一届全国石油和化工科普文章征集活动鼓励奖",2,null,null,2,"2023网球校赛双打第五名",4,null,null,4,6]
[117,"能化22-1班",2022010388,"缪祥麟",{"$nulls":4},0,{"$nulls":4},0,0]
[118,"能化22-1班",2022010391,"王禹程",{"$nulls":4},0,{"$nulls":4},0,0]
[119,"能化22-1班",2022010410,"王子路",{"$nulls":4},0,{"$nulls":4},0,0]
[120,"能化22-1班",2022010417,"段少坤",{"$nulls":4},0,{"$nulls":4},0,0]
[121,"能化22-1班",2022010420,"曹坤阳",{"$nulls":4},0,{"$nulls":4},0,0]
[122,"能化22-1班",2022010444,"汪洋",{"$nulls":4},0,{"$nulls":4},0,0]
[123,"能化22-1班",2022010447,"王冰宇",{"$nulls":4},0,{"$nulls":4},0,0]
[124,"能化22-1班",2022010451,"蒋子强",{"$nulls":4},0,{"$nulls":4},{"$f":"K127+M127","v":0},0]
[125,"能化22-1班",2022010455,"王德民",{"$nulls":4},0,"2023年中国石油大学（北京）校园铁人两项赛男女混合小轮车接力第四名",6,null,null,6,6]
[126,"能化22-1班",2022010457,"杨乐辰",{"$nulls":4},0,{"$nulls":4},0,0]
[127,"能化22-1班",2022010474,"杨志远",{"$nulls":4},0,{"$nulls":4},0,0]
[128,"能化22-1班",2022010475,"蔡进鹏",{"$nulls":4},0,{"$nulls":4},0,0]
[129,"能化22-1班",2022012318,"阿尔帕提·阿卜杜合力力",{"$nulls":4},{"$f":"F132+H132","v":0},{"$nulls":4},0,{"$f":"I132+N132","v":0}]
[130,"能化22-1班",2022010513,"陈心",{"$nulls":4},0,{"$nulls":4},0,0]
[131,"能化22-1班",2022010517,"郝信淳",{"$nulls":4},0,{"$nulls":4},0,0]
[132,"能化22-1班",2022010520,"孙祖麟",{"$nulls":4},0,{"$nulls":4},0,0]
[133,"能化22-1班",2022010523,"章俊阳",{"$nulls":4},0,{"$nulls":4},0,0]
[134,"能化22-2班",2022010365,"杨秋瑶",{"$nulls":4},0,"2024春季校级运动会跳大绳第一名",8,"2023年校园铁人两项3×男女混合小轮车两项接力比赛第三名",6,14,14]
[135,"能化22-2班",2022010368,"张露",{"$nulls":4},0,{"$nulls":4},0,0]
[136,"能化22-2班",2022010396,"邵兰贺",{"$nulls":4},0,{"$nulls":4},0,0]
[137,"能化22-2班",2022010462,"胡咪",{"$nulls":4},0,{"$nulls":4},0,0]
[138,"能化22-2班",2022010464,"邓姣",{"$nulls":4},0," ",{"$nulls":3},0,0]
[139,"能化22-2班",2022010492,"钮缨雪",{"$nulls":4},0,"2024第三届北京啦啦操冠军赛俱乐部青年丙组第一名",20,null,null,20,20]
[140,"能化22-2班",2022010493,"付锦依",{"$nulls":4},0,{"$nulls":4},0,0]
[141,"能化22-2班",2022010495,"何欣怡",{"$nulls":4},0,{"$nulls":4},0,0]
[142,"能化22-2班",2022010496,"张鑫",{"$nulls":4},0,{"$nulls":4},0,0]
[143,"能化22-2班",2022010497,"达娃卓玛",{"$nulls":4},0,{"$nulls":4},0,0]
[144,"能化22-2班",2022010395,"赵志帆",{"$nulls":4},0,{"$nulls":4},0,0]
[145,"能化22-2班",2022012314,"努尔兰·吐尔军",{"$nulls":4},0,{"$nulls":4},0,0]
[146,"能化22-2班",2022010450,"阿坚全",{"$nulls":4},0,{"$nulls":4},0,0]
[147,"能化22-2班",2022010472,"王奕喆",{"$nulls":4},0,{"$nulls":4},0,0]
[148,"能化22-2班",2022010481,"施孔君",{"$nulls":4},0,{"$nulls":4},0,0]
[149,"能化22-2班",2022010484,"李芃钰",{"$nulls":4},0,{"$nulls":4},0,0]
[150,"能化22-2班",2022010485,"刘帅杰",{"$nulls":4},0,{"$nulls":4},0,0]
[151,"能化22-2班",2022010486,"邵科元",{"$nulls":4},0,"2024春季校级运动会跳大绳第一名",8,null,null,8,8]
[152,"能化22-2班",2022010491,"张志彬",{"$nulls":4},0,{"$nulls":4},0,0]
[153,"能化22-2班",2022012317,"萨比尔·库尔班江",{"$nulls":4},0,{"$nulls":4},0,0]
[154,"能化22-2班",2022010503,"袁祺瑞",{"$nulls":4},0,{"$nulls":4},0,0]
[155,"能化22-2班",2022010505,"叶斯波力·叶尔生","第十三届外语风采大赛校级三等奖",4,null,null,4,"2024春季校级运动会摸石头过河第一名",8,"2024校级运动会男子4*100第一名",8,16,20]
[156,"能化22-2班",2022010508,"郝政凯",{"$nulls":4},0,{"$nulls":4},{"$f":"K159+M159","v":0},0]
[157,"能化22-2班",2022010509,"李京运",{"$nulls":4},0,{"$nulls":4},0,0]
[158,"能化22-2班",2022010510,"李君成",{"$nulls":4},0,{"$nulls":4},0,0]
[159,"能化22-2班",2022010515,"郭家栋",{"$nulls":4},0,{"$nulls":4},0,0]
[160,"能化22-2班",2022010521,"吴振宇",{"$nulls":4},0,{"$nulls":4},0,0]
[161,"能化22-2班",2022010522,"熊俊程",{"$nulls":4},{"$f":"F164+H164","v":0},{"$nulls":4},0,{"$f":"I164+N164","v":0}]
[162,"能化22-2班",2022012319,"李文杰",{"$nulls":4},0,{"$nulls":4},0,0]
[163,"能化22-2班",2022012320,"阿布杜拉·居乃都拉",{"$nulls":4},0,{"$nulls":4},0,0]
[164,"能化22-2班",2022012012,"欧子俊",{"$nulls":4},0,"2024春季校级运动会摸石头过河第一名",8,null,null,8,8]

{"sheet":"体测成绩","index":8,"n_rows":281,"n_cols":17,"rows_kept":281}
["年级","院系","行政班级","学籍号","姓名","性别","备注","身高","体重","肺活量","50米跑","立定跳远","坐位体前屈","800米/1000米","仰卧起坐/引体向上","总分","等级"]
[2022,"化学工程与环境学院","化工22-1班",2022010100,"智玉轩","女",null,154,61.7,3293,8,176,13.4,"3'43''",44,80.2,"良好"]
[2022,"化学工程与环境学院","化工22-1班",2022010364,"张姝瑶","女",null,161,45.6,3340,8.9,158,14.5,"3'52''",36,79.1,"及格"]
[2022,"化学工程与环境学院","化工22-1班",2022010367,"周芹","女",null,152,45.7,3164,7.9,182,14.4,"3'36''",37,84,"良好"]
[2022,"化学工程与环境学院","化工22-1班",2022010369,"李越","女",null,159,54.2,2879,7.7,187,23.1,"4'00''",37,82.8,"良好"]
[2022,"化学工程与环境学院","化工22-1班",2022010370,"马海霞","女","免测","暂无","暂无","暂无","暂无","暂无","暂无","暂无","暂无",60,"免测"]
[2022,"化学工程与环境学院","化工22-1班",2022010371,"何丽鸿","女",null,158.5,54.1,3610,8.2,184,12.1,"4'11''",43,82,"良好"]
[2022,"化学工程与环境学院","化工22-1班",2022010372,"史佳悦","女",null,164,50.1,3030,8.6,172,3.4,"4'34''",33,70.2,"及格"]
[2022,"化学工程与环境学院","化工22-1班",2022010373,"王晴宇","女",null,162.5,58,3337,8.6,165,21,"3'46''",20,77.6,"及格"]
[2022,"化学工程与环境学院","化工22-1班",2022010374,"袁佳怡","女",null,165.5,61.9,3382,8.4,181,19.3,"3'53''",33,82.7,"良好"]
[2022,"化学工程与环境学院","化工22-1班",2022010377,"刘超","男",null,165,66.9,6265,8,168,4.1,"4'46''",0,57,"不及格"]
[2022,"化学工程与环境学院","化工22-1班",2022010379,"孙科","男",null,171.5,79.3,5271,7.7,199,7.2,"3'54''",1,67,"及格"]
[2022,"化学工程与环境学院","化工22-1班",2022010382,"张铸","男",null,171.5,56,4559,7.1,247,-2.5,"3'45''",8,71.2,"及格"]
[2022,"化学工程与环境学院","化工22-1班",2022010383,"刘子瑞","男",null,179,74.6,5774,7.7,203,4.8,"4'31''",0,67.8,"及格"]
[2022,"化学工程与环境学院","化工22-1班",2022010384,"吴立新","男",null,181,82.1,4864,7.1,222,17,"4'23''",0,68.3,"及格"]
[2022,"化学工程与环境学院","化工22-1班",2022010385,"龚泽恩","男",null,182,73.5,5944,6.4,261,17.5,"4'02''",4,80.7,"良好"]
[2022,"化学工程与环境学院","化工22-1班",2022010386,"李陶然","男","免测","暂无","暂无","暂无","暂无","暂无","暂无","暂无","暂无",60,"免测"]
[2022,"化学工程与环境学院","化工22-1班",2022010389,"牛浩镔","男","免测","暂无","暂无","暂无","暂无","暂无","暂无","暂无","暂无",60,"免测"]
[2022,"化学工程与环境学院","化工22-1班",2022010390,"申溱","男",null,173,61.2,5281,6.8,217,0.5,"4'14''",0,70.6,"及格"]
[2022,"化学工程与环境学院","化工22-1班",2022010392,"吴照飞","男",null,170,53.5,3832,6.3,254,4.7,"3'48''",12,81.8,"良好"]
[2022,"化学工程与环境学院","化工22-1班",2022010394,"张之翼","男",null,170,52.7,5062,6.6,236,5.3,"3'29''",5,81.6,"良好"]
[2022,"化学工程与环境学院","化工22-1班",2022010397,"李安然","女",null,147,35.6,3051,9.1,158,10.6,"4'12''",37,72,"及格"]
[2022,"化学工程与环境学院","化工22-1班",2022010409,"周家艺","男",null,166,57.7,3620,7.2,220,5.7,"4'33''",0,63.6,"及格"]
[2022,"化学工程与环境学院","化工22-1班",2022010411,"姚锦栋","男",null,178.5,56.6,5268,6.8,230,-2.6,"4'07''",17,76,"及格"]
[2022,"化学工程与环境学院","化工22-1班",2022010412,"代肖彤","男",null,181.5,72.5,5087,6.7,255,13.7,"3'55''",16,88.7,"良好"]
[2022,"化学工程与环境学院","化工22-1班",2022010413,"陈恒宇","男",null,175,80.8,5430,6.9,225,4.2,"4'38''",0,67.8,"及格"]
[2022,"化学工程与环境学院","化工22-1班",2022010414,"潘恒懿","男",null,"暂无","暂无","暂无","暂无","暂无","暂无","暂无","暂无",0,"不及格"]
[2022,"化学工程与环境学院","化工22-1班",2022010418,"王明堃","男",null,178,67.7,3901,6.9,236,-5.6,"3'49''",6,68.4,"及格"]
[2022,"化学工程与环境学院","化工22-1班",2022010419,"史国柱","男",null,176.5,66.5,6039,7.4,222,4.4,"4'10''",0,71.4,"及格"]
[2022,"化学工程与环境学院","化工22-1班",2022010516,"郭智硕","男",null,181,64.2,5056,6.9,213,4.2,"4'20''",0,73,"及格"]
[2022,"化学工程与环境学院","化工22-1班",2022010518,"贾思远","男",null,182,73.4,4474,6.6,234,-1.6,"3'39''",0,70.2,"及格"]
[2022,"化学工程与环境学院","化工22-1班",2022010519,"李佳俊","男",null,178,72,5742,6,289,26,"3'05''",19,103,"优秀"]
[2022,"化学工程与环境学院","化工22-1班",2022010622,"顾凌云","男",null,165.5,60.9,4360,7,207,6.8,"4'10''",4,69,"及格"]
[2022,"化学工程与环境学院","化工22-1班",2022012311,"布威麦尔耶姆·麦麦提图尔荪","女",null,161,63.3,3913,8.6,179,8.5,"4'02''",28,76.8,"及格"]
[2022,"化学工程与环境学院","化工22-1班",2022012312,"徐峥","男",null,176.5,82.6,5267,7.1,212,10.9,"4'36''",4,66.2,"及格"]
[2022,"化学工程与环境学院","化工22-2班",2022010408,"许文轲","男",null,174,60,5294,7,196,11.5,"3'57''",9,76.8,"及格"]
[2022,"化学工程与环境学院","化工22-2班",2022010422,"江锦欣","男",null,171,56.7,4427,7.5,225,9.1,"3'53''",0,70.4,"及格"]
[2022,"化学工程与环境学院","化工22-2班",2022010426,"赵群","男",null,181,82.8,4811,7.9,207,-3.9,"4'18''",0,57.7,"不及格"]
[2022,"化学工程与环境学院","化工22-2班",2022010427,"周慧林","男",null,173.5,100,5287,7,194,4.8,"4'27''",0,62.4,"及格"]
[2022,"化学工程与环境学院","化工22-2班",2022010429,"程实","女",null,163,55.2,2685,8.3,172,14.6,"3'42''",29,78.6,"及格"]
[2022,"化学工程与环境学院","化工22-2班",2022010430,"马瑜含","女",null,164,58,3684,8,152,20,"3'20''",28,86.2,"良好"]
[2022,"化学工程与环境学院","化工22-2班",2022010431,"贺婕","女","免测","暂无","暂无","暂无","暂无","暂无","暂无","暂无","暂无",60,"不及格"]
[2022,"化学工程与环境学院","化工22-2班",2022010432,"刘雨佳","女",null,153,52.2,2867,9.2,157,10.6,"4'36''",24,68.4,"及格"]
[2022,"化学工程与环境学院","化工22-2班",2022010435,"秦婧瑶","女",null,154,49.9,2903,9.2,150,15.4,"4'06''",23,71.1,"及格"]
[2022,"化学工程与环境学院","化工22-2班",2022010436,"孙涵","女","缓测","暂无","暂无","暂无","暂无","暂无","暂无","暂无","暂无",0,"不及格"]
[2022,"化学工程与环境学院","化工22-2班",2022010437,"王晓弘","女",null,161,52.8,3235,9.3,142,19.2,"4'02''",24,73.2,"及格"]
[2022,"化学工程与环境学院","化工22-2班",2022010438,"张涵婷","女",null,170,59.8,2966,9.2,165,9.9,"3'52''",29,75.5,"及格"]
[2022,"化学工程与环境学院","化工22-2班",2022010439,"张心怡","女",null,158,51.4,3579,9,136,8,"3'45''",50,77.7,"及格"]
[2022,"化学工程与环境学院","化工22-2班",2022010440,"黄颖聪","男",null,168.5,77.2,1823,7.4,199,-2.4,"4'39''",4,41.2,"不及格"]
[2022,"化学工程与环境学院","化工22-2班",2022010441,"白兆","男",null,179,78.5,5507,7.2,189,5.2,"3'30''",10,73.8,"及格"]
[2022,"化学工程与环境学院","化工22-2班",2022010442,"尹泽","男",null,169.5,70.5,5314,7.8,182,10,"4'40''",5,59.2,"不及格"]
[2022,"化学工程与环境学院","化工22-2班",2022010443,"杨志文","男",null,174,105,5182,8.3,159,14.3,"5'36''",0,49,"不及格"]
[2022,"化学工程与环境学院","化工22-2班",2022010445,"赵国平","男",null,176.5,71.8,4773,7.5,195,8,"4'21''",2,65.4,"及格"]
[2022,"化学工程与环境学院","化工22-2班",2022010446,"金立民","男",null,170,62.9,4429,7.5,210,9.9,"4'06''","暂无",69,"及格"]
[2022,"化学工程与环境学院","化工22-2班",2022010448,"王增智","男",null,175,68.6,5602,6.7,260,4.5,"3'35''",14,88.1,"良好"]
[2022,"化学工程与环境学院","化工22-2班",2022010449,"郑少杰","男",null,166,58.8,4096,6.7,220,0.8,"3'27''",13,81.2,"良好"]
[2022,"化学工程与环境学院","化工22-2班",2022010452,"康胜","男",null,178,56,4749,6.4,238,28.5,"3'25''",22,93.2,"优秀"]
[2022,"化学工程与环境学院","化工22-2班",2022010453,"李成歆","男",null,182,102,4082,8,174,4.9,"5'18''",0,46.4,"不及格"]
[2022,"化学工程与环境学院","化工22-2班",2022010454,"孙琪桐","男",null,185,78.2,7164,6.6,266,11.2,"4'13''",5,80.2,"良好"]
[2022,"化学工程与环境学院","化工22-2班",2022010456,"吴金琪","男",null,186,103,6413,8.1,195,3,"5'15''",0,52,"不及格"]
[2022,"化学工程与环境学院","化工22-2班",2022010458,"赵帅","男",null,167,91,4690,8.9,167,12,"3'49''",0,56.4,"不及格"]
[2022,"化学工程与环境学院","化工22-2班",2022010459,"朱行健","男",null,176,66.3,5257,6.6,233,15.1,"3'29''",19,91.8,"优秀"]
[2022,"化学工程与环境学院","化工22-2班",2022010494,"唐樱菲","女",null,167,58.7,3988,8.6,185,18.1,"4'09''",39,82.2,"良好"]
[2022,"化学工程与环境学院","化工22-2班",2022010499,"曹炜曼","女",null,160,46.8,2744,8.4,194,17.2,"3'47''",36,80.4,"良好"]
[2022,"化学工程与环境学院","化工22-2班",2022010511,"罗小刚","男",null,186,70,5468,7.4,214,20.8,"3'55''",0,74.7,"及格"]
[2022,"化学工程与环境学院","化工22-2班",2022010512,"陈俊逸","男",null,181.5,76.8,5272,7.3,232,20.7,"4'17''",0,74.5,"及格"]
[2022,"化学工程与环境学院","化工22-2班",2022010584,"肖涵芮","女",null,164,53.9,3679,9,156,21.3,"3'56''",27,79.9,"及格"]
[2022,"化学工程与环境学院","化工22-2班",2022010585,"崔跃兰","女",null,158.5,44.4,3481,8.4,167,12.8,"4'05''",36,80.6,"良好"]
[2022,"化学工程与环境学院","化工22-2班",2022012316,"陈语","男",null,171,58.7,4891,6.8,210,8.8,"3'20''",21,91.1,"优秀"]
[2022,"化学工程与环境学院","化工22-2班",2022015762,"刘雅妮","女",null,"暂无","暂无","暂无",8.3,"暂无","暂无","4'10''","暂无",29.6,"不及格"]
[2022,"化学工程与环境学院","化工22-2班",2022015839,"来建航","男",null,"暂无","暂无","暂无",6.6,"暂无","暂无","3'36''",14,43.6,"不及格"]
[2022,"化学工程与环境学院","化工22-3班",2022010406,"彭莎莎","女",null,155,52.3,3353,9.1,159,10.8,"4'10''",37,77.3,"及格"]
[2022,"化学工程与环境学院","化工22-3班",2022010407,"叶海宇","女",null,158,64.8,3917,8.5,187,9.8,"3'43''",32,79.6,"及格"]
[2022,"化学工程与环境学院","化工22-3班",2022010421,"季磊","男",null,181,85.6,5666,7.1,230,3.6,"3'54''",0,69.8,"及格"]
[2022,"化学工程与环境学院","化工22-3班",2022010423,"汪礼俊","男",null,176.5,77.2,5488,7.4,219,7.7,"3'55''",3,69.8,"及格"]
[2022,"化学工程与环境学院","化工22-3班",2022010424,"席振昌","男",null,182,97.6,5057,7.5,200,3.2,"4'10''",0,61.8,"及格"]
[2022,"化学工程与环境学院","化工22-3班",2022010425,"闫杨奇昊","男",null,175,78.9,4737,7.7,216,12.2,"5'07''",0,61.2,"及格"]
[2022,"化学工程与环境学院","化工22-3班",2022010460,"努尔斯巴·买提库尔班","女",null,154,41.2,3002,10,130,7.1,"4'18''",22,63.6,"及格"]
[2022,"化学工程与环境学院","化工22-3班",2022010461,"吴芷璇","女",null,170.5,62.4,3665,7.8,175,12.3,"3'10''",32,89,"良好"]
[2022,"化学工程与环境学院","化工22-3班",2022010463,"孙千翔","女",null,169,57.5,3762,8.4,183,18.4,"3'53''",32,83.2,"良好"]
[2022,"化学工程与环境学院","化工22-3班",2022010465,"陈飞月","女",null,160,52.8,3429,8.3,180,6.7,"3'31''",41,84.2,"良好"]
[2022,"化学工程与环境学院","化工22-3班",2022010467,"石彩君","女",null,167.5,66.5,2349,9.4,141,-1.4,"4'00''",33,63.5,"及格"]
[2022,"化学工程与环境学院","化工22-3班",2022010468,"吴忆","女","免测","暂无","暂无","暂无","暂无","暂无","暂无","暂无","暂无",60,"免测"]
[2022,"化学工程与环境学院","化工22-3班",2022010469,"许馨月","女",null,169.5,78.8,3210,9.3,165,21.7,"4'01''",39,75.7,"及格"]
[2022,"化学工程与环境学院","化工22-3班",2022010471,"张支铭","女",null,176,59.2,3367,9.2,187,22.7,"4'21''",39,80.3,"良好"]
[2022,"化学工程与环境学院","化工22-3班",2022010473,"刘源兴","男",null,179.5,65,5656,7.4,207,5.5,"4'28''",0,68.4,"及格"]
[2022,"化学工程与环境学院","化工22-3班",2022010476,"何岩松","男",null,186,99.1,5820,7.3,204,3.6,"4'26''",3,62,"及格"]
[2022,"化学工程与环境学院","化工22-3班",2022010477,"张帅","男",null,173.5,79.9,6993,7.1,218,13.6,"3'41''",6,74.8,"及格"]
[2022,"化学工程与环境学院","化工22-3班",2022010478,"李煌","男",null,168,53,4889,7.1,234,16.2,"3'27''",7,80.3,"良好"]
[2022,"化学工程与环境学院","化工22-3班",2022010479,"杨广军","男",null,168,55.6,4169,7.1,229,20,"3'30''",7,77.9,"及格"]
[2022,"化学工程与环境学院","化工22-3班",2022010480,"杨明涛","男",null,174,86.6,5941,7.4,228,5.4,"4'43''",7,65.4,"及格"]
[2022,"化学工程与环境学院","化工22-3班",2022010482,"傅世坤","男",null,182,76.3,6232,7.6,206,15.6,"4'15''",0,70.6,"及格"]
[2022,"化学工程与环境学院","化工22-3班",2022010483,"李浩永","男",null,174,57,4490,7.6,189,5.9,"4'01''",0,64.4,"及格"]
[2022,"化学工程与环境学院","化工22-3班",2022010487,"涂景豪","男",null,178.5,81.4,5799,7,194,7.3,"4'41''",4,63.4,"及格"]
[2022,"化学工程与环境学院","化工22-3班",2022010489,"谢林洲","男",null,108,85,4570,6.7,230,21.3,3.4,10,82.8,"不及格"]
[2022,"化学工程与环境学院","化工22-3班",2022010490,"严臻睿","男",null,184,92.1,5255,6.9,212,4.2,"3'53''",0,72,"及格"]
[2022,"化学工程与环境学院","化工22-3班",2022010500,"马倩","女",null,162.5,60.3,3704,8.4,186,11.1,"4'28''",24,77.6,"及格"]
[2022,"化学工程与环境学院","化工22-3班",2022010501,"屈芷晴","女",null,160,50,3900,7.2,200,25,"3'09''",50,98,"优秀"]
[2022,"化学工程与环境学院","化工22-3班",2022010504,"李宇翔","男",null,172,64.9,4439,7.3,246,4.2,"5'10''",0,64.4,"及格"]
[2022,"化学工程与环境学院","化工22-3班",2022010506,"张席地","男",null,"暂无","暂无","暂无",7,"暂无","暂无","3'55''",20,42.8,"不及格"]
[2022,"化学工程与环境学院","化工22-3班",2022010507,"马凯园","男",null,184,62,3103,7.5,237,7.3,"4'36''",9,68,"及格"]
[2022,"化学工程与环境学院","化工22-3班",2022010547,"黄一翀","男",null,166,61,3871,7,215,16.4,"3'56''",11,78,"及格"]
[2022,"化学工程与环境学院","化工22-3班",2022010837,"陈伟玄","男",null,164,49,4102,6.9,225,16.9,"3'55''",11,80.2,"良好"]
[2022,"化学工程与环境学院","化工22-3班",2022011451,"喻治坤","男",null,"暂无","暂无","暂无",6.9,"暂无","暂无","4'03''",7,35,"不及格"]
[2022,"化学工程与环境学院","化工22-3班",2022015771,"华镜博","男",null,"暂无","暂无","暂无",7.4,"暂无","暂无","3'37''",6,33.2,"不及格"]
[2022,"化学工程与环境学院","化工22-3班",2022015845,"蒲阳明","男",null,"暂无","暂无","暂无",6.7,"暂无","暂无","3'30''",10,43,"不及格"]
[2022,"化学工程与环境学院","化工类22-1班",2022010375,"张珂凡","女",null,"暂无","暂无","暂无","暂无","暂无","暂无","暂无","暂无",0,"不及格"]
[2022,"化学工程与环境学院","化工类22-2班",2022010415,"赵一德","男",null,"暂无","暂无","暂无","暂无","暂无","暂无","暂无","暂无",0,"不及格"]
[2022,"化学工程与环境学院","化工类22-2班",2022010416,"朱赞裕","男",null,"暂无","暂无","暂无","暂无","暂无","暂无","暂无","暂无",0,"不及格"]
[2022,"化学工程与环境学院","化工类22-3班",2022012315,"艾力扎提·卡米力","男","免测","暂无","暂无","暂无","暂无","暂无","暂无","暂无","暂无",60,"免测"]
[2022,"化学工程与环境学院","环工22-1班",2022010529,"王文紫瑶","女",null,170.5,54.6,4039,8.3,184,26.5,"3'36''",30,87.4,"良好"]
[2022,"化学工程与环境学院","环工22-1班",2022010530,"任馨雅","女",null,156.5,80.5,2729,10.6,128,10.9,"4'37''",29,51.9,"不及格"]
[2022,"化学工程与环境学院","环工22-1班",2022010531,"任姿蓉","女",null,168,50.7,3650,8.8,174,22.6,"3'47''",32,83.4,"良好"]
[2022,"化学工程与环境学院","环工22-1班",2022010532,"冯晴阳","女",null,154,43.8,2249,9.2,168,10.6,"3'58''",29,73.2,"及格"]
[2022,"化学工程与环境学院","环工22-1班",2022010533,"郝小雪","女",null,154,37.3,2792,9,178,6.7,"3'44''",31,73.7,"及格"]
[2022,"化学工程与环境学院","环工22-1班",2022010534,"李慧","女",null,158,52.9,3358,8.3,159,17.8,"3'30''",42,85.1,"良好"]
[2022,"化学工程与环境学院","环工22-1班",2022010536,"叶雨桐","女",null,162,53.1,4024,8.9,190,18,"3'44''",50,85.6,"良好"]
[2022,"化学工程与环境学院","环工22-1班",2022010537,"赵一泽","男",null,184,96,6056,7.6,182,3.5,"4'41''",0,53.8,"不及格"]
[2022,"化学工程与环境学院","环工22-1班",2022010543,"罗东云","男",null,167,50.5,3986,7.1,218,24.1,"4'33''",5,69,"及格"]
[2022,"化学工程与环境学院","环工22-1班",2022010545,"常梦超","男",null,181,57.8,3834,6.8,218,7.6,"3'21''",5,74.6,"及格"]
[2022,"化学工程与环境学院","环工22-1班",2022010546,"侯佳","男",null,172,94.7,4710,7.9,209,4,"暂无",2,48.2,"不及格"]
[2022,"化学工程与环境学院","环工22-1班",2022010549,"陆佳逸","男",null,180,62.6,3985,6.7,212,8.4,"4'37''",0,68.9,"及格"]
[2022,"化学工程与环境学院","环工22-1班",2022010552,"高焮","女",null,161,40.5,2438,8.3,154,6.5,"3'36''",34,74.2,"及格"]
[2022,"化学工程与环境学院","环工22-1班",2022010565,"李震洋","男",null,170,85.8,5212,7.6,235,17,"4'28''",0,65.8,"及格"]
[2022,"化学工程与环境学院","环工22-1班",2022010566,"葛安华","男",null,174,66.6,5593,6.7,259,15.4,"3'20''",23,99.1,"优秀"]
[2022,"化学工程与环境学院","环工22-1班",2022010569,"余越","男",null,167,52,2956,7.8,184,22.7,"4'13''","暂无",60.1,"及格"]
[2022,"化学工程与环境学院","环工22-1班",2022010570,"孔哲昊","男",null,181.5,72,4733,7.5,204,17.1,"4'09''",0,69.4,"及格"]
[2022,"化学工程与环境学院","环工22-1班",2022010609,"姚爽","女",null,159,57,4061,7.2,201,18,"3'18''",48,95.3,"优秀"]
[2022,"化学工程与环境学院","环工22-1班",2022010610,"薛心悦","女",null,153,50.2,3886,8.3,188,25.2,"3'32''",33,87.6,"良好"]
[2022,"化学工程与环境学院","环工22-1班",2022010611,"王思雨","女",null,158,46.6,3212,8.3,206,11,"3'36''",30,83.3,"良好"]
[2022,"化学工程与环境学院","环工22-1班",2022010612,"高成捷","女",null,163,53.3,3487,9.2,188,19.7,"4'08''",30,80.9,"良好"]
[2022,"化学工程与环境学院","环工22-1班",2022010616,"戴剑苓","女",null,168,56.2,3899,8.2,166,9.1,"3'47''",24,80,"良好"]
[2022,"化学工程与环境学院","环工22-1班",2022010619,"刘欣俞","女",null,174,96,4096,9.7,105,20.5,"4'22''",24,63,"及格"]
[2022,"化学工程与环境学院","环工22-1班",2022010623,"张举","男",null,180,60,6407,7.4,236,6.3,"4'14''",0,72,"及格"]
[2022,"化学工程与环境学院","环工22-1班",2022010625,"杨津飞","男",null,168,55.3,3826,7.4,223,-5.8,"4'04''",13,68.8,"及格"]
[2022,"化学工程与环境学院","环工22-1班",2022010626,"杨超","男",null,180,83.7,6041,6.8,258,3.4,"3'52''","暂无",74.7,"及格"]
[2022,"化学工程与环境学院","环工22-1班",2022010628,"贺弘炜","男",null,169.5,67.2,4794,6.6,244,12.9,"4'00''",3,77.2,"及格"]
[2022,"化学工程与环境学院","环工22-1班",2022010629,"黄雨森","男",null,170.5,64.7,5341,7.1,210,0.7,"4'07''",0,69,"及格"]
[2022,"化学工程与环境学院","环工22-1班",2022010630,"李博阳","男",null,181.5,76.8,5716,8.3,256,20.7,"4'26''",3,73,"及格"]
[2022,"化学工程与环境学院","环工22-1班",2022010633,"孟星宇","男",null,176,57.3,3916,7.4,236,25.5,"4'51''",5,69.4,"及格"]
[2022,"化学工程与环境学院","环工22-1班",2022012321,"新尼巴依尔","女",null,155,52.6,2982,9,153,12.4,"3'46''",28,75.7,"及格"]
[2022,"化学工程与环境学院","环工22-1班",2022012328,"马智玮","男",null,175.5,62.6,5302,6.7,241,9.2,"3'38''",18,89.7,"良好"]
[2022,"化学工程与环境学院","环工22-1班",2022012329,"阿布都扎衣尔·阿布都克里木","男",null,180,77.7,5439,6.6,206,-2,"3'51''",7,70.2,"及格"]
[2022,"化学工程与环境学院","环工22-1班",2022016263,"俞仙琳","女",null,"暂无","暂无","暂无","暂无","暂无","暂无","暂无","暂无",0,"不及格"]
[2022,"化学工程与环境学院","环工22-2班",2022010524,"陈炳文","女",null,159,57.5,3868,8.3,180,11.1,"3'59''",36,82.2,"良好"]
[2022,"化学工程与环境学院","环工22-2班",2022010525,"王馨","女",null,154.5,47.5,3266,9.1,163,21,"3'59''",42,79.9,"及格"]
[2022,"化学工程与环境学院","环工22-2班",2022010526,"石乃舜","女",null,162,66.2,3729,8.9,159,18.6,"3'59''",36,77.8,"及格"]
[2022,"化学工程与环境学院","环工22-2班",2022010527,"徐娅琳","女",null,169,56.2,3681,8.9,173,22.9,"4'26''",25,78.6,"及格"]
[2022,"化学工程与环境学院","环工22-2班",2022010555,"胡余娜","女",null,163,58.5,4785,10.2,129,13.3,"4'24''",23,66.8,"及格"]
[2022,"化学工程与环境学院","环工22-2班",2022010562,"田依弘","女",null,166,61.3,3456,9,164,15.5,"3'50''",50,82.3,"良好"]
[2022,"化学工程与环境学院","环工22-2班",2022010564,"赵晨洁","女",null,163,66.2,4460,9.3,161,20.1,"4'00''",43,77.6,"及格"]
[2022,"化学工程与环境学院","环工22-2班",2022010571,"杨森云","男",null,170,57.2,4622,6.9,227,9.9,"3'20''",16,86.9,"良好"]
[2022,"化学工程与环境学院","环工22-2班",2022010572,"康皓年","男",null,170,62.8,5437,7.9,208,9.4,"4'05''",3,71.2,"及格"]
[2022,"化学工程与环境学院","环工22-2班",2022010573,"金国昊","男",null,173.5,106,4649,7.6,194,6.9,"4'00''",5,61.4,"及格"]
[2022,"化学工程与环境学院","环工22-2班",2022010575,"曹天竹","男",null,160,74.9,3989,8.4,191,17.7,"4'57''",2,51.3,"不及格"]
[2022,"化学工程与环境学院","环工22-2班",2022010576,"高嘉华","男",null,173.5,70.5,5086,6.7,226,13.3,"3'54''",17,87.8,"良好"]
[2022,"化学工程与环境学院","环工22-2班",2022010578,"刘昶","男",null,172,66.3,4722,7,253,16.2,"3'55''",14,82.8,"良好"]
[2022,"化学工程与环境学院","环工22-2班",2022010579,"张庭毓","男",null,170,67.4,5045,7,"暂无",6.7,"4'14''",17,75.6,"及格"]
[2022,"化学工程与环境学院","环工22-2班",2022010581,"许文雅","女",null,159,45.2,3894,8.1,186,22.7,"3'32''",42,87.6,"良好"]
[2022,"化学工程与环境学院","环工22-2班",2022010583,"李陈希","女",null,176,47.7,2959,10.2,146,1.6,"4'45''",24,53.7,"不及格"]
[2022,"化学工程与环境学院","环工22-2班",2022010586,"林雯俊","女",null,166,54.9,4091,8.6,169,15.3,"3'47''",36,82.4,"良好"]
[2022,"化学工程与环境学院","环工22-2班",2022010587,"陆霄雅","女",null,160,44.5,2479,8.3,168,2.7,"3'36''",38,73.4,"及格"]
[2022,"化学工程与环境学院","环工22-2班",2022010589,"孟婧涵","女",null,164,58.4,3359,8.1,193,20.7,"3'30''",39,87.5,"良好"]
[2022,"化学工程与环境学院","环工22-2班",2022010592,"辛丽倩","女",null,159,45.4,3371,9.1,174,10.7,"3'20''",41,84.1,"良好"]
[2022,"化学工程与环境学院","环工22-2班",2022010593,"高于翀","男",null,181,57.1,3818,7.2,221,4.5,"4'01''",3,65.1,"及格"]
[2022,"化学工程与环境学院","环工22-2班",2022010594,"龙宇舟","男",null,170.5,72,5467,6.8,217,0.4,"4'07''",6,70.4,"及格"]
[2022,"化学工程与环境学院","环工22-2班",2022010595,"闫步石","男",null,168,50.7,3076,7.4,212,22.3,"4'19''",5,66.7,"及格"]
[2022,"化学工程与环境学院","环工22-2班",2022010597,"王哲","男",null,180.5,55,3844,7.4,244,1,"4'04''",0,62.8,"及格"]
[2022,"化学工程与环境学院","环工22-2班",2022010598,"余勇利","男",null,180.5,72.8,5576,6.7,246,25.8,"3'34''",15,92.8,"优秀"]
[2022,"化学工程与环境学院","环工22-2班",2022010601,"全震","男",null,185,93.8,6403,7.2,238,9.9,"3'53''",7,74.6,"及格"]
[2022,"化学工程与环境学院","环工22-2班",2022010602,"李子涵","男",null,183.5,67.8,5936,6.5,240,1.6,"3'10''",18,91.1,"优秀"]
[2022,"化学工程与环境学院","环工22-2班",2022010604,"丁腾岳","男",null,166.5,66.6,4223,6.8,194,3.9,"4'15''",5,65.9,"及格"]
[2022,"化学工程与环境学院","环工22-2班",2022010605,"董文浩","男",null,186,117,6614,8.1,181,13.9,"4'52''",0,55.4,"不及格"]
[2022,"化学工程与环境学院","环工22-2班",2022010606,"林嘉隆","男",null,173.5,61.5,4406,6.8,215,8.4,"4'00''",11,79.6,"及格"]
[2022,"化学工程与环境学院","环工22-2班",2022010607,"唐嘉岚","男",null,165,75.7,5049,8.4,199,7.1,"6'12''",4,52.6,"不及格"]
[2022,"化学工程与环境学院","环工22-2班",2022010613,"罗玉娟","女",null,162.5,49.5,3926,9,176,8.2,"3'38''",31,80.6,"良好"]
[2022,"化学工程与环境学院","环工22-2班",2022012326,"周倍生","男",null,181,83.8,6706,7.8,220,11.4,"4'01''",0,69.4,"及格"]
[2022,"化学工程与环境学院","环工22-2班",2022012327,"贾益航","男",null,179.5,76.3,5391,6.5,240,10.6,"3'10''",14,93,"优秀"]
[2022,"化学工程与环境学院","环工22-2班",2022016257,"潘新艺","女",null,"暂无","暂无","暂无",9.4,"暂无","暂无","4'01''","暂无",28,"不及格"]
[2022,"化学工程与环境学院","环境类22-1班",2022010544,"卢松呈","男",null,"暂无","暂无","暂无","暂无","暂无","暂无","暂无","暂无",0,"不及格"]
[2022,"化学工程与环境学院","环境类22-2班",2022012325,"艾合麦提江·艾山","男",null,"暂无","暂无","暂无","暂无","暂无","暂无","暂无","暂无",0,"不及格"]
[2022,"化学工程与环境学院","环境类22-4班",2022010631,"韩依廷","男",null,"暂无","暂无","暂无","暂无","暂无","暂无","暂无","暂无",0,"不及格"]
[2022,"化学工程与环境学院","环科22-1班",2022010528,"郭晶轩","女",null,162.5,92.3,3728,11.9,129,9.3,"5'20''",19,35.4,"不及格"]
[2022,"化学工程与环境学院","环科22-1班",2022010538,"李雨桐","男",null,177,81.4,6304,7.1,247,12.1,"4'03''",0,72,"及格"]
[2022,"化学工程与环境学院","环科22-1班",2022010540,"齐明睿","男",null,189,82.3,6049,7.6,213,-6.4,"4'12''","暂无",64.6,"及格"]
[2022,"化学工程与环境学院","环科22-1班",2022010541,"陈其勇","男",null,178.5,84.4,5723,7.8,246,-0.1,"4'45''",0,61.2,"及格"]
[2022,"化学工程与环境学院","环科22-1班",2022010542,"张博瑞","男",null,181,92.2,6287,7.8,233,3,"5'18''",0,56.6,"不及格"]
[2022,"化学工程与环境学院","环科22-1班",2022010548,"李思睿","男",null,177,74.1,4336,7.2,102,7.1,"4'29''",0,61,"及格"]
[2022,"化学工程与环境学院","环科22-1班",2022010551,"赵天浩","男",null,174,104,4864,7.9,211,16,"6'00''",0,52.5,"不及格"]
[2022,"化学工程与环境学院","环科22-1班",2022010553,"盛蓉","女",null,"暂无","暂无","暂无","暂无","暂无","暂无","暂无","暂无",0,"不及格"]
[2022,"化学工程与环境学院","环科22-1班",2022010554,"扎西卓玛","女",null,165,56,3580,9.9,138,7,"4'54''",28,66,"及格"]
[2022,"化学工程与环境学院","环科22-1班",2022010563,"吴泽奇","女",null,155,42.9,2089,7.9,182,13.1,"3'44''",47,80,"良好"]
[2022,"化学工程与环境学院","环科22-1班",2022010567,"贾宇恒","男",null,"暂无","暂无","暂无",7.8,"暂无","暂无","4'29''",0,26.4,"不及格"]
[2022,"化学工程与环境学院","环科22-1班",2022010574,"艾显燚","男",null,"暂无","暂无","暂无",7.3,"暂无","暂无","暂无",4,15.6,"不及格"]
[2022,"化学工程与环境学院","环科22-1班",2022010577,"李伊文","男",null,176.5,52.5,5037,7,231,-0.1,"4'17''",4,65.5,"及格"]
[2022,"化学工程与环境学院","环科22-1班",2022010580,"赵显颖","女",null,154.5,46.6,2878,8.9,171,7.6,"3'29''",22,76.6,"及格"]
[2022,"化学工程与环境学院","环科22-1班",2022010588,"马雪儿","女",null,170.5,52.9,3710,8.1,187,18.4,"4'07''",48,83.8,"良好"]
[2022,"化学工程与环境学院","环科22-1班",2022010590,"苗堉昕","女",null,176,71.5,3714,8.5,146,24.6,"3'33''",37,84.1,"良好"]
[2022,"化学工程与环境学院","环科22-1班",2022010596,"方浩天","男",null,173.5,69.1,4582,7.2,204,-5.6,"3'43''",14,71.6,"及格"]
[2022,"化学工程与环境学院","环科22-1班",2022010599,"张雨辰","男",null,181.5,96,6397,6.7,241,10.7,"3'22''",6,79.6,"及格"]
[2022,"化学工程与环境学院","环科22-1班",2022010600,"贺文杰","男",null,179,120,5665,8.6,180,"暂无","暂无",0,36.8,"不及格"]
[2022,"化学工程与环境学院","环科22-1班",2022010614,"柴颖","女",null,164,67.5,3111,8.5,185,13.6,"3'49''",47,78.2,"及格"]
[2022,"化学工程与环境学院","环科22-1班",2022010615,"陈赵佳","女",null,165,69.3,3996,10.1,153,27.1,"4'45''",27,69.4,"及格"]
[2022,"化学工程与环境学院","环科22-1班",2022010617,"方歆遥","女",null,168,63.8,4287,8.6,179,10.6,"4'24''",41,79.8,"及格"]
[2022,"化学工程与环境学院","环科22-1班",2022010620,"王晨阳","女","补测",161.5,50.2,2403,10.2,156,9.5,"6'07''",36,56.8,"不及格"]
[2022,"化学工程与环境学院","环科22-1班",2022010621,"王兮月","女",null,169.5,61.1,3678,8,160,15.8,"4'07''",33,81.6,"良好"]
[2022,"化学工程与环境学院","环科22-1班",2022010624,"旺唐次仁","男",null,166,67.9,5154,7,202,8.8,"4'35''",18,74.1,"及格"]
[2022,"化学工程与环境学院","环科22-1班",2022010627,"周永洁","男",null,174.5,103,4148,8,173,3.9,"6'01''",0,42.4,"不及格"]
[2022,"化学工程与环境学院","环科22-1班",2022010632,"黄昊昕","男",null,161,65.5,4745,6.7,244,0.3,"4'30''",7,69.6,"及格"]
[2022,"化学工程与环境学院","环科22-1班",2022010634,"汪宇峰","男",null,177.5,55.5,4841,7.5,209,2.3,"4'22''",14,71.1,"及格"]
[2022,"化学工程与环境学院","环科22-1班",2022012322,"伊干拜尔迪·喀尔库力","男",null,"暂无","暂无","暂无",6.9,"暂无","暂无","3'46''",20,44.6,"不及格"]
[2022,"化学工程与环境学院","环科22-1班",2022012323,"阿卜杜凯尤木·阿卜拉","男",null,"暂无","暂无","暂无",7.7,"暂无","暂无","4'58''",6,24.8,"不及格"]
[2022,"化学工程与环境学院","环科22-1班",2022012324,"图尔荪古丽·赛迪艾米尔","女",null,160,54.1,3109,10.1,126,19.9,"4'17''",38,68.8,"及格"]
[2022,"化学工程与环境学院","环科22-1班",2022012330,"乔天","男",null,170.5,94.6,4920,8.3,181,1.6,"6'02''",0,41.9,"不及格"]
[2022,"化学工程与环境学院","环科22-1班",2022012367,"久阿拉姆","女",null,165,48.7,3696,9.3,157,18,"5'33''",29,64.4,"及格"]
[2022,"化学工程与环境学院","环科22-1班",2022012368,"旦增白姆","女","补测",158.5,50.9,2744,9.8,138,8.7,"4'41''",31,60,"及格"]
[2022,"化学工程与环境学院","能化22-1班",2022010376,"刘珣","男",null,171,71.8,4772,7.6,230,3.5,"5'10''",9,64.6,"及格"]
[2022,"化学工程与环境学院","能化22-1班",2022010380,"张茂霖","男","免测","暂无","暂无","暂无","暂无","暂无","暂无","暂无","暂无",60,"免测"]
[2022,"化学工程与环境学院","能化22-1班",2022010381,"耿智盖灵","男",null,"暂无","暂无","暂无","暂无","暂无","暂无","暂无","暂无",0,"不及格"]
[2022,"化学工程与环境学院","能化22-1班",2022010387,"陈方旭","男",null,176.5,72,3893,6.6,242,9.8,"3'20''",16,87.7,"良好"]
[2022,"化学工程与环境学院","能化22-1班",2022010388,"缪祥麟","男",null,190,104,8264,7.2,247,5.1,"3'41''","暂无",69.6,"及格"]
[2022,"化学工程与环境学院","能化22-1班",2022010391,"王禹程","男",null,184,103,5731,8,201,1.2,"4'50''",0,55,"不及格"]
[2022,"化学工程与环境学院","能化22-1班",2022010398,"杨慧","女",null,160.5,50.8,4462,8.5,185,21,"3'48''",40,85.1,"良好"]
[2022,"化学工程与环境学院","能化22-1班",2022010399,"邱绮慧","女",null,159,54.4,3872,8.1,187,25.3,"3'25''",48,89.5,"良好"]
[2022,"化学工程与环境学院","能化22-1班",2022010400,"王一伊","女",null,169,53,4365,7.1,243,29,"2'53''",63,109,"优秀"]
[2022,"化学工程与环境学院","能化22-1班",2022010401,"贾文青","女",null,164,54.7,3608,8.4,194,4.2,"3'32''",41,81.5,"良好"]
[2022,"化学工程与环境学院","能化22-1班",2022010402,"季睿","女",null,168.5,54.7,3969,8.6,171,-0.1,"3'46''",34,74.8,"及格"]
[2022,"化学工程与环境学院","能化22-1班",2022010403,"成思宇","女",null,166.5,83.6,4109,9.8,140,8.6,"4'18''",20,62.4,"及格"]
[2022,"化学工程与环境学院","能化22-1班",2022010404,"付晨汐","女",null,152.5,40.7,2776,8.8,159,15.3,"3'44''",31,77.1,"及格"]
[2022,"化学工程与环境学院","能化22-1班",2022010410,"王子路","男",null,174,79.5,4863,7.5,239,21.3,"4'37''",3,67.1,"及格"]
[2022,"化学工程与环境学院","能化22-1班",2022010417,"段少坤","男",null,174.5,62.5,4654,7.3,213,0.7,"3'48''",6,69.8,"及格"]
[2022,"化学工程与环境学院","能化22-1班",2022010420,"曹坤阳","男",null,172.5,109,5683,"暂无",173,6.5,"5'52''",0,34.4,"不及格"]
[2022,"化学工程与环境学院","能化22-1班",2022010428,"马芬","女",null,169,51.3,3593,9.2,157,12.7,"4'11''",33,77.6,"及格"]
[2022,"化学工程与环境学院","能化22-1班",2022010433,"陈禾婕","女",null,164.5,54,3042,7.8,186,4.3,"3'44''",33,77.6,"及格"]
[2022,"化学工程与环境学院","能化22-1班",2022010444,"汪洋","男",null,173.5,62.1,3795,7.9,192,15,"4'26''",0,61.9,"及格"]
[2022,"化学工程与环境学院","能化22-1班",2022010447,"王冰宇","男",null,163,77,3208,7.7,206,12.8,"4'22''",0,57.8,"不及格"]
[2022,"化学工程与环境学院","能化22-1班",2022010451,"蒋子强","男",null,181,69,5240,6.8,249,14.2,"3'19''",9,88.4,"良好"]
[2022,"化学工程与环境学院","能化22-1班",2022010455,"王德民","男",null,172.5,74.6,5270,6.8,233,15,"3'27''",10,84.8,"良好"]
[2022,"化学工程与环境学院","能化22-1班",2022010457,"杨乐辰","男",null,175,84,6334,7.1,248,13.2,"4'11''",6,73.8,"及格"]
[2022,"化学工程与环境学院","能化22-1班",2022010470,"张润霞","女",null,163.5,52.2,4210,8.6,192,21.5,"3'55''",40,84.4,"良好"]
[2022,"化学工程与环境学院","能化22-1班",2022010474,"杨志远","男",null,177,101,5407,8.1,225,9.5,"5'26''",0,57.6,"不及格"]
[2022,"化学工程与环境学院","能化22-1班",2022010475,"蔡进鹏","男",null,172.5,52.6,4209,7.1,207,11.4,"4'58''",3,59.7,"不及格"]
[2022,"化学工程与环境学院","能化22-1班",2022010513,"陈心","男",null,174.5,81.6,5001,6.8,220,4.7,"3'25''",17,84.9,"良好"]
[2022,"化学工程与环境学院","能化22-1班",2022010517,"郝信淳","男",null,167.5,87.1,5195,7.3,218,4.7,"4'40''",0,62,"及格"]
[2022,"化学工程与环境学院","能化22-1班",2022010520,"孙祖麟","男",null,170,68,5520,5.8,285,27,"3'02''",21,105,"优秀"]
[2022,"化学工程与环境学院","能化22-1班",2022010523,"章俊阳","男",null,171,85.3,4047,8.8,186,3.7,"5'18''",0,45.5,"不及格"]
[2022,"化学工程与环境学院","能化22-1班",2022012313,"巴合加娜提·加冷","女",null,164,62.7,3267,9.6,141,7.6,"3'50''",37,73.4,"及格"]
[2022,"化学工程与环境学院","能化22-1班",2022012318,"阿尔帕提·阿卜杜合力力","男",null,175,68.9,4846,6.8,226,7.2,"3'25''",17,87.7,"良好"]
[2022,"化学工程与环境学院","能化22-2班",2022010365,"杨秋瑶","女",null,156.5,54.1,3498,8.6,186,17.4,"3'39''",50,85.3,"良好"]
[2022,"化学工程与环境学院","能化22-2班",2022010368,"张露","女",null,161,52.6,4268,10.3,169,28.2,"3'43''",36,82.2,"良好"]
[2022,"化学工程与环境学院","能化22-2班",2022010395,"赵志帆","男",null,163.5,60.9,4255,8,200,5.2,"5'25''",0,56.9,"不及格"]
[2022,"化学工程与环境学院","能化22-2班",2022010396,"邵兰贺","女",null,166,66.1,3473,9.9,156,16.3,"4'10''",21,70,"及格"]
[2022,"化学工程与环境学院","能化22-2班",2022010450,"阿坚全","男",null,163.5,47.7,4445,7.9,208,-0.8,"4'07''",4,59.4,"不及格"]
[2022,"化学工程与环境学院","能化22-2班",2022010462,"胡咪","女",null,163,117,2966,11.2,142,10.9,"暂无",25,38.3,"不及格"]
[2022,"化学工程与环境学院","能化22-2班",2022010464,"邓姣","女",null,151,62,3379,8.5,181,17.5,"3'59''",36,79.3,"及格"]
[2022,"化学工程与环境学院","能化22-2班",2022010472,"王奕喆","男",null,"暂无","暂无","暂无",8,"暂无","暂无","5'57''","暂无",16,"不及格"]
[2022,"化学工程与环境学院","能化22-2班",2022010481,"施孔君","男","免测","暂无","暂无","暂无","暂无","暂无","暂无","暂无","暂无",60,"免测"]
[2022,"化学工程与环境学院","能化22-2班",2022010484,"李芃钰","男",null,189,70.9,4883,7,217,8.6,"4'21''",10,77.3,"及格"]
[2022,"化学工程与环境学院","能化22-2班",2022010485,"刘帅杰","男",null,170,64,4828,7.2,223,8.3,"4'09''",0,70.9,"及格"]
[2022,"化学工程与环境学院","能化22-2班",2022010486,"邵科元","男",null,181.5,69.6,4279,7,257,5,"3'32''",15,83.2,"良好"]
[2022,"化学工程与环境学院","能化22-2班",2022010491,"张志彬","男",null,177,67,6431,6.5,252,23.8,"3'42''",0,83.5,"良好"]
[2022,"化学工程与环境学院","能化22-2班",2022010492,"钮缨雪","女",null,160,47.2,2746,8.1,191,23.1,"3'29''",22,81.6,"良好"]
[2022,"化学工程与环境学院","能化22-2班",2022010493,"付锦依","女",null,161.5,51.1,3067,8.8,185,5.4,"4'30''",31,73.2,"及格"]
[2022,"化学工程与环境学院","能化22-2班",2022010495,"何欣怡","女",null,156.5,69.8,3576,10.1,165,7,"6'00''",11,49.2,"不及格"]
[2022,"化学工程与环境学院","能化22-2班",2022010496,"张鑫","女",null,151.5,52.4,3197,9.5,172,15.3,"4'20''",22,73,"及格"]
[2022,"化学工程与环境学院","能化22-2班",2022010497,"达娃卓玛","女",null,163.5,86.8,3247,9.2,157,17.6,"4'37''",28,66,"及格"]
[2022,"化学工程与环境学院","能化22-2班",2022010503,"袁祺瑞","男",null,160.5,60.4,4839,7.9,210,18.4,"4'09''",6,72.5,"及格"]
[2022,"化学工程与环境学院","能化22-2班",2022010505,"叶斯波力·叶尔生","男",null,182.5,71.6,5534,6.6,238,20.8,"3'29''",10,88.9,"良好"]
[2022,"化学工程与环境学院","能化22-2班",2022010508,"郝政凯","男",null,179,76.5,4985,7.7,181,3.7,"5'59''",0,52.1,"不及格"]
[2022,"化学工程与环境学院","能化22-2班",2022010509,"李京运","男",null,180,57.4,4757,7.3,255,8.9,"4'44''",0,65,"及格"]
[2022,"化学工程与环境学院","能化22-2班",2022010510,"李君成","男","免测","暂无","暂无","暂无","暂无","暂无","暂无","暂无","暂无",60,"免测"]
[2022,"化学工程与环境学院","能化22-2班",2022010515,"郭家栋","男",null,"暂无","暂无","暂无",8,"暂无","暂无","4'42''",0,24,"不及格"]
[2022,"化学工程与环境学院","能化22-2班",2022010521,"吴振宇","男",null,"暂无","暂无","暂无",6.9,"暂无","暂无","3'41''",5,35,"不及格"]
[2022,"化学工程与环境学院","能化22-2班",2022010522,"熊俊程","男",null,168,84.6,5720,7.4,216,6.6,"4'41''",0,62,"及格"]
[2022,"化学工程与环境学院","能化22-2班",2022012012,"欧子俊","男",null,174,55.2,5939,7.3,257,21.4,"3'29''",17,89.1,"良好"]
[2022,"化学工程与环境学院","能化22-2班",2022012314,"努尔兰·吐尔军","男",null,174,62.1,5724,7.8,216,10.9,"4'54''",3,65.8,"及格"]
[2022,"化学工程与环境学院","能化22-2班",2022012317,"萨比尔·库尔班江","男",null,183.5,74.1,6176,6.7,232,8,"3'39''","暂无",79.8,"及格"]
[2022,"化学工程与环境学院","能化22-2班",2022012319,"李文杰","男",null,165.5,43.2,4010,7.7,198,10.9,"4'10''",8,66.5,"及格"]
[2022,"化学工程与环境学院","能化22-2班",2022012320,"阿布杜拉·居乃都拉","男",null,171,92.2,5094,8.4,194,8,"4'58''",0,54.8,"不及格"]
[2022,"化学工程与环境学院","能化22-2班",2022015863,"王心悦","女",null,"暂无","暂无","暂无",9.8,"暂无","暂无","3'56''","暂无",27.6,"不及格"]
[2022,"化学工程与环境学院","能化22-2班",2022015881,"王彪","男",null,"暂无","暂无","暂无",7.1,"暂无","暂无","3'31''",8,37,"不及格"]