{"text_format":"3","workbook":"xlsx","n_sheets":18,"sheets":["总表","四级成绩","体测成绩","辅导员加分","学生干部加分细则","学生干部加分","智育加分","智育加分汇总","体育锻炼成绩","体育加分","体育加分汇总","德育加分","美育","劳育基础分","劳育加分","必修课优良率","互评分","Sheet5"],"not_rendered":{"external_links":4,"defined_names":7},"read":"whole","date_system":"1900"}

{"sheet":"总表","index":0,"n_rows":182,"n_cols":45,"rows_kept":182,"merged":[[0,0,1,0],[0,1,1,1],[0,2,1,2],[0,3,1,3],[0,4,1,4],[0,5,0,18],[0,19,0,24],[0,25,0,32],[0,33,0,36],[0,37,0,40],[0,41,1,41],[0,42,1,42],[0,43,1,43],[0,44,1,44]]}
["综测排名"," 必修课排名","学号","姓名","班级","德育成绩",{"$nulls":13},"智育成绩",{"$nulls":5},"体育成绩",{"$nulls":7},"美育成绩",{"$nulls":3},"劳育成绩",{"$nulls":3},"综合测评总分","优良率","四级成绩","是否挂科"]
[{"$nulls":5},"班级互评分","辅导员打分","班团委员打分","班主任打分","班级互评分×0.2","辅导员打分×0.5","班团委员打分*0.2","班主任打分*0.1","学生思想品德测评分值","学生干部加分","德育加分","德育扣分","德育成绩","德育成绩×0.15","必修课加权平均分","选修课加权平均分","智育成绩（必修课×0.9+选修课×0.1）","智育加分","智育成绩","智育成绩×0.70","体测成绩","锻炼成绩","体测成绩×0.8","锻炼成绩×0.2","体育锻炼成绩","体育加分","体育成绩","体育成绩×0.05","文化艺术活动","美育加分","美育成绩","美育成绩×0.05","劳动实践","劳育加分","劳育成绩","劳育成绩×0.05"]
[{"$nulls":5},"vlookup","vlookup","vlookup","vlookup","公式求和","公式求和","公式求和","公式求和","公式求和","VLOOKUP","汇总统计","汇总统计","公式求和","公式求和","vlookup","vlookup","公式求和","汇总统计","公式求和","公式求和","单独做表vlookup","vlookup","公式求和","公式求和","公式求和","汇总统计","公式求和","公式求和","VLOOKUP","VLOOKUP","公式求和","公式计算","VLOOKUP","VLOOKUP","公式求和","公式计算","公式求和","vlookup","vlookup","vlookup"]
[1,4,"2024010590","杨航维",{"$f":"VLOOKUP(D4,美育!B$2:E$182,2,FALSE)","v":"化工类24-5班"},{"$f":"VLOOKUP(D4,互评分!C$2:F$181,4,FALSE)","v":{"v":99.6296296296296,"d":"99.6296"}},{"$f":"VLOOKUP(D4,辅导员加分!B$2:C$176,2,FALSE)","v":{"v":94,"d":"94.0000"}},{"$f":"VLOOKUP(D4,互评分!C$2:F$181,3,FALSE)","v":{"v":100,"d":"100.0000"}},{"$f":"VLOOKUP(D4,互评分!C$2:F$181,2,FALSE)","v":{"v":95,"d":"95.0000"}},{"$f":"F4*0.2","v":{"v":19.9259259259259,"d":"19.9259"}},{"$f":"G4*0.5","v":{"v":47,"d":"47.0000"}},{"$f":"H4*0.2","v":{"v":20,"d":"20.0000"}},{"$f":"I4*0.1","v":{"v":9.5,"d":"9.5000"}},{"$f":"SUM(J4:M4)*0.7","v":{"v":67.4981481481481,"d":"67.4981"}},{"$f":"VLOOKUP(D4,学生干部加分!A$1:C$140,3,FALSE)","v":{"v":7,"d":"7.0000"}},{"v":0,"d":"0.0000"},{"v":0,"d":"0.0000"},{"$f":"N4+O4+P4-Q4","v":{"v":74.4981481481481,"d":"74.4981"}},{"$f":"R4*0.15","v":{"v":11.1747222222222,"d":"11.1747"}},{"v":90.0853658536585,"d":"90.0854"},{"v":90.3333333333333,"d":"90.3333"},{"$f":"IF(U4>0,T4*0.9+U4*0.1,T4)","v":{"v":90.110162601626,"d":"90.1102"}},{"$f":"VLOOKUP(D4,智育加分汇总!A$2:C$44,3,FALSE)","v":{"v":15,"d":"15.0000"}},{"$f":"V4*0.85+W4","v":{"v":91.5936382113821,"d":"91.5936"}},{"$f":"0.7*X4","v":{"v":64.1155467479675,"d":"64.1155"}},{"$f":"VLOOKUP(D4,体测成绩!B$2:C$273,2,FALSE)","v":{"v":72,"d":"72.0000"}},{"$f":"VLOOKUP(D4,体育锻炼成绩!A$2:B$182,2,FALSE)","v":"100.00"},{"$f":"0.8*Z4","v":{"v":57.6,"d":"57.6000"}},{"$f":"AA4*0.2","v":{"v":20,"d":"20.0000"}},{"$f":"SUM(AB4:AC4)*0.7","v":{"v":54.32,"d":"54.3200"}},{"$f":"VLOOKUP(D4,体育加分汇总!A$1:C$79,3,FALSE)","v":{"v":1,"d":"1.0000"}},{"$f":"AD4+AE4","v":{"v":55.32,"d":"55.3200"}},{"$f":"AF4*0.05","v":{"v":2.766,"d":"2.7660"}},{"$f":"VLOOKUP(D4,美育!B$2:F$182,5,FALSE)","v":{"v":36,"d":"36.0000"}},{"$f":"VLOOKUP(D4,美育!B$2:E$182,4,FALSE)","v":{"v":0,"d":"0.0000"}},{"$f":"AH4+AI4","v":{"v":36,"d":"36.0000"}},{"$f":"AJ4*0.05","v":{"v":1.8,"d":"1.8000"}},{"$f":"VLOOKUP(D4,劳育基础分!B$3:AF$182,31,FALSE)","v":{"v":44,"d":"44.0000"}},{"v":0,"d":"0.0000"},{"$f":"AL4+AM4","v":{"v":44,"d":"44.0000"}},{"$f":"AN4*0.05","v":{"v":2.2,"d":"2.2000"}},{"$f":"S4+Y4+AG4+AK4+AO4","v":{"v":82.0562689701897,"d":"82.0563"}},{"$f":"VLOOKUP(D4,必修课优良率!A$1:B$173,2,FALSE)","v":"85.71%"},{"$f":"VLOOKUP(D4,四级成绩!B$2:C$178,2,FALSE)","v":607},{"$f":"VLOOKUP(D4,必修课优良率!A$1:D$173,4,FALSE)","v":"否"}]
[2,7,"2024010582","刘文清",{"$f":"VLOOKUP(D5,美育!B$2:E$182,2,FALSE)","v":"化工类24-5班"},{"$f":"VLOOKUP(D5,互评分!C$2:F$181,4,FALSE)","v":{"v":99.6296296296296,"d":"99.6296"}},{"$f":"VLOOKUP(D5,辅导员加分!B$2:C$176,2,FALSE)","v":{"v":94,"d":"94.0000"}},{"$f":"VLOOKUP(D5,互评分!C$2:F$181,3,FALSE)","v":{"v":100,"d":"100.0000"}},{"$f":"VLOOKUP(D5,互评分!C$2:F$181,2,FALSE)","v":{"v":95,"d":"95.0000"}},{"$f":"F5*0.2","v":{"v":19.9259259259259,"d":"19.9259"}},{"$f":"G5*0.5","v":{"v":47,"d":"47.0000"}},{"$f":"H5*0.2","v":{"v":20,"d":"20.0000"}},{"$f":"I5*0.1","v":{"v":9.5,"d":"9.5000"}},{"$f":"SUM(J5:M5)*0.7","v":{"v":67.4981481481481,"d":"67.4981"}},{"$f":"VLOOKUP(D5,学生干部加分!A$1:C$140,3,FALSE)","v":{"v":7,"d":"7.0000"}},{"v":0,"d":"0.0000"},{"v":0,"d":"0.0000"},{"$f":"N5+O5+P5-Q5","v":{"v":74.4981481481481,"d":"74.4981"}},{"$f":"R5*0.15","v":{"v":11.1747222222222,"d":"11.1747"}},{"v":87.9268292682927,"d":"87.9268"},{"v":91.5,"d":"91.5000"},{"$f":"IF(U5>0,T5*0.9+U5*0.1,T5)","v":{"v":88.2841463414634,"d":"88.2841"}},{"$f":"VLOOKUP(D5,智育加分汇总!A$2:C$44,3,FALSE)","v":{"v":12.2,"d":"12.2000"}},{"$f":"V5*0.85+W5","v":{"v":87.2415243902439,"d":"87.2415"}},{"$f":"0.7*X5","v":{"v":61.0690670731707,"d":"61.0691"}},{"$f":"VLOOKUP(D5,体测成绩!B$2:C$273,2,FALSE)","v":{"v":74.2,"d":"74.2000"}},{"$f":"VLOOKUP(D5,体育锻炼成绩!A$2:B$182,2,FALSE)","v":"100.00"},{"$f":"0.8*Z5","v":{"v":59.36,"d":"59.3600"}},{"$f":"AA5*0.2","v":{"v":20,"d":"20.0000"}},{"$f":"SUM(AB5:AC5)*0.7","v":{"v":55.552,"d":"55.5520"}},{"$f":"VLOOKUP(D5,体育加分汇总!A$1:C$79,3,FALSE)","v":{"v":2,"d":"2.0000"}},{"$f":"AD5+AE5","v":{"v":57.552,"d":"57.5520"}},{"$f":"AF5*0.05","v":2.8776},{"$f":"VLOOKUP(D5,美育!B$2:F$182,5,FALSE)","v":{"v":70,"d":"70.0000"}},{"$f":"VLOOKUP(D5,美育!B$2:E$182,4,FALSE)","v":{"v":0,"d":"0.0000"}},{"$f":"AH5+AI5","v":{"v":70,"d":"70.0000"}},{"$f":"AJ5*0.05","v":{"v":3.5,"d":"3.5000"}},{"$f":"VLOOKUP(D5,劳育基础分!B$3:AF$182,31,FALSE)","v":{"v":42.5,"d":"42.5000"}},{"v":0,"d":"0.0000"},{"$f":"AL5+AM5","v":{"v":42.5,"d":"42.5000"}},{"$f":"AN5*0.05","v":{"v":2.125,"d":"2.1250"}},{"$f":"S5+Y5+AG5+AK5+AO5","v":{"v":80.746389295393,"d":"80.7464"}},{"$f":"VLOOKUP(D5,必修课优良率!A$1:B$173,2,FALSE)","v":"100.00%"},{"$f":"VLOOKUP(D5,四级成绩!B$2:C$178,2,FALSE)","v":540},{"$f":"VLOOKUP(D5,必修课优良率!A$1:D$173,4,FALSE)","v":"否"}]
[3,12,"2024010525","何佳",{"$f":"VLOOKUP(D6,美育!B$2:E$182,2,FALSE)","v":"化工类24-3班"},{"$f":"VLOOKUP(D6,互评分!C$2:F$181,4,FALSE)","v":{"v":99.5925925925926,"d":"99.5926"}},{"$f":"VLOOKUP(D6,辅导员加分!B$2:C$176,2,FALSE)","v":{"v":95,"d":"95.0000"}},{"$f":"VLOOKUP(D6,互评分!C$2:F$181,3,FALSE)","v":{"v":100,"d":"100.0000"}},{"$f":"VLOOKUP(D6,互评分!C$2:F$181,2,FALSE)","v":{"v":100,"d":"100.0000"}},{"$f":"F6*0.2","v":{"v":19.9185185185185,"d":"19.9185"}},{"$f":"G6*0.5","v":{"v":47.5,"d":"47.5000"}},{"$f":"H6*0.2","v":{"v":20,"d":"20.0000"}},{"$f":"I6*0.1","v":{"v":10,"d":"10.0000"}},{"$f":"SUM(J6:M6)*0.7","v":{"v":68.192962962963,"d":"68.1930"}},{"$f":"VLOOKUP(D6,学生干部加分!A$1:C$140,3,FALSE)","v":{"v":8,"d":"8.0000"}},{"$f":"VLOOKUP(D6,德育加分!C$2:K$30,9,FALSE)","v":{"v":5,"d":"5.0000"}},{"v":0,"d":"0.0000"},{"$f":"N6+O6+P6-Q6","v":{"v":81.192962962963,"d":"81.1930"}},{"$f":"R6*0.15","v":{"v":12.1789444444444,"d":"12.1789"}},{"v":86.8780487804878,"d":"86.8780"},{"v":85.6666666666667,"d":"85.6667"},{"$f":"IF(U6>0,T6*0.9+U6*0.1,T6)","v":{"v":86.7569105691057,"d":"86.7569"}},{"$f":"VLOOKUP(D6,智育加分汇总!A$2:C$44,3,FALSE)","v":{"v":7.8,"d":"7.8000"}},{"$f":"V6*0.85+W6","v":{"v":81.5433739837398,"d":"81.5434"}},{"$f":"0.7*X6","v":{"v":57.0803617886179,"d":"57.0804"}},{"$f":"VLOOKUP(D6,体测成绩!B$2:C$273,2,FALSE)","v":{"v":81.2,"d":"81.2000"}},{"$f":"VLOOKUP(D6,体育锻炼成绩!A$2:B$182,2,FALSE)","v":{"v":100,"d":"100.0000"}},{"$f":"0.8*Z6","v":{"v":64.96,"d":"64.9600"}},{"$f":"AA6*0.2","v":{"v":20,"d":"20.0000"}},{"$f":"SUM(AB6:AC6)*0.7","v":{"v":59.472,"d":"59.4720"}},{"$f":"VLOOKUP(D6,体育加分汇总!A$1:C$79,3,FALSE)","v":{"v":9,"d":"9.0000"}},{"$f":"AD6+AE6","v":{"v":68.472,"d":"68.4720"}},{"$f":"AF6*0.05","v":3.4236},{"$f":"VLOOKUP(D6,美育!B$2:F$182,5,FALSE)","v":{"v":70,"d":"70.0000"}},{"$f":"VLOOKUP(D6,美育!B$2:E$182,4,FALSE)","v":{"v":0,"d":"0.0000"}},{"$f":"AH6+AI6","v":{"v":70,"d":"70.0000"}},{"$f":"AJ6*0.05","v":{"v":3.5,"d":"3.5000"}},{"$f":"VLOOKUP(D6,劳育基础分!B$3:AF$182,31,FALSE)","v":{"v":42,"d":"42.0000"}},{"$f":"VLOOKUP(D6,劳育加分!A$3:I$34,9,FALSE)","v":{"v":4,"d":"4.0000"}},{"$f":"AL6+AM6","v":{"v":46,"d":"46.0000"}},{"$f":"AN6*0.05","v":{"v":2.3,"d":"2.3000"}},{"$f":"S6+Y6+AG6+AK6+AO6","v":{"v":78.4829062330623,"d":"78.4829"}},{"$f":"VLOOKUP(D6,必修课优良率!A$1:B$173,2,FALSE)","v":"85.71%"},{"$f":"VLOOKUP(D6,四级成绩!B$2:C$178,2,FALSE)","v":561},{"$f":"VLOOKUP(D6,必修课优良率!A$1:D$173,4,FALSE)","v":"否"}]
[4,93,"2024010617","严翊中",{"$f":"VLOOKUP(D7,美育!B$2:E$182,2,FALSE)","v":"化工类24-6班"},{"$f":"VLOOKUP(D7,互评分!C$2:F$181,4,FALSE)","v":{"v":97.6923076923077,"d":"97.6923"}},{"$f":"VLOOKUP(D7,辅导员加分!B$2:C$176,2,FALSE)","v":{"v":92,"d":"92.0000"}},{"$f":"VLOOKUP(D7,互评分!C$2:F$181,3,FALSE)","v":{"v":98.5714286,"d":"98.5714"}},{"$f":"VLOOKUP(D7,互评分!C$2:F$181,2,FALSE)","v":{"v":100,"d":"100.0000"}},{"$f":"F7*0.2","v":{"v":19.5384615384615,"d":"19.5385"}},{"$f":"G7*0.5","v":{"v":46,"d":"46.0000"}},{"$f":"H7*0.2","v":{"v":19.71428572,"d":"19.7143"}},{"$f":"I7*0.1","v":{"v":10,"d":"10.0000"}},{"$f":"SUM(J7:M7)*0.7","v":{"v":66.6769230809231,"d":"66.6769"}},{"$f":"VLOOKUP(D7,学生干部加分!A$1:C$140,3,FALSE)","v":{"v":8,"d":"8.0000"}},{"$f":"VLOOKUP(D7,德育加分!C$2:K$30,9,FALSE)","v":{"v":6,"d":"6.0000"}},{"v":0,"d":"0.0000"},{"$f":"N7+O7+P7-Q7","v":{"v":80.6769230809231,"d":"80.6769"}},{"$f":"R7*0.15","v":{"v":12.1015384621385,"d":"12.1015"}},{"v":76.9512195121951,"d":"76.9512"},{"v":87.8571428571429,"d":"87.8571"},{"$f":"IF(U7>0,T7*0.9+U7*0.1,T7)","v":{"v":78.0418118466899,"d":"78.0418"}},{"$f":"VLOOKUP(D7,智育加分汇总!A$2:C$44,3,FALSE)","v":{"v":15,"d":"15.0000"}},{"$f":"V7*0.85+W7","v":{"v":81.3355400696864,"d":"81.3355"}},{"$f":"0.7*X7","v":{"v":56.9348780487805,"d":"56.9349"}},{"$f":"VLOOKUP(D7,体测成绩!B$2:C$273,2,FALSE)","v":{"v":65.4,"d":"65.4000"}},{"$f":"VLOOKUP(D7,体育锻炼成绩!A$2:B$182,2,FALSE)","v":"100.00"},{"$f":"0.8*Z7","v":{"v":52.32,"d":"52.3200"}},{"$f":"AA7*0.2","v":{"v":20,"d":"20.0000"}},{"$f":"SUM(AB7:AC7)*0.7","v":{"v":50.624,"d":"50.6240"}},{"$f":"VLOOKUP(D7,体育加分汇总!A$1:C$79,3,FALSE)","v":{"v":8,"d":"8.0000"}},{"$f":"AD7+AE7","v":{"v":58.624,"d":"58.6240"}},{"$f":"AF7*0.05","v":2.9312},{"$f":"VLOOKUP(D7,美育!B$2:F$182,5,FALSE)","v":{"v":70,"d":"70.0000"}},{"$f":"VLOOKUP(D7,美育!B$2:E$182,4,FALSE)","v":{"v":4,"d":"4.0000"}},{"$f":"AH7+AI7","v":{"v":74,"d":"74.0000"}},{"$f":"AJ7*0.05","v":{"v":3.7,"d":"3.7000"}},{"$f":"VLOOKUP(D7,劳育基础分!B$3:AF$182,31,FALSE)","v":{"v":40,"d":"40.0000"}},{"$f":"VLOOKUP(D7,劳育加分!A$3:I$34,9,FALSE)","v":{"v":4,"d":"4.0000"}},{"$f":"AL7+AM7","v":{"v":44,"d":"44.0000"}},{"$f":"AN7*0.05","v":{"v":2.2,"d":"2.2000"}},{"$f":"S7+Y7+AG7+AK7+AO7","v":{"v":77.8676165109189,"d":"77.8676"}},{"$f":"VLOOKUP(D7,必修课优良率!A$1:B$173,2,FALSE)","v":"52.38%"},{"$f":"VLOOKUP(D7,四级成绩!B$2:C$178,2,FALSE)","v":"496"},{"$f":"VLOOKUP(D7,必修课优良率!A$1:D$173,4,FALSE)","v":"是"}]
[5,1,2024010608,"温晓阳",{"$f":"VLOOKUP(D8,美育!B$2:E$182,2,FALSE)","v":"化工类24-6班"},{"$f":"VLOOKUP(D8,互评分!C$2:F$181,4,FALSE)","v":{"v":98.8461538461538,"d":"98.8462"}},{"$f":"VLOOKUP(D8,辅导员加分!B$2:C$176,2,FALSE)","v":{"v":94,"d":"94.0000"}},{"$f":"VLOOKUP(D8,互评分!C$2:F$181,3,FALSE)","v":{"v":100,"d":"100.0000"}},{"$f":"VLOOKUP(D8,互评分!C$2:F$181,2,FALSE)","v":{"v":100,"d":"100.0000"}},{"$f":"F8*0.2","v":{"v":19.7692307692308,"d":"19.7692"}},{"$f":"G8*0.5","v":{"v":47,"d":"47.0000"}},{"$f":"H8*0.2","v":{"v":20,"d":"20.0000"}},{"$f":"I8*0.1","v":{"v":10,"d":"10.0000"}},{"$f":"SUM(J8:M8)*0.7","v":{"v":67.7384615384615,"d":"67.7385"}},{"$f":"VLOOKUP(D8,学生干部加分!A$1:C$140,3,FALSE)","v":{"v":8,"d":"8.0000"}},{"v":0,"d":"0.0000"},{"v":0,"d":"0.0000"},{"$f":"N8+O8+P8-Q8","v":{"v":75.7384615384615,"d":"75.7385"}},{"$f":"R8*0.15","v":{"v":11.3607692307692,"d":"11.3608"}},{"$f":"VLOOKUP(D8,[1]必修课成绩!C$71:AE$100,29,FALSE)","v":92.4875},{"$f":"VLOOKUP(D8,[1]选修课成绩!C$72:AC$101,27,FALSE)","v":{"v":89,"d":"89.0000"}},{"$f":"IF(U8>0,T8*0.9+U8*0.1,T8)","v":{"v":92.13875,"d":"92.1388"}},{"$f":"VLOOKUP(D8,智育加分汇总!A$2:C$44,3,FALSE)","v":{"v":3,"d":"3.0000"}},{"$f":"V8*0.85+W8","v":{"v":81.3179375,"d":"81.3179"}},{"$f":"0.7*X8","v":{"v":56.92255625,"d":"56.9226"}},{"$f":"VLOOKUP(D8,体测成绩!B$2:C$273,2,FALSE)","v":{"v":78.5,"d":"78.5000"}},{"$f":"VLOOKUP(D8,体育锻炼成绩!A$2:B$182,2,FALSE)","v":"100.00"},{"$f":"0.8*Z8","v":{"v":62.8,"d":"62.8000"}},{"$f":"AA8*0.2","v":{"v":20,"d":"20.0000"}},{"$f":"SUM(AB8:AC8)*0.7","v":{"v":57.96,"d":"57.9600"}},{"$f":"VLOOKUP(D8,体育加分汇总!A$1:C$79,3,FALSE)","v":{"v":1,"d":"1.0000"}},{"$f":"AD8+AE8","v":{"v":58.96,"d":"58.9600"}},{"$f":"AF8*0.05","v":{"v":2.948,"d":"2.9480"}},{"$f":"VLOOKUP(D8,美育!B$2:F$182,5,FALSE)","v":{"v":70,"d":"70.0000"}},{"$f":"VLOOKUP(D8,美育!B$2:E$182,4,FALSE)","v":{"v":4,"d":"4.0000"}},{"$f":"AH8+AI8","v":{"v":74,"d":"74.0000"}},{"$f":"AJ8*0.05","v":{"v":3.7,"d":"3.7000"}},{"$f":"VLOOKUP(D8,劳育基础分!B$3:AF$182,31,FALSE)","v":{"v":50,"d":"50.0000"}},{"v":0,"d":"0.0000"},{"$f":"AL8+AM8","v":{"v":50,"d":"50.0000"}},{"$f":"AN8*0.05","v":{"v":2.5,"d":"2.5000"}},{"$f":"S8+Y8+AG8+AK8+AO8","v":{"v":77.4313254807692,"d":"77.4313"}},{"$f":"VLOOKUP(D8,必修课优良率!A$1:B$173,2,FALSE)","v":"90.48%"},{"$f":"VLOOKUP(D8,四级成绩!B$2:C$178,2,FALSE)","v":526},{"$f":"VLOOKUP(D8,必修课优良率!A$1:D$173,4,FALSE)","v":"否"}]
[6,10,"2024010584","刘玲嘉",{"$f":"VLOOKUP(D9,美育!B$2:E$182,2,FALSE)","v":"化工类24-5班"},{"$f":"VLOOKUP(D9,互评分!C$2:F$181,4,FALSE)","v":{"v":99.6666666666667,"d":"99.6667"}},{"$f":"VLOOKUP(D9,辅导员加分!B$2:C$176,2,FALSE)","v":{"v":96,"d":"96.0000"}},{"$f":"VLOOKUP(D9,互评分!C$2:F$181,3,FALSE)","v":{"v":100,"d":"100.0000"}},{"$f":"VLOOKUP(D9,互评分!C$2:F$181,2,FALSE)","v":{"v":95,"d":"95.0000"}},{"$f":"F9*0.2","v":{"v":19.9333333333333,"d":"19.9333"}},{"$f":"G9*0.5","v":{"v":48,"d":"48.0000"}},{"$f":"H9*0.2","v":{"v":20,"d":"20.0000"}},{"$f":"I9*0.1","v":{"v":9.5,"d":"9.5000"}},{"$f":"SUM(J9:M9)*0.7","v":{"v":68.2033333333333,"d":"68.2033"}},{"$f":"VLOOKUP(D9,学生干部加分!A$1:C$140,3,FALSE)","v":{"v":9,"d":"9.0000"}},{"v":0,"d":"0.0000"},{"v":0,"d":"0.0000"},{"$f":"N9+O9+P9-Q9","v":{"v":77.2033333333333,"d":"77.2033"}},{"$f":"R9*0.15","v":11.5805},{"v":87.4146341463415,"d":"87.4146"},{"v":82,"d":"82.0000"},{"$f":"IF(U9>0,T9*0.9+U9*0.1,T9)","v":{"v":86.8731707317073,"d":"86.8732"}},{"$f":"VLOOKUP(D9,智育加分汇总!A$2:C$44,3,FALSE)","v":{"v":5,"d":"5.0000"}},{"$f":"V9*0.85+W9","v":{"v":78.8421951219512,"d":"78.8422"}},{"$f":"0.7*X9","v":{"v":55.1895365853659,"d":"55.1895"}},{"$f":"VLOOKUP(D9,体测成绩!B$2:C$273,2,FALSE)","v":{"v":88.8,"d":"88.8000"}},{"$f":"VLOOKUP(D9,体育锻炼成绩!A$2:B$182,2,FALSE)","v":"100.00"},{"$f":"0.8*Z9","v":{"v":71.04,"d":"71.0400"}},{"$f":"AA9*0.2","v":{"v":20,"d":"20.0000"}},{"$f":"SUM(AB9:AC9)*0.7","v":{"v":63.728,"d":"63.7280"}},{"$f":"VLOOKUP(D9,体育加分汇总!A$1:C$79,3,FALSE)","v":{"v":8,"d":"8.0000"}},{"$f":"AD9+AE9","v":{"v":71.728,"d":"71.7280"}},{"$f":"AF9*0.05","v":3.5864},{"$f":"VLOOKUP(D9,美育!B$2:F$182,5,FALSE)","v":{"v":70,"d":"70.0000"}},{"$f":"VLOOKUP(D9,美育!B$2:E$182,4,FALSE)","v":{"v":4,"d":"4.0000"}},{"$f":"AH9+AI9","v":{"v":74,"d":"74.0000"}},{"$f":"AJ9*0.05","v":{"v":3.7,"d":"3.7000"}},{"$f":"VLOOKUP(D9,劳育基础分!B$3:AF$182,31,FALSE)","v":{"v":44.5,"d":"44.5000"}},{"v":0,"d":"0.0000"},{"$f":"AL9+AM9","v":{"v":44.5,"d":"44.5000"}},{"$f":"AN9*0.05","v":{"v":2.225,"d":"2.2250"}},{"$f":"S9+Y9+AG9+AK9+AO9","v":{"v":76.2814365853659,"d":"76.2814"}},{"$f":"VLOOKUP(D9,必修课优良率!A$1:B$173,2,FALSE)","v":"95.24%"},{"$f":"VLOOKUP(D9,四级成绩!B$2:C$178,2,FALSE)","v":533},{"$f":"VLOOKUP(D9,必修课优良率!A$1:D$173,4,FALSE)","v":"否"}]
[7,21,"2024010578","张钰涵",{"$f":"VLOOKUP(D10,美育!B$2:E$182,2,FALSE)","v":"化工类24-5班"},{"$f":"VLOOKUP(D10,互评分!C$2:F$181,4,FALSE)","v":{"v":99.5925925925926,"d":"99.5926"}},{"$f":"VLOOKUP(D10,辅导员加分!B$2:C$176,2,FALSE)","v":{"v":94,"d":"94.0000"}},{"$f":"VLOOKUP(D10,互评分!C$2:F$181,3,FALSE)","v":{"v":100,"d":"100.0000"}},{"$f":"VLOOKUP(D10,互评分!C$2:F$181,2,FALSE)","v":{"v":93,"d":"93.0000"}},{"$f":"F10*0.2","v":{"v":19.9185185185185,"d":"19.9185"}},{"$f":"G10*0.5","v":{"v":47,"d":"47.0000"}},{"$f":"H10*0.2","v":{"v":20,"d":"20.0000"}},{"$f":"I10*0.1","v":{"v":9.3,"d":"9.3000"}},{"$f":"SUM(J10:M10)*0.7","v":{"v":67.352962962963,"d":"67.3530"}},{"$f":"VLOOKUP(D10,学生干部加分!A$1:C$140,3,FALSE)","v":{"v":7,"d":"7.0000"}},{"v":0,"d":"0.0000"},{"v":0,"d":"0.0000"},{"$f":"N10+O10+P10-Q10","v":{"v":74.352962962963,"d":"74.3530"}},{"$f":"R10*0.15","v":{"v":11.1529444444444,"d":"11.1529"}},{"v":84.9634146341463,"d":"84.9634"},{"v":84,"d":"84.0000"},{"$f":"IF(U10>0,T10*0.9+U10*0.1,T10)","v":{"v":84.8670731707317,"d":"84.8671"}},{"$f":"VLOOKUP(D10,智育加分汇总!A$2:C$44,3,FALSE)","v":{"v":8,"d":"8.0000"}},{"$f":"V10*0.85+W10","v":{"v":80.1370121951219,"d":"80.1370"}},{"$f":"0.7*X10","v":{"v":56.0959085365853,"d":"56.0959"}},{"$f":"VLOOKUP(D10,体测成绩!B$2:C$273,2,FALSE)","v":{"v":75.6,"d":"75.6000"}},{"$f":"VLOOKUP(D10,体育锻炼成绩!A$2:B$182,2,FALSE)","v":"100.00"},{"$f":"0.8*Z10","v":{"v":60.48,"d":"60.4800"}},{"$f":"AA10*0.2","v":{"v":20,"d":"20.0000"}},{"$f":"SUM(AB10:AC10)*0.7","v":{"v":56.336,"d":"56.3360"}},{"$f":"VLOOKUP(D10,体育加分汇总!A$1:C$79,3,FALSE)","v":{"v":10,"d":"10.0000"}},{"$f":"AD10+AE10","v":{"v":66.336,"d":"66.3360"}},{"$f":"AF10*0.05","v":3.3168},{"$f":"VLOOKUP(D10,美育!B$2:F$182,5,FALSE)","v":{"v":70,"d":"70.0000"}},{"$f":"VLOOKUP(D10,美育!B$2:E$182,4,FALSE)","v":{"v":0,"d":"0.0000"}},{"$f":"AH10+AI10","v":{"v":70,"d":"70.0000"}},{"$f":"AJ10*0.05","v":{"v":3.5,"d":"3.5000"}},{"$f":"VLOOKUP(D10,劳育基础分!B$3:AF$182,31,FALSE)","v":{"v":42.5,"d":"42.5000"}},{"v":0,"d":"0.0000"},{"$f":"AL10+AM10","v":{"v":42.5,"d":"42.5000"}},{"$f":"AN10*0.05","v":{"v":2.125,"d":"2.1250"}},{"$f":"S10+Y10+AG10+AK10+AO10","v":{"v":76.1906529810298,"d":"76.1907"}},{"$f":"VLOOKUP(D10,必修课优良率!A$1:B$173,2,FALSE)","v":"100.00%"},{"$f":"VLOOKUP(D10,四级成绩!B$2:C$178,2,FALSE)","v":"525"},{"$f":"VLOOKUP(D10,必修课优良率!A$1:D$173,4,FALSE)","v":"否"}]
[8,9,"2024010480","谢煜轩",{"$f":"VLOOKUP(D11,美育!B$2:E$182,2,FALSE)","v":"化工类24-1班"},{"$f":"VLOOKUP(D11,互评分!C$2:F$181,4,FALSE)","v":{"v":99.2962963,"d":"99.2963"}},{"$f":"VLOOKUP(D11,辅导员加分!B$2:C$176,2,FALSE)","v":{"v":94,"d":"94.0000"}},{"$f":"VLOOKUP(D11,互评分!C$2:F$181,3,FALSE)","v":{"v":100,"d":"100.0000"}},{"$f":"VLOOKUP(D11,互评分!C$2:F$181,2,FALSE)","v":{"v":99,"d":"99.0000"}},{"$f":"F11*0.2","v":{"v":19.85925926,"d":"19.8593"}},{"$f":"G11*0.5","v":{"v":47,"d":"47.0000"}},{"$f":"H11*0.2","v":{"v":20,"d":"20.0000"}},{"$f":"I11*0.1","v":{"v":9.9,"d":"9.9000"}},{"$f":"SUM(J11:M11)*0.7","v":{"v":67.731481482,"d":"67.7315"}},{"$f":"VLOOKUP(D11,学生干部加分!A$1:C$140,3,FALSE)","v":{"v":9,"d":"9.0000"}},{"$f":"VLOOKUP(D11,德育加分!C$2:K$30,9,FALSE)","v":{"v":5,"d":"5.0000"}},{"v":0,"d":"0.0000"},{"$f":"N11+O11+P11-Q11","v":{"v":81.731481482,"d":"81.7315"}},{"$f":"R11*0.15","v":{"v":12.2597222223,"d":"12.2597"}},{"v":87.6951219512195,"d":"87.6951"},{"v":92.125,"d":"92.1250"},{"$f":"IF(U11>0,T11*0.9+U11*0.1,T11)","v":{"v":88.1381097560976,"d":"88.1381"}},{"$f":"VLOOKUP(D11,智育加分汇总!A$2:C$44,3,FALSE)","v":{"v":3,"d":"3.0000"}},{"$f":"V11*0.85+W11","v":{"v":77.9173932926829,"d":"77.9174"}},{"$f":"0.7*X11","v":{"v":54.5421753048781,"d":"54.5422"}},{"$f":"VLOOKUP(D11,体测成绩!B$2:C$273,2,FALSE)","v":{"v":71.2,"d":"71.2000"}},{"$f":"VLOOKUP(D11,体育锻炼成绩!A$2:B$182,2,FALSE)","v":"100.00"},{"$f":"0.8*Z11","v":{"v":56.96,"d":"56.9600"}},{"$f":"AA11*0.2","v":{"v":20,"d":"20.0000"}},{"$f":"SUM(AB11:AC11)*0.7","v":{"v":53.872,"d":"53.8720"}},{"$f":"VLOOKUP(D11,体育加分汇总!A$1:C$79,3,FALSE)","v":{"v":8,"d":"8.0000"}},{"$f":"AD11+AE11","v":{"v":61.872,"d":"61.8720"}},{"$f":"AF11*0.05","v":3.0936},{"$f":"VLOOKUP(D11,美育!B$2:F$182,5,FALSE)","v":{"v":70,"d":"70.0000"}},{"$f":"VLOOKUP(D11,美育!B$2:E$182,4,FALSE)","v":{"v":0,"d":"0.0000"}},{"$f":"AH11+AI11","v":{"v":70,"d":"70.0000"}},{"$f":"AJ11*0.05","v":{"v":3.5,"d":"3.5000"}},{"$f":"VLOOKUP(D11,劳育基础分!B$3:AF$182,31,FALSE)","v":{"v":42,"d":"42.0000"}},{"$f":"VLOOKUP(D11,劳育加分!A$3:I$34,9,FALSE)","v":{"v":4,"d":"4.0000"}},{"$f":"AL11+AM11","v":{"v":46,"d":"46.0000"}},{"$f":"AN11*0.05","v":{"v":2.3,"d":"2.3000"}},{"$f":"S11+Y11+AG11+AK11+AO11","v":{"v":75.695497527178,"d":"75.6955"}},{"$f":"VLOOKUP(D11,必修课优良率!A$1:B$173,2,FALSE)","v":"95.24%"},562,{"$f":"VLOOKUP(D11,必修课优良率!A$1:D$173,4,FALSE)","v":"否"}]
[9,51,"2024010626","李鑫涛",{"$f":"VLOOKUP(D12,美育!B$2:E$182,2,FALSE)","v":"化工类24-6班"},{"$f":"VLOOKUP(D12,互评分!C$2:F$181,4,FALSE)","v":{"v":97.3076923076923,"d":"97.3077"}},{"$f":"VLOOKUP(D12,辅导员加分!B$2:C$176,2,FALSE)","v":{"v":92,"d":"92.0000"}},{"$f":"VLOOKUP(D12,互评分!C$2:F$181,3,FALSE)","v":{"v":100,"d":"100.0000"}},{"$f":"VLOOKUP(D12,互评分!C$2:F$181,2,FALSE)","v":{"v":100,"d":"100.0000"}},{"$f":"F12*0.2","v":{"v":19.4615384615385,"d":"19.4615"}},{"$f":"G12*0.5","v":{"v":46,"d":"46.0000"}},{"$f":"H12*0.2","v":{"v":20,"d":"20.0000"}},{"$f":"I12*0.1","v":{"v":10,"d":"10.0000"}},{"$f":"SUM(J12:M12)*0.7","v":{"v":66.8230769230769,"d":"66.8231"}},{"$f":"VLOOKUP(D12,学生干部加分!A$1:C$140,3,FALSE)","v":{"v":6,"d":"6.0000"}},{"v":0,"d":"0.0000"},{"v":0,"d":"0.0000"},{"$f":"N12+O12+P12-Q12","v":{"v":72.8230769230769,"d":"72.8231"}},{"$f":"R12*0.15","v":{"v":10.9234615384615,"d":"10.9235"}},{"v":81,"d":"81.0000"},{"v":84,"d":"84.0000"},{"$f":"IF(U12>0,T12*0.9+U12*0.1,T12)","v":{"v":81.3,"d":"81.3000"}},{"$f":"VLOOKUP(D12,智育加分汇总!A$2:C$44,3,FALSE)","v":{"v":15,"d":"15.0000"}},{"$f":"V12*0.85+W12","v":{"v":84.105,"d":"84.1050"}},{"$f":"0.7*X12","v":58.8735},{"$f":"VLOOKUP(D12,体测成绩!B$2:C$273,2,FALSE)","v":{"v":67.2,"d":"67.2000"}},{"$f":"VLOOKUP(D12,体育锻炼成绩!A$2:B$182,2,FALSE)","v":"100.00"},{"$f":"0.8*Z12","v":{"v":53.76,"d":"53.7600"}},{"$f":"AA12*0.2","v":{"v":20,"d":"20.0000"}},{"$f":"SUM(AB12:AC12)*0.7","v":{"v":51.632,"d":"51.6320"}},{"v":0,"d":"0.0000"},{"$f":"AD12+AE12","v":{"v":51.632,"d":"51.6320"}},{"$f":"AF12*0.05","v":2.5816},{"$f":"VLOOKUP(D12,美育!B$2:F$182,5,FALSE)","v":{"v":10,"d":"10.0000"}},{"$f":"VLOOKUP(D12,美育!B$2:E$182,4,FALSE)","v":{"v":0,"d":"0.0000"}},{"$f":"AH12+AI12","v":{"v":10,"d":"10.0000"}},{"$f":"AJ12*0.05","v":{"v":0.5,"d":"0.5000"}},{"$f":"VLOOKUP(D12,劳育基础分!B$3:AF$182,31,FALSE)","v":{"v":41,"d":"41.0000"}},{"v":0,"d":"0.0000"},{"$f":"AL12+AM12","v":{"v":41,"d":"41.0000"}},{"$f":"AN12*0.05","v":{"v":2.05,"d":"2.0500"}},{"$f":"S12+Y12+AG12+AK12+AO12","v":{"v":74.9285615384615,"d":"74.9286"}},{"$f":"VLOOKUP(D12,必修课优良率!A$1:B$173,2,FALSE)","v":"71.43%"},{"$f":"VLOOKUP(D12,四级成绩!B$2:C$178,2,FALSE)","v":361},{"$f":"VLOOKUP(D12,必修课优良率!A$1:D$173,4,FALSE)","v":"否"}]
[10,34,"2024010599","林方宇",{"$f":"VLOOKUP(D13,美育!B$2:E$182,2,FALSE)","v":"化工类24-5班"},{"$f":"VLOOKUP(D13,互评分!C$2:F$181,4,FALSE)","v":{"v":99.6666666666667,"d":"99.6667"}},{"$f":"VLOOKUP(D13,辅导员加分!B$2:C$176,2,FALSE)","v":{"v":92,"d":"92.0000"}},{"$f":"VLOOKUP(D13,互评分!C$2:F$181,3,FALSE)","v":{"v":100,"d":"100.0000"}},{"$f":"VLOOKUP(D13,互评分!C$2:F$181,2,FALSE)","v":{"v":90,"d":"90.0000"}},{"$f":"F13*0.2","v":{"v":19.9333333333333,"d":"19.9333"}},{"$f":"G13*0.5","v":{"v":46,"d":"46.0000"}},{"$f":"H13*0.2","v":{"v":20,"d":"20.0000"}},{"$f":"I13*0.1","v":{"v":9,"d":"9.0000"}},{"$f":"SUM(J13:M13)*0.7","v":{"v":66.4533333333333,"d":"66.4533"}},{"$f":"VLOOKUP(D13,学生干部加分!A$1:C$140,3,FALSE)","v":{"v":6,"d":"6.0000"}},{"v":0,"d":"0.0000"},{"v":0,"d":"0.0000"},{"$f":"N13+O13+P13-Q13","v":{"v":72.4533333333333,"d":"72.4533"}},{"$f":"R13*0.15","v":{"v":10.868,"d":"10.8680"}},{"v":82.890243902439,"d":"82.8902"},{"v":77,"d":"77.0000"},{"$f":"IF(U13>0,T13*0.9+U13*0.1,T13)","v":{"v":82.3012195121951,"d":"82.3012"}},{"$f":"VLOOKUP(D13,智育加分汇总!A$2:C$44,3,FALSE)","v":{"v":10.4,"d":"10.4000"}},{"$f":"V13*0.85+W13","v":{"v":80.3560365853658,"d":"80.3560"}},{"$f":"0.7*X13","v":{"v":56.2492256097561,"d":"56.2492"}},{"$f":"VLOOKUP(D13,体测成绩!B$2:C$273,2,FALSE)","v":{"v":67.7,"d":"67.7000"}},{"$f":"VLOOKUP(D13,体育锻炼成绩!A$2:B$182,2,FALSE)","v":"100.00"},{"$f":"0.8*Z13","v":{"v":54.16,"d":"54.1600"}},{"$f":"AA13*0.2","v":{"v":20,"d":"20.0000"}},{"$f":"SUM(AB13:AC13)*0.7","v":{"v":51.912,"d":"51.9120"}},{"v":0,"d":"0.0000"},{"$f":"AD13+AE13","v":{"v":51.912,"d":"51.9120"}},{"$f":"AF13*0.05","v":2.5956},{"$f":"VLOOKUP(D13,美育!B$2:F$182,5,FALSE)","v":{"v":64,"d":"64.0000"}},{"$f":"VLOOKUP(D13,美育!B$2:E$182,4,FALSE)","v":{"v":0,"d":"0.0000"}},{"$f":"AH13+AI13","v":{"v":64,"d":"64.0000"}},{"$f":"AJ13*0.05","v":{"v":3.2,"d":"3.2000"}},{"$f":"VLOOKUP(D13,劳育基础分!B$3:AF$182,31,FALSE)","v":{"v":40,"d":"40.0000"}},{"v":0,"d":"0.0000"},{"$f":"AL13+AM13","v":{"v":40,"d":"40.0000"}},{"$f":"AN13*0.05","v":{"v":2,"d":"2.0000"}},{"$f":"S13+Y13+AG13+AK13+AO13","v":{"v":74.9128256097561,"d":"74.9128"}},{"$f":"VLOOKUP(D13,必修课优良率!A$1:B$173,2,FALSE)","v":"80.95%"},{"$f":"VLOOKUP(D13,四级成绩!B$2:C$178,2,FALSE)","v":576},{"$f":"VLOOKUP(D13,必修课优良率!A$1:D$173,4,FALSE)","v":"否"}]
[11,75,2024010519,"赵梓伯",{"$f":"VLOOKUP(D14,美育!B$2:E$182,2,FALSE)","v":"化工类24-3班"},{"$f":"VLOOKUP(D14,互评分!C$2:F$181,4,FALSE)","v":{"v":99.2222222222222,"d":"99.2222"}},{"$f":"VLOOKUP(D14,辅导员加分!B$2:C$176,2,FALSE)","v":{"v":90,"d":"90.0000"}},{"$f":"VLOOKUP(D14,互评分!C$2:F$181,3,FALSE)","v":{"v":100,"d":"100.0000"}},{"$f":"VLOOKUP(D14,互评分!C$2:F$181,2,FALSE)","v":{"v":99,"d":"99.0000"}},{"$f":"F14*0.2","v":{"v":19.8444444444444,"d":"19.8444"}},{"$f":"G14*0.5","v":{"v":45,"d":"45.0000"}},{"$f":"H14*0.2","v":{"v":20,"d":"20.0000"}},{"$f":"I14*0.1","v":{"v":9.9,"d":"9.9000"}},{"$f":"SUM(J14:M14)*0.7","v":{"v":66.3211111111111,"d":"66.3211"}},{"$f":"VLOOKUP(D14,学生干部加分!A$1:C$140,3,FALSE)","v":{"v":5,"d":"5.0000"}},{"v":0,"d":"0.0000"},{"v":0,"d":"0.0000"},{"$f":"N14+O14+P14-Q14","v":{"v":71.3211111111111,"d":"71.3211"}},{"$f":"R14*0.15","v":{"v":10.6981666666667,"d":"10.6982"}},{"$f":"VLOOKUP(D14,[1]必修课成绩!C$71:AE$100,29,FALSE)","v":78.7125},{"$f":"VLOOKUP(D14,[1]选修课成绩!C$72:AC$101,27,FALSE)","v":{"v":80,"d":"80.0000"}},{"$f":"IF(U14>0,T14*0.9+U14*0.1,T14)","v":{"v":78.84125,"d":"78.8413"}},{"$f":"VLOOKUP(D14,智育加分汇总!A$2:C$44,3,FALSE)","v":{"v":15,"d":"15.0000"}},{"$f":"V14*0.85+W14","v":{"v":82.0150625,"d":"82.0151"}},{"$f":"0.7*X14","v":{"v":57.41054375,"d":"57.4105"}},{"$f":"VLOOKUP(D14,体测成绩!B$2:C$273,2,FALSE)","v":{"v":66.8,"d":"66.8000"}},{"$f":"VLOOKUP(D14,体育锻炼成绩!A$2:B$182,2,FALSE)","v":"100.00"},{"$f":"0.8*Z14","v":{"v":53.44,"d":"53.4400"}},{"$f":"AA14*0.2","v":{"v":20,"d":"20.0000"}},{"$f":"SUM(AB14:AC14)*0.7","v":{"v":51.408,"d":"51.4080"}},{"$f":"VLOOKUP(D14,体育加分汇总!A$1:C$79,3,FALSE)","v":{"v":4,"d":"4.0000"}},{"$f":"AD14+AE14","v":{"v":55.408,"d":"55.4080"}},{"$f":"AF14*0.05","v":2.7704},{"$f":"VLOOKUP(D14,美育!B$2:F$182,5,FALSE)","v":{"v":28,"d":"28.0000"}},{"$f":"VLOOKUP(D14,美育!B$2:E$182,4,FALSE)","v":{"v":0,"d":"0.0000"}},{"$f":"AH14+AI14","v":{"v":28,"d":"28.0000"}},{"$f":"AJ14*0.05","v":{"v":1.4,"d":"1.4000"}},{"$f":"VLOOKUP(D14,劳育基础分!B$3:AF$182,31,FALSE)","v":{"v":40,"d":"40.0000"}},{"v":0,"d":"0.0000"},{"$f":"AL14+AM14","v":{"v":40,"d":"40.0000"}},{"$f":"AN14*0.05","v":{"v":2,"d":"2.0000"}},{"$f":"S14+Y14+AG14+AK14+AO14","v":{"v":74.2791104166667,"d":"74.2791"}},{"$f":"VLOOKUP(D14,必修课优良率!A$1:B$173,2,FALSE)","v":"66.67%"},{"$f":"VLOOKUP(D14,四级成绩!B$2:C$178,2,FALSE)","v":526},{"$f":"VLOOKUP(D14,必修课优良率!A$1:D$173,4,FALSE)","v":"否"}]
[12,50,"2024010458","施朝阳",{"$f":"VLOOKUP(D15,美育!B$2:E$182,2,FALSE)","v":"化工类24-1班"},{"$f":"VLOOKUP(D15,互评分!C$2:F$181,4,FALSE)","v":{"v":96.62962963,"d":"96.6296"}},{"$f":"VLOOKUP(D15,辅导员加分!B$2:C$176,2,FALSE)","v":{"v":96,"d":"96.0000"}},{"$f":"VLOOKUP(D15,互评分!C$2:F$181,3,FALSE)","v":{"v":97.5,"d":"97.5000"}},{"$f":"VLOOKUP(D15,互评分!C$2:F$181,2,FALSE)","v":{"v":99,"d":"99.0000"}},{"$f":"F15*0.2","v":{"v":19.325925926,"d":"19.3259"}},{"$f":"G15*0.5","v":{"v":48,"d":"48.0000"}},{"$f":"H15*0.2","v":{"v":19.5,"d":"19.5000"}},{"$f":"I15*0.1","v":{"v":9.9,"d":"9.9000"}},{"$f":"SUM(J15:M15)*0.7","v":{"v":67.7081481482,"d":"67.7081"}},{"$f":"VLOOKUP(D15,学生干部加分!A$1:C$140,3,FALSE)","v":{"v":8,"d":"8.0000"}},{"v":0,"d":"0.0000"},{"v":0,"d":"0.0000"},{"$f":"N15+O15+P15-Q15","v":{"v":75.7081481482,"d":"75.7081"}},{"$f":"R15*0.15","v":{"v":11.35622222223,"d":"11.3562"}},{"$f":"VLOOKUP(D15,[2]必修课成绩!C$59:BO$82,65,FALSE)","v":{"v":81.0243902439024,"d":"81.0244"}},{"$f":"VLOOKUP(D15,[2]选修课成绩!C$60:BI$83,59,FALSE)","v":{"v":90.5,"d":"90.5000"}},{"$f":"IF(U15>0,T15*0.9+U15*0.1,T15)","v":{"v":81.9719512195122,"d":"81.9720"}},{"$f":"VLOOKUP(D15,智育加分汇总!A$2:C$44,3,FALSE)","v":{"v":9,"d":"9.0000"}},{"$f":"V15*0.85+W15","v":{"v":78.6761585365853,"d":"78.6762"}},{"$f":"0.7*X15","v":{"v":55.0733109756097,"d":"55.0733"}},{"$f":"VLOOKUP(D15,体测成绩!B$2:C$273,2,FALSE)","v":{"v":64.3,"d":"64.3000"}},{"$f":"VLOOKUP(D15,体育锻炼成绩!A$2:B$182,2,FALSE)","v":"100.00"},{"$f":"0.8*Z15","v":{"v":51.44,"d":"51.4400"}},{"$f":"AA15*0.2","v":{"v":20,"d":"20.0000"}},{"$f":"SUM(AB15:AC15)*0.7","v":{"v":50.008,"d":"50.0080"}},{"v":0,"d":"0.0000"},{"$f":"AD15+AE15","v":{"v":50.008,"d":"50.0080"}},{"$f":"AF15*0.05","v":2.5004},{"$f":"VLOOKUP(D15,美育!B$2:F$182,5,FALSE)","v":{"v":43,"d":"43.0000"}},{"$f":"VLOOKUP(D15,美育!B$2:E$182,4,FALSE)","v":{"v":8,"d":"8.0000"}},{"$f":"AH15+AI15","v":{"v":51,"d":"51.0000"}},{"$f":"AJ15*0.05","v":{"v":2.55,"d":"2.5500"}},{"$f":"VLOOKUP(D15,劳育基础分!B$3:AF$182,31,FALSE)","v":{"v":40,"d":"40.0000"}},{"v":0,"d":"0.0000"},{"$f":"AL15+AM15","v":{"v":40,"d":"40.0000"}},{"$f":"AN15*0.05","v":{"v":2,"d":"2.0000"}},{"$f":"S15+Y15+AG15+AK15+AO15","v":{"v":73.4799331978397,"d":"73.4799"}},{"$f":"VLOOKUP(D15,必修课优良率!A$1:B$173,2,FALSE)","v":"80.95%"},{"$f":"VLOOKUP(D15,四级成绩!B$2:C$178,2,FALSE)","v":546},{"$f":"VLOOKUP(D15,必修课优良率!A$1:D$173,4,FALSE)","v":"否"}]
[13,11,"2024010553","尤雅",{"$f":"VLOOKUP(D16,美育!B$2:E$182,2,FALSE)","v":"化工类24-4班"},{"$f":"VLOOKUP(D16,互评分!C$2:F$181,4,FALSE)","v":{"v":96.286,"d":"96.2860"}},{"$f":"VLOOKUP(D16,辅导员加分!B$2:C$176,2,FALSE)","v":{"v":94,"d":"94.0000"}},{"$f":"VLOOKUP(D16,互评分!C$2:F$181,3,FALSE)","v":{"v":97,"d":"97.0000"}},{"$f":"VLOOKUP(D16,互评分!C$2:F$181,2,FALSE)","v":{"v":100,"d":"100.0000"}},{"$f":"F16*0.2","v":19.2572},{"$f":"G16*0.5","v":{"v":47,"d":"47.0000"}},{"$f":"H16*0.2","v":{"v":19.4,"d":"19.4000"}},{"$f":"I16*0.1","v":{"v":10,"d":"10.0000"}},{"$f":"SUM(J16:M16)*0.7","v":{"v":66.96004,"d":"66.9600"}},{"$f":"VLOOKUP(D16,学生干部加分!A$1:C$140,3,FALSE)","v":{"v":9,"d":"9.0000"}},{"v":0,"d":"0.0000"},{"v":0,"d":"0.0000"},{"$f":"N16+O16+P16-Q16","v":{"v":75.96004,"d":"75.9600"}},{"$f":"R16*0.15","v":{"v":11.394006,"d":"11.3940"}},{"$f":"VLOOKUP(D16,[2]必修课成绩!C$59:BO$82,65,FALSE)","v":{"v":86.9634146341463,"d":"86.9634"}},{"$f":"VLOOKUP(D16,[2]选修课成绩!C$60:BI$83,59,FALSE)","v":{"v":92,"d":"92.0000"}},{"$f":"IF(U16>0,T16*0.9+U16*0.1,T16)","v":{"v":87.4670731707317,"d":"87.4671"}},{"v":0,"d":"0.0000"},{"$f":"V16*0.85+W16","v":{"v":74.3470121951219,"d":"74.3470"}},{"$f":"0.7*X16","v":{"v":52.0429085365853,"d":"52.0429"}},{"$f":"VLOOKUP(D16,体测成绩!B$2:C$273,2,FALSE)","v":{"v":75,"d":"75.0000"}},{"$f":"VLOOKUP(D16,体育锻炼成绩!A$2:B$182,2,FALSE)","v":"100.00"},{"$f":"0.8*Z16","v":{"v":60,"d":"60.0000"}},{"$f":"AA16*0.2","v":{"v":20,"d":"20.0000"}},{"$f":"SUM(AB16:AC16)*0.7","v":{"v":56,"d":"56.0000"}},{"$f":"VLOOKUP(D16,体育加分汇总!A$1:C$79,3,FALSE)","v":{"v":9,"d":"9.0000"}},{"$f":"AD16+AE16","v":{"v":65,"d":"65.0000"}},{"$f":"AF16*0.05","v":{"v":3.25,"d":"3.2500"}},{"$f":"VLOOKUP(D16,美育!B$2:F$182,5,FALSE)","v":{"v":70,"d":"70.0000"}},{"$f":"VLOOKUP(D16,美育!B$2:E$182,4,FALSE)","v":{"v":19,"d":"19.0000"}},{"$f":"AH16+AI16","v":{"v":89,"d":"89.0000"}},{"$f":"AJ16*0.05","v":{"v":4.45,"d":"4.4500"}},{"$f":"VLOOKUP(D16,劳育基础分!B$3:AF$182,31,FALSE)","v":{"v":40,"d":"40.0000"}},{"v":0,"d":"0.0000"},{"$f":"AL16+AM16","v":{"v":40,"d":"40.0000"}},{"$f":"AN16*0.05","v":{"v":2,"d":"2.0000"}},{"$f":"S16+Y16+AG16+AK16+AO16","v":{"v":73.1369145365853,"d":"73.1369"}},{"$f":"VLOOKUP(D16,必修课优良率!A$1:B$173,2,FALSE)","v":"90.48%"},{"$f":"VLOOKUP(D16,四级成绩!B$2:C$178,2,FALSE)","v":492},{"$f":"VLOOKUP(D16,必修课优良率!A$1:D$173,4,FALSE)","v":"否"}]
[14,3,"2024010550","梁金玉",{"$f":"VLOOKUP(D17,美育!B$2:E$182,2,FALSE)","v":"化工类24-4班"},{"$f":"VLOOKUP(D17,互评分!C$2:F$181,4,FALSE)","v":97.5357},{"$f":"VLOOKUP(D17,辅导员加分!B$2:C$176,2,FALSE)","v":{"v":97,"d":"97.0000"}},{"$f":"VLOOKUP(D17,互评分!C$2:F$181,3,FALSE)","v":{"v":98.42857,"d":"98.4286"}},{"$f":"VLOOKUP(D17,互评分!C$2:F$181,2,FALSE)","v":{"v":100,"d":"100.0000"}},{"$f":"F17*0.2","v":{"v":19.50714,"d":"19.5071"}},{"$f":"G17*0.5","v":{"v":48.5,"d":"48.5000"}},{"$f":"H17*0.2","v":{"v":19.685714,"d":"19.6857"}},{"$f":"I17*0.1","v":{"v":10,"d":"10.0000"}},{"$f":"SUM(J17:M17)*0.7","v":{"v":68.3849978,"d":"68.3850"}},{"$f":"VLOOKUP(D17,学生干部加分!A$1:C$140,3,FALSE)","v":{"v":8,"d":"8.0000"}},{"v":0,"d":"0.0000"},{"v":0,"d":"0.0000"},{"$f":"N17+O17+P17-Q17","v":{"v":76.3849978,"d":"76.3850"}},{"$f":"R17*0.15","v":{"v":11.45774967,"d":"11.4577"}},{"v":90.2073170731707,"d":"90.2073"},{"v":83.5,"d":"83.5000"},{"$f":"IF(U17>0,T17*0.9+U17*0.1,T17)","v":{"v":89.5365853658536,"d":"89.5366"}},{"$f":"VLOOKUP(D17,智育加分汇总!A$2:C$44,3,FALSE)","v":{"v":3,"d":"3.0000"}},{"$f":"V17*0.85+W17","v":{"v":79.1060975609756,"d":"79.1061"}},{"$f":"0.7*X17","v":{"v":55.3742682926829,"d":"55.3743"}},{"$f":"VLOOKUP(D17,体测成绩!B$2:C$273,2,FALSE)","v":{"v":69.5,"d":"69.5000"}},{"$f":"VLOOKUP(D17,体育锻炼成绩!A$2:B$182,2,FALSE)","v":"100.00"},{"$f":"0.8*Z17","v":{"v":55.6,"d":"55.6000"}},{"$f":"AA17*0.2","v":{"v":20,"d":"20.0000"}},{"$f":"SUM(AB17:AC17)*0.7","v":{"v":52.92,"d":"52.9200"}},{"$f":"VLOOKUP(D17,体育加分汇总!A$1:C$79,3,FALSE)","v":{"v":0,"d":"0.0000"}},{"$f":"AD17+AE17","v":{"v":52.92,"d":"52.9200"}},{"$f":"AF17*0.05","v":{"v":2.646,"d":"2.6460"}},{"$f":"VLOOKUP(D17,美育!B$2:F$182,5,FALSE)","v":{"v":25,"d":"25.0000"}},{"$f":"VLOOKUP(D17,美育!B$2:E$182,4,FALSE)","v":{"v":0,"d":"0.0000"}},{"$f":"AH17+AI17","v":{"v":25,"d":"25.0000"}},{"$f":"AJ17*0.05","v":{"v":1.25,"d":"1.2500"}},{"$f":"VLOOKUP(D17,劳育基础分!B$3:AF$182,31,FALSE)","v":{"v":42,"d":"42.0000"}},{"v":0,"d":"0.0000"},{"$f":"AL17+AM17","v":{"v":42,"d":"42.0000"}},{"$f":"AN17*0.05","v":{"v":2.1,"d":"2.1000"}},{"$f":"S17+Y17+AG17+AK17+AO17","v":{"v":72.8280179626829,"d":"72.8280"}},{"$f":"VLOOKUP(D17,必修课优良率!A$1:B$173,2,FALSE)","v":"100.00%"},{"$f":"VLOOKUP(D17,四级成绩!B$2:C$178,2,FALSE)","v":583},{"$f":"VLOOKUP(D17,必修课优良率!A$1:D$173,4,FALSE)","v":"否"}]
[15,6,"2024010623","郝雪普",{"$f":"VLOOKUP(D18,美育!B$2:E$182,2,FALSE)","v":"化工类24-6班"},{"$f":"VLOOKUP(D18,互评分!C$2:F$181,4,FALSE)","v":{"v":98.4615384615385,"d":"98.4615"}},{"$f":"VLOOKUP(D18,辅导员加分!B$2:C$176,2,FALSE)","v":{"v":92,"d":"92.0000"}},{"$f":"VLOOKUP(D18,互评分!C$2:F$181,3,FALSE)","v":{"v":100,"d":"100.0000"}},{"$f":"VLOOKUP(D18,互评分!C$2:F$181,2,FALSE)","v":{"v":100,"d":"100.0000"}},{"$f":"F18*0.2","v":{"v":19.6923076923077,"d":"19.6923"}},{"$f":"G18*0.5","v":{"v":46,"d":"46.0000"}},{"$f":"H18*0.2","v":{"v":20,"d":"20.0000"}},{"$f":"I18*0.1","v":{"v":10,"d":"10.0000"}},{"$f":"SUM(J18:M18)*0.7","v":{"v":66.9846153846154,"d":"66.9846"}},{"$f":"VLOOKUP(D18,学生干部加分!A$1:C$140,3,FALSE)","v":{"v":6,"d":"6.0000"}},{"v":0,"d":"0.0000"},{"v":0,"d":"0.0000"},{"$f":"N18+O18+P18-Q18","v":{"v":72.9846153846154,"d":"72.9846"}},{"$f":"R18*0.15","v":{"v":10.9476923076923,"d":"10.9477"}},{"v":89.5121951219512,"d":"89.5122"},{"v":94,"d":"94.0000"},{"$f":"IF(U18>0,T18*0.9+U18*0.1,T18)","v":{"v":89.9609756097561,"d":"89.9610"}},{"v":0,"d":"0.0000"},{"$f":"V18*0.85+W18","v":{"v":76.4668292682927,"d":"76.4668"}},{"$f":"0.7*X18","v":{"v":53.5267804878049,"d":"53.5268"}},{"$f":"VLOOKUP(D18,体测成绩!B$2:C$273,2,FALSE)","v":{"v":65.4,"d":"65.4000"}},{"$f":"VLOOKUP(D18,体育锻炼成绩!A$2:B$182,2,FALSE)","v":"100.00"},{"$f":"0.8*Z18","v":{"v":52.32,"d":"52.3200"}},{"$f":"AA18*0.2","v":{"v":20,"d":"20.0000"}},{"$f":"SUM(AB18:AC18)*0.7","v":{"v":50.624,"d":"50.6240"}},{"$f":"VLOOKUP(D18,体育加分汇总!A$1:C$79,3,FALSE)","v":{"v":0,"d":"0.0000"}},{"$f":"AD18+AE18","v":{"v":50.624,"d":"50.6240"}},{"$f":"AF18*0.05","v":2.5312},{"$f":"VLOOKUP(D18,美育!B$2:F$182,5,FALSE)","v":{"v":70,"d":"70.0000"}},{"$f":"VLOOKUP(D18,美育!B$2:E$182,4,FALSE)","v":{"v":0,"d":"0.0000"}},{"$f":"AH18+AI18","v":{"v":70,"d":"70.0000"}},{"$f":"AJ18*0.05","v":{"v":3.5,"d":"3.5000"}},{"$f":"VLOOKUP(D18,劳育基础分!B$3:AF$182,31,FALSE)","v":{"v":42,"d":"42.0000"}},{"v":0,"d":"0.0000"},{"$f":"AL18+AM18","v":{"v":42,"d":"42.0000"}},{"$f":"AN18*0.05","v":{"v":2.1,"d":"2.1000"}},{"$f":"S18+Y18+AG18+AK18+AO18","v":{"v":72.6056727954972,"d":"72.6057"}},{"$f":"VLOOKUP(D18,必修课优良率!A$1:B$173,2,FALSE)","v":"95.24%"},{"$f":"VLOOKUP(D18,四级成绩!B$2:C$178,2,FALSE)","v":585},{"$f":"VLOOKUP(D18,必修课优良率!A$1:D$173,4,FALSE)","v":"否"}]
[16,5,"2024010585","吴佳妮",{"$f":"VLOOKUP(D19,美育!B$2:E$182,2,FALSE)","v":"化工类24-5班"},{"$f":"VLOOKUP(D19,互评分!C$2:F$181,4,FALSE)","v":{"v":99.6296296296296,"d":"99.6296"}},{"$f":"VLOOKUP(D19,辅导员加分!B$2:C$176,2,FALSE)","v":{"v":92,"d":"92.0000"}},{"$f":"VLOOKUP(D19,互评分!C$2:F$181,3,FALSE)","v":{"v":100,"d":"100.0000"}},{"$f":"VLOOKUP(D19,互评分!C$2:F$181,2,FALSE)","v":{"v":95,"d":"95.0000"}},{"$f":"F19*0.2","v":{"v":19.9259259259259,"d":"19.9259"}},{"$f":"G19*0.5","v":{"v":46,"d":"46.0000"}},{"$f":"H19*0.2","v":{"v":20,"d":"20.0000"}},{"$f":"I19*0.1","v":{"v":9.5,"d":"9.5000"}},{"$f":"SUM(J19:M19)*0.7","v":{"v":66.7981481481481,"d":"66.7981"}},{"$f":"VLOOKUP(D19,学生干部加分!A$1:C$140,3,FALSE)","v":{"v":4,"d":"4.0000"}},{"v":0,"d":"0.0000"},{"v":0,"d":"0.0000"},{"$f":"N19+O19+P19-Q19","v":{"v":70.7981481481481,"d":"70.7981"}},{"$f":"R19*0.15","v":{"v":10.6197222222222,"d":"10.6197"}},{"v":90.0731707317073,"d":"90.0732"},{"v":88,"d":"88.0000"},{"$f":"IF(U19>0,T19*0.9+U19*0.1,T19)","v":{"v":89.8658536585366,"d":"89.8659"}},{"v":0,"d":"0.0000"},{"$f":"V19*0.85+W19","v":{"v":76.3859756097561,"d":"76.3860"}},{"$f":"0.7*X19","v":{"v":53.4701829268292,"d":"53.4702"}},{"$f":"VLOOKUP(D19,体测成绩!B$2:C$273,2,FALSE)","v":{"v":83.4,"d":"83.4000"}},{"$f":"VLOOKUP(D19,体育锻炼成绩!A$2:B$182,2,FALSE)","v":"100.00"},{"$f":"0.8*Z19","v":{"v":66.72,"d":"66.7200"}},{"$f":"AA19*0.2","v":{"v":20,"d":"20.0000"}},{"$f":"SUM(AB19:AC19)*0.7","v":{"v":60.704,"d":"60.7040"}},{"$f":"VLOOKUP(D19,体育加分汇总!A$1:C$79,3,FALSE)","v":{"v":13,"d":"13.0000"}},{"$f":"AD19+AE19","v":{"v":73.704,"d":"73.7040"}},{"$f":"AF19*0.05","v":3.6852},{"$f":"VLOOKUP(D19,美育!B$2:F$182,5,FALSE)","v":{"v":50,"d":"50.0000"}},{"$f":"VLOOKUP(D19,美育!B$2:E$182,4,FALSE)","v":{"v":0,"d":"0.0000"}},{"$f":"AH19+AI19","v":{"v":50,"d":"50.0000"}},{"$f":"AJ19*0.05","v":{"v":2.5,"d":"2.5000"}},{"$f":"VLOOKUP(D19,劳育基础分!B$3:AF$182,31,FALSE)","v":{"v":44.5,"d":"44.5000"}},{"v":0,"d":"0.0000"},{"$f":"AL19+AM19","v":{"v":44.5,"d":"44.5000"}},{"$f":"AN19*0.05","v":{"v":2.225,"d":"2.2250"}},{"$f":"S19+Y19+AG19+AK19+AO19","v":{"v":72.5001051490514,"d":"72.5001"}},{"$f":"VLOOKUP(D19,必修课优良率!A$1:B$173,2,FALSE)","v":"100.00%"},{"$f":"VLOOKUP(D19,四级成绩!B$2:C$178,2,FALSE)","v":540},{"$f":"VLOOKUP(D19,必修课优良率!A$1:D$173,4,FALSE)","v":"否"}]
[17,38,"2024010464","胡婷",{"$f":"VLOOKUP(D20,美育!B$2:E$182,2,FALSE)","v":"化工类24-1班"},{"$f":"VLOOKUP(D20,互评分!C$2:F$181,4,FALSE)","v":{"v":96.62962963,"d":"96.6296"}},{"$f":"VLOOKUP(D20,辅导员加分!B$2:C$176,2,FALSE)","v":{"v":92,"d":"92.0000"}},{"$f":"VLOOKUP(D20,互评分!C$2:F$181,3,FALSE)","v":{"v":96,"d":"96.0000"}},{"$f":"VLOOKUP(D20,互评分!C$2:F$181,2,FALSE)","v":{"v":98,"d":"98.0000"}},{"$f":"F20*0.2","v":{"v":19.325925926,"d":"19.3259"}},{"$f":"G20*0.5","v":{"v":46,"d":"46.0000"}},{"$f":"H20*0.2","v":{"v":19.2,"d":"19.2000"}},{"$f":"I20*0.1","v":{"v":9.8,"d":"9.8000"}},{"$f":"SUM(J20:M20)*0.7","v":{"v":66.0281481482,"d":"66.0281"}},{"$f":"VLOOKUP(D20,学生干部加分!A$1:C$140,3,FALSE)","v":{"v":8,"d":"8.0000"}},{"$f":"VLOOKUP(D20,德育加分!C$2:K$30,9,FALSE)","v":{"v":2,"d":"2.0000"}},{"v":0,"d":"0.0000"},{"$f":"N20+O20+P20-Q20","v":{"v":76.0281481482,"d":"76.0281"}},{"$f":"R20*0.15","v":{"v":11.40422222223,"d":"11.4042"}},{"$f":"VLOOKUP(D20,[2]必修课成绩!C$59:BO$82,65,FALSE)","v":{"v":82.390243902439,"d":"82.3902"}},{"$f":"VLOOKUP(D20,[2]选修课成绩!C$60:BI$83,59,FALSE)","v":{"v":91,"d":"91.0000"}},{"$f":"IF(U20>0,T20*0.9+U20*0.1,T20)","v":{"v":83.2512195121951,"d":"83.2512"}},{"$f":"VLOOKUP(D20,智育加分汇总!A$2:C$44,3,FALSE)","v":{"v":3.6,"d":"3.6000"}},{"$f":"V20*0.85+W20","v":{"v":74.3635365853658,"d":"74.3635"}},{"$f":"0.7*X20","v":{"v":52.0544756097561,"d":"52.0545"}},{"$f":"VLOOKUP(D20,体测成绩!B$2:C$273,2,FALSE)","v":{"v":80.4,"d":"80.4000"}},{"$f":"VLOOKUP(D20,体育锻炼成绩!A$2:B$182,2,FALSE)","v":"100.00"},{"$f":"0.8*Z20","v":{"v":64.32,"d":"64.3200"}},{"$f":"AA20*0.2","v":{"v":20,"d":"20.0000"}},{"$f":"SUM(AB20:AC20)*0.7","v":{"v":59.024,"d":"59.0240"}},{"$f":"VLOOKUP(D20,体育加分汇总!A$1:C$79,3,FALSE)","v":{"v":7,"d":"7.0000"}},{"$f":"AD20+AE20","v":{"v":66.024,"d":"66.0240"}},{"$f":"AF20*0.05","v":3.3012},{"$f":"VLOOKUP(D20,美育!B$2:F$182,5,FALSE)","v":{"v":70,"d":"70.0000"}},{"$f":"VLOOKUP(D20,美育!B$2:E$182,4,FALSE)","v":{"v":4,"d":"4.0000"}},{"$f":"AH20+AI20","v":{"v":74,"d":"74.0000"}},{"$f":"AJ20*0.05","v":{"v":3.7,"d":"3.7000"}},{"$f":"VLOOKUP(D20,劳育基础分!B$3:AF$182,31,FALSE)","v":{"v":40,"d":"40.0000"}},{"v":0,"d":"0.0000"},{"$f":"AL20+AM20","v":{"v":40,"d":"40.0000"}},{"$f":"AN20*0.05","v":{"v":2,"d":"2.0000"}},{"$f":"S20+Y20+AG20+AK20+AO20","v":{"v":72.4598978319861,"d":"72.4599"}},{"$f":"VLOOKUP(D20,必修课优良率!A$1:B$173,2,FALSE)","v":"76.19%"},{"$f":"VLOOKUP(D20,四级成绩!B$2:C$178,2,FALSE)","v":452},{"$f":"VLOOKUP(D20,必修课优良率!A$1:D$173,4,FALSE)","v":"否"}]
[18,28,2024010460,"袁翊淼",{"$f":"VLOOKUP(D21,美育!B$2:E$182,2,FALSE)","v":"化工类24-1班"},{"$f":"VLOOKUP(D21,互评分!C$2:F$181,4,FALSE)","v":{"v":95.55555556,"d":"95.5556"}},{"$f":"VLOOKUP(D21,辅导员加分!B$2:C$176,2,FALSE)","v":{"v":94,"d":"94.0000"}},{"$f":"VLOOKUP(D21,互评分!C$2:F$181,3,FALSE)","v":{"v":96.6666666666667,"d":"96.6667"}},{"$f":"VLOOKUP(D21,互评分!C$2:F$181,2,FALSE)","v":{"v":92,"d":"92.0000"}},{"$f":"F21*0.2","v":{"v":19.111111112,"d":"19.1111"}},{"$f":"G21*0.5","v":{"v":47,"d":"47.0000"}},{"$f":"H21*0.2","v":{"v":19.3333333333333,"d":"19.3333"}},{"$f":"I21*0.1","v":{"v":9.2,"d":"9.2000"}},{"$f":"SUM(J21:M21)*0.7","v":{"v":66.2511111117333,"d":"66.2511"}},{"$f":"VLOOKUP(D21,学生干部加分!A$1:C$140,3,FALSE)","v":{"v":5,"d":"5.0000"}},{"v":0,"d":"0.0000"},{"v":0,"d":"0.0000"},{"$f":"N21+O21+P21-Q21","v":{"v":71.2511111117333,"d":"71.2511"}},{"$f":"R21*0.15","v":{"v":10.68766666676,"d":"10.6877"}},{"$f":"VLOOKUP(D21,[1]必修课成绩!C$71:AE$100,29,FALSE)","v":84.2875},{"$f":"VLOOKUP(D21,[1]选修课成绩!C$72:AC$101,27,FALSE)","v":{"v":89,"d":"89.0000"}},{"$f":"IF(U21>0,T21*0.9+U21*0.1,T21)","v":{"v":84.75875,"d":"84.7588"}},{"$f":"VLOOKUP(D21,智育加分汇总!A$2:C$44,3,FALSE)","v":{"v":7,"d":"7.0000"}},{"$f":"V21*0.85+W21","v":{"v":79.0449375,"d":"79.0449"}},{"$f":"0.7*X21","v":{"v":55.33145625,"d":"55.3315"}},{"$f":"VLOOKUP(D21,体测成绩!B$2:C$273,2,FALSE)","v":{"v":67.2,"d":"67.2000"}},{"$f":"VLOOKUP(D21,体育锻炼成绩!A$2:B$182,2,FALSE)","v":"100.00"},{"$f":"0.8*Z21","v":{"v":53.76,"d":"53.7600"}},{"$f":"AA21*0.2","v":{"v":20,"d":"20.0000"}},{"$f":"SUM(AB21:AC21)*0.7","v":{"v":51.632,"d":"51.6320"}},{"v":0,"d":"0.0000"},{"$f":"AD21+AE21","v":{"v":51.632,"d":"51.6320"}},{"$f":"AF21*0.05","v":2.5816},{"$f":"VLOOKUP(D21,美育!B$2:F$182,5,FALSE)","v":{"v":30,"d":"30.0000"}},{"$f":"VLOOKUP(D21,美育!B$2:E$182,4,FALSE)","v":{"v":0,"d":"0.0000"}},{"$f":"AH21+AI21","v":{"v":30,"d":"30.0000"}},{"$f":"AJ21*0.05","v":{"v":1.5,"d":"1.5000"}},{"$f":"VLOOKUP(D21,劳育基础分!B$3:AF$182,31,FALSE)","v":{"v":40,"d":"40.0000"}},{"v":0,"d":"0.0000"},{"$f":"AL21+AM21","v":{"v":40,"d":"40.0000"}},{"$f":"AN21*0.05","v":{"v":2,"d":"2.0000"}},{"$f":"S21+Y21+AG21+AK21+AO21","v":{"v":72.10072291676,"d":"72.1007"}},{"$f":"VLOOKUP(D21,必修课优良率!A$1:B$173,2,FALSE)","v":"85.71%"},{"$f":"VLOOKUP(D21,四级成绩!B$2:C$178,2,FALSE)","v":577},{"$f":"VLOOKUP(D21,必修课优良率!A$1:D$173,4,FALSE)","v":"否"}]
[19,67,"2024010593","康铭坤",{"$f":"VLOOKUP(D22,美育!B$2:E$182,2,FALSE)","v":"化工类24-5班"},{"$f":"VLOOKUP(D22,互评分!C$2:F$181,4,FALSE)","v":{"v":99.6666666666667,"d":"99.6667"}},{"$f":"VLOOKUP(D22,辅导员加分!B$2:C$176,2,FALSE)","v":{"v":94,"d":"94.0000"}},{"$f":"VLOOKUP(D22,互评分!C$2:F$181,3,FALSE)","v":{"v":100,"d":"100.0000"}},{"$f":"VLOOKUP(D22,互评分!C$2:F$181,2,FALSE)","v":{"v":90,"d":"90.0000"}},{"$f":"F22*0.2","v":{"v":19.9333333333333,"d":"19.9333"}},{"$f":"G22*0.5","v":{"v":47,"d":"47.0000"}},{"$f":"H22*0.2","v":{"v":20,"d":"20.0000"}},{"$f":"I22*0.1","v":{"v":9,"d":"9.0000"}},{"$f":"SUM(J22:M22)*0.7","v":{"v":67.1533333333333,"d":"67.1533"}},{"$f":"VLOOKUP(D22,学生干部加分!A$1:C$140,3,FALSE)","v":{"v":6,"d":"6.0000"}},{"v":0,"d":"0.0000"},{"v":0,"d":"0.0000"},{"$f":"N22+O22+P22-Q22","v":{"v":73.1533333333333,"d":"73.1533"}},{"$f":"R22*0.15","v":{"v":10.973,"d":"10.9730"}},{"v":79.4390243902439,"d":"79.4390"},{"v":78.3333333333333,"d":"78.3333"},{"$f":"IF(U22>0,T22*0.9+U22*0.1,T22)","v":{"v":79.3284552845528,"d":"79.3285"}},{"$f":"VLOOKUP(D22,智育加分汇总!A$2:C$44,3,FALSE)","v":{"v":6,"d":"6.0000"}},{"$f":"V22*0.85+W22","v":{"v":73.4291869918699,"d":"73.4292"}},{"$f":"0.7*X22","v":{"v":51.4004308943089,"d":"51.4004"}},{"$f":"VLOOKUP(D22,体测成绩!B$2:C$273,2,FALSE)","v":{"v":61.7,"d":"61.7000"}},{"$f":"VLOOKUP(D22,体育锻炼成绩!A$2:B$182,2,FALSE)","v":"100.00"},{"$f":"0.8*Z22","v":{"v":49.36,"d":"49.3600"}},{"$f":"AA22*0.2","v":{"v":20,"d":"20.0000"}},{"$f":"SUM(AB22:AC22)*0.7","v":{"v":48.552,"d":"48.5520"}},{"$f":"VLOOKUP(D22,体育加分汇总!A$1:C$79,3,FALSE)","v":{"v":20,"d":"20.0000"}},{"$f":"AD22+AE22","v":{"v":68.552,"d":"68.5520"}},{"$f":"AF22*0.05","v":3.4276},{"$f":"VLOOKUP(D22,美育!B$2:F$182,5,FALSE)","v":{"v":70,"d":"70.0000"}},{"$f":"VLOOKUP(D22,美育!B$2:E$182,4,FALSE)","v":{"v":2,"d":"2.0000"}},{"$f":"AH22+AI22","v":{"v":72,"d":"72.0000"}},{"$f":"AJ22*0.05","v":{"v":3.6,"d":"3.6000"}},{"$f":"VLOOKUP(D22,劳育基础分!B$3:AF$182,31,FALSE)","v":{"v":45.5,"d":"45.5000"}},{"$f":"VLOOKUP(D22,劳育加分!A$3:I$34,9,FALSE)","v":{"v":4,"d":"4.0000"}},{"$f":"AL22+AM22","v":{"v":49.5,"d":"49.5000"}},{"$f":"AN22*0.05","v":{"v":2.475,"d":"2.4750"}},{"$f":"S22+Y22+AG22+AK22+AO22","v":{"v":71.8760308943089,"d":"71.8760"}},{"$f":"VLOOKUP(D22,必修课优良率!A$1:B$173,2,FALSE)","v":"66.67%"},{"$f":"VLOOKUP(D22,四级成绩!B$2:C$178,2,FALSE)","v":388},{"$f":"VLOOKUP(D22,必修课优良率!A$1:D$173,4,FALSE)","v":"否"}]
[20,14,2024010461,"卢力瑛",{"$f":"VLOOKUP(D23,美育!B$2:E$182,2,FALSE)","v":"化工类24-1班"},{"$f":"VLOOKUP(D23,互评分!C$2:F$181,4,FALSE)","v":{"v":95.25925926,"d":"95.2593"}},{"$f":"VLOOKUP(D23,辅导员加分!B$2:C$176,2,FALSE)","v":{"v":94,"d":"94.0000"}},{"$f":"VLOOKUP(D23,互评分!C$2:F$181,3,FALSE)","v":{"v":96.6666666666667,"d":"96.6667"}},{"$f":"VLOOKUP(D23,互评分!C$2:F$181,2,FALSE)","v":{"v":90,"d":"90.0000"}},{"$f":"F23*0.2","v":{"v":19.051851852,"d":"19.0519"}},{"$f":"G23*0.5","v":{"v":47,"d":"47.0000"}},{"$f":"H23*0.2","v":{"v":19.3333333333333,"d":"19.3333"}},{"$f":"I23*0.1","v":{"v":9,"d":"9.0000"}},{"$f":"SUM(J23:M23)*0.7","v":{"v":66.0696296297333,"d":"66.0696"}},{"$f":"VLOOKUP(D23,学生干部加分!A$1:C$140,3,FALSE)","v":{"v":5.5,"d":"5.5000"}},{"v":0,"d":"0.0000"},{"v":0,"d":"0.0000"},{"$f":"N23+O23+P23-Q23","v":{"v":71.5696296297333,"d":"71.5696"}},{"$f":"R23*0.15","v":{"v":10.73544444446,"d":"10.7354"}},{"$f":"VLOOKUP(D23,[1]必修课成绩!C$71:AE$100,29,FALSE)","v":86.5125},{"$f":"VLOOKUP(D23,[1]选修课成绩!C$72:AC$101,27,FALSE)","v":{"v":85,"d":"85.0000"}},{"$f":"IF(U23>0,T23*0.9+U23*0.1,T23)","v":{"v":86.36125,"d":"86.3613"}},{"v":0,"d":"0.0000"},{"$f":"V23*0.85+W23","v":{"v":73.4070625,"d":"73.4071"}},{"$f":"0.7*X23","v":{"v":51.38494375,"d":"51.3849"}},{"$f":"VLOOKUP(D23,体测成绩!B$2:C$273,2,FALSE)","v":{"v":80.4,"d":"80.4000"}},{"$f":"VLOOKUP(D23,体育锻炼成绩!A$2:B$182,2,FALSE)","v":"100.00"},{"$f":"0.8*Z23","v":{"v":64.32,"d":"64.3200"}},{"$f":"AA23*0.2","v":{"v":20,"d":"20.0000"}},{"$f":"SUM(AB23:AC23)*0.7","v":{"v":59.024,"d":"59.0240"}},{"v":0,"d":"0.0000"},{"$f":"AD23+AE23","v":{"v":59.024,"d":"59.0240"}},{"$f":"AF23*0.05","v":2.9512},{"$f":"VLOOKUP(D23,美育!B$2:F$182,5,FALSE)","v":{"v":70,"d":"70.0000"}},{"$f":"VLOOKUP(D23,美育!B$2:E$182,4,FALSE)","v":{"v":0,"d":"0.0000"}},{"$f":"AH23+AI23","v":{"v":70,"d":"70.0000"}},{"$f":"AJ23*0.05","v":{"v":3.5,"d":"3.5000"}},{"$f":"VLOOKUP(D23,劳育基础分!B$3:AF$182,31,FALSE)","v":{"v":57,"d":"57.0000"}},{"$f":"VLOOKUP(D23,劳育加分!A$3:I$34,9,FALSE)","v":{"v":5,"d":"5.0000"}},{"$f":"AL23+AM23","v":{"v":62,"d":"62.0000"}},{"$f":"AN23*0.05","v":{"v":3.1,"d":"3.1000"}},{"$f":"S23+Y23+AG23+AK23+AO23","v":{"v":71.67158819446,"d":"71.6716"}},{"$f":"VLOOKUP(D23,必修课优良率!A$1:B$173,2,FALSE)","v":"90.48%"},{"$f":"VLOOKUP(D23,四级成绩!B$2:C$178,2,FALSE)","v":533},{"$f":"VLOOKUP(D23,必修课优良率!A$1:D$173,4,FALSE)","v":"否"}]
[21,16,"2024010625","方文正",{"$f":"VLOOKUP(D24,美育!B$2:E$182,2,FALSE)","v":"化工类24-6班"},{"$f":"VLOOKUP(D24,互评分!C$2:F$181,4,FALSE)","v":{"v":98.8461538461538,"d":"98.8462"}},{"$f":"VLOOKUP(D24,辅导员加分!B$2:C$176,2,FALSE)","v":{"v":94,"d":"94.0000"}},{"$f":"VLOOKUP(D24,互评分!C$2:F$181,3,FALSE)","v":{"v":100,"d":"100.0000"}},{"$f":"VLOOKUP(D24,互评分!C$2:F$181,2,FALSE)","v":{"v":100,"d":"100.0000"}},{"$f":"F24*0.2","v":{"v":19.7692307692308,"d":"19.7692"}},{"$f":"G24*0.5","v":{"v":47,"d":"47.0000"}},{"$f":"H24*0.2","v":{"v":20,"d":"20.0000"}},{"$f":"I24*0.1","v":{"v":10,"d":"10.0000"}},{"$f":"SUM(J24:M24)*0.7","v":{"v":67.7384615384615,"d":"67.7385"}},{"$f":"VLOOKUP(D24,学生干部加分!A$1:C$140,3,FALSE)","v":{"v":6,"d":"6.0000"}},{"$f":"VLOOKUP(D24,德育加分!C$2:K$30,9,FALSE)","v":{"v":2,"d":"2.0000"}},{"v":0,"d":"0.0000"},{"$f":"N24+O24+P24-Q24","v":{"v":75.7384615384615,"d":"75.7385"}},{"$f":"R24*0.15","v":{"v":11.3607692307692,"d":"11.3608"}},{"v":86.2307692307692,"d":"86.2308"},{"v":87,"d":"87.0000"},{"$f":"IF(U24>0,T24*0.9+U24*0.1,T24)","v":{"v":86.3076923076923,"d":"86.3077"}},{"$f":"VLOOKUP(D24,智育加分汇总!A$2:C$44,3,FALSE)","v":{"v":2,"d":"2.0000"}},{"$f":"V24*0.85+W24","v":{"v":75.3615384615384,"d":"75.3615"}},{"$f":"0.7*X24","v":{"v":52.7530769230769,"d":"52.7531"}},{"$f":"VLOOKUP(D24,体测成绩!B$2:C$273,2,FALSE)","v":{"v":60,"d":"60.0000"}},{"$f":"VLOOKUP(D24,体育锻炼成绩!A$2:B$182,2,FALSE)","v":"100.00"},{"$f":"0.8*Z24","v":{"v":48,"d":"48.0000"}},{"$f":"AA24*0.2","v":{"v":20,"d":"20.0000"}},{"$f":"SUM(AB24:AC24)*0.7","v":{"v":47.6,"d":"47.6000"}},{"v":0,"d":"0.0000"},{"$f":"AD24+AE24","v":{"v":47.6,"d":"47.6000"}},{"$f":"AF24*0.05","v":{"v":2.38,"d":"2.3800"}},{"$f":"VLOOKUP(D24,美育!B$2:F$182,5,FALSE)","v":{"v":45,"d":"45.0000"}},{"$f":"VLOOKUP(D24,美育!B$2:E$182,4,FALSE)","v":{"v":0,"d":"0.0000"}},{"$f":"AH24+AI24","v":{"v":45,"d":"45.0000"}},{"$f":"AJ24*0.05","v":{"v":2.25,"d":"2.2500"}},{"$f":"VLOOKUP(D24,劳育基础分!B$3:AF$182,31,FALSE)","v":{"v":41,"d":"41.0000"}},{"v":0,"d":"0.0000"},{"$f":"AL24+AM24","v":{"v":41,"d":"41.0000"}},{"$f":"AN24*0.05","v":{"v":2.05,"d":"2.0500"}},{"$f":"S24+Y24+AG24+AK24+AO24","v":{"v":70.7938461538461,"d":"70.7938"}},{"$f":"VLOOKUP(D24,必修课优良率!A$1:B$173,2,FALSE)","v":"94.74%"},{"$f":"VLOOKUP(D24,四级成绩!B$2:C$178,2,FALSE)","v":521},{"$f":"VLOOKUP(D24,必修课优良率!A$1:D$173,4,FALSE)","v":"否"}]
[22,24,2024010538,"王超卓",{"$f":"VLOOKUP(D25,美育!B$2:E$182,2,FALSE)","v":"化工类24-3班"},{"$f":"VLOOKUP(D25,互评分!C$2:F$181,4,FALSE)","v":{"v":99.2962962962963,"d":"99.2963"}},{"$f":"VLOOKUP(D25,辅导员加分!B$2:C$176,2,FALSE)","v":{"v":92,"d":"92.0000"}},{"$f":"VLOOKUP(D25,互评分!C$2:F$181,3,FALSE)","v":{"v":100,"d":"100.0000"}},{"$f":"VLOOKUP(D25,互评分!C$2:F$181,2,FALSE)","v":{"v":99,"d":"99.0000"}},{"$f":"F25*0.2","v":{"v":19.8592592592593,"d":"19.8593"}},{"$f":"G25*0.5","v":{"v":46,"d":"46.0000"}},{"$f":"H25*0.2","v":{"v":20,"d":"20.0000"}},{"$f":"I25*0.1","v":{"v":9.9,"d":"9.9000"}},{"$f":"SUM(J25:M25)*0.7","v":{"v":67.0314814814815,"d":"67.0315"}},{"$f":"VLOOKUP(D25,学生干部加分!A$1:C$140,3,FALSE)","v":{"v":4,"d":"4.0000"}},{"v":0,"d":"0.0000"},{"v":0,"d":"0.0000"},{"$f":"N25+O25+P25-Q25","v":{"v":71.0314814814815,"d":"71.0315"}},{"$f":"R25*0.15","v":{"v":10.6547222222222,"d":"10.6547"}},{"$f":"VLOOKUP(D25,[1]必修课成绩!C$71:AE$100,29,FALSE)","v":{"v":84.675,"d":"84.6750"}},{"$f":"VLOOKUP(D25,[1]选修课成绩!C$72:AC$101,27,FALSE)","v":{"v":89,"d":"89.0000"}},{"$f":"IF(U25>0,T25*0.9+U25*0.1,T25)","v":85.1075},{"$f":"VLOOKUP(D25,智育加分汇总!A$2:C$44,3,FALSE)","v":{"v":3,"d":"3.0000"}},{"$f":"V25*0.85+W25","v":{"v":75.341375,"d":"75.3414"}},{"$f":"0.7*X25","v":{"v":52.7389625,"d":"52.7390"}},{"$f":"VLOOKUP(D25,体测成绩!B$2:C$273,2,FALSE)","v":{"v":75.6,"d":"75.6000"}},{"$f":"VLOOKUP(D25,体育锻炼成绩!A$2:B$182,2,FALSE)","v":{"v":100,"d":"100.0000"}},{"$f":"0.8*Z25","v":{"v":60.48,"d":"60.4800"}},{"$f":"AA25*0.2","v":{"v":20,"d":"20.0000"}},{"$f":"SUM(AB25:AC25)*0.7","v":{"v":56.336,"d":"56.3360"}},{"v":0,"d":"0.0000"},{"$f":"AD25+AE25","v":{"v":56.336,"d":"56.3360"}},{"$f":"AF25*0.05","v":2.8168},{"$f":"VLOOKUP(D25,美育!B$2:F$182,5,FALSE)","v":{"v":40,"d":"40.0000"}},{"$f":"VLOOKUP(D25,美育!B$2:E$182,4,FALSE)","v":{"v":0,"d":"0.0000"}},{"$f":"AH25+AI25","v":{"v":40,"d":"40.0000"}},{"$f":"AJ25*0.05","v":{"v":2,"d":"2.0000"}},{"$f":"VLOOKUP(D25,劳育基础分!B$3:AF$182,31,FALSE)","v":{"v":42,"d":"42.0000"}},{"v":0,"d":"0.0000"},{"$f":"AL25+AM25","v":{"v":42,"d":"42.0000"}},{"$f":"AN25*0.05","v":{"v":2.1,"d":"2.1000"}},{"$f":"S25+Y25+AG25+AK25+AO25","v":{"v":70.3104847222222,"d":"70.3105"}},{"$f":"VLOOKUP(D25,必修课优良率!A$1:B$173,2,FALSE)","v":"71.43%"},{"$f":"VLOOKUP(D25,四级成绩!B$2:C$178,2,FALSE)","v":415},{"$f":"VLOOKUP(D25,必修课优良率!A$1:D$173,4,FALSE)","v":"否"}]
[23,13,2024010527,"叶霖",{"$f":"VLOOKUP(D26,美育!B$2:E$182,2,FALSE)","v":"化工类24-3班"},{"$f":"VLOOKUP(D26,互评分!C$2:F$181,4,FALSE)","v":{"v":99.5925925925926,"d":"99.5926"}},{"$f":"VLOOKUP(D26,辅导员加分!B$2:C$176,2,FALSE)","v":{"v":94,"d":"94.0000"}},{"$f":"VLOOKUP(D26,互评分!C$2:F$181,3,FALSE)","v":{"v":100,"d":"100.0000"}},{"$f":"VLOOKUP(D26,互评分!C$2:F$181,2,FALSE)","v":{"v":100,"d":"100.0000"}},{"$f":"F26*0.2","v":{"v":19.9185185185185,"d":"19.9185"}},{"$f":"G26*0.5","v":{"v":47,"d":"47.0000"}},{"$f":"H26*0.2","v":{"v":20,"d":"20.0000"}},{"$f":"I26*0.1","v":{"v":10,"d":"10.0000"}},{"$f":"SUM(J26:M26)*0.7","v":{"v":67.842962962963,"d":"67.8430"}},{"$f":"VLOOKUP(D26,学生干部加分!A$1:C$140,3,FALSE)","v":{"v":3,"d":"3.0000"}},{"v":0,"d":"0.0000"},{"v":0,"d":"0.0000"},{"$f":"N26+O26+P26-Q26","v":{"v":70.842962962963,"d":"70.8430"}},{"$f":"R26*0.15","v":{"v":10.6264444444444,"d":"10.6264"}},86.5679,{"v":75,"d":"75.0000"},{"$f":"IF(U26>0,T26*0.9+U26*0.1,T26)","v":{"v":85.41111,"d":"85.4111"}},{"$f":"VLOOKUP(D26,智育加分汇总!A$2:C$44,3,FALSE)","v":{"v":3,"d":"3.0000"}},{"$f":"V26*0.85+W26","v":{"v":75.5994435,"d":"75.5994"}},{"$f":"0.7*X26","v":{"v":52.91961045,"d":"52.9196"}},{"$f":"VLOOKUP(D26,体测成绩!B$2:C$273,2,FALSE)","v":{"v":88.5,"d":"88.5000"}},{"$f":"VLOOKUP(D26,体育锻炼成绩!A$2:B$182,2,FALSE)","v":"100.00"},{"$f":"0.8*Z26","v":{"v":70.8,"d":"70.8000"}},{"$f":"AA26*0.2","v":{"v":20,"d":"20.0000"}},{"$f":"SUM(AB26:AC26)*0.7","v":{"v":63.56,"d":"63.5600"}},{"$f":"VLOOKUP(D26,体育加分汇总!A$1:C$79,3,FALSE)","v":{"v":9,"d":"9.0000"}},{"$f":"AD26+AE26","v":{"v":72.56,"d":"72.5600"}},{"$f":"AF26*0.05","v":{"v":3.628,"d":"3.6280"}},{"$f":"VLOOKUP(D26,美育!B$2:F$182,5,FALSE)","v":{"v":38,"d":"38.0000"}},{"$f":"VLOOKUP(D26,美育!B$2:E$182,4,FALSE)","v":{"v":0,"d":"0.0000"}},{"$f":"AH26+AI26","v":{"v":38,"d":"38.0000"}},{"$f":"AJ26*0.05","v":{"v":1.9,"d":"1.9000"}},{"$f":"VLOOKUP(D26,劳育基础分!B$3:AF$182,31,FALSE)","v":{"v":23,"d":"23.0000"}},{"v":0,"d":"0.0000"},{"$f":"AL26+AM26","v":{"v":23,"d":"23.0000"}},{"$f":"AN26*0.05","v":{"v":1.15,"d":"1.1500"}},{"$f":"S26+Y26+AG26+AK26+AO26","v":{"v":70.2240548944444,"d":"70.2241"}},{"v":0.9259,"d":"92.59%"},562,"否"]
[24,26,"2024010555","苏晴",{"$f":"VLOOKUP(D27,美育!B$2:E$182,2,FALSE)","v":"化工类24-4班"},{"$f":"VLOOKUP(D27,互评分!C$2:F$181,4,FALSE)","v":98.2143},{"$f":"VLOOKUP(D27,辅导员加分!B$2:C$176,2,FALSE)","v":{"v":92,"d":"92.0000"}},{"$f":"VLOOKUP(D27,互评分!C$2:F$181,3,FALSE)","v":{"v":99.85714,"d":"99.8571"}},{"$f":"VLOOKUP(D27,互评分!C$2:F$181,2,FALSE)","v":{"v":100,"d":"100.0000"}},{"$f":"F27*0.2","v":{"v":19.64286,"d":"19.6429"}},{"$f":"G27*0.5","v":{"v":46,"d":"46.0000"}},{"$f":"H27*0.2","v":{"v":19.971428,"d":"19.9714"}},{"$f":"I27*0.1","v":{"v":10,"d":"10.0000"}},{"$f":"SUM(J27:M27)*0.7","v":{"v":66.9300016,"d":"66.9300"}},{"$f":"VLOOKUP(D27,学生干部加分!A$1:C$140,3,FALSE)","v":{"v":4,"d":"4.0000"}},{"v":0,"d":"0.0000"},{"v":0,"d":"0.0000"},{"$f":"N27+O27+P27-Q27","v":{"v":70.9300016,"d":"70.9300"}},{"$f":"R27*0.15","v":{"v":10.63950024,"d":"10.6395"}},{"$f":"VLOOKUP(D27,[2]必修课成绩!C$59:BO$82,65,FALSE)","v":{"v":84.4146341463415,"d":"84.4146"}},{"$f":"VLOOKUP(D27,[2]选修课成绩!C$60:BI$83,59,FALSE)","v":{"v":96,"d":"96.0000"}},{"$f":"IF(U27>0,T27*0.9+U27*0.1,T27)","v":{"v":85.5731707317074,"d":"85.5732"}},{"v":0,"d":"0.0000"},{"$f":"V27*0.85+W27","v":{"v":72.7371951219513,"d":"72.7372"}},{"$f":"0.7*X27","v":{"v":50.9160365853659,"d":"50.9160"}},{"$f":"VLOOKUP(D27,体测成绩!B$2:C$273,2,FALSE)","v":{"v":78.1,"d":"78.1000"}},{"$f":"VLOOKUP(D27,体育锻炼成绩!A$2:B$182,2,FALSE)","v":"100.00"},{"$f":"0.8*Z27","v":{"v":62.48,"d":"62.4800"}},{"$f":"AA27*0.2","v":{"v":20,"d":"20.0000"}},{"$f":"SUM(AB27:AC27)*0.7","v":{"v":57.736,"d":"57.7360"}},{"$f":"VLOOKUP(D27,体育加分汇总!A$1:C$79,3,FALSE)","v":{"v":9,"d":"9.0000"}},{"$f":"AD27+AE27","v":{"v":66.736,"d":"66.7360"}},{"$f":"AF27*0.05","v":3.3368},{"$f":"VLOOKUP(D27,美育!B$2:F$182,5,FALSE)","v":{"v":60,"d":"60.0000"}},{"$f":"VLOOKUP(D27,美育!B$2:E$182,4,FALSE)","v":{"v":0,"d":"0.0000"}},{"$f":"AH27+AI27","v":{"v":60,"d":"60.0000"}},{"$f":"AJ27*0.05","v":{"v":3,"d":"3.0000"}},{"$f":"VLOOKUP(D27,劳育基础分!B$3:AF$182,31,FALSE)","v":{"v":41,"d":"41.0000"}},{"v":0,"d":"0.0000"},{"$f":"AL27+AM27","v":{"v":41,"d":"41.0000"}},{"$f":"AN27*0.05","v":{"v":2.05,"d":"2.0500"}},{"$f":"S27+Y27+AG27+AK27+AO27","v":{"v":69.9423368253659,"d":"69.9423"}},{"$f":"VLOOKUP(D27,必修课优良率!A$1:B$173,2,FALSE)","v":"80.95%"},{"$f":"VLOOKUP(D27,四级成绩!B$2:C$178,2,FALSE)","v":545},{"$f":"VLOOKUP(D27,必修课优良率!A$1:D$173,4,FALSE)","v":"否"}]
[25,15,2024010535,"侯星辰",{"$f":"VLOOKUP(D28,美育!B$2:E$182,2,FALSE)","v":"化工类24-3班"},{"$f":"VLOOKUP(D28,互评分!C$2:F$181,4,FALSE)","v":{"v":99.5925925925926,"d":"99.5926"}},{"$f":"VLOOKUP(D28,辅导员加分!B$2:C$176,2,FALSE)","v":{"v":92,"d":"92.0000"}},{"$f":"VLOOKUP(D28,互评分!C$2:F$181,3,FALSE)","v":{"v":100,"d":"100.0000"}},{"$f":"VLOOKUP(D28,互评分!C$2:F$181,2,FALSE)","v":{"v":100,"d":"100.0000"}},{"$f":"F28*0.2","v":{"v":19.9185185185185,"d":"19.9185"}},{"$f":"G28*0.5","v":{"v":46,"d":"46.0000"}},{"$f":"H28*0.2","v":{"v":20,"d":"20.0000"}},{"$f":"I28*0.1","v":{"v":10,"d":"10.0000"}},{"$f":"SUM(J28:M28)*0.7","v":{"v":67.142962962963,"d":"67.1430"}},{"$f":"VLOOKUP(D28,学生干部加分!A$1:C$140,3,FALSE)","v":{"v":6,"d":"6.0000"}},{"v":0,"d":"0.0000"},{"v":0,"d":"0.0000"},{"$f":"N28+O28+P28-Q28","v":{"v":73.142962962963,"d":"73.1430"}},{"$f":"R28*0.15","v":{"v":10.9714444444444,"d":"10.9714"}},{"$f":"VLOOKUP(D28,[1]必修课成绩!C$71:AE$100,29,FALSE)","v":{"v":86.5,"d":"86.5000"}},{"$f":"VLOOKUP(D28,[1]选修课成绩!C$72:AC$101,27,FALSE)","v":{"v":87,"d":"87.0000"}},{"$f":"IF(U28>0,T28*0.9+U28*0.1,T28)","v":{"v":86.55,"d":"86.5500"}},{"v":0,"d":"0.0000"},{"$f":"V28*0.85+W28","v":73.5675},{"$f":"0.7*X28","v":{"v":51.49725,"d":"51.4973"}},{"$f":"VLOOKUP(D28,体测成绩!B$2:C$273,2,FALSE)","v":{"v":80.9,"d":"80.9000"}},{"$f":"VLOOKUP(D28,体育锻炼成绩!A$2:B$182,2,FALSE)","v":"100.00"},{"$f":"0.8*Z28","v":{"v":64.72,"d":"64.7200"}},{"$f":"AA28*0.2","v":{"v":20,"d":"20.0000"}},{"$f":"SUM(AB28:AC28)*0.7","v":{"v":59.304,"d":"59.3040"}},{"$f":"VLOOKUP(D28,体育加分汇总!A$1:C$79,3,FALSE)","v":{"v":8,"d":"8.0000"}},{"$f":"AD28+AE28","v":{"v":67.304,"d":"67.3040"}},{"$f":"AF28*0.05","v":3.3652},{"$f":"VLOOKUP(D28,美育!B$2:F$182,5,FALSE)","v":{"v":45,"d":"45.0000"}},{"$f":"VLOOKUP(D28,美育!B$2:E$182,4,FALSE)","v":{"v":0,"d":"0.0000"}},{"$f":"AH28+AI28","v":{"v":45,"d":"45.0000"}},{"$f":"AJ28*0.05","v":{"v":2.25,"d":"2.2500"}},{"$f":"VLOOKUP(D28,劳育基础分!B$3:AF$182,31,FALSE)","v":{"v":34,"d":"34.0000"}},{"v":0,"d":"0.0000"},{"$f":"AL28+AM28","v":{"v":34,"d":"34.0000"}},{"$f":"AN28*0.05","v":{"v":1.7,"d":"1.7000"}},{"$f":"S28+Y28+AG28+AK28+AO28","v":{"v":69.7838944444444,"d":"69.7839"}},{"$f":"VLOOKUP(D28,必修课优良率!A$1:B$173,2,FALSE)","v":"76.19%"},{"$f":"VLOOKUP(D28,四级成绩!B$2:C$178,2,FALSE)","v":506},{"$f":"VLOOKUP(D28,必修课优良率!A$1:D$173,4,FALSE)","v":"否"}]
[26,18,"2024010577","孔梓涵",{"$f":"VLOOKUP(D29,美育!B$2:E$182,2,FALSE)","v":"化工类24-5班"},{"$f":"VLOOKUP(D29,互评分!C$2:F$181,4,FALSE)","v":{"v":99.6296296296296,"d":"99.6296"}},{"$f":"VLOOKUP(D29,辅导员加分!B$2:C$176,2,FALSE)","v":{"v":93,"d":"93.0000"}},{"$f":"VLOOKUP(D29,互评分!C$2:F$181,3,FALSE)","v":{"v":100,"d":"100.0000"}},{"$f":"VLOOKUP(D29,互评分!C$2:F$181,2,FALSE)","v":{"v":93,"d":"93.0000"}},{"$f":"F29*0.2","v":{"v":19.9259259259259,"d":"19.9259"}},{"$f":"G29*0.5","v":{"v":46.5,"d":"46.5000"}},{"$f":"H29*0.2","v":{"v":20,"d":"20.0000"}},{"$f":"I29*0.1","v":{"v":9.3,"d":"9.3000"}},{"$f":"SUM(J29:M29)*0.7","v":{"v":67.0081481481481,"d":"67.0081"}},{"$f":"VLOOKUP(D29,学生干部加分!A$1:C$140,3,FALSE)","v":{"v":6,"d":"6.0000"}},{"v":0,"d":"0.0000"},{"v":0,"d":"0.0000"},{"$f":"N29+O29+P29-Q29","v":{"v":73.0081481481481,"d":"73.0081"}},{"$f":"R29*0.15","v":{"v":10.9512222222222,"d":"10.9512"}},{"v":85.9878048780488,"d":"85.9878"},{"v":89,"d":"89.0000"},{"$f":"IF(U29>0,T29*0.9+U29*0.1,T29)","v":{"v":86.2890243902439,"d":"86.2890"}},{"v":0,"d":"0.0000"},{"$f":"V29*0.85+W29","v":{"v":73.3456707317073,"d":"73.3457"}},{"$f":"0.7*X29","v":{"v":51.3419695121951,"d":"51.3420"}},{"$f":"VLOOKUP(D29,体测成绩!B$2:C$273,2,FALSE)","v":{"v":80.8,"d":"80.8000"}},{"$f":"VLOOKUP(D29,体育锻炼成绩!A$2:B$182,2,FALSE)","v":"100.00"},{"$f":"0.8*Z29","v":{"v":64.64,"d":"64.6400"}},{"$f":"AA29*0.2","v":{"v":20,"d":"20.0000"}},{"$f":"SUM(AB29:AC29)*0.7","v":{"v":59.248,"d":"59.2480"}},{"$f":"VLOOKUP(D29,体育加分汇总!A$1:C$79,3,FALSE)","v":{"v":20,"d":"20.0000"}},{"$f":"AD29+AE29","v":{"v":79.248,"d":"79.2480"}},{"$f":"AF29*0.05","v":3.9624},{"$f":"VLOOKUP(D29,美育!B$2:F$182,5,FALSE)","v":{"v":28,"d":"28.0000"}},{"$f":"VLOOKUP(D29,美育!B$2:E$182,4,FALSE)","v":{"v":2,"d":"2.0000"}},{"$f":"AH29+AI29","v":{"v":30,"d":"30.0000"}},{"$f":"AJ29*0.05","v":{"v":1.5,"d":"1.5000"}},{"$f":"VLOOKUP(D29,劳育基础分!B$3:AF$182,31,FALSE)","v":{"v":40.5,"d":"40.5000"}},{"v":0,"d":"0.0000"},{"$f":"AL29+AM29","v":{"v":40.5,"d":"40.5000"}},{"$f":"AN29*0.05","v":{"v":2.025,"d":"2.0250"}},{"$f":"S29+Y29+AG29+AK29+AO29","v":{"v":69.7805917344174,"d":"69.7806"}},{"$f":"VLOOKUP(D29,必修课优良率!A$1:B$173,2,FALSE)","v":"90.48%"},{"$f":"VLOOKUP(D29,四级成绩!B$2:C$178,2,FALSE)","v":616},{"$f":"VLOOKUP(D29,必修课优良率!A$1:D$173,4,FALSE)","v":"否"}]
[27,57,2024010607,"杨睿",{"$f":"VLOOKUP(D30,美育!B$2:E$182,2,FALSE)","v":"化工类24-6班"},{"$f":"VLOOKUP(D30,互评分!C$2:F$181,4,FALSE)","v":{"v":99.1153846153846,"d":"99.1154"}},{"$f":"VLOOKUP(D30,辅导员加分!B$2:C$176,2,FALSE)","v":{"v":94,"d":"94.0000"}},{"$f":"VLOOKUP(D30,互评分!C$2:F$181,3,FALSE)","v":{"v":100,"d":"100.0000"}},{"$f":"VLOOKUP(D30,互评分!C$2:F$181,2,FALSE)","v":{"v":100,"d":"100.0000"}},{"$f":"F30*0.2","v":{"v":19.8230769230769,"d":"19.8231"}},{"$f":"G30*0.5","v":{"v":47,"d":"47.0000"}},{"$f":"H30*0.2","v":{"v":20,"d":"20.0000"}},{"$f":"I30*0.1","v":{"v":10,"d":"10.0000"}},{"$f":"SUM(J30:M30)*0.7","v":{"v":67.7761538461538,"d":"67.7762"}},{"$f":"VLOOKUP(D30,学生干部加分!A$1:C$140,3,FALSE)","v":{"v":9,"d":"9.0000"}},{"v":0,"d":"0.0000"},{"v":0,"d":"0.0000"},{"$f":"N30+O30+P30-Q30","v":{"v":76.7761538461538,"d":"76.7762"}},{"$f":"R30*0.15","v":{"v":11.5164230769231,"d":"11.5164"}},{"v":80.679,"d":"80.6790"},{"v":86,"d":"86.0000"},{"$f":"IF(U30>0,T30*0.9+U30*0.1,T30)","v":81.2111},{"$f":"VLOOKUP(D30,智育加分汇总!A$2:C$44,3,FALSE)","v":{"v":3,"d":"3.0000"}},{"$f":"V30*0.85+W30","v":{"v":72.029435,"d":"72.0294"}},{"$f":"0.7*X30","v":{"v":50.4206045,"d":"50.4206"}},{"$f":"VLOOKUP(D30,体测成绩!B$2:C$273,2,FALSE)","v":{"v":80.9,"d":"80.9000"}},{"$f":"VLOOKUP(D30,体育锻炼成绩!A$2:B$182,2,FALSE)","v":"100.00"},{"$f":"0.8*Z30","v":{"v":64.72,"d":"64.7200"}},{"$f":"AA30*0.2","v":{"v":20,"d":"20.0000"}},{"$f":"SUM(AB30:AC30)*0.7","v":{"v":59.304,"d":"59.3040"}},{"$f":"VLOOKUP(D30,体育加分汇总!A$1:C$79,3,FALSE)","v":{"v":1,"d":"1.0000"}},{"$f":"AD30+AE30","v":{"v":60.304,"d":"60.3040"}},{"$f":"AF30*0.05","v":3.0152},{"$f":"VLOOKUP(D30,美育!B$2:F$182,5,FALSE)","v":{"v":43,"d":"43.0000"}},{"$f":"VLOOKUP(D30,美育!B$2:E$182,4,FALSE)","v":{"v":4,"d":"4.0000"}},{"$f":"AH30+AI30","v":{"v":47,"d":"47.0000"}},{"$f":"AJ30*0.05","v":{"v":2.35,"d":"2.3500"}},{"$f":"VLOOKUP(D30,劳育基础分!B$3:AF$182,31,FALSE)","v":{"v":41.5,"d":"41.5000"}},{"$f":"VLOOKUP(D30,劳育加分!A$3:I$34,9,FALSE)","v":{"v":4,"d":"4.0000"}},{"$f":"AL30+AM30","v":{"v":45.5,"d":"45.5000"}},{"$f":"AN30*0.05","v":{"v":2.275,"d":"2.2750"}},{"$f":"S30+Y30+AG30+AK30+AO30","v":{"v":69.5772275769231,"d":"69.5772"}},{"v":0.7,"d":"70.0000%"},{"$f":"VLOOKUP(D30,四级成绩!B$2:C$178,2,FALSE)","v":535},"否"]
[28,41,"2024010475","葛亿盛",{"$f":"VLOOKUP(D31,美育!B$2:E$182,2,FALSE)","v":"化工类24-1班"},{"$f":"VLOOKUP(D31,互评分!C$2:F$181,4,FALSE)","v":{"v":98.55555556,"d":"98.5556"}},{"$f":"VLOOKUP(D31,辅导员加分!B$2:C$176,2,FALSE)","v":{"v":96,"d":"96.0000"}},{"$f":"VLOOKUP(D31,互评分!C$2:F$181,3,FALSE)","v":{"v":100,"d":"100.0000"}},{"$f":"VLOOKUP(D31,互评分!C$2:F$181,2,FALSE)","v":{"v":99,"d":"99.0000"}},{"$f":"F31*0.2","v":{"v":19.711111112,"d":"19.7111"}},{"$f":"G31*0.5","v":{"v":48,"d":"48.0000"}},{"$f":"H31*0.2","v":{"v":20,"d":"20.0000"}},{"$f":"I31*0.1","v":{"v":9.9,"d":"9.9000"}},{"$f":"SUM(J31:M31)*0.7","v":{"v":68.3277777784,"d":"68.3278"}},{"$f":"VLOOKUP(D31,学生干部加分!A$1:C$140,3,FALSE)","v":{"v":8,"d":"8.0000"}},{"$f":"VLOOKUP(D31,德育加分!C$2:K$30,9,FALSE)","v":{"v":5,"d":"5.0000"}},{"v":0,"d":"0.0000"},{"$f":"N31+O31+P31-Q31","v":{"v":81.3277777784,"d":"81.3278"}},{"$f":"R31*0.15","v":{"v":12.19916666676,"d":"12.1992"}},{"v":82.1585365853659,"d":"82.1585"},{"v":86.6666666666667,"d":"86.6667"},{"$f":"IF(U31>0,T31*0.9+U31*0.1,T31)","v":{"v":82.609349593496,"d":"82.6093"}},{"v":0,"d":"0.0000"},{"$f":"V31*0.85+W31","v":{"v":70.2179471544716,"d":"70.2179"}},{"$f":"0.7*X31","v":{"v":49.1525630081301,"d":"49.1526"}},{"$f":"VLOOKUP(D31,体测成绩!B$2:C$273,2,FALSE)","v":{"v":87.8,"d":"87.8000"}},{"$f":"VLOOKUP(D31,体育锻炼成绩!A$2:B$182,2,FALSE)","v":"100.00"},{"$f":"0.8*Z31","v":{"v":70.24,"d":"70.2400"}},{"$f":"AA31*0.2","v":{"v":20,"d":"20.0000"}},{"$f":"SUM(AB31:AC31)*0.7","v":{"v":63.168,"d":"63.1680"}},{"$f":"VLOOKUP(D31,体育加分汇总!A$1:C$79,3,FALSE)","v":{"v":8,"d":"8.0000"}},{"$f":"AD31+AE31","v":{"v":71.168,"d":"71.1680"}},{"$f":"AF31*0.05","v":3.5584},{"$f":"VLOOKUP(D31,美育!B$2:F$182,5,FALSE)","v":{"v":46,"d":"46.0000"}},{"$f":"VLOOKUP(D31,美育!B$2:E$182,4,FALSE)","v":{"v":0,"d":"0.0000"}},{"$f":"AH31+AI31","v":{"v":46,"d":"46.0000"}},{"$f":"AJ31*0.05","v":{"v":2.3,"d":"2.3000"}},{"$f":"VLOOKUP(D31,劳育基础分!B$3:AF$182,31,FALSE)","v":{"v":42,"d":"42.0000"}},{"$f":"VLOOKUP(D31,劳育加分!A$3:I$34,9,FALSE)","v":{"v":5,"d":"5.0000"}},{"$f":"AL31+AM31","v":{"v":47,"d":"47.0000"}},{"$f":"AN31*0.05","v":{"v":2.35,"d":"2.3500"}},{"$f":"S31+Y31+AG31+AK31+AO31","v":{"v":69.5601296748901,"d":"69.5601"}},{"$f":"VLOOKUP(D31,必修课优良率!A$1:B$173,2,FALSE)","v":"71.43%"},{"$f":"VLOOKUP(D31,四级成绩!B$2:C$178,2,FALSE)","v":519},{"$f":"VLOOKUP(D31,必修课优良率!A$1:D$173,4,FALSE)","v":"否"}]
[29,8,2024010576,"徐桢",{"$f":"VLOOKUP(D32,美育!B$2:E$182,2,FALSE)","v":"化工类24-4班"},{"$f":"VLOOKUP(D32,互评分!C$2:F$181,4,FALSE)","v":96.4286},{"$f":"VLOOKUP(劳育基础分!B173,辅导员加分!B$2:C$176,2,FALSE)","v":{"v":92,"d":"92.0000"}},{"$f":"VLOOKUP(D32,互评分!C$2:F$181,3,FALSE)","v":{"v":95.57143,"d":"95.5714"}},{"$f":"VLOOKUP(D32,互评分!C$2:F$181,2,FALSE)","v":{"v":100,"d":"100.0000"}},{"$f":"F32*0.2","v":{"v":19.28572,"d":"19.2857"}},{"$f":"G32*0.5","v":{"v":46,"d":"46.0000"}},{"$f":"H32*0.2","v":{"v":19.114286,"d":"19.1143"}},{"$f":"I32*0.1","v":{"v":10,"d":"10.0000"}},{"$f":"SUM(J32:M32)*0.7","v":{"v":66.0800042,"d":"66.0800"}},{"$f":"VLOOKUP(D32,学生干部加分!A$1:C$140,3,FALSE)","v":{"v":2,"d":"2.0000"}},{"v":0,"d":"0.0000"},{"v":0,"d":"0.0000"},{"$f":"N32+O32+P32-Q32","v":{"v":68.0800042,"d":"68.0800"}},{"$f":"R32*0.15","v":{"v":10.21200063,"d":"10.2120"}},{"v":87.7341772151899,"d":"87.7342"},{"v":83,"d":"83.0000"},{"$f":"IF(U32>0,T32*0.9+U32*0.1,T32)","v":{"v":87.2607594936709,"d":"87.2608"}},{"$f":"VLOOKUP(D32,智育加分汇总!A$2:C$44,3,FALSE)","v":{"v":4,"d":"4.0000"}},{"$f":"V32*0.85+W32","v":{"v":78.1716455696203,"d":"78.1716"}},{"$f":"0.7*X32","v":{"v":54.7201518987342,"d":"54.7202"}},{"$f":"VLOOKUP(劳育基础分!B173,体测成绩!B$2:C$273,2,FALSE)","v":{"v":68.7,"d":"68.7000"}},{"$f":"VLOOKUP(劳育基础分!B173,体育锻炼成绩!A$2:B$182,2,FALSE)","v":"100.00"},{"$f":"0.8*Z32","v":{"v":54.96,"d":"54.9600"}},{"$f":"AA32*0.2","v":{"v":20,"d":"20.0000"}},{"$f":"SUM(AB32:AC32)*0.7","v":{"v":52.472,"d":"52.4720"}},{"v":0,"d":"0.0000"},{"$f":"AD32+AE32","v":{"v":52.472,"d":"52.4720"}},{"$f":"AF32*0.05","v":2.6236},{"$f":"VLOOKUP(D32,美育!B$2:F$182,5,FALSE)","v":{"v":20,"d":"20.0000"}},{"$f":"VLOOKUP(D32,美育!B$2:E$182,4,FALSE)","v":{"v":0,"d":"0.0000"}},{"$f":"AH32+AI32","v":{"v":20,"d":"20.0000"}},{"$f":"AJ32*0.05","v":{"v":1,"d":"1.0000"}},{"$f":"VLOOKUP(D32,劳育基础分!B$3:AF$182,31,FALSE)","v":{"v":20,"d":"20.0000"}},{"v":0,"d":"0.0000"},{"$f":"AL32+AM32","v":{"v":20,"d":"20.0000"}},{"$f":"AN32*0.05","v":{"v":1,"d":"1.0000"}},{"$f":"S32+Y32+AG32+AK32+AO32","v":{"v":69.5557525287342,"d":"69.5558"}},{"v":0.8,"d":"80.0000%"},429,"否"]
[30,25,"2024010523","胡启红",{"$f":"VLOOKUP(D33,美育!B$2:E$182,2,FALSE)","v":"化工类24-3班"},{"$f":"VLOOKUP(D33,互评分!C$2:F$181,4,FALSE)","v":{"v":99.1481481481482,"d":"99.1481"}},{"$f":"VLOOKUP(D33,辅导员加分!B$2:C$176,2,FALSE)","v":{"v":94,"d":"94.0000"}},{"$f":"VLOOKUP(D33,互评分!C$2:F$181,3,FALSE)","v":{"v":100,"d":"100.0000"}},{"$f":"VLOOKUP(D33,互评分!C$2:F$181,2,FALSE)","v":{"v":99,"d":"99.0000"}},{"$f":"F33*0.2","v":{"v":19.8296296296296,"d":"19.8296"}},{"$f":"G33*0.5","v":{"v":47,"d":"47.0000"}},{"$f":"H33*0.2","v":{"v":20,"d":"20.0000"}},{"$f":"I33*0.1","v":{"v":9.9,"d":"9.9000"}},{"$f":"SUM(J33:M33)*0.7","v":{"v":67.7107407407407,"d":"67.7107"}},{"$f":"VLOOKUP(D33,学生干部加分!A$1:C$140,3,FALSE)","v":{"v":8,"d":"8.0000"}},{"$f":"VLOOKUP(D33,德育加分!C$2:K$30,9,FALSE)","v":{"v":8,"d":"8.0000"}},{"v":0,"d":"0.0000"},{"$f":"N33+O33+P33-Q33","v":{"v":83.7107407407407,"d":"83.7107"}},{"$f":"R33*0.15","v":{"v":12.5566111111111,"d":"12.5566"}},{"v":84.5119047619048,"d":"84.5119"},{"v":85,"d":"85.0000"},{"$f":"IF(U33>0,T33*0.9+U33*0.1,T33)","v":{"v":84.5607142857143,"d":"84.5607"}},{"v":0,"d":"0.0000"},{"$f":"V33*0.85+W33","v":{"v":71.8766071428572,"d":"71.8766"}},{"$f":"0.7*X33","v":{"v":50.313625,"d":"50.3136"}},{"$f":"VLOOKUP(D33,体测成绩!B$2:C$273,2,FALSE)","v":{"v":64.3,"d":"64.3000"}},{"$f":"VLOOKUP(D33,体育锻炼成绩!A$2:B$182,2,FALSE)","v":{"v":100,"d":"100.0000"}},{"$f":"0.8*Z33","v":{"v":51.44,"d":"51.4400"}},{"$f":"AA33*0.2","v":{"v":20,"d":"20.0000"}},{"$f":"SUM(AB33:AC33)*0.7","v":{"v":50.008,"d":"50.0080"}},{"$f":"VLOOKUP(D33,体育加分汇总!A$1:C$79,3,FALSE)","v":{"v":0,"d":"0.0000"}},{"$f":"AD33+AE33","v":{"v":50.008,"d":"50.0080"}},{"$f":"AF33*0.05","v":2.5004},{"$f":"VLOOKUP(D33,美育!B$2:F$182,5,FALSE)","v":{"v":40,"d":"40.0000"}},{"$f":"VLOOKUP(D33,美育!B$2:E$182,4,FALSE)","v":{"v":0,"d":"0.0000"}},{"$f":"AH33+AI33","v":{"v":40,"d":"40.0000"}},{"$f":"AJ33*0.05","v":{"v":2,"d":"2.0000"}},{"$f":"VLOOKUP(D33,劳育基础分!B$3:AF$182,31,FALSE)","v":{"v":40,"d":"40.0000"}},{"v":0,"d":"0.0000"},{"$f":"AL33+AM33","v":{"v":40,"d":"40.0000"}},{"$f":"AN33*0.05","v":{"v":2,"d":"2.0000"}},{"$f":"S33+Y33+AG33+AK33+AO33","v":{"v":69.3706361111111,"d":"69.3706"}},{"$f":"VLOOKUP(D33,必修课优良率!A$1:B$173,2,FALSE)","v":"76.19%"},{"$f":"VLOOKUP(D33,四级成绩!B$2:C$178,2,FALSE)","v":534},{"$f":"VLOOKUP(D33,必修课优良率!A$1:D$173,4,FALSE)","v":"否"}]
[31,54,"2024010547","董宇昕",{"$f":"VLOOKUP(D34,美育!B$2:E$182,2,FALSE)","v":"化工类24-4班"},{"$f":"VLOOKUP(D34,互评分!C$2:F$181,4,FALSE)","v":97.6071},{"$f":"VLOOKUP(D34,辅导员加分!B$2:C$176,2,FALSE)","v":{"v":92,"d":"92.0000"}},{"$f":"VLOOKUP(D34,互评分!C$2:F$181,3,FALSE)","v":{"v":98.42857,"d":"98.4286"}},{"$f":"VLOOKUP(D34,互评分!C$2:F$181,2,FALSE)","v":{"v":100,"d":"100.0000"}},{"$f":"F34*0.2","v":{"v":19.52142,"d":"19.5214"}},{"$f":"G34*0.5","v":{"v":46,"d":"46.0000"}},{"$f":"H34*0.2","v":{"v":19.685714,"d":"19.6857"}},{"$f":"I34*0.1","v":{"v":10,"d":"10.0000"}},{"$f":"SUM(J34:M34)*0.7","v":{"v":66.6449938,"d":"66.6450"}},{"$f":"VLOOKUP(D34,学生干部加分!A$1:C$140,3,FALSE)","v":{"v":2,"d":"2.0000"}},{"v":0,"d":"0.0000"},{"v":0,"d":"0.0000"},{"$f":"N34+O34+P34-Q34","v":{"v":68.6449938,"d":"68.6450"}},{"$f":"R34*0.15","v":{"v":10.29674907,"d":"10.2967"}},{"v":80.8536585365854,"d":"80.8537"},{"v":88.3333333333333,"d":"88.3333"},{"$f":"IF(U34>0,T34*0.9+U34*0.1,T34)","v":{"v":81.6016260162602,"d":"81.6016"}},{"$f":"VLOOKUP(D34,智育加分汇总!A$2:C$44,3,FALSE)","v":{"v":4,"d":"4.0000"}},{"$f":"V34*0.85+W34","v":{"v":73.3613821138212,"d":"73.3614"}},{"$f":"0.7*X34","v":{"v":51.3529674796748,"d":"51.3530"}},{"$f":"VLOOKUP(D34,体测成绩!B$2:C$273,2,FALSE)","v":{"v":80.8,"d":"80.8000"}},{"$f":"VLOOKUP(D34,体育锻炼成绩!A$2:B$182,2,FALSE)","v":"100.00"},{"$f":"0.8*Z34","v":{"v":64.64,"d":"64.6400"}},{"$f":"AA34*0.2","v":{"v":20,"d":"20.0000"}},{"$f":"SUM(AB34:AC34)*0.7","v":{"v":59.248,"d":"59.2480"}},{"v":0,"d":"0.0000"},{"$f":"AD34+AE34","v":{"v":59.248,"d":"59.2480"}},{"$f":"AF34*0.05","v":2.9624},{"$f":"VLOOKUP(D34,美育!B$2:F$182,5,FALSE)","v":{"v":55,"d":"55.0000"}},{"$f":"VLOOKUP(D34,美育!B$2:E$182,4,FALSE)","v":{"v":0,"d":"0.0000"}},{"$f":"AH34+AI34","v":{"v":55,"d":"55.0000"}},{"$f":"AJ34*0.05","v":{"v":2.75,"d":"2.7500"}},{"$f":"VLOOKUP(D34,劳育基础分!B$3:AF$182,31,FALSE)","v":{"v":40,"d":"40.0000"}},{"v":0,"d":"0.0000"},{"$f":"AL34+AM34","v":{"v":40,"d":"40.0000"}},{"$f":"AN34*0.05","v":{"v":2,"d":"2.0000"}},{"$f":"S34+Y34+AG34+AK34+AO34","v":{"v":69.3621165496748,"d":"69.3621"}},{"$f":"VLOOKUP(D34,必修课优良率!A$1:B$173,2,FALSE)","v":"71.43%"},{"$f":"VLOOKUP(D34,四级成绩!B$2:C$178,2,FALSE)","v":483},{"$f":"VLOOKUP(D34,必修课优良率!A$1:D$173,4,FALSE)","v":"否"}]
[32,85,"2024010605","杜向栋",{"$f":"VLOOKUP(D35,美育!B$2:E$182,2,FALSE)","v":"化工类24-5班"},{"$f":"VLOOKUP(D35,互评分!C$2:F$181,4,FALSE)","v":{"v":99.4814814814815,"d":"99.4815"}},{"$f":"VLOOKUP(D35,辅导员加分!B$2:C$176,2,FALSE)","v":{"v":90,"d":"90.0000"}},{"$f":"VLOOKUP(D35,互评分!C$2:F$181,3,FALSE)","v":{"v":100,"d":"100.0000"}},{"$f":"VLOOKUP(D35,互评分!C$2:F$181,2,FALSE)","v":{"v":90,"d":"90.0000"}},{"$f":"F35*0.2","v":{"v":19.8962962962963,"d":"19.8963"}},{"$f":"G35*0.5","v":{"v":45,"d":"45.0000"}},{"$f":"H35*0.2","v":{"v":20,"d":"20.0000"}},{"$f":"I35*0.1","v":{"v":9,"d":"9.0000"}},{"$f":"SUM(J35:M35)*0.7","v":{"v":65.7274074074074,"d":"65.7274"}},{"$f":"VLOOKUP(D35,学生干部加分!A$1:C$140,3,FALSE)","v":{"v":8,"d":"8.0000"}},{"v":0,"d":"0.0000"},{"v":0,"d":"0.0000"},{"$f":"N35+O35+P35-Q35","v":{"v":73.7274074074074,"d":"73.7274"}},{"$f":"R35*0.15","v":{"v":11.0591111111111,"d":"11.0591"}},{"v":77.4642857142857,"d":"77.4643"},{"v":87.6,"d":"87.6000"},{"$f":"IF(U35>0,T35*0.9+U35*0.1,T35)","v":{"v":78.4778571428571,"d":"78.4779"}},{"$f":"VLOOKUP(D35,智育加分汇总!A$2:C$44,3,FALSE)","v":{"v":5,"d":"5.0000"}},{"$f":"V35*0.85+W35","v":{"v":71.7061785714286,"d":"71.7062"}},{"$f":"0.7*X35","v":{"v":50.194325,"d":"50.1943"}},{"$f":"VLOOKUP(D35,体测成绩!B$2:C$273,2,FALSE)","v":{"v":60,"d":"60.0000"}},{"$f":"VLOOKUP(D35,体育锻炼成绩!A$2:B$182,2,FALSE)","v":"100.00"},{"$f":"0.8*Z35","v":{"v":48,"d":"48.0000"}},{"$f":"AA35*0.2","v":{"v":20,"d":"20.0000"}},{"$f":"SUM(AB35:AC35)*0.7","v":{"v":47.6,"d":"47.6000"}},{"v":0,"d":"0.0000"},{"$f":"AD35+AE35","v":{"v":47.6,"d":"47.6000"}},{"$f":"AF35*0.05","v":{"v":2.38,"d":"2.3800"}},{"$f":"VLOOKUP(D35,美育!B$2:F$182,5,FALSE)","v":{"v":40,"d":"40.0000"}},{"$f":"VLOOKUP(D35,美育!B$2:E$182,4,FALSE)","v":{"v":2,"d":"2.0000"}},{"$f":"AH35+AI35","v":{"v":42,"d":"42.0000"}},{"$f":"AJ35*0.05","v":{"v":2.1,"d":"2.1000"}},{"$f":"VLOOKUP(D35,劳育基础分!B$3:AF$182,31,FALSE)","v":{"v":62.5,"d":"62.5000"}},{"$f":"VLOOKUP(D35,劳育加分!A$3:I$34,9,FALSE)","v":{"v":4,"d":"4.0000"}},{"$f":"AL35+AM35","v":{"v":66.5,"d":"66.5000"}},{"$f":"AN35*0.05","v":{"v":3.325,"d":"3.3250"}},{"$f":"S35+Y35+AG35+AK35+AO35","v":{"v":69.0584361111111,"d":"69.0584"}},{"$f":"VLOOKUP(D35,必修课优良率!A$1:B$173,2,FALSE)","v":"47.62%"},{"$f":"VLOOKUP(D35,四级成绩!B$2:C$178,2,FALSE)","v":451},{"$f":"VLOOKUP(D35,必修课优良率!A$1:D$173,4,FALSE)","v":"否"}]
[33,40,"2024010459","靳铭超",{"$f":"VLOOKUP(D36,美育!B$2:E$182,2,FALSE)","v":"化工类24-1班"},{"$f":"VLOOKUP(D36,互评分!C$2:F$181,4,FALSE)","v":{"v":97.25925926,"d":"97.2593"}},{"$f":"VLOOKUP(D36,辅导员加分!B$2:C$176,2,FALSE)","v":{"v":96,"d":"96.0000"}},{"$f":"VLOOKUP(D36,互评分!C$2:F$181,3,FALSE)","v":{"v":97.5,"d":"97.5000"}},{"$f":"VLOOKUP(D36,互评分!C$2:F$181,2,FALSE)","v":{"v":98,"d":"98.0000"}},{"$f":"F36*0.2","v":{"v":19.451851852,"d":"19.4519"}},{"$f":"G36*0.5","v":{"v":48,"d":"48.0000"}},{"$f":"H36*0.2","v":{"v":19.5,"d":"19.5000"}},{"$f":"I36*0.1","v":{"v":9.8,"d":"9.8000"}},{"$f":"SUM(J36:M36)*0.7","v":{"v":67.7262962964,"d":"67.7263"}},{"$f":"VLOOKUP(D36,学生干部加分!A$1:C$140,3,FALSE)","v":{"v":5.75,"d":"5.7500"}},{"v":0,"d":"0.0000"},{"v":0,"d":"0.0000"},{"$f":"N36+O36+P36-Q36","v":{"v":73.4762962964,"d":"73.4763"}},{"$f":"R36*0.15","v":{"v":11.02144444446,"d":"11.0214"}},{"$f":"VLOOKUP(D36,[2]必修课成绩!C$59:BO$82,65,FALSE)","v":{"v":82.2926829268293,"d":"82.2927"}},{"$f":"VLOOKUP(D36,[2]选修课成绩!C$60:BI$83,59,FALSE)","v":{"v":81,"d":"81.0000"}},{"$f":"IF(U36>0,T36*0.9+U36*0.1,T36)","v":{"v":82.1634146341464,"d":"82.1634"}},{"v":0,"d":"0.0000"},{"$f":"V36*0.85+W36","v":{"v":69.8389024390244,"d":"69.8389"}},{"$f":"0.7*X36","v":{"v":48.8872317073171,"d":"48.8872"}},{"$f":"VLOOKUP(D36,体测成绩!B$2:C$273,2,FALSE)","v":{"v":79.3,"d":"79.3000"}},{"$f":"VLOOKUP(D36,体育锻炼成绩!A$2:B$182,2,FALSE)","v":"100.00"},{"$f":"0.8*Z36","v":{"v":63.44,"d":"63.4400"}},{"$f":"AA36*0.2","v":{"v":20,"d":"20.0000"}},{"$f":"SUM(AB36:AC36)*0.7","v":{"v":58.408,"d":"58.4080"}},{"$f":"VLOOKUP(D36,体育加分汇总!A$1:C$79,3,FALSE)","v":{"v":8,"d":"8.0000"}},{"$f":"AD36+AE36","v":{"v":66.408,"d":"66.4080"}},{"$f":"AF36*0.05","v":3.3204},{"$f":"VLOOKUP(D36,美育!B$2:F$182,5,FALSE)","v":{"v":63,"d":"63.0000"}},{"$f":"VLOOKUP(D36,美育!B$2:E$182,4,FALSE)","v":{"v":4,"d":"4.0000"}},{"$f":"AH36+AI36","v":{"v":67,"d":"67.0000"}},{"$f":"AJ36*0.05","v":{"v":3.35,"d":"3.3500"}},{"$f":"VLOOKUP(D36,劳育基础分!B$3:AF$182,31,FALSE)","v":{"v":47,"d":"47.0000"}},{"v":0,"d":"0.0000"},{"$f":"AL36+AM36","v":{"v":47,"d":"47.0000"}},{"$f":"AN36*0.05","v":{"v":2.35,"d":"2.3500"}},{"$f":"S36+Y36+AG36+AK36+AO36","v":{"v":68.9290761517771,"d":"68.9291"}},{"$f":"VLOOKUP(D36,必修课优良率!A$1:B$173,2,FALSE)","v":"80.95%"},{"$f":"VLOOKUP(D36,四级成绩!B$2:C$178,2,FALSE)","v":529},{"$f":"VLOOKUP(D36,必修课优良率!A$1:D$173,4,FALSE)","v":"否"}]
[34,52,"2024010465","郝美超",{"$f":"VLOOKUP(D37,美育!B$2:E$182,2,FALSE)","v":"化工类24-1班"},{"$f":"VLOOKUP(D37,互评分!C$2:F$181,4,FALSE)","v":{"v":96.51851852,"d":"96.5185"}},{"$f":"VLOOKUP(D37,辅导员加分!B$2:C$176,2,FALSE)","v":{"v":94,"d":"94.0000"}},{"$f":"VLOOKUP(D37,互评分!C$2:F$181,3,FALSE)","v":{"v":100,"d":"100.0000"}},{"$f":"VLOOKUP(D37,互评分!C$2:F$181,2,FALSE)","v":{"v":99,"d":"99.0000"}},{"$f":"F37*0.2","v":{"v":19.303703704,"d":"19.3037"}},{"$f":"G37*0.5","v":{"v":47,"d":"47.0000"}},{"$f":"H37*0.2","v":{"v":20,"d":"20.0000"}},{"$f":"I37*0.1","v":{"v":9.9,"d":"9.9000"}},{"$f":"SUM(J37:M37)*0.7","v":{"v":67.3425925928,"d":"67.3426"}},{"$f":"VLOOKUP(D37,学生干部加分!A$1:C$140,3,FALSE)","v":{"v":7.5,"d":"7.5000"}},{"$f":"VLOOKUP(D37,德育加分!C$2:K$30,9,FALSE)","v":{"v":0,"d":"0.0000"}},{"v":0,"d":"0.0000"},{"$f":"N37+O37+P37-Q37","v":{"v":74.8425925928,"d":"74.8426"}},{"$f":"R37*0.15","v":{"v":11.22638888892,"d":"11.2264"}},{"v":80.9878048780488,"d":"80.9878"},{"v":89,"d":"89.0000"},{"$f":"IF(U37>0,T37*0.9+U37*0.1,T37)","v":{"v":81.7890243902439,"d":"81.7890"}},{"v":0,"d":"0.0000"},{"$f":"V37*0.85+W37","v":{"v":69.5206707317073,"d":"69.5207"}},{"$f":"0.7*X37","v":{"v":48.6644695121951,"d":"48.6645"}},{"$f":"VLOOKUP(D37,体测成绩!B$2:C$273,2,FALSE)","v":{"v":60,"d":"60.0000"}},{"$f":"VLOOKUP(D37,体育锻炼成绩!A$2:B$182,2,FALSE)","v":"100.00"},{"$f":"0.8*Z37","v":{"v":48,"d":"48.0000"}},{"$f":"AA37*0.2","v":{"v":20,"d":"20.0000"}},{"$f":"SUM(AB37:AC37)*0.7","v":{"v":47.6,"d":"47.6000"}},{"$f":"VLOOKUP(D37,体育加分汇总!A$1:C$79,3,FALSE)","v":{"v":8,"d":"8.0000"}},{"$f":"AD37+AE37","v":{"v":55.6,"d":"55.6000"}},{"$f":"AF37*0.05","v":{"v":2.78,"d":"2.7800"}},{"$f":"VLOOKUP(D37,美育!B$2:F$182,5,FALSE)","v":{"v":70,"d":"70.0000"}},{"$f":"VLOOKUP(D37,美育!B$2:E$182,4,FALSE)","v":{"v":10,"d":"10.0000"}},{"$f":"AH37+AI37","v":{"v":80,"d":"80.0000"}},{"$f":"AJ37*0.05","v":{"v":4,"d":"4.0000"}},{"$f":"VLOOKUP(D37,劳育基础分!B$3:AF$182,31,FALSE)","v":{"v":40,"d":"40.0000"}},{"$f":"VLOOKUP(D37,劳育加分!A$3:I$34,9,FALSE)","v":{"v":4,"d":"4.0000"}},{"$f":"AL37+AM37","v":{"v":44,"d":"44.0000"}},{"$f":"AN37*0.05","v":{"v":2.2,"d":"2.2000"}},{"$f":"S37+Y37+AG37+AK37+AO37","v":{"v":68.8708584011151,"d":"68.8709"}},{"$f":"VLOOKUP(D37,必修课优良率!A$1:B$173,2,FALSE)","v":"66.67%"},{"$f":"VLOOKUP(D37,四级成绩!B$2:C$178,2,FALSE)","v":523},{"$f":"VLOOKUP(D37,必修课优良率!A$1:D$173,4,FALSE)","v":"否"}]
[35,55,"2024010581","董家慧",{"$f":"VLOOKUP(D38,美育!B$2:E$182,2,FALSE)","v":"化工类24-5班"},{"$f":"VLOOKUP(D38,互评分!C$2:F$181,4,FALSE)","v":{"v":99.5925925925926,"d":"99.5926"}},{"$f":"VLOOKUP(D38,辅导员加分!B$2:C$176,2,FALSE)","v":{"v":94,"d":"94.0000"}},{"$f":"VLOOKUP(D38,互评分!C$2:F$181,3,FALSE)","v":{"v":100,"d":"100.0000"}},{"$f":"VLOOKUP(D38,互评分!C$2:F$181,2,FALSE)","v":{"v":90,"d":"90.0000"}},{"$f":"F38*0.2","v":{"v":19.9185185185185,"d":"19.9185"}},{"$f":"G38*0.5","v":{"v":47,"d":"47.0000"}},{"$f":"H38*0.2","v":{"v":20,"d":"20.0000"}},{"$f":"I38*0.1","v":{"v":9,"d":"9.0000"}},{"$f":"SUM(J38:M38)*0.7","v":{"v":67.142962962963,"d":"67.1430"}},{"$f":"VLOOKUP(D38,学生干部加分!A$1:C$140,3,FALSE)","v":{"v":6,"d":"6.0000"}},{"v":0,"d":"0.0000"},{"v":0,"d":"0.0000"},{"$f":"N38+O38+P38-Q38","v":{"v":73.142962962963,"d":"73.1430"}},{"$f":"R38*0.15","v":{"v":10.9714444444444,"d":"10.9714"}},{"v":80.8536585365854,"d":"80.8537"},{"v":85,"d":"85.0000"},{"$f":"IF(U38>0,T38*0.9+U38*0.1,T38)","v":{"v":81.2682926829269,"d":"81.2683"}},{"v":0,"d":"0.0000"},{"$f":"V38*0.85+W38","v":{"v":69.0780487804878,"d":"69.0780"}},{"$f":"0.7*X38","v":{"v":48.3546341463415,"d":"48.3546"}},{"$f":"VLOOKUP(D38,体测成绩!B$2:C$273,2,FALSE)","v":{"v":77.4,"d":"77.4000"}},{"$f":"VLOOKUP(D38,体育锻炼成绩!A$2:B$182,2,FALSE)","v":"100.00"},{"$f":"0.8*Z38","v":{"v":61.92,"d":"61.9200"}},{"$f":"AA38*0.2","v":{"v":20,"d":"20.0000"}},{"$f":"SUM(AB38:AC38)*0.7","v":{"v":57.344,"d":"57.3440"}},{"$f":"VLOOKUP(D38,体育加分汇总!A$1:C$79,3,FALSE)","v":{"v":20,"d":"20.0000"}},{"$f":"AD38+AE38","v":{"v":77.344,"d":"77.3440"}},{"$f":"AF38*0.05","v":3.8672},{"$f":"VLOOKUP(D38,美育!B$2:F$182,5,FALSE)","v":{"v":70,"d":"70.0000"}},{"$f":"VLOOKUP(D38,美育!B$2:E$182,4,FALSE)","v":{"v":0,"d":"0.0000"}},{"$f":"AH38+AI38","v":{"v":70,"d":"70.0000"}},{"$f":"AJ38*0.05","v":{"v":3.5,"d":"3.5000"}},{"$f":"VLOOKUP(D38,劳育基础分!B$3:AF$182,31,FALSE)","v":{"v":42.5,"d":"42.5000"}},{"v":0,"d":"0.0000"},{"$f":"AL38+AM38","v":{"v":42.5,"d":"42.5000"}},{"$f":"AN38*0.05","v":{"v":2.125,"d":"2.1250"}},{"$f":"S38+Y38+AG38+AK38+AO38","v":{"v":68.8182785907859,"d":"68.8183"}},{"$f":"VLOOKUP(D38,必修课优良率!A$1:B$173,2,FALSE)","v":"76.19%"},{"$f":"VLOOKUP(D38,四级成绩!B$2:C$178,2,FALSE)","v":"486"},{"$f":"VLOOKUP(D38,必修课优良率!A$1:D$173,4,FALSE)","v":"否"}]
[36,17,"2024010479","刘韬",{"$f":"VLOOKUP(D39,美育!B$2:E$182,2,FALSE)","v":"化工类24-1班"},{"$f":"VLOOKUP(D39,互评分!C$2:F$181,4,FALSE)","v":{"v":99.11111111,"d":"99.1111"}},{"$f":"VLOOKUP(D39,辅导员加分!B$2:C$176,2,FALSE)","v":{"v":92,"d":"92.0000"}},{"$f":"VLOOKUP(D39,互评分!C$2:F$181,3,FALSE)","v":{"v":100,"d":"100.0000"}},{"$f":"VLOOKUP(D39,互评分!C$2:F$181,2,FALSE)","v":{"v":99,"d":"99.0000"}},{"$f":"F39*0.2","v":{"v":19.822222222,"d":"19.8222"}},{"$f":"G39*0.5","v":{"v":46,"d":"46.0000"}},{"$f":"H39*0.2","v":{"v":20,"d":"20.0000"}},{"$f":"I39*0.1","v":{"v":9.9,"d":"9.9000"}},{"$f":"SUM(J39:M39)*0.7","v":{"v":67.0055555554,"d":"67.0056"}},{"$f":"VLOOKUP(D39,学生干部加分!A$1:C$140,3,FALSE)","v":{"v":4,"d":"4.0000"}},{"$f":"VLOOKUP(D39,德育加分!C$2:K$30,9,FALSE)","v":{"v":5,"d":"5.0000"}},{"v":0,"d":"0.0000"},{"$f":"N39+O39+P39-Q39","v":{"v":76.0055555554,"d":"76.0056"}},{"$f":"R39*0.15","v":{"v":11.40083333331,"d":"11.4008"}},{"v":86.0853658536585,"d":"86.0854"},{"v":88.5714285714286,"d":"88.5714"},{"$f":"IF(U39>0,T39*0.9+U39*0.1,T39)","v":{"v":86.3339721254355,"d":"86.3340"}},{"v":0,"d":"0.0000"},{"$f":"V39*0.85+W39","v":{"v":73.3838763066202,"d":"73.3839"}},{"$f":"0.7*X39","v":{"v":51.3687134146341,"d":"51.3687"}},{"$f":"VLOOKUP(D39,体测成绩!B$2:C$273,2,FALSE)","v":{"v":70.5,"d":"70.5000"}},{"$f":"VLOOKUP(D39,体育锻炼成绩!A$2:B$182,2,FALSE)","v":"100.00"},{"$f":"0.8*Z39","v":{"v":56.4,"d":"56.4000"}},{"$f":"AA39*0.2","v":{"v":20,"d":"20.0000"}},{"$f":"SUM(AB39:AC39)*0.7","v":{"v":53.48,"d":"53.4800"}},{"v":0,"d":"0.0000"},{"$f":"AD39+AE39","v":{"v":53.48,"d":"53.4800"}},{"$f":"AF39*0.05","v":{"v":2.674,"d":"2.6740"}},{"$f":"VLOOKUP(D39,美育!B$2:F$182,5,FALSE)","v":{"v":25,"d":"25.0000"}},{"$f":"VLOOKUP(D39,美育!B$2:E$182,4,FALSE)","v":{"v":0,"d":"0.0000"}},{"$f":"AH39+AI39","v":{"v":25,"d":"25.0000"}},{"$f":"AJ39*0.05","v":{"v":1.25,"d":"1.2500"}},{"$f":"VLOOKUP(D39,劳育基础分!B$3:AF$182,31,FALSE)","v":{"v":42,"d":"42.0000"}},{"v":0,"d":"0.0000"},{"$f":"AL39+AM39","v":{"v":42,"d":"42.0000"}},{"$f":"AN39*0.05","v":{"v":2.1,"d":"2.1000"}},{"$f":"S39+Y39+AG39+AK39+AO39","v":{"v":68.7935467479441,"d":"68.7935"}},{"$f":"VLOOKUP(D39,必修课优良率!A$1:B$173,2,FALSE)","v":"100.00%"},{"$f":"VLOOKUP(D39,四级成绩!B$2:C$178,2,FALSE)","v":586},{"$f":"VLOOKUP(D39,必修课优良率!A$1:D$173,4,FALSE)","v":"否"}]
[37,19,"2024010513","朱健健",{"$f":"VLOOKUP(D40,美育!B$2:E$182,2,FALSE)","v":"化工类24-2班"},{"$f":"VLOOKUP(D40,互评分!C$2:F$181,4,FALSE)","v":{"v":97.2142857142857,"d":"97.2143"}},{"$f":"VLOOKUP(D40,辅导员加分!B$2:C$176,2,FALSE)","v":{"v":92,"d":"92.0000"}},{"$f":"VLOOKUP(D40,互评分!C$2:F$181,3,FALSE)","v":{"v":100,"d":"100.0000"}},{"$f":"VLOOKUP(D40,互评分!C$2:F$181,2,FALSE)","v":{"v":92,"d":"92.0000"}},{"$f":"F40*0.2","v":{"v":19.4428571428571,"d":"19.4429"}},{"$f":"G40*0.5","v":{"v":46,"d":"46.0000"}},{"$f":"H40*0.2","v":{"v":20,"d":"20.0000"}},{"$f":"I40*0.1","v":{"v":9.2,"d":"9.2000"}},{"$f":"SUM(J40:M40)*0.7","v":{"v":66.25,"d":"66.2500"}},{"v":0,"d":"0.0000"},{"v":0,"d":"0.0000"},{"v":0,"d":"0.0000"},{"$f":"N40+O40+P40-Q40","v":{"v":66.25,"d":"66.2500"}},{"$f":"R40*0.15","v":9.9375},{"v":85.5487804878049,"d":"85.5488"},{"v":0,"d":"0.0000"},{"$f":"IF(U40>0,T40*0.9+U40*0.1,T40)","v":{"v":85.5487804878049,"d":"85.5488"}},{"v":0,"d":"0.0000"},{"$f":"V40*0.85+W40","v":{"v":72.7164634146342,"d":"72.7165"}},{"$f":"0.7*X40","v":{"v":50.9015243902439,"d":"50.9015"}},{"$f":"VLOOKUP(D40,体测成绩!B$2:C$273,2,FALSE)","v":{"v":60,"d":"60.0000"}},{"$f":"VLOOKUP(D40,体育锻炼成绩!A$2:B$182,2,FALSE)","v":"100.00"},{"$f":"0.8*Z40","v":{"v":48,"d":"48.0000"}},{"$f":"AA40*0.2","v":{"v":20,"d":"20.0000"}},{"$f":"SUM(AB40:AC40)*0.7","v":{"v":47.6,"d":"47.6000"}},{"v":0,"d":"0.0000"},{"$f":"AD40+AE40","v":{"v":47.6,"d":"47.6000"}},{"$f":"AF40*0.05","v":{"v":2.38,"d":"2.3800"}},{"$f":"VLOOKUP(D40,美育!B$2:F$182,5,FALSE)","v":{"v":70,"d":"70.0000"}},{"$f":"VLOOKUP(D40,美育!B$2:E$182,4,FALSE)","v":{"v":0,"d":"0.0000"}},{"$f":"AH40+AI40","v":{"v":70,"d":"70.0000"}},{"$f":"AJ40*0.05","v":{"v":3.5,"d":"3.5000"}},{"$f":"VLOOKUP(D40,劳育基础分!B$3:AF$182,31,FALSE)","v":{"v":39,"d":"39.0000"}},{"v":0,"d":"0.0000"},{"$f":"AL40+AM40","v":{"v":39,"d":"39.0000"}},{"$f":"AN40*0.05","v":{"v":1.95,"d":"1.9500"}},{"$f":"S40+Y40+AG40+AK40+AO40","v":{"v":68.6690243902439,"d":"68.6690"}},{"$f":"VLOOKUP(D40,必修课优良率!A$1:B$173,2,FALSE)","v":"85.71%"},{"$f":"VLOOKUP(D40,四级成绩!B$2:C$178,2,FALSE)","v":481},{"$f":"VLOOKUP(D40,必修课优良率!A$1:D$173,4,FALSE)","v":"否"}]
[38,2,"2024010621","侯垚",{"$f":"VLOOKUP(D41,美育!B$2:E$182,2,FALSE)","v":"化工类24-6班"},{"$f":"VLOOKUP(D41,互评分!C$2:F$181,4,FALSE)","v":{"v":98.4615384615385,"d":"98.4615"}},{"$f":"VLOOKUP(D41,辅导员加分!B$2:C$176,2,FALSE)","v":{"v":92,"d":"92.0000"}},{"$f":"VLOOKUP(D41,互评分!C$2:F$181,3,FALSE)","v":{"v":100,"d":"100.0000"}},{"$f":"VLOOKUP(D41,互评分!C$2:F$181,2,FALSE)","v":{"v":100,"d":"100.0000"}},{"$f":"F41*0.2","v":{"v":19.6923076923077,"d":"19.6923"}},{"$f":"G41*0.5","v":{"v":46,"d":"46.0000"}},{"$f":"H41*0.2","v":{"v":20,"d":"20.0000"}},{"$f":"I41*0.1","v":{"v":10,"d":"10.0000"}},{"$f":"SUM(J41:M41)*0.7","v":{"v":66.9846153846154,"d":"66.9846"}},{"v":0,"d":"0.0000"},{"v":0,"d":"0.0000"},{"v":0,"d":"0.0000"},{"$f":"N41+O41+P41-Q41","v":{"v":66.9846153846154,"d":"66.9846"}},{"$f":"R41*0.15","v":{"v":10.0476923076923,"d":"10.0477"}},{"v":90.6463414634146,"d":"90.6463"},{"v":93,"d":"93.0000"},{"$f":"IF(U41>0,T41*0.9+U41*0.1,T41)","v":{"v":90.8817073170731,"d":"90.8817"}},{"v":0,"d":"0.0000"},{"$f":"V41*0.85+W41","v":{"v":77.2494512195122,"d":"77.2495"}},{"$f":"0.7*X41","v":{"v":54.0746158536585,"d":"54.0746"}},{"$f":"VLOOKUP(D41,体测成绩!B$2:C$273,2,FALSE)","v":{"v":62.9,"d":"62.9000"}},{"$f":"VLOOKUP(D41,体育锻炼成绩!A$2:B$182,2,FALSE)","v":"100.00"},{"$f":"0.8*Z41","v":{"v":50.32,"d":"50.3200"}},{"$f":"AA41*0.2","v":{"v":20,"d":"20.0000"}},{"$f":"SUM(AB41:AC41)*0.7","v":{"v":49.224,"d":"49.2240"}},{"$f":"VLOOKUP(D41,体育加分汇总!A$1:C$79,3,FALSE)","v":{"v":0,"d":"0.0000"}},{"$f":"AD41+AE41","v":{"v":49.224,"d":"49.2240"}},{"$f":"AF41*0.05","v":2.4612},{"$f":"VLOOKUP(D41,美育!B$2:F$182,5,FALSE)","v":{"v":20,"d":"20.0000"}},{"$f":"VLOOKUP(D41,美育!B$2:E$182,4,FALSE)","v":{"v":0,"d":"0.0000"}},{"$f":"AH41+AI41","v":{"v":20,"d":"20.0000"}},{"$f":"AJ41*0.05","v":{"v":1,"d":"1.0000"}},{"$f":"VLOOKUP(D41,劳育基础分!B$3:AF$182,31,FALSE)","v":{"v":20,"d":"20.0000"}},{"v":0,"d":"0.0000"},{"$f":"AL41+AM41","v":{"v":20,"d":"20.0000"}},{"$f":"AN41*0.05","v":{"v":1,"d":"1.0000"}},{"$f":"S41+Y41+AG41+AK41+AO41","v":{"v":68.5835081613508,"d":"68.5835"}},{"$f":"VLOOKUP(D41,必修课优良率!A$1:B$173,2,FALSE)","v":"85.71%"},{"$f":"VLOOKUP(D41,四级成绩!B$2:C$178,2,FALSE)","v":605},{"$f":"VLOOKUP(D41,必修课优良率!A$1:D$173,4,FALSE)","v":"否"}]
[39,23,"2024010628","柯二文",{"$f":"VLOOKUP(D42,美育!B$2:E$182,2,FALSE)","v":"化工类24-6班"},{"$f":"VLOOKUP(D42,互评分!C$2:F$181,4,FALSE)","v":{"v":97.6923076923077,"d":"97.6923"}},{"$f":"VLOOKUP(D42,辅导员加分!B$2:C$176,2,FALSE)","v":{"v":92,"d":"92.0000"}},{"$f":"VLOOKUP(D42,互评分!C$2:F$181,3,FALSE)","v":{"v":100,"d":"100.0000"}},{"$f":"VLOOKUP(D42,互评分!C$2:F$181,2,FALSE)","v":{"v":100,"d":"100.0000"}},{"$f":"F42*0.2","v":{"v":19.5384615384615,"d":"19.5385"}},{"$f":"G42*0.5","v":{"v":46,"d":"46.0000"}},{"$f":"H42*0.2","v":{"v":20,"d":"20.0000"}},{"$f":"I42*0.1","v":{"v":10,"d":"10.0000"}},{"$f":"SUM(J42:M42)*0.7","v":{"v":66.8769230769231,"d":"66.8769"}},{"$f":"VLOOKUP(D42,学生干部加分!A$1:C$140,3,FALSE)","v":{"v":4,"d":"4.0000"}},{"v":0,"d":"0.0000"},{"v":0,"d":"0.0000"},{"$f":"N42+O42+P42-Q42","v":{"v":70.8769230769231,"d":"70.8769"}},{"$f":"R42*0.15","v":{"v":10.6315384615385,"d":"10.6315"}},{"v":84.780487804878,"d":"84.7805"},{"v":84,"d":"84.0000"},{"$f":"IF(U42>0,T42*0.9+U42*0.1,T42)","v":{"v":84.7024390243902,"d":"84.7024"}},{"$f":"VLOOKUP(D42,智育加分汇总!A$2:C$44,3,FALSE)","v":{"v":1,"d":"1.0000"}},{"$f":"V42*0.85+W42","v":{"v":72.9970731707317,"d":"72.9971"}},{"$f":"0.7*X42","v":{"v":51.0979512195122,"d":"51.0980"}},{"$f":"VLOOKUP(D42,体测成绩!B$2:C$273,2,FALSE)","v":{"v":73.9,"d":"73.9000"}},{"$f":"VLOOKUP(D42,体育锻炼成绩!A$2:B$182,2,FALSE)","v":"100.00"},{"$f":"0.8*Z42","v":{"v":59.12,"d":"59.1200"}},{"$f":"AA42*0.2","v":{"v":20,"d":"20.0000"}},{"$f":"SUM(AB42:AC42)*0.7","v":{"v":55.384,"d":"55.3840"}},{"v":0,"d":"0.0000"},{"$f":"AD42+AE42","v":{"v":55.384,"d":"55.3840"}},{"$f":"AF42*0.05","v":2.7692},{"$f":"VLOOKUP(D42,美育!B$2:F$182,5,FALSE)","v":{"v":38,"d":"38.0000"}},{"$f":"VLOOKUP(D42,美育!B$2:E$182,4,FALSE)","v":{"v":0,"d":"0.0000"}},{"$f":"AH42+AI42","v":{"v":38,"d":"38.0000"}},{"$f":"AJ42*0.05","v":{"v":1.9,"d":"1.9000"}},{"$f":"VLOOKUP(D42,劳育基础分!B$3:AF$182,31,FALSE)","v":{"v":42,"d":"42.0000"}},{"v":0,"d":"0.0000"},{"$f":"AL42+AM42","v":{"v":42,"d":"42.0000"}},{"$f":"AN42*0.05","v":{"v":2.1,"d":"2.1000"}},{"$f":"S42+Y42+AG42+AK42+AO42","v":{"v":68.4986896810506,"d":"68.4987"}},{"$f":"VLOOKUP(D42,必修课优良率!A$1:B$173,2,FALSE)","v":"76.19%"},{"$f":"VLOOKUP(D42,四级成绩!B$2:C$178,2,FALSE)","v":539},{"$f":"VLOOKUP(D42,必修课优良率!A$1:D$173,4,FALSE)","v":"否"}]
[40,127,"2024010481","任熙嘉",{"$f":"VLOOKUP(D43,美育!B$2:E$182,2,FALSE)","v":"化工类24-1班"},{"$f":"VLOOKUP(D43,互评分!C$2:F$181,4,FALSE)","v":{"v":99.92592593,"d":"99.9259"}},{"$f":"VLOOKUP(D43,辅导员加分!B$2:C$176,2,FALSE)","v":{"v":94,"d":"94.0000"}},{"$f":"VLOOKUP(D43,互评分!C$2:F$181,3,FALSE)","v":{"v":100,"d":"100.0000"}},{"$f":"VLOOKUP(D43,互评分!C$2:F$181,2,FALSE)","v":{"v":99,"d":"99.0000"}},{"$f":"F43*0.2","v":{"v":19.985185186,"d":"19.9852"}},{"$f":"G43*0.5","v":{"v":47,"d":"47.0000"}},{"$f":"H43*0.2","v":{"v":20,"d":"20.0000"}},{"$f":"I43*0.1","v":{"v":9.9,"d":"9.9000"}},{"$f":"SUM(J43:M43)*0.7","v":{"v":67.8196296302,"d":"67.8196"}},{"$f":"VLOOKUP(D43,学生干部加分!A$1:C$140,3,FALSE)","v":{"v":8,"d":"8.0000"}},{"$f":"VLOOKUP(D43,德育加分!C$2:K$30,9,FALSE)","v":{"v":2,"d":"2.0000"}},{"v":0,"d":"0.0000"},{"$f":"N43+O43+P43-Q43","v":{"v":77.8196296302,"d":"77.8196"}},{"$f":"R43*0.15","v":{"v":11.67294444453,"d":"11.6729"}},{"v":73.8536585365854,"d":"73.8537"},{"v":88.6666666666667,"d":"88.6667"},{"$f":"IF(U43>0,T43*0.9+U43*0.1,T43)","v":{"v":75.3349593495935,"d":"75.3350"}},{"$f":"VLOOKUP(D43,智育加分汇总!A$2:C$44,3,FALSE)","v":{"v":6,"d":"6.0000"}},{"$f":"V43*0.85+W43","v":{"v":70.0347154471545,"d":"70.0347"}},{"$f":"0.7*X43","v":{"v":49.0243008130081,"d":"49.0243"}},{"$f":"VLOOKUP(D43,体测成绩!B$2:C$273,2,FALSE)","v":{"v":75.6,"d":"75.6000"}},{"$f":"VLOOKUP(D43,体育锻炼成绩!A$2:B$182,2,FALSE)","v":"100.00"},{"$f":"0.8*Z43","v":{"v":60.48,"d":"60.4800"}},{"$f":"AA43*0.2","v":{"v":20,"d":"20.0000"}},{"$f":"SUM(AB43:AC43)*0.7","v":{"v":56.336,"d":"56.3360"}},{"$f":"VLOOKUP(D43,体育加分汇总!A$1:C$79,3,FALSE)","v":{"v":8,"d":"8.0000"}},{"$f":"AD43+AE43","v":{"v":64.336,"d":"64.3360"}},{"$f":"AF43*0.05","v":3.2168},{"$f":"VLOOKUP(D43,美育!B$2:F$182,5,FALSE)","v":{"v":45,"d":"45.0000"}},{"$f":"VLOOKUP(D43,美育!B$2:E$182,4,FALSE)","v":{"v":4,"d":"4.0000"}},{"$f":"AH43+AI43","v":{"v":49,"d":"49.0000"}},{"$f":"AJ43*0.05","v":{"v":2.45,"d":"2.4500"}},{"$f":"VLOOKUP(D43,劳育基础分!B$3:AF$182,31,FALSE)","v":{"v":42,"d":"42.0000"}},{"v":0,"d":"0.0000"},{"$f":"AL43+AM43","v":{"v":42,"d":"42.0000"}},{"$f":"AN43*0.05","v":{"v":2.1,"d":"2.1000"}},{"$f":"S43+Y43+AG43+AK43+AO43","v":{"v":68.4640452575381,"d":"68.4640"}},{"$f":"VLOOKUP(D43,必修课优良率!A$1:B$173,2,FALSE)","v":"66.67%"},{"$f":"VLOOKUP(D43,四级成绩!B$2:C$178,2,FALSE)","v":"461"},{"$f":"VLOOKUP(D43,必修课优良率!A$1:D$173,4,FALSE)","v":"否"}]
[41,29,"2024010579","刘芮",{"$f":"VLOOKUP(D44,美育!B$2:E$182,2,FALSE)","v":"化工类24-5班"},{"$f":"VLOOKUP(D44,互评分!C$2:F$181,4,FALSE)","v":{"v":99.6296296296296,"d":"99.6296"}},{"$f":"VLOOKUP(D44,辅导员加分!B$2:C$176,2,FALSE)","v":{"v":91,"d":"91.0000"}},{"$f":"VLOOKUP(D44,互评分!C$2:F$181,3,FALSE)","v":{"v":100,"d":"100.0000"}},{"$f":"VLOOKUP(D44,互评分!C$2:F$181,2,FALSE)","v":{"v":93,"d":"93.0000"}},{"$f":"F44*0.2","v":{"v":19.9259259259259,"d":"19.9259"}},{"$f":"G44*0.5","v":{"v":45.5,"d":"45.5000"}},{"$f":"H44*0.2","v":{"v":20,"d":"20.0000"}},{"$f":"I44*0.1","v":{"v":9.3,"d":"9.3000"}},{"$f":"SUM(J44:M44)*0.7","v":{"v":66.3081481481481,"d":"66.3081"}},{"$f":"VLOOKUP(D44,学生干部加分!A$1:C$140,3,FALSE)","v":{"v":7,"d":"7.0000"}},{"v":0,"d":"0.0000"},{"v":0,"d":"0.0000"},{"$f":"N44+O44+P44-Q44","v":{"v":73.3081481481481,"d":"73.3081"}},{"$f":"R44*0.15","v":{"v":10.9962222222222,"d":"10.9962"}},{"v":83.8536585365854,"d":"83.8537"},{"v":84.5,"d":"84.5000"},{"$f":"IF(U44>0,T44*0.9+U44*0.1,T44)","v":{"v":83.9182926829269,"d":"83.9183"}},{"v":0,"d":"0.0000"},{"$f":"V44*0.85+W44","v":{"v":71.3305487804878,"d":"71.3305"}},{"$f":"0.7*X44","v":{"v":49.9313841463415,"d":"49.9314"}},{"$f":"VLOOKUP(D44,体测成绩!B$2:C$273,2,FALSE)","v":{"v":66.3,"d":"66.3000"}},{"$f":"VLOOKUP(D44,体育锻炼成绩!A$2:B$182,2,FALSE)","v":{"v":100,"d":"100.0000"}},{"$f":"0.8*Z44","v":{"v":53.04,"d":"53.0400"}},{"$f":"AA44*0.2","v":{"v":20,"d":"20.0000"}},{"$f":"SUM(AB44:AC44)*0.7","v":{"v":51.128,"d":"51.1280"}},{"$f":"VLOOKUP(D44,体育加分汇总!A$1:C$79,3,FALSE)","v":{"v":4,"d":"4.0000"}},{"$f":"AD44+AE44","v":{"v":55.128,"d":"55.1280"}},{"$f":"AF44*0.05","v":2.7564},{"$f":"VLOOKUP(D44,美育!B$2:F$182,5,FALSE)","v":{"v":48,"d":"48.0000"}},{"$f":"VLOOKUP(D44,美育!B$2:E$182,4,FALSE)","v":{"v":2,"d":"2.0000"}},{"$f":"AH44+AI44","v":{"v":50,"d":"50.0000"}},{"$f":"AJ44*0.05","v":{"v":2.5,"d":"2.5000"}},{"$f":"VLOOKUP(D44,劳育基础分!B$3:AF$182,31,FALSE)","v":{"v":42.5,"d":"42.5000"}},{"v":0,"d":"0.0000"},{"$f":"AL44+AM44","v":{"v":42.5,"d":"42.5000"}},{"$f":"AN44*0.05","v":{"v":2.125,"d":"2.1250"}},{"$f":"S44+Y44+AG44+AK44+AO44","v":{"v":68.3090063685637,"d":"68.3090"}},{"$f":"VLOOKUP(D44,必修课优良率!A$1:B$173,2,FALSE)","v":"76.19%"},{"$f":"VLOOKUP(D44,四级成绩!B$2:C$178,2,FALSE)","v":501},{"$f":"VLOOKUP(D44,必修课优良率!A$1:D$173,4,FALSE)","v":"否"}]
[42,47,"2024010484","任俊玮",{"$f":"VLOOKUP(D45,美育!B$2:E$182,2,FALSE)","v":"化工类24-1班"},{"$f":"VLOOKUP(D45,互评分!C$2:F$181,4,FALSE)","v":{"v":99.7037037,"d":"99.7037"}},{"$f":"VLOOKUP(D45,辅导员加分!B$2:C$176,2,FALSE)","v":{"v":92,"d":"92.0000"}},{"$f":"VLOOKUP(D45,互评分!C$2:F$181,3,FALSE)","v":{"v":100,"d":"100.0000"}},{"$f":"VLOOKUP(D45,互评分!C$2:F$181,2,FALSE)","v":{"v":99,"d":"99.0000"}},{"$f":"F45*0.2","v":{"v":19.94074074,"d":"19.9407"}},{"$f":"G45*0.5","v":{"v":46,"d":"46.0000"}},{"$f":"H45*0.2","v":{"v":20,"d":"20.0000"}},{"$f":"I45*0.1","v":{"v":9.9,"d":"9.9000"}},{"$f":"SUM(J45:M45)*0.7","v":{"v":67.088518518,"d":"67.0885"}},{"$f":"VLOOKUP(D45,学生干部加分!A$1:C$140,3,FALSE)","v":{"v":8,"d":"8.0000"}},{"$f":"VLOOKUP(D45,德育加分!C$2:K$30,9,FALSE)","v":{"v":5,"d":"5.0000"}},{"v":0,"d":"0.0000"},{"$f":"N45+O45+P45-Q45","v":{"v":80.088518518,"d":"80.0885"}},{"$f":"R45*0.15","v":{"v":12.0132777777,"d":"12.0133"}},{"v":81.4146341463415,"d":"81.4146"},{"v":79,"d":"79.0000"},{"$f":"IF(U45>0,T45*0.9+U45*0.1,T45)","v":{"v":81.1731707317074,"d":"81.1732"}},{"v":0,"d":"0.0000"},{"$f":"V45*0.85+W45","v":{"v":68.9971951219513,"d":"68.9972"}},{"$f":"0.7*X45","v":{"v":48.2980365853659,"d":"48.2980"}},{"$f":"VLOOKUP(D45,体测成绩!B$2:C$273,2,FALSE)","v":{"v":78.6,"d":"78.6000"}},{"$f":"VLOOKUP(D45,体育锻炼成绩!A$2:B$182,2,FALSE)","v":"100.00"},{"$f":"0.8*Z45","v":{"v":62.88,"d":"62.8800"}},{"$f":"AA45*0.2","v":{"v":20,"d":"20.0000"}},{"$f":"SUM(AB45:AC45)*0.7","v":{"v":58.016,"d":"58.0160"}},{"$f":"VLOOKUP(D45,体育加分汇总!A$1:C$79,3,FALSE)","v":{"v":6,"d":"6.0000"}},{"$f":"AD45+AE45","v":{"v":64.016,"d":"64.0160"}},{"$f":"AF45*0.05","v":3.2008},{"$f":"VLOOKUP(D45,美育!B$2:F$182,5,FALSE)","v":{"v":50,"d":"50.0000"}},{"$f":"VLOOKUP(D45,美育!B$2:E$182,4,FALSE)","v":{"v":0,"d":"0.0000"}},{"$f":"AH45+AI45","v":{"v":50,"d":"50.0000"}},{"$f":"AJ45*0.05","v":{"v":2.5,"d":"2.5000"}},{"$f":"VLOOKUP(D45,劳育基础分!B$3:AF$182,31,FALSE)","v":{"v":42,"d":"42.0000"}},{"v":0,"d":"0.0000"},{"$f":"AL45+AM45","v":{"v":42,"d":"42.0000"}},{"$f":"AN45*0.05","v":{"v":2.1,"d":"2.1000"}},{"$f":"S45+Y45+AG45+AK45+AO45","v":{"v":68.1121143630659,"d":"68.1121"}},{"$f":"VLOOKUP(D45,必修课优良率!A$1:B$173,2,FALSE)","v":"76.19%"},{"$f":"VLOOKUP(D45,四级成绩!B$2:C$178,2,FALSE)","v":484},{"$f":"VLOOKUP(D45,必修课优良率!A$1:D$173,4,FALSE)","v":"否"}]
[43,27,"2024010549","冯苗鸽",{"$f":"VLOOKUP(D46,美育!B$2:E$182,2,FALSE)","v":"化工类24-4班"},{"$f":"VLOOKUP(D46,互评分!C$2:F$181,4,FALSE)","v":97.6429},{"$f":"VLOOKUP(D46,辅导员加分!B$2:C$176,2,FALSE)","v":{"v":92,"d":"92.0000"}},{"$f":"VLOOKUP(D46,互评分!C$2:F$181,3,FALSE)","v":{"v":98.42857,"d":"98.4286"}},{"$f":"VLOOKUP(D46,互评分!C$2:F$181,2,FALSE)","v":{"v":100,"d":"100.0000"}},{"$f":"F46*0.2","v":{"v":19.52858,"d":"19.5286"}},{"$f":"G46*0.5","v":{"v":46,"d":"46.0000"}},{"$f":"H46*0.2","v":{"v":19.685714,"d":"19.6857"}},{"$f":"I46*0.1","v":{"v":10,"d":"10.0000"}},{"$f":"SUM(J46:M46)*0.7","v":{"v":66.6500058,"d":"66.6500"}},{"$f":"VLOOKUP(D46,学生干部加分!A$1:C$140,3,FALSE)","v":{"v":7.5,"d":"7.5000"}},{"v":0,"d":"0.0000"},{"v":0,"d":"0.0000"},{"$f":"N46+O46+P46-Q46","v":{"v":74.1500058,"d":"74.1500"}},{"$f":"R46*0.15","v":{"v":11.12250087,"d":"11.1225"}},{"v":84.3658536585366,"d":"84.3659"},{"v":83.6666666666667,"d":"83.6667"},{"$f":"IF(U46>0,T46*0.9+U46*0.1,T46)","v":{"v":84.2959349593496,"d":"84.2959"}},{"v":0,"d":"0.0000"},{"$f":"V46*0.85+W46","v":{"v":71.6515447154472,"d":"71.6515"}},{"$f":"0.7*X46","v":{"v":50.156081300813,"d":"50.1561"}},{"$f":"VLOOKUP(D46,体测成绩!B$2:C$273,2,FALSE)","v":{"v":81.6,"d":"81.6000"}},{"$f":"VLOOKUP(D46,体育锻炼成绩!A$2:B$182,2,FALSE)","v":"100.00"},{"$f":"0.8*Z46","v":{"v":65.28,"d":"65.2800"}},{"$f":"AA46*0.2","v":{"v":20,"d":"20.0000"}},{"$f":"SUM(AB46:AC46)*0.7","v":{"v":59.696,"d":"59.6960"}},{"v":0,"d":"0.0000"},{"$f":"AD46+AE46","v":{"v":59.696,"d":"59.6960"}},{"$f":"AF46*0.05","v":2.9848},{"$f":"VLOOKUP(D46,美育!B$2:F$182,5,FALSE)","v":{"v":35,"d":"35.0000"}},{"$f":"VLOOKUP(D46,美育!B$2:E$182,4,FALSE)","v":{"v":0,"d":"0.0000"}},{"$f":"AH46+AI46","v":{"v":35,"d":"35.0000"}},{"$f":"AJ46*0.05","v":{"v":1.75,"d":"1.7500"}},{"$f":"VLOOKUP(D46,劳育基础分!B$3:AF$182,31,FALSE)","v":{"v":40,"d":"40.0000"}},{"v":0,"d":"0.0000"},{"$f":"AL46+AM46","v":{"v":40,"d":"40.0000"}},{"$f":"AN46*0.05","v":{"v":2,"d":"2.0000"}},{"$f":"S46+Y46+AG46+AK46+AO46","v":{"v":68.013382170813,"d":"68.0134"}},{"$f":"VLOOKUP(D46,必修课优良率!A$1:B$173,2,FALSE)","v":"80.95%"},{"$f":"VLOOKUP(D46,四级成绩!B$2:C$178,2,FALSE)","v":517},{"$f":"VLOOKUP(D46,必修课优良率!A$1:D$173,4,FALSE)","v":"否"}]
[44,89,"2024010482","方泽",{"$f":"VLOOKUP(D47,美育!B$2:E$182,2,FALSE)","v":"化工类24-1班"},{"$f":"VLOOKUP(D47,互评分!C$2:F$181,4,FALSE)","v":{"v":93.37037037,"d":"93.3704"}},{"$f":"VLOOKUP(D47,辅导员加分!B$2:C$176,2,FALSE)","v":{"v":93,"d":"93.0000"}},{"$f":"VLOOKUP(D47,互评分!C$2:F$181,3,FALSE)","v":{"v":86,"d":"86.0000"}},{"$f":"VLOOKUP(D47,互评分!C$2:F$181,2,FALSE)","v":{"v":90,"d":"90.0000"}},{"$f":"F47*0.2","v":{"v":18.674074074,"d":"18.6741"}},{"$f":"G47*0.5","v":{"v":46.5,"d":"46.5000"}},{"$f":"H47*0.2","v":{"v":17.2,"d":"17.2000"}},{"$f":"I47*0.1","v":{"v":9,"d":"9.0000"}},{"$f":"SUM(J47:M47)*0.7","v":{"v":63.9618518518,"d":"63.9619"}},{"$f":"VLOOKUP(D47,学生干部加分!A$1:C$140,3,FALSE)","v":{"v":6,"d":"6.0000"}},{"v":0,"d":"0.0000"},{"v":0,"d":"0.0000"},{"$f":"N47+O47+P47-Q47","v":{"v":69.9618518518,"d":"69.9619"}},{"$f":"R47*0.15","v":{"v":10.49427777777,"d":"10.4943"}},{"v":77.2073170731707,"d":"77.2073"},{"v":80,"d":"80.0000"},{"$f":"IF(U47>0,T47*0.9+U47*0.1,T47)","v":{"v":77.4865853658536,"d":"77.4866"}},{"$f":"VLOOKUP(D47,智育加分汇总!A$2:C$44,3,FALSE)","v":{"v":4.5,"d":"4.5000"}},{"$f":"V47*0.85+W47","v":{"v":70.3635975609756,"d":"70.3636"}},{"$f":"0.7*X47","v":{"v":49.2545182926829,"d":"49.2545"}},{"$f":"VLOOKUP(D47,体测成绩!B$2:C$273,2,FALSE)","v":{"v":73.3,"d":"73.3000"}},{"$f":"VLOOKUP(D47,体育锻炼成绩!A$2:B$182,2,FALSE)","v":"100.00"},{"$f":"0.8*Z47","v":{"v":58.64,"d":"58.6400"}},{"$f":"AA47*0.2","v":{"v":20,"d":"20.0000"}},{"$f":"SUM(AB47:AC47)*0.7","v":{"v":55.048,"d":"55.0480"}},{"$f":"VLOOKUP(D47,体育加分汇总!A$1:C$79,3,FALSE)","v":{"v":9,"d":"9.0000"}},{"$f":"AD47+AE47","v":{"v":64.048,"d":"64.0480"}},{"$f":"AF47*0.05","v":3.2024},{"$f":"VLOOKUP(D47,美育!B$2:F$182,5,FALSE)","v":{"v":51,"d":"51.0000"}},{"$f":"VLOOKUP(D47,美育!B$2:E$182,4,FALSE)","v":{"v":4,"d":"4.0000"}},{"$f":"AH47+AI47","v":{"v":55,"d":"55.0000"}},{"$f":"AJ47*0.05","v":{"v":2.75,"d":"2.7500"}},{"$f":"VLOOKUP(D47,劳育基础分!B$3:AF$182,31,FALSE)","v":{"v":42,"d":"42.0000"}},{"$f":"VLOOKUP(D47,劳育加分!A$3:I$34,9,FALSE)","v":{"v":4,"d":"4.0000"}},{"$f":"AL47+AM47","v":{"v":46,"d":"46.0000"}},{"$f":"AN47*0.05","v":{"v":2.3,"d":"2.3000"}},{"$f":"S47+Y47+AG47+AK47+AO47","v":{"v":68.0011960704529,"d":"68.0012"}},{"$f":"VLOOKUP(D47,必修课优良率!A$1:B$173,2,FALSE)","v":"66.67%"},{"$f":"VLOOKUP(D47,四级成绩!B$2:C$178,2,FALSE)","v":435},{"$f":"VLOOKUP(D47,必修课优良率!A$1:D$173,4,FALSE)","v":"是"}]
[45,64,"2024010580","刘春硕",{"$f":"VLOOKUP(D48,美育!B$2:E$182,2,FALSE)","v":"化工类24-5班"},{"$f":"VLOOKUP(D48,互评分!C$2:F$181,4,FALSE)","v":{"v":99.6666666666667,"d":"99.6667"}},{"$f":"VLOOKUP(D48,辅导员加分!B$2:C$176,2,FALSE)","v":{"v":94,"d":"94.0000"}},{"$f":"VLOOKUP(D48,互评分!C$2:F$181,3,FALSE)","v":{"v":100,"d":"100.0000"}},{"$f":"VLOOKUP(D48,互评分!C$2:F$181,2,FALSE)","v":{"v":88,"d":"88.0000"}},{"$f":"F48*0.2","v":{"v":19.9333333333333,"d":"19.9333"}},{"$f":"G48*0.5","v":{"v":47,"d":"47.0000"}},{"$f":"H48*0.2","v":{"v":20,"d":"20.0000"}},{"$f":"I48*0.1","v":{"v":8.8,"d":"8.8000"}},{"$f":"SUM(J48:M48)*0.7","v":{"v":67.0133333333333,"d":"67.0133"}},{"$f":"VLOOKUP(D48,学生干部加分!A$1:C$140,3,FALSE)","v":{"v":6,"d":"6.0000"}},{"v":0,"d":"0.0000"},{"v":0,"d":"0.0000"},{"$f":"N48+O48+P48-Q48","v":{"v":73.0133333333333,"d":"73.0133"}},{"$f":"R48*0.15","v":{"v":10.952,"d":"10.9520"}},{"v":79.5975609756098,"d":"79.5976"},{"v":85.5,"d":"85.5000"},{"$f":"IF(U48>0,T48*0.9+U48*0.1,T48)","v":{"v":80.1878048780488,"d":"80.1878"}},{"v":0,"d":"0.0000"},{"$f":"V48*0.85+W48","v":{"v":68.1596341463415,"d":"68.1596"}},{"$f":"0.7*X48","v":{"v":47.711743902439,"d":"47.7117"}},{"$f":"VLOOKUP(D48,体测成绩!B$2:C$273,2,FALSE)","v":{"v":72.1,"d":"72.1000"}},{"$f":"VLOOKUP(D48,体育锻炼成绩!A$2:B$182,2,FALSE)","v":"100.00"},{"$f":"0.8*Z48","v":{"v":57.68,"d":"57.6800"}},{"$f":"AA48*0.2","v":{"v":20,"d":"20.0000"}},{"$f":"SUM(AB48:AC48)*0.7","v":{"v":54.376,"d":"54.3760"}},{"$f":"VLOOKUP(D48,体育加分汇总!A$1:C$79,3,FALSE)","v":{"v":20,"d":"20.0000"}},{"$f":"AD48+AE48","v":{"v":74.376,"d":"74.3760"}},{"$f":"AF48*0.05","v":3.7188},{"$f":"VLOOKUP(D48,美育!B$2:F$182,5,FALSE)","v":{"v":68,"d":"68.0000"}},{"$f":"VLOOKUP(D48,美育!B$2:E$182,4,FALSE)","v":{"v":0,"d":"0.0000"}},{"$f":"AH48+AI48","v":{"v":68,"d":"68.0000"}},{"$f":"AJ48*0.05","v":{"v":3.4,"d":"3.4000"}},{"$f":"VLOOKUP(D48,劳育基础分!B$3:AF$182,31,FALSE)","v":{"v":42.5,"d":"42.5000"}},{"v":0,"d":"0.0000"},{"$f":"AL48+AM48","v":{"v":42.5,"d":"42.5000"}},{"$f":"AN48*0.05","v":{"v":2.125,"d":"2.1250"}},{"$f":"S48+Y48+AG48+AK48+AO48","v":{"v":67.907543902439,"d":"67.9075"}},{"$f":"VLOOKUP(D48,必修课优良率!A$1:B$173,2,FALSE)","v":"71.43%"},{"$f":"VLOOKUP(D48,四级成绩!B$2:C$178,2,FALSE)","v":"553"},{"$f":"VLOOKUP(D48,必修课优良率!A$1:D$173,4,FALSE)","v":"否"}]
[46,31,2024010492,"吕莎莎",null,{"$f":"VLOOKUP(D49,互评分!C$2:F$181,4,FALSE)","v":{"v":98.1428571428571,"d":"98.1429"}},{"v":92,"d":"92.0000"},{"$f":"VLOOKUP(D49,互评分!C$2:F$181,3,FALSE)","v":{"v":100,"d":"100.0000"}},{"$f":"VLOOKUP(D49,互评分!C$2:F$181,2,FALSE)","v":{"v":92,"d":"92.0000"}},{"$f":"F49*0.2","v":{"v":19.6285714285714,"d":"19.6286"}},{"$f":"G49*0.5","v":{"v":46,"d":"46.0000"}},{"$f":"H49*0.2","v":{"v":20,"d":"20.0000"}},{"$f":"I49*0.1","v":{"v":9.2,"d":"9.2000"}},{"$f":"SUM(J49:M49)*0.7","v":{"v":66.38,"d":"66.3800"}},{"$f":"VLOOKUP(D49,学生干部加分!A$1:C$140,3,FALSE)","v":{"v":8,"d":"8.0000"}},null,null,{"$f":"N49+O49+P49-Q49","v":{"v":74.38,"d":"74.3800"}},{"$f":"R49*0.15","v":{"v":11.157,"d":"11.1570"}},83.5662,{"v":88,"d":"88.0000"},{"$f":"T49*0.9+U49*0.1","v":{"v":84.00958,"d":"84.0096"}},{"v":0,"d":"0.0000"},{"$f":"V49*0.85+W49","v":{"v":71.408143,"d":"71.4081"}},{"$f":"0.7*X49","v":{"v":49.9857001,"d":"49.9857"}},{"$f":"VLOOKUP(D49,体测成绩!B$2:C$273,2,FALSE)","v":{"v":80.9,"d":"80.9000"}},{"v":100,"d":"100.0000"},{"$f":"0.8*Z49","v":{"v":64.72,"d":"64.7200"}},{"$f":"AA49*0.2","v":{"v":20,"d":"20.0000"}},{"$f":"SUM(AB49:AC49)*0.7","v":{"v":59.304,"d":"59.3040"}},{"v":0,"d":"0.0000"},{"$f":"AD49+AE49","v":{"v":59.304,"d":"59.3040"}},{"$f":"AF49*0.05","v":2.9652},{"v":30,"d":"30.0000"},{"$f":"VLOOKUP(D49,美育!B$2:E$182,4,FALSE)","v":{"v":0,"d":"0.0000"}},{"$f":"AH49+AI49","v":{"v":30,"d":"30.0000"}},{"$f":"AJ49*0.05","v":{"v":1.5,"d":"1.5000"}},{"v":40,"d":"40.0000"},{"v":0,"d":"0.0000"},{"$f":"AL49+AM49","v":{"v":40,"d":"40.0000"}},{"$f":"AN49*0.05","v":{"v":2,"d":"2.0000"}},{"$f":"S49+Y49+AG49+AK49+AO49","v":{"v":67.6079001,"d":"67.6079"}},{"v":0.9524,"d":"95.2400%"},591,"否"]
[47,20,2024010515,"刘起睿","化工类24-2班",{"$f":"VLOOKUP(D50,互评分!C$2:F$181,4,FALSE)","v":{"v":97.25,"d":"97.2500"}},{"v":92,"d":"92.0000"},{"$f":"VLOOKUP(D50,互评分!C$2:F$181,3,FALSE)","v":{"v":100,"d":"100.0000"}},{"$f":"VLOOKUP(D50,互评分!C$2:F$181,2,FALSE)","v":{"v":91,"d":"91.0000"}},{"$f":"F50*0.2","v":{"v":19.45,"d":"19.4500"}},{"$f":"G50*0.5","v":{"v":46,"d":"46.0000"}},{"$f":"H50*0.2","v":{"v":20,"d":"20.0000"}},{"$f":"I50*0.1","v":{"v":9.1,"d":"9.1000"}},{"$f":"SUM(J50:M50)*0.7","v":{"v":66.185,"d":"66.1850"}},{"$f":"VLOOKUP(D50,学生干部加分!A$1:C$140,3,FALSE)","v":{"v":4,"d":"4.0000"}},{"v":0,"d":"0.0000"},{"v":2,"d":"2.0000"},{"$f":"N50+O50+P50-Q50","v":{"v":68.185,"d":"68.1850"}},{"$f":"R50*0.15","v":{"v":10.22775,"d":"10.2278"}},85.2694,{"v":0,"d":"0.0000"},85.2694,{"v":0,"d":"0.0000"},{"$f":"V50*0.85+W50","v":{"v":72.47899,"d":"72.4790"}},{"$f":"0.7*X50","v":{"v":50.735293,"d":"50.7353"}},{"$f":"VLOOKUP(D50,体测成绩!B$2:C$273,2,FALSE)","v":{"v":67.7,"d":"67.7000"}},{"$f":"VLOOKUP(D50,体育锻炼成绩!A$2:B$182,2,FALSE)","v":"100.00"},{"$f":"0.8*Z50","v":{"v":54.16,"d":"54.1600"}},{"$f":"AA50*0.2","v":{"v":20,"d":"20.0000"}},{"$f":"SUM(AB50:AC50)*0.7","v":{"v":51.912,"d":"51.9120"}},{"v":0,"d":"0.0000"},{"$f":"AD50+AE50","v":{"v":51.912,"d":"51.9120"}},{"$f":"AF50*0.05","v":2.5956},{"$f":"VLOOKUP(D50,美育!B$2:F$182,5,FALSE)","v":{"v":35,"d":"35.0000"}},{"$f":"VLOOKUP(D50,美育!B$2:E$182,4,FALSE)","v":{"v":0,"d":"0.0000"}},{"$f":"AH50+AI50","v":{"v":35,"d":"35.0000"}},{"$f":"AJ50*0.05","v":{"v":1.75,"d":"1.7500"}},{"$f":"VLOOKUP(D50,劳育基础分!B$3:AF$182,31,FALSE)","v":{"v":35,"d":"35.0000"}},{"v":2,"d":"2.0000"},{"$f":"AL50+AM50","v":{"v":37,"d":"37.0000"}},{"$f":"AN50*0.05","v":{"v":1.85,"d":"1.8500"}},{"$f":"S50+Y50+AG50+AK50+AO50","v":{"v":67.158643,"d":"67.1586"}},{"v":0.7368,"d":"73.6800%"},537,"否"]
[48,76,2024010611,"高瑞苹",{"$f":"VLOOKUP(D51,美育!B$2:E$182,2,FALSE)","v":"化工类24-6班"},{"$f":"VLOOKUP(D51,互评分!C$2:F$181,4,FALSE)","v":{"v":98.8846153846154,"d":"98.8846"}},{"$f":"VLOOKUP(D51,辅导员加分!B$2:C$176,2,FALSE)","v":{"v":94,"d":"94.0000"}},{"$f":"VLOOKUP(D51,互评分!C$2:F$181,3,FALSE)","v":{"v":98.5714286,"d":"98.5714"}},{"$f":"VLOOKUP(D51,互评分!C$2:F$181,2,FALSE)","v":{"v":100,"d":"100.0000"}},{"$f":"F51*0.2","v":{"v":19.7769230769231,"d":"19.7769"}},{"$f":"G51*0.5","v":{"v":47,"d":"47.0000"}},{"$f":"H51*0.2","v":{"v":19.71428572,"d":"19.7143"}},{"$f":"I51*0.1","v":{"v":10,"d":"10.0000"}},{"$f":"SUM(J51:M51)*0.7","v":{"v":67.5438461578462,"d":"67.5438"}},{"$f":"VLOOKUP(D51,学生干部加分!A$1:C$140,3,FALSE)","v":{"v":6,"d":"6.0000"}},{"v":0,"d":"0.0000"},{"v":0,"d":"0.0000"},{"$f":"N51+O51+P51-Q51","v":{"v":73.5438461578462,"d":"73.5438"}},{"$f":"R51*0.15","v":{"v":11.0315769236769,"d":"11.0316"}},{"$f":"VLOOKUP(D51,[1]必修课成绩!C$71:AE$100,29,FALSE)","v":{"v":78.625,"d":"78.6250"}},{"$f":"VLOOKUP(D51,[1]选修课成绩!C$72:AC$101,27,FALSE)","v":{"v":85,"d":"85.0000"}},{"$f":"IF(U51>0,T51*0.9+U51*0.1,T51)","v":79.2625},{"v":0,"d":"0.0000"},{"$f":"V51*0.85+W51","v":{"v":67.373125,"d":"67.3731"}},{"$f":"0.7*X51","v":{"v":47.1611875,"d":"47.1612"}},{"$f":"VLOOKUP(D51,体测成绩!B$2:C$273,2,FALSE)","v":{"v":77.1,"d":"77.1000"}},{"$f":"VLOOKUP(D51,体育锻炼成绩!A$2:B$182,2,FALSE)","v":"100.00"},{"$f":"0.8*Z51","v":{"v":61.68,"d":"61.6800"}},{"$f":"AA51*0.2","v":{"v":20,"d":"20.0000"}},{"$f":"SUM(AB51:AC51)*0.7","v":{"v":57.176,"d":"57.1760"}},{"$f":"VLOOKUP(D51,体育加分汇总!A$1:C$79,3,FALSE)","v":{"v":14,"d":"14.0000"}},{"$f":"AD51+AE51","v":{"v":71.176,"d":"71.1760"}},{"$f":"AF51*0.05","v":3.5588},{"$f":"VLOOKUP(D51,美育!B$2:F$182,5,FALSE)","v":{"v":68,"d":"68.0000"}},{"$f":"VLOOKUP(D51,美育!B$2:E$182,4,FALSE)","v":{"v":0,"d":"0.0000"}},{"$f":"AH51+AI51","v":{"v":68,"d":"68.0000"}},{"$f":"AJ51*0.05","v":{"v":3.4,"d":"3.4000"}},{"$f":"VLOOKUP(D51,劳育基础分!B$3:AF$182,31,FALSE)","v":{"v":40,"d":"40.0000"}},{"v":0,"d":"0.0000"},{"$f":"AL51+AM51","v":{"v":40,"d":"40.0000"}},{"$f":"AN51*0.05","v":{"v":2,"d":"2.0000"}},{"$f":"S51+Y51+AG51+AK51+AO51","v":{"v":67.1515644236769,"d":"67.1516"}},{"$f":"VLOOKUP(D51,必修课优良率!A$1:B$173,2,FALSE)","v":"61.90%"},{"$f":"VLOOKUP(D51,四级成绩!B$2:C$178,2,FALSE)","v":337},{"$f":"VLOOKUP(D51,必修课优良率!A$1:D$173,4,FALSE)","v":"是"}]
[49,46,"2024010490","聂玲琳",{"$f":"VLOOKUP(D52,美育!B$2:E$182,2,FALSE)","v":"化工类24-2班"},{"$f":"VLOOKUP(D52,互评分!C$2:F$181,4,FALSE)","v":{"v":97.6785714285714,"d":"97.6786"}},{"$f":"VLOOKUP(D52,辅导员加分!B$2:C$176,2,FALSE)","v":{"v":92,"d":"92.0000"}},{"$f":"VLOOKUP(D52,互评分!C$2:F$181,3,FALSE)","v":{"v":98.5,"d":"98.5000"}},{"$f":"VLOOKUP(D52,互评分!C$2:F$181,2,FALSE)","v":{"v":90,"d":"90.0000"}},{"$f":"F52*0.2","v":{"v":19.5357142857143,"d":"19.5357"}},{"$f":"G52*0.5","v":{"v":46,"d":"46.0000"}},{"$f":"H52*0.2","v":{"v":19.7,"d":"19.7000"}},{"$f":"I52*0.1","v":{"v":9,"d":"9.0000"}},{"$f":"SUM(J52:M52)*0.7","v":{"v":65.965,"d":"65.9650"}},{"$f":"VLOOKUP(D52,学生干部加分!A$1:C$140,3,FALSE)","v":{"v":6,"d":"6.0000"}},{"v":0,"d":"0.0000"},{"v":0,"d":"0.0000"},{"$f":"N52+O52+P52-Q52","v":{"v":71.965,"d":"71.9650"}},{"$f":"R52*0.15","v":{"v":10.79475,"d":"10.7948"}},{"$f":"VLOOKUP(D52,[2]必修课成绩!C$59:BO$82,65,FALSE)","v":{"v":81.7439024390244,"d":"81.7439"}},{"$f":"VLOOKUP(D52,[2]选修课成绩!C$60:BI$83,59,FALSE)","v":{"v":0,"d":"0.0000"}},{"$f":"IF(U52>0,T52*0.9+U52*0.1,T52)","v":{"v":81.7439024390244,"d":"81.7439"}},{"v":0,"d":"0.0000"},{"$f":"V52*0.85+W52","v":{"v":69.4823170731707,"d":"69.4823"}},{"$f":"0.7*X52","v":{"v":48.6376219512195,"d":"48.6376"}},{"$f":"VLOOKUP(D52,体测成绩!B$2:C$273,2,FALSE)","v":{"v":68.1,"d":"68.1000"}},{"$f":"VLOOKUP(D52,体育锻炼成绩!A$2:B$182,2,FALSE)","v":"100.00"},{"$f":"0.8*Z52","v":{"v":54.48,"d":"54.4800"}},{"$f":"AA52*0.2","v":{"v":20,"d":"20.0000"}},{"$f":"SUM(AB52:AC52)*0.7","v":{"v":52.136,"d":"52.1360"}},{"v":0,"d":"0.0000"},{"$f":"AD52+AE52","v":{"v":52.136,"d":"52.1360"}},{"$f":"AF52*0.05","v":2.6068},{"$f":"VLOOKUP(D52,美育!B$2:F$182,5,FALSE)","v":{"v":55,"d":"55.0000"}},{"$f":"VLOOKUP(D52,美育!B$2:E$182,4,FALSE)","v":{"v":0,"d":"0.0000"}},{"$f":"AH52+AI52","v":{"v":55,"d":"55.0000"}},{"$f":"AJ52*0.05","v":{"v":2.75,"d":"2.7500"}},{"$f":"VLOOKUP(D52,劳育基础分!B$3:AF$182,31,FALSE)","v":{"v":42,"d":"42.0000"}},{"v":0,"d":"0.0000"},{"$f":"AL52+AM52","v":{"v":42,"d":"42.0000"}},{"$f":"AN52*0.05","v":{"v":2.1,"d":"2.1000"}},{"$f":"S52+Y52+AG52+AK52+AO52","v":{"v":66.8891719512195,"d":"66.8892"}},{"$f":"VLOOKUP(D52,必修课优良率!A$1:B$173,2,FALSE)","v":"80.95%"},{"$f":"VLOOKUP(D52,四级成绩!B$2:C$178,2,FALSE)","v":521},{"$f":"VLOOKUP(D52,必修课优良率!A$1:D$173,4,FALSE)","v":"否"}]
[50,48,"2024010520","刘诗雨",{"$f":"VLOOKUP(D53,美育!B$2:E$182,2,FALSE)","v":"化工类24-3班"},{"$f":"VLOOKUP(D53,互评分!C$2:F$181,4,FALSE)","v":{"v":99.5925925925926,"d":"99.5926"}},{"$f":"VLOOKUP(D53,辅导员加分!B$2:C$176,2,FALSE)","v":{"v":96,"d":"96.0000"}},{"$f":"VLOOKUP(D53,互评分!C$2:F$181,3,FALSE)","v":{"v":100,"d":"100.0000"}},{"$f":"VLOOKUP(D53,互评分!C$2:F$181,2,FALSE)","v":{"v":100,"d":"100.0000"}},{"$f":"F53*0.2","v":{"v":19.9185185185185,"d":"19.9185"}},{"$f":"G53*0.5","v":{"v":48,"d":"48.0000"}},{"$f":"H53*0.2","v":{"v":20,"d":"20.0000"}},{"$f":"I53*0.1","v":{"v":10,"d":"10.0000"}},{"$f":"SUM(J53:M53)*0.7","v":{"v":68.542962962963,"d":"68.5430"}},{"$f":"VLOOKUP(D53,学生干部加分!A$1:C$140,3,FALSE)","v":{"v":7,"d":"7.0000"}},{"v":0,"d":"0.0000"},{"v":10,"d":"10.0000"},{"$f":"N53+O53+P53-Q53","v":{"v":65.542962962963,"d":"65.5430"}},{"$f":"R53*0.15","v":{"v":9.83144444444444,"d":"9.8314"}},{"v":81.3214285714286,"d":"81.3214"},{"v":88.8,"d":"88.8000"},{"$f":"IF(U53>0,T53*0.9+U53*0.1,T53)","v":{"v":82.0692857142857,"d":"82.0693"}},{"v":0,"d":"0.0000"},{"$f":"V53*0.85+W53","v":{"v":69.7588928571429,"d":"69.7589"}},{"$f":"0.7*X53","v":{"v":48.831225,"d":"48.8312"}},{"$f":"VLOOKUP(D53,体测成绩!B$2:C$273,2,FALSE)","v":{"v":76.1,"d":"76.1000"}},{"$f":"VLOOKUP(D53,体育锻炼成绩!A$2:B$182,2,FALSE)","v":"100.00"},{"$f":"0.8*Z53","v":{"v":60.88,"d":"60.8800"}},{"$f":"AA53*0.2","v":{"v":20,"d":"20.0000"}},{"$f":"SUM(AB53:AC53)*0.7","v":{"v":56.616,"d":"56.6160"}},{"$f":"VLOOKUP(D53,体育加分汇总!A$1:C$79,3,FALSE)","v":{"v":1,"d":"1.0000"}},{"$f":"AD53+AE53","v":{"v":57.616,"d":"57.6160"}},{"$f":"AF53*0.05","v":2.8808},{"$f":"VLOOKUP(D53,美育!B$2:F$182,5,FALSE)","v":{"v":63,"d":"63.0000"}},{"$f":"VLOOKUP(D53,美育!B$2:E$182,4,FALSE)","v":{"v":0,"d":"0.0000"}},{"$f":"AH53+AI53","v":{"v":63,"d":"63.0000"}},{"$f":"AJ53*0.05","v":{"v":3.15,"d":"3.1500"}},{"$f":"VLOOKUP(D53,劳育基础分!B$3:AF$182,31,FALSE)","v":{"v":42,"d":"42.0000"}},{"v":0,"d":"0.0000"},{"$f":"AL53+AM53","v":{"v":42,"d":"42.0000"}},{"$f":"AN53*0.05","v":{"v":2.1,"d":"2.1000"}},{"$f":"S53+Y53+AG53+AK53+AO53","v":{"v":66.7934694444445,"d":"66.7935"}},{"$f":"VLOOKUP(D53,必修课优良率!A$1:B$173,2,FALSE)","v":"80.95%"},{"$f":"VLOOKUP(D53,四级成绩!B$2:C$178,2,FALSE)","v":477},{"$f":"VLOOKUP(D53,必修课优良率!A$1:D$173,4,FALSE)","v":"否"}]
[51,39,"2024010476","杨修齐",{"$f":"VLOOKUP(D54,美育!B$2:E$182,2,FALSE)","v":"化工类24-1班"},{"$f":"VLOOKUP(D54,互评分!C$2:F$181,4,FALSE)","v":{"v":98.33333333,"d":"98.3333"}},{"$f":"VLOOKUP(D54,辅导员加分!B$2:C$176,2,FALSE)","v":{"v":92,"d":"92.0000"}},{"$f":"VLOOKUP(D54,互评分!C$2:F$181,3,FALSE)","v":{"v":100,"d":"100.0000"}},{"$f":"VLOOKUP(D54,互评分!C$2:F$181,2,FALSE)","v":{"v":99,"d":"99.0000"}},{"$f":"F54*0.2","v":{"v":19.666666666,"d":"19.6667"}},{"$f":"G54*0.5","v":{"v":46,"d":"46.0000"}},{"$f":"H54*0.2","v":{"v":20,"d":"20.0000"}},{"$f":"I54*0.1","v":{"v":9.9,"d":"9.9000"}},{"$f":"SUM(J54:M54)*0.7","v":{"v":66.8966666662,"d":"66.8967"}},{"$f":"VLOOKUP(D54,学生干部加分!A$1:C$140,3,FALSE)","v":{"v":6,"d":"6.0000"}},{"v":0,"d":"0.0000"},{"v":0,"d":"0.0000"},{"$f":"N54+O54+P54-Q54","v":{"v":72.8966666662,"d":"72.8967"}},{"$f":"R54*0.15","v":{"v":10.93449999993,"d":"10.9345"}},{"v":82.390243902439,"d":"82.3902"},{"v":92.5714285714286,"d":"92.5714"},{"$f":"IF(U54>0,T54*0.9+U54*0.1,T54)","v":{"v":83.408362369338,"d":"83.4084"}},{"v":0,"d":"0.0000"},{"$f":"V54*0.85+W54","v":{"v":70.8971080139373,"d":"70.8971"}},{"$f":"0.7*X54","v":{"v":49.6279756097561,"d":"49.6280"}},{"$f":"VLOOKUP(D54,体测成绩!B$2:C$273,2,FALSE)","v":{"v":72.7,"d":"72.7000"}},{"$f":"VLOOKUP(D54,体育锻炼成绩!A$2:B$182,2,FALSE)","v":"100.00"},{"$f":"0.8*Z54","v":{"v":58.16,"d":"58.1600"}},{"$f":"AA54*0.2","v":{"v":20,"d":"20.0000"}},{"$f":"SUM(AB54:AC54)*0.7","v":{"v":54.712,"d":"54.7120"}},{"$f":"VLOOKUP(D54,体育加分汇总!A$1:C$79,3,FALSE)","v":{"v":2,"d":"2.0000"}},{"$f":"AD54+AE54","v":{"v":56.712,"d":"56.7120"}},{"$f":"AF54*0.05","v":2.8356},{"$f":"VLOOKUP(D54,美育!B$2:F$182,5,FALSE)","v":{"v":25,"d":"25.0000"}},{"$f":"VLOOKUP(D54,美育!B$2:E$182,4,FALSE)","v":{"v":0,"d":"0.0000"}},{"$f":"AH54+AI54","v":{"v":25,"d":"25.0000"}},{"$f":"AJ54*0.05","v":{"v":1.25,"d":"1.2500"}},{"$f":"VLOOKUP(D54,劳育基础分!B$3:AF$182,31,FALSE)","v":{"v":42,"d":"42.0000"}},{"v":0,"d":"0.0000"},{"$f":"AL54+AM54","v":{"v":42,"d":"42.0000"}},{"$f":"AN54*0.05","v":{"v":2.1,"d":"2.1000"}},{"$f":"S54+Y54+AG54+AK54+AO54","v":{"v":66.7480756096861,"d":"66.7481"}},{"$f":"VLOOKUP(D54,必修课优良率!A$1:B$173,2,FALSE)","v":"80.95%"},{"$f":"VLOOKUP(D54,四级成绩!B$2:C$178,2,FALSE)","v":515},{"$f":"VLOOKUP(D54,必修课优良率!A$1:D$173,4,FALSE)","v":"否"}]
[52,105,"2024010583","路倢利",{"$f":"VLOOKUP(D55,美育!B$2:E$182,2,FALSE)","v":"化工类24-5班"},{"$f":"VLOOKUP(D55,互评分!C$2:F$181,4,FALSE)","v":{"v":99.6666666666667,"d":"99.6667"}},{"$f":"VLOOKUP(D55,辅导员加分!B$2:C$176,2,FALSE)","v":{"v":94,"d":"94.0000"}},{"$f":"VLOOKUP(D55,互评分!C$2:F$181,3,FALSE)","v":{"v":100,"d":"100.0000"}},{"$f":"VLOOKUP(D55,互评分!C$2:F$181,2,FALSE)","v":{"v":88,"d":"88.0000"}},{"$f":"F55*0.2","v":{"v":19.9333333333333,"d":"19.9333"}},{"$f":"G55*0.5","v":{"v":47,"d":"47.0000"}},{"$f":"H55*0.2","v":{"v":20,"d":"20.0000"}},{"$f":"I55*0.1","v":{"v":8.8,"d":"8.8000"}},{"$f":"SUM(J55:M55)*0.7","v":{"v":67.0133333333333,"d":"67.0133"}},{"$f":"VLOOKUP(D55,学生干部加分!A$1:C$140,3,FALSE)","v":{"v":10,"d":"10.0000"}},{"v":0,"d":"0.0000"},{"v":0,"d":"0.0000"},{"$f":"N55+O55+P55-Q55","v":{"v":77.0133333333333,"d":"77.0133"}},{"$f":"R55*0.15","v":{"v":11.552,"d":"11.5520"}},{"v":75.5119047619048,"d":"75.5119"},{"v":80.5,"d":"80.5000"},{"$f":"IF(U55>0,T55*0.9+U55*0.1,T55)","v":{"v":76.0107142857143,"d":"76.0107"}},{"$f":"VLOOKUP(D55,智育加分汇总!A$2:C$44,3,FALSE)","v":{"v":0.75,"d":"0.7500"}},{"$f":"V55*0.85+W55","v":{"v":65.3591071428572,"d":"65.3591"}},{"$f":"0.7*X55","v":{"v":45.751375,"d":"45.7514"}},{"$f":"VLOOKUP(D55,体测成绩!B$2:C$273,2,FALSE)","v":{"v":79.2,"d":"79.2000"}},{"$f":"VLOOKUP(D55,体育锻炼成绩!A$2:B$182,2,FALSE)","v":"100.00"},{"$f":"0.8*Z55","v":{"v":63.36,"d":"63.3600"}},{"$f":"AA55*0.2","v":{"v":20,"d":"20.0000"}},{"$f":"SUM(AB55:AC55)*0.7","v":{"v":58.352,"d":"58.3520"}},{"$f":"VLOOKUP(D55,体育加分汇总!A$1:C$79,3,FALSE)","v":{"v":14,"d":"14.0000"}},{"$f":"AD55+AE55","v":{"v":72.352,"d":"72.3520"}},{"$f":"AF55*0.05","v":3.6176},{"$f":"VLOOKUP(D55,美育!B$2:F$182,5,FALSE)","v":{"v":70,"d":"70.0000"}},{"$f":"VLOOKUP(D55,美育!B$2:E$182,4,FALSE)","v":{"v":2,"d":"2.0000"}},{"$f":"AH55+AI55","v":{"v":72,"d":"72.0000"}},{"$f":"AJ55*0.05","v":{"v":3.6,"d":"3.6000"}},{"$f":"VLOOKUP(D55,劳育基础分!B$3:AF$182,31,FALSE)","v":{"v":44.5,"d":"44.5000"}},{"v":0,"d":"0.0000"},{"$f":"AL55+AM55","v":{"v":44.5,"d":"44.5000"}},{"$f":"AN55*0.05","v":{"v":2.225,"d":"2.2250"}},{"$f":"S55+Y55+AG55+AK55+AO55","v":{"v":66.745975,"d":"66.7460"}},{"$f":"VLOOKUP(D55,必修课优良率!A$1:B$173,2,FALSE)","v":"52.38%"},{"$f":"VLOOKUP(D55,四级成绩!B$2:C$178,2,FALSE)","v":517},{"$f":"VLOOKUP(D55,必修课优良率!A$1:D$173,4,FALSE)","v":"否"}]
[53,71,"2024010588","陈晨",{"$f":"VLOOKUP(D56,美育!B$2:E$182,2,FALSE)","v":"化工类24-5班"},{"$f":"VLOOKUP(D56,互评分!C$2:F$181,4,FALSE)","v":{"v":99.6666666666667,"d":"99.6667"}},{"$f":"VLOOKUP(D56,辅导员加分!B$2:C$176,2,FALSE)","v":{"v":94,"d":"94.0000"}},{"$f":"VLOOKUP(D56,互评分!C$2:F$181,3,FALSE)","v":{"v":100,"d":"100.0000"}},{"$f":"VLOOKUP(D56,互评分!C$2:F$181,2,FALSE)","v":{"v":88,"d":"88.0000"}},{"$f":"F56*0.2","v":{"v":19.9333333333333,"d":"19.9333"}},{"$f":"G56*0.5","v":{"v":47,"d":"47.0000"}},{"$f":"H56*0.2","v":{"v":20,"d":"20.0000"}},{"$f":"I56*0.1","v":{"v":8.8,"d":"8.8000"}},{"$f":"SUM(J56:M56)*0.7","v":{"v":67.0133333333333,"d":"67.0133"}},{"$f":"VLOOKUP(D56,学生干部加分!A$1:C$140,3,FALSE)","v":{"v":3.5,"d":"3.5000"}},{"v":0,"d":"0.0000"},{"v":0,"d":"0.0000"},{"$f":"N56+O56+P56-Q56","v":{"v":70.5133333333333,"d":"70.5133"}},{"$f":"R56*0.15","v":{"v":10.577,"d":"10.5770"}},{"v":78.9878048780488,"d":"78.9878"},{"v":86,"d":"86.0000"},{"$f":"IF(U56>0,T56*0.9+U56*0.1,T56)","v":{"v":79.6890243902439,"d":"79.6890"}},{"v":0,"d":"0.0000"},{"$f":"V56*0.85+W56","v":{"v":67.7356707317073,"d":"67.7357"}},{"$f":"0.7*X56","v":{"v":47.4149695121951,"d":"47.4150"}},{"$f":"VLOOKUP(D56,体测成绩!B$2:C$273,2,FALSE)","v":{"v":80.3,"d":"80.3000"}},{"$f":"VLOOKUP(D56,体育锻炼成绩!A$2:B$182,2,FALSE)","v":"100.00"},{"$f":"0.8*Z56","v":{"v":64.24,"d":"64.2400"}},{"$f":"AA56*0.2","v":{"v":20,"d":"20.0000"}},{"$f":"SUM(AB56:AC56)*0.7","v":{"v":58.968,"d":"58.9680"}},{"$f":"VLOOKUP(D56,体育加分汇总!A$1:C$79,3,FALSE)","v":{"v":20,"d":"20.0000"}},{"$f":"AD56+AE56","v":{"v":78.968,"d":"78.9680"}},{"$f":"AF56*0.05","v":3.9484},{"$f":"VLOOKUP(D56,美育!B$2:F$182,5,FALSE)","v":{"v":51,"d":"51.0000"}},{"$f":"VLOOKUP(D56,美育!B$2:E$182,4,FALSE)","v":{"v":2,"d":"2.0000"}},{"$f":"AH56+AI56","v":{"v":53,"d":"53.0000"}},{"$f":"AJ56*0.05","v":{"v":2.65,"d":"2.6500"}},{"$f":"VLOOKUP(D56,劳育基础分!B$3:AF$182,31,FALSE)","v":{"v":42.5,"d":"42.5000"}},{"v":0,"d":"0.0000"},{"$f":"AL56+AM56","v":{"v":42.5,"d":"42.5000"}},{"$f":"AN56*0.05","v":{"v":2.125,"d":"2.1250"}},{"$f":"S56+Y56+AG56+AK56+AO56","v":{"v":66.7153695121951,"d":"66.7154"}},{"$f":"VLOOKUP(D56,必修课优良率!A$1:B$173,2,FALSE)","v":"71.43%"},{"$f":"VLOOKUP(D56,四级成绩!B$2:C$178,2,FALSE)","v":"444"},{"$f":"VLOOKUP(D56,必修课优良率!A$1:D$173,4,FALSE)","v":"否"}]
[54,36,"2024010483","杨清朋",{"$f":"VLOOKUP(D57,美育!B$2:E$182,2,FALSE)","v":"化工类24-1班"},{"$f":"VLOOKUP(D57,互评分!C$2:F$181,4,FALSE)","v":{"v":99.2962963,"d":"99.2963"}},{"$f":"VLOOKUP(D57,辅导员加分!B$2:C$176,2,FALSE)","v":{"v":90,"d":"90.0000"}},{"$f":"VLOOKUP(D57,互评分!C$2:F$181,3,FALSE)","v":{"v":100,"d":"100.0000"}},{"$f":"VLOOKUP(D57,互评分!C$2:F$181,2,FALSE)","v":{"v":97,"d":"97.0000"}},{"$f":"F57*0.2","v":{"v":19.85925926,"d":"19.8593"}},{"$f":"G57*0.5","v":{"v":45,"d":"45.0000"}},{"$f":"H57*0.2","v":{"v":20,"d":"20.0000"}},{"$f":"I57*0.1","v":{"v":9.7,"d":"9.7000"}},{"$f":"SUM(J57:M57)*0.7","v":{"v":66.191481482,"d":"66.1915"}},{"$f":"VLOOKUP(D57,学生干部加分!A$1:C$140,3,FALSE)","v":{"v":5.75,"d":"5.7500"}},{"$f":"VLOOKUP(D57,德育加分!C$2:K$30,9,FALSE)","v":{"v":2,"d":"2.0000"}},{"v":0,"d":"0.0000"},{"$f":"N57+O57+P57-Q57","v":{"v":73.941481482,"d":"73.9415"}},{"$f":"R57*0.15","v":{"v":11.0912222223,"d":"11.0912"}},{"v":82.6585365853659,"d":"82.6585"},{"v":78.6666666666667,"d":"78.6667"},{"$f":"IF(U57>0,T57*0.9+U57*0.1,T57)","v":{"v":82.259349593496,"d":"82.2593"}},{"v":0,"d":"0.0000"},{"$f":"V57*0.85+W57","v":{"v":69.9204471544716,"d":"69.9204"}},{"$f":"0.7*X57","v":{"v":48.9443130081301,"d":"48.9443"}},{"$f":"VLOOKUP(D57,体测成绩!B$2:C$273,2,FALSE)","v":{"v":60.9,"d":"60.9000"}},{"$f":"VLOOKUP(D57,体育锻炼成绩!A$2:B$182,2,FALSE)","v":"100.00"},{"$f":"0.8*Z57","v":{"v":48.72,"d":"48.7200"}},{"$f":"AA57*0.2","v":{"v":20,"d":"20.0000"}},{"$f":"SUM(AB57:AC57)*0.7","v":{"v":48.104,"d":"48.1040"}},{"$f":"VLOOKUP(D57,体育加分汇总!A$1:C$79,3,FALSE)","v":{"v":8,"d":"8.0000"}},{"$f":"AD57+AE57","v":{"v":56.104,"d":"56.1040"}},{"$f":"AF57*0.05","v":2.8052},{"$f":"VLOOKUP(D57,美育!B$2:F$182,5,FALSE)","v":{"v":30,"d":"30.0000"}},{"$f":"VLOOKUP(D57,美育!B$2:E$182,4,FALSE)","v":{"v":4,"d":"4.0000"}},{"$f":"AH57+AI57","v":{"v":34,"d":"34.0000"}},{"$f":"AJ57*0.05","v":{"v":1.7,"d":"1.7000"}},{"$f":"VLOOKUP(D57,劳育基础分!B$3:AF$182,31,FALSE)","v":{"v":42,"d":"42.0000"}},{"v":0,"d":"0.0000"},{"$f":"AL57+AM57","v":{"v":42,"d":"42.0000"}},{"$f":"AN57*0.05","v":{"v":2.1,"d":"2.1000"}},{"$f":"S57+Y57+AG57+AK57+AO57","v":{"v":66.6407352304301,"d":"66.6407"}},{"$f":"VLOOKUP(D57,必修课优良率!A$1:B$173,2,FALSE)","v":"76.19%"},{"$f":"VLOOKUP(D57,四级成绩!B$2:C$178,2,FALSE)","v":570},{"$f":"VLOOKUP(D57,必修课优良率!A$1:D$173,4,FALSE)","v":"否"}]
[55,83,"2024010493","苗思蕊",{"$f":"VLOOKUP(D58,美育!B$2:E$182,2,FALSE)","v":"化工类24-2班"},{"$f":"VLOOKUP(D58,互评分!C$2:F$181,4,FALSE)","v":{"v":97.0714285714286,"d":"97.0714"}},{"$f":"VLOOKUP(D58,辅导员加分!B$2:C$176,2,FALSE)","v":{"v":94,"d":"94.0000"}},{"$f":"VLOOKUP(D58,互评分!C$2:F$181,3,FALSE)","v":{"v":98,"d":"98.0000"}},{"$f":"VLOOKUP(D58,互评分!C$2:F$181,2,FALSE)","v":{"v":96,"d":"96.0000"}},{"$f":"F58*0.2","v":{"v":19.4142857142857,"d":"19.4143"}},{"$f":"G58*0.5","v":{"v":47,"d":"47.0000"}},{"$f":"H58*0.2","v":{"v":19.6,"d":"19.6000"}},{"$f":"I58*0.1","v":{"v":9.6,"d":"9.6000"}},{"$f":"SUM(J58:M58)*0.7","v":{"v":66.93,"d":"66.9300"}},{"$f":"VLOOKUP(D58,学生干部加分!A$1:C$140,3,FALSE)","v":{"v":9,"d":"9.0000"}},{"v":0,"d":"0.0000"},{"v":0,"d":"0.0000"},{"$f":"N58+O58+P58-Q58","v":{"v":75.93,"d":"75.9300"}},{"$f":"R58*0.15","v":11.3895},{"v":77.9404761904762,"d":"77.9405"},{"v":82.5,"d":"82.5000"},{"$f":"IF(U58>0,T58*0.9+U58*0.1,T58)","v":{"v":78.3964285714286,"d":"78.3964"}},{"v":0,"d":"0.0000"},{"$f":"V58*0.85+W58","v":{"v":66.6369642857143,"d":"66.6370"}},{"$f":"0.7*X58","v":{"v":46.645875,"d":"46.6459"}},{"$f":"VLOOKUP(D58,体测成绩!B$2:C$273,2,FALSE)","v":{"v":67.9,"d":"67.9000"}},{"$f":"VLOOKUP(D58,体育锻炼成绩!A$2:B$182,2,FALSE)","v":"100.00"},{"$f":"0.8*Z58","v":{"v":54.32,"d":"54.3200"}},{"$f":"AA58*0.2","v":{"v":20,"d":"20.0000"}},{"$f":"SUM(AB58:AC58)*0.7","v":{"v":52.024,"d":"52.0240"}},{"v":0,"d":"0.0000"},{"$f":"AD58+AE58","v":{"v":52.024,"d":"52.0240"}},{"$f":"AF58*0.05","v":2.6012},{"$f":"VLOOKUP(D58,美育!B$2:F$182,5,FALSE)","v":{"v":70,"d":"70.0000"}},{"$f":"VLOOKUP(D58,美育!B$2:E$182,4,FALSE)","v":{"v":10,"d":"10.0000"}},{"$f":"AH58+AI58","v":{"v":80,"d":"80.0000"}},{"$f":"AJ58*0.05","v":{"v":4,"d":"4.0000"}},{"$f":"VLOOKUP(D58,劳育基础分!B$3:AF$182,31,FALSE)","v":{"v":40,"d":"40.0000"}},{"v":0,"d":"0.0000"},{"$f":"AL58+AM58","v":{"v":40,"d":"40.0000"}},{"$f":"AN58*0.05","v":{"v":2,"d":"2.0000"}},{"$f":"S58+Y58+AG58+AK58+AO58","v":{"v":66.636575,"d":"66.6366"}},{"$f":"VLOOKUP(D58,必修课优良率!A$1:B$173,2,FALSE)","v":"61.90%"},{"$f":"VLOOKUP(D58,四级成绩!B$2:C$178,2,FALSE)","v":495},{"$f":"VLOOKUP(D58,必修课优良率!A$1:D$173,4,FALSE)","v":"否"}]
[56,33,"2024010596","王爽",{"$f":"VLOOKUP(D59,美育!B$2:E$182,2,FALSE)","v":"化工类24-5班"},{"$f":"VLOOKUP(D59,互评分!C$2:F$181,4,FALSE)","v":{"v":99.2962962962963,"d":"99.2963"}},{"$f":"VLOOKUP(D59,辅导员加分!B$2:C$176,2,FALSE)","v":{"v":90,"d":"90.0000"}},{"$f":"VLOOKUP(D59,互评分!C$2:F$181,3,FALSE)","v":{"v":100,"d":"100.0000"}},{"$f":"VLOOKUP(D59,互评分!C$2:F$181,2,FALSE)","v":{"v":93,"d":"93.0000"}},{"$f":"F59*0.2","v":{"v":19.8592592592593,"d":"19.8593"}},{"$f":"G59*0.5","v":{"v":45,"d":"45.0000"}},{"$f":"H59*0.2","v":{"v":20,"d":"20.0000"}},{"$f":"I59*0.1","v":{"v":9.3,"d":"9.3000"}},{"$f":"SUM(J59:M59)*0.7","v":{"v":65.9114814814815,"d":"65.9115"}},{"v":0,"d":"0.0000"},{"v":0,"d":"0.0000"},{"v":0,"d":"0.0000"},{"$f":"N59+O59+P59-Q59","v":{"v":65.9114814814815,"d":"65.9115"}},{"$f":"R59*0.15","v":{"v":9.88672222222222,"d":"9.8867"}},{"v":83.2926829268293,"d":"83.2927"},{"v":84.2,"d":"84.2000"},{"$f":"IF(U59>0,T59*0.9+U59*0.1,T59)","v":{"v":83.3834146341464,"d":"83.3834"}},{"v":0,"d":"0.0000"},{"$f":"V59*0.85+W59","v":{"v":70.8759024390244,"d":"70.8759"}},{"$f":"0.7*X59","v":{"v":49.6131317073171,"d":"49.6131"}},{"$f":"VLOOKUP(D59,体测成绩!B$2:C$273,2,FALSE)","v":{"v":87.4,"d":"87.4000"}},{"$f":"VLOOKUP(D59,体育锻炼成绩!A$2:B$182,2,FALSE)","v":"100.00"},{"$f":"0.8*Z59","v":{"v":69.92,"d":"69.9200"}},{"$f":"AA59*0.2","v":{"v":20,"d":"20.0000"}},{"$f":"SUM(AB59:AC59)*0.7","v":{"v":62.944,"d":"62.9440"}},{"$f":"VLOOKUP(D59,体育加分汇总!A$1:C$79,3,FALSE)","v":{"v":0,"d":"0.0000"}},{"$f":"AD59+AE59","v":{"v":62.944,"d":"62.9440"}},{"$f":"AF59*0.05","v":3.1472},{"$f":"VLOOKUP(D59,美育!B$2:F$182,5,FALSE)","v":{"v":35,"d":"35.0000"}},{"$f":"VLOOKUP(D59,美育!B$2:E$182,4,FALSE)","v":{"v":0,"d":"0.0000"}},{"$f":"AH59+AI59","v":{"v":35,"d":"35.0000"}},{"$f":"AJ59*0.05","v":{"v":1.75,"d":"1.7500"}},{"$f":"VLOOKUP(D59,劳育基础分!B$3:AF$182,31,FALSE)","v":{"v":42.5,"d":"42.5000"}},{"v":0,"d":"0.0000"},{"$f":"AL59+AM59","v":{"v":42.5,"d":"42.5000"}},{"$f":"AN59*0.05","v":{"v":2.125,"d":"2.1250"}},{"$f":"S59+Y59+AG59+AK59+AO59","v":{"v":66.5220539295393,"d":"66.5221"}},{"$f":"VLOOKUP(D59,必修课优良率!A$1:B$173,2,FALSE)","v":"76.19%"},{"$f":"VLOOKUP(D59,四级成绩!B$2:C$178,2,FALSE)","v":424},{"$f":"VLOOKUP(D59,必修课优良率!A$1:D$173,4,FALSE)","v":"否"}]
[57,22,"2024010486","彭一航",{"$f":"VLOOKUP(D60,美育!B$2:E$182,2,FALSE)","v":"化工类24-1班"},{"$f":"VLOOKUP(D60,互评分!C$2:F$181,4,FALSE)","v":{"v":98,"d":"98.0000"}},{"$f":"VLOOKUP(D60,辅导员加分!B$2:C$176,2,FALSE)","v":{"v":92,"d":"92.0000"}},{"$f":"VLOOKUP(D60,互评分!C$2:F$181,3,FALSE)","v":{"v":100,"d":"100.0000"}},{"$f":"VLOOKUP(D60,互评分!C$2:F$181,2,FALSE)","v":{"v":98,"d":"98.0000"}},{"$f":"F60*0.2","v":{"v":19.6,"d":"19.6000"}},{"$f":"G60*0.5","v":{"v":46,"d":"46.0000"}},{"$f":"H60*0.2","v":{"v":20,"d":"20.0000"}},{"$f":"I60*0.1","v":{"v":9.8,"d":"9.8000"}},{"$f":"SUM(J60:M60)*0.7","v":{"v":66.78,"d":"66.7800"}},{"$f":"VLOOKUP(D60,学生干部加分!A$1:C$140,3,FALSE)","v":{"v":3.5,"d":"3.5000"}},{"v":0,"d":"0.0000"},{"v":0,"d":"0.0000"},{"$f":"N60+O60+P60-Q60","v":{"v":70.28,"d":"70.2800"}},{"$f":"R60*0.15","v":{"v":10.542,"d":"10.5420"}},{"v":84.9390243902439,"d":"84.9390"},{"v":80.6666666666667,"d":"80.6667"},{"$f":"IF(U60>0,T60*0.9+U60*0.1,T60)","v":{"v":84.5117886178862,"d":"84.5118"}},{"v":0,"d":"0.0000"},{"$f":"V60*0.85+W60","v":{"v":71.8350203252033,"d":"71.8350"}},{"$f":"0.7*X60","v":{"v":50.2845142276423,"d":"50.2845"}},{"$f":"VLOOKUP(D60,体测成绩!B$2:C$273,2,FALSE)","v":{"v":60,"d":"60.0000"}},{"$f":"VLOOKUP(D60,体育锻炼成绩!A$2:B$182,2,FALSE)","v":"100.00"},{"$f":"0.8*Z60","v":{"v":48,"d":"48.0000"}},{"$f":"AA60*0.2","v":{"v":20,"d":"20.0000"}},{"$f":"SUM(AB60:AC60)*0.7","v":{"v":47.6,"d":"47.6000"}},{"v":0,"d":"0.0000"},{"$f":"AD60+AE60","v":{"v":47.6,"d":"47.6000"}},{"$f":"AF60*0.05","v":{"v":2.38,"d":"2.3800"}},{"$f":"VLOOKUP(D60,美育!B$2:F$182,5,FALSE)","v":{"v":20,"d":"20.0000"}},{"$f":"VLOOKUP(D60,美育!B$2:E$182,4,FALSE)","v":{"v":0,"d":"0.0000"}},{"$f":"AH60+AI60","v":{"v":20,"d":"20.0000"}},{"$f":"AJ60*0.05","v":{"v":1,"d":"1.0000"}},{"$f":"VLOOKUP(D60,劳育基础分!B$3:AF$182,31,FALSE)","v":{"v":39.5,"d":"39.5000"}},{"$f":"VLOOKUP(D60,劳育加分!A$3:I$34,9,FALSE)","v":{"v":4,"d":"4.0000"}},{"$f":"AL60+AM60","v":{"v":43.5,"d":"43.5000"}},{"$f":"AN60*0.05","v":{"v":2.175,"d":"2.1750"}},{"$f":"S60+Y60+AG60+AK60+AO60","v":{"v":66.3815142276423,"d":"66.3815"}},{"$f":"VLOOKUP(D60,必修课优良率!A$1:B$173,2,FALSE)","v":"71.43%"},{"$f":"VLOOKUP(D60,四级成绩!B$2:C$178,2,FALSE)","v":542},{"$f":"VLOOKUP(D60,必修课优良率!A$1:D$173,4,FALSE)","v":"否"}]
[58,58,"2024010573","王韬哲",{"$f":"VLOOKUP(D61,美育!B$2:E$182,2,FALSE)","v":"化工类24-4班"},{"$f":"VLOOKUP(D61,互评分!C$2:F$181,4,FALSE)","v":{"v":97.14286,"d":"97.1429"}},{"$f":"VLOOKUP(D61,辅导员加分!B$2:C$176,2,FALSE)","v":{"v":92,"d":"92.0000"}},{"$f":"VLOOKUP(D61,互评分!C$2:F$181,3,FALSE)","v":{"v":95.57143,"d":"95.5714"}},{"$f":"VLOOKUP(D61,互评分!C$2:F$181,2,FALSE)","v":{"v":100,"d":"100.0000"}},{"$f":"F61*0.2","v":{"v":19.428572,"d":"19.4286"}},{"$f":"G61*0.5","v":{"v":46,"d":"46.0000"}},{"$f":"H61*0.2","v":{"v":19.114286,"d":"19.1143"}},{"$f":"I61*0.1","v":{"v":10,"d":"10.0000"}},{"$f":"SUM(J61:M61)*0.7","v":{"v":66.1800006,"d":"66.1800"}},{"$f":"VLOOKUP(D61,学生干部加分!A$1:C$140,3,FALSE)","v":{"v":3.75,"d":"3.7500"}},{"v":0,"d":"0.0000"},{"v":0,"d":"0.0000"},{"$f":"N61+O61+P61-Q61","v":{"v":69.9300006,"d":"69.9300"}},{"$f":"R61*0.15","v":{"v":10.48950009,"d":"10.4895"}},{"v":80.0731707317073,"d":"80.0732"},{"v":83.8,"d":"83.8000"},{"$f":"IF(U61>0,T61*0.9+U61*0.1,T61)","v":{"v":80.4458536585366,"d":"80.4459"}},{"$f":"VLOOKUP(D61,智育加分汇总!A$2:C$44,3,FALSE)","v":{"v":1.8,"d":"1.8000"}},{"$f":"V61*0.85+W61","v":{"v":70.1789756097561,"d":"70.1790"}},{"$f":"0.7*X61","v":{"v":49.1252829268293,"d":"49.1253"}},{"$f":"VLOOKUP(D61,体测成绩!B$2:C$273,2,FALSE)","v":{"v":73.7,"d":"73.7000"}},{"$f":"VLOOKUP(D61,体育锻炼成绩!A$2:B$182,2,FALSE)","v":"100.00"},{"$f":"0.8*Z61","v":{"v":58.96,"d":"58.9600"}},{"$f":"AA61*0.2","v":{"v":20,"d":"20.0000"}},{"$f":"SUM(AB61:AC61)*0.7","v":{"v":55.272,"d":"55.2720"}},{"$f":"VLOOKUP(D61,体育加分汇总!A$1:C$79,3,FALSE)","v":{"v":11,"d":"11.0000"}},{"$f":"AD61+AE61","v":{"v":66.272,"d":"66.2720"}},{"$f":"AF61*0.05","v":3.3136},{"$f":"VLOOKUP(D61,美育!B$2:F$182,5,FALSE)","v":{"v":43,"d":"43.0000"}},{"$f":"VLOOKUP(D61,美育!B$2:E$182,4,FALSE)","v":{"v":0,"d":"0.0000"}},{"$f":"AH61+AI61","v":{"v":43,"d":"43.0000"}},{"$f":"AJ61*0.05","v":{"v":2.15,"d":"2.1500"}},{"$f":"VLOOKUP(D61,劳育基础分!B$3:AF$182,31,FALSE)","v":{"v":26,"d":"26.0000"}},{"v":0,"d":"0.0000"},{"$f":"AL61+AM61","v":{"v":26,"d":"26.0000"}},{"$f":"AN61*0.05","v":{"v":1.3,"d":"1.3000"}},{"$f":"S61+Y61+AG61+AK61+AO61","v":{"v":66.3783830168292,"d":"66.3784"}},{"$f":"VLOOKUP(D61,必修课优良率!A$1:B$173,2,FALSE)","v":"85.71%"},{"$f":"VLOOKUP(D61,四级成绩!B$2:C$178,2,FALSE)","v":"572"},{"$f":"VLOOKUP(D61,必修课优良率!A$1:D$173,4,FALSE)","v":"否"}]
[59,45,"2024010505","李志聪",{"$f":"VLOOKUP(D62,美育!B$2:E$182,2,FALSE)","v":"化工类24-2班"},{"$f":"VLOOKUP(D62,互评分!C$2:F$181,4,FALSE)","v":{"v":97.75,"d":"97.7500"}},{"$f":"VLOOKUP(D62,辅导员加分!B$2:C$176,2,FALSE)","v":{"v":94,"d":"94.0000"}},{"$f":"VLOOKUP(D62,互评分!C$2:F$181,3,FALSE)","v":{"v":100,"d":"100.0000"}},{"$f":"VLOOKUP(D62,互评分!C$2:F$181,2,FALSE)","v":{"v":97,"d":"97.0000"}},{"$f":"F62*0.2","v":{"v":19.55,"d":"19.5500"}},{"$f":"G62*0.5","v":{"v":47,"d":"47.0000"}},{"$f":"H62*0.2","v":{"v":20,"d":"20.0000"}},{"$f":"I62*0.1","v":{"v":9.7,"d":"9.7000"}},{"$f":"SUM(J62:M62)*0.7","v":{"v":67.375,"d":"67.3750"}},{"$f":"VLOOKUP(D62,学生干部加分!A$1:C$140,3,FALSE)","v":{"v":8,"d":"8.0000"}},{"v":0,"d":"0.0000"},{"v":0,"d":"0.0000"},{"$f":"N62+O62+P62-Q62","v":{"v":75.375,"d":"75.3750"}},{"$f":"R62*0.15","v":{"v":11.30625,"d":"11.3063"}},{"v":81.9404761904762,"d":"81.9405"},{"v":75,"d":"75.0000"},{"$f":"IF(U62>0,T62*0.9+U62*0.1,T62)","v":{"v":81.2464285714286,"d":"81.2464"}},{"v":0,"d":"0.0000"},{"$f":"V62*0.85+W62","v":{"v":69.0594642857143,"d":"69.0595"}},{"$f":"0.7*X62","v":{"v":48.341625,"d":"48.3416"}},{"$f":"VLOOKUP(D62,体测成绩!B$2:C$273,2,FALSE)","v":{"v":58.5,"d":"58.5000"}},{"$f":"VLOOKUP(D62,体育锻炼成绩!A$2:B$182,2,FALSE)","v":"100.00"},{"$f":"0.8*Z62","v":{"v":46.8,"d":"46.8000"}},{"$f":"AA62*0.2","v":{"v":20,"d":"20.0000"}},{"$f":"SUM(AB62:AC62)*0.7","v":{"v":46.76,"d":"46.7600"}},{"v":0,"d":"0.0000"},{"$f":"AD62+AE62","v":{"v":46.76,"d":"46.7600"}},{"$f":"AF62*0.05","v":{"v":2.338,"d":"2.3380"}},{"$f":"VLOOKUP(D62,美育!B$2:F$182,5,FALSE)","v":{"v":43,"d":"43.0000"}},{"$f":"VLOOKUP(D62,美育!B$2:E$182,4,FALSE)","v":{"v":0,"d":"0.0000"}},{"$f":"AH62+AI62","v":{"v":43,"d":"43.0000"}},{"$f":"AJ62*0.05","v":{"v":2.15,"d":"2.1500"}},{"$f":"VLOOKUP(D62,劳育基础分!B$3:AF$182,31,FALSE)","v":{"v":44,"d":"44.0000"}},{"v":0,"d":"0.0000"},{"$f":"AL62+AM62","v":{"v":44,"d":"44.0000"}},{"$f":"AN62*0.05","v":{"v":2.2,"d":"2.2000"}},{"$f":"S62+Y62+AG62+AK62+AO62","v":{"v":66.335875,"d":"66.3359"}},{"$f":"VLOOKUP(D62,必修课优良率!A$1:B$173,2,FALSE)","v":"85.71%"},{"$f":"VLOOKUP(D62,四级成绩!B$2:C$178,2,FALSE)","v":497},{"$f":"VLOOKUP(D62,必修课优良率!A$1:D$173,4,FALSE)","v":"否"}]
[60,37,"2024010511","吕程",{"$f":"VLOOKUP(D63,美育!B$2:E$182,2,FALSE)","v":"化工类24-2班"},{"$f":"VLOOKUP(D63,互评分!C$2:F$181,4,FALSE)","v":{"v":97.2857142857143,"d":"97.2857"}},{"$f":"VLOOKUP(D63,辅导员加分!B$2:C$176,2,FALSE)","v":{"v":90,"d":"90.0000"}},{"$f":"VLOOKUP(D63,互评分!C$2:F$181,3,FALSE)","v":{"v":100,"d":"100.0000"}},{"$f":"VLOOKUP(D63,互评分!C$2:F$181,2,FALSE)","v":{"v":90,"d":"90.0000"}},{"$f":"F63*0.2","v":{"v":19.4571428571429,"d":"19.4571"}},{"$f":"G63*0.5","v":{"v":45,"d":"45.0000"}},{"$f":"H63*0.2","v":{"v":20,"d":"20.0000"}},{"$f":"I63*0.1","v":{"v":9,"d":"9.0000"}},{"$f":"SUM(J63:M63)*0.7","v":{"v":65.42,"d":"65.4200"}},{"$f":"VLOOKUP(D63,学生干部加分!A$1:C$140,3,FALSE)","v":{"v":4,"d":"4.0000"}},{"v":0,"d":"0.0000"},{"v":0,"d":"0.0000"},{"$f":"N63+O63+P63-Q63","v":{"v":69.42,"d":"69.4200"}},{"$f":"R63*0.15","v":{"v":10.413,"d":"10.4130"}},{"v":82.5243902439024,"d":"82.5244"},{"v":87,"d":"87.0000"},{"$f":"IF(U63>0,T63*0.9+U63*0.1,T63)","v":{"v":82.9719512195122,"d":"82.9720"}},{"v":0,"d":"0.0000"},{"$f":"V63*0.85+W63","v":{"v":70.5261585365853,"d":"70.5262"}},{"$f":"0.7*X63","v":{"v":49.3683109756097,"d":"49.3683"}},{"$f":"VLOOKUP(D63,体测成绩!B$2:C$273,2,FALSE)","v":{"v":60,"d":"60.0000"}},{"$f":"VLOOKUP(D63,体育锻炼成绩!A$2:B$182,2,FALSE)","v":"100.00"},{"$f":"0.8*Z63","v":{"v":48,"d":"48.0000"}},{"$f":"AA63*0.2","v":{"v":20,"d":"20.0000"}},{"$f":"SUM(AB63:AC63)*0.7","v":{"v":47.6,"d":"47.6000"}},{"v":0,"d":"0.0000"},{"$f":"AD63+AE63","v":{"v":47.6,"d":"47.6000"}},{"$f":"AF63*0.05","v":{"v":2.38,"d":"2.3800"}},{"$f":"VLOOKUP(D63,美育!B$2:F$182,5,FALSE)","v":{"v":35,"d":"35.0000"}},{"$f":"VLOOKUP(D63,美育!B$2:E$182,4,FALSE)","v":{"v":0,"d":"0.0000"}},{"$f":"AH63+AI63","v":{"v":35,"d":"35.0000"}},{"$f":"AJ63*0.05","v":{"v":1.75,"d":"1.7500"}},{"$f":"VLOOKUP(D63,劳育基础分!B$3:AF$182,31,FALSE)","v":{"v":41.5,"d":"41.5000"}},{"v":0,"d":"0.0000"},{"$f":"AL63+AM63","v":{"v":41.5,"d":"41.5000"}},{"$f":"AN63*0.05","v":{"v":2.075,"d":"2.0750"}},{"$f":"S63+Y63+AG63+AK63+AO63","v":{"v":65.9863109756097,"d":"65.9863"}},{"$f":"VLOOKUP(D63,必修课优良率!A$1:B$173,2,FALSE)","v":"66.67%"},{"$f":"VLOOKUP(D63,四级成绩!B$2:C$178,2,FALSE)","v":502},{"$f":"VLOOKUP(D63,必修课优良率!A$1:D$173,4,FALSE)","v":"否"}]
[61,95,2024010521,"张蕊",{"$f":"VLOOKUP(D64,美育!B$2:E$182,2,FALSE)","v":"化工类24-3班"},{"$f":"VLOOKUP(D64,互评分!C$2:F$181,4,FALSE)","v":{"v":99.5925925925926,"d":"99.5926"}},{"$f":"VLOOKUP(D64,辅导员加分!B$2:C$176,2,FALSE)","v":{"v":94,"d":"94.0000"}},{"$f":"VLOOKUP(D64,互评分!C$2:F$181,3,FALSE)","v":{"v":100,"d":"100.0000"}},{"$f":"VLOOKUP(D64,互评分!C$2:F$181,2,FALSE)","v":{"v":100,"d":"100.0000"}},{"$f":"F64*0.2","v":{"v":19.9185185185185,"d":"19.9185"}},{"$f":"G64*0.5","v":{"v":47,"d":"47.0000"}},{"$f":"H64*0.2","v":{"v":20,"d":"20.0000"}},{"$f":"I64*0.1","v":{"v":10,"d":"10.0000"}},{"$f":"SUM(J64:M64)*0.7","v":{"v":67.842962962963,"d":"67.8430"}},{"$f":"VLOOKUP(D64,学生干部加分!A$1:C$140,3,FALSE)","v":{"v":8,"d":"8.0000"}},{"v":0,"d":"0.0000"},{"v":0,"d":"0.0000"},{"$f":"N64+O64+P64-Q64","v":{"v":75.842962962963,"d":"75.8430"}},{"$f":"R64*0.15","v":{"v":11.3764444444444,"d":"11.3764"}},{"$f":"VLOOKUP(D64,[1]必修课成绩!C$71:AE$100,29,FALSE)","v":{"v":76.525,"d":"76.5250"}},{"$f":"VLOOKUP(D64,[1]选修课成绩!C$72:AC$101,27,FALSE)","v":{"v":87.66666667,"d":"87.6667"}},{"$f":"IF(U64>0,T64*0.9+U64*0.1,T64)","v":{"v":77.639166667,"d":"77.6392"}},{"v":0,"d":"0.0000"},{"$f":"V64*0.85+W64","v":{"v":65.99329166695,"d":"65.9933"}},{"$f":"0.7*X64","v":{"v":46.195304166865,"d":"46.1953"}},{"$f":"VLOOKUP(D64,体测成绩!B$2:C$273,2,FALSE)","v":{"v":74.6,"d":"74.6000"}},{"$f":"VLOOKUP(D64,体育锻炼成绩!A$2:B$182,2,FALSE)","v":"100.00"},{"$f":"0.8*Z64","v":{"v":59.68,"d":"59.6800"}},{"$f":"AA64*0.2","v":{"v":20,"d":"20.0000"}},{"$f":"SUM(AB64:AC64)*0.7","v":{"v":55.776,"d":"55.7760"}},{"$f":"VLOOKUP(D64,体育加分汇总!A$1:C$79,3,FALSE)","v":{"v":4,"d":"4.0000"}},{"$f":"AD64+AE64","v":{"v":59.776,"d":"59.7760"}},{"$f":"AF64*0.05","v":2.9888},{"$f":"VLOOKUP(D64,美育!B$2:F$182,5,FALSE)","v":{"v":55,"d":"55.0000"}},{"$f":"VLOOKUP(D64,美育!B$2:E$182,4,FALSE)","v":{"v":0,"d":"0.0000"}},{"$f":"AH64+AI64","v":{"v":55,"d":"55.0000"}},{"$f":"AJ64*0.05","v":{"v":2.75,"d":"2.7500"}},{"$f":"VLOOKUP(D64,劳育基础分!B$3:AF$182,31,FALSE)","v":{"v":52,"d":"52.0000"}},{"v":0,"d":"0.0000"},{"$f":"AL64+AM64","v":{"v":52,"d":"52.0000"}},{"$f":"AN64*0.05","v":{"v":2.6,"d":"2.6000"}},{"$f":"S64+Y64+AG64+AK64+AO64","v":{"v":65.9105486113094,"d":"65.9105"}},{"$f":"VLOOKUP(D64,必修课优良率!A$1:B$173,2,FALSE)","v":"61.90%"},{"$f":"VLOOKUP(D64,四级成绩!B$2:C$178,2,FALSE)","v":528},{"$f":"VLOOKUP(D64,必修课优良率!A$1:D$173,4,FALSE)","v":"否"}]
[62,35,"2024010561","刘子炜",{"$f":"VLOOKUP(D65,美育!B$2:E$182,2,FALSE)","v":"化工类24-4班"},{"$f":"VLOOKUP(D65,互评分!C$2:F$181,4,FALSE)","v":{"v":96.28571,"d":"96.2857"}},{"$f":"VLOOKUP(D65,辅导员加分!B$2:C$176,2,FALSE)","v":{"v":92,"d":"92.0000"}},{"$f":"VLOOKUP(D65,互评分!C$2:F$181,3,FALSE)","v":{"v":95.14286,"d":"95.1429"}},{"$f":"VLOOKUP(D65,互评分!C$2:F$181,2,FALSE)","v":{"v":100,"d":"100.0000"}},{"$f":"F65*0.2","v":{"v":19.257142,"d":"19.2571"}},{"$f":"G65*0.5","v":{"v":46,"d":"46.0000"}},{"$f":"H65*0.2","v":{"v":19.028572,"d":"19.0286"}},{"$f":"I65*0.1","v":{"v":10,"d":"10.0000"}},{"$f":"SUM(J65:M65)*0.7","v":{"v":65.9999998,"d":"66.0000"}},{"$f":"VLOOKUP(D65,学生干部加分!A$1:C$140,3,FALSE)","v":{"v":4.5,"d":"4.5000"}},{"v":0,"d":"0.0000"},{"v":0,"d":"0.0000"},{"$f":"N65+O65+P65-Q65","v":{"v":70.4999998,"d":"70.5000"}},{"$f":"R65*0.15","v":{"v":10.57499997,"d":"10.5750"}},{"v":82.7926829268293,"d":"82.7927"},{"v":79.2,"d":"79.2000"},{"$f":"IF(U65>0,T65*0.9+U65*0.1,T65)","v":{"v":82.4334146341464,"d":"82.4334"}},{"$f":"VLOOKUP(D65,智育加分汇总!A$2:C$44,3,FALSE)","v":{"v":0.3,"d":"0.3000"}},{"$f":"V65*0.85+W65","v":{"v":70.3684024390244,"d":"70.3684"}},{"$f":"0.7*X65","v":{"v":49.2578817073171,"d":"49.2579"}},{"$f":"VLOOKUP(D65,体测成绩!B$2:C$273,2,FALSE)","v":{"v":84,"d":"84.0000"}},{"$f":"VLOOKUP(D65,体育锻炼成绩!A$2:B$182,2,FALSE)","v":"100.00"},{"$f":"0.8*Z65","v":{"v":67.2,"d":"67.2000"}},{"$f":"AA65*0.2","v":{"v":20,"d":"20.0000"}},{"$f":"SUM(AB65:AC65)*0.7","v":{"v":61.04,"d":"61.0400"}},{"$f":"VLOOKUP(D65,体育加分汇总!A$1:C$79,3,FALSE)","v":{"v":20,"d":"20.0000"}},{"$f":"AD65+AE65","v":{"v":81.04,"d":"81.0400"}},{"$f":"AF65*0.05","v":{"v":4.052,"d":"4.0520"}},{"$f":"VLOOKUP(D65,美育!B$2:F$182,5,FALSE)","v":{"v":0,"d":"0.0000"}},{"$f":"VLOOKUP(D65,美育!B$2:E$182,4,FALSE)","v":{"v":0,"d":"0.0000"}},{"$f":"AH65+AI65","v":{"v":0,"d":"0.0000"}},{"$f":"AJ65*0.05","v":{"v":0,"d":"0.0000"}},{"$f":"VLOOKUP(D65,劳育基础分!B$3:AF$182,31,FALSE)","v":{"v":40,"d":"40.0000"}},{"v":0,"d":"0.0000"},{"$f":"AL65+AM65","v":{"v":40,"d":"40.0000"}},{"$f":"AN65*0.05","v":{"v":2,"d":"2.0000"}},{"$f":"S65+Y65+AG65+AK65+AO65","v":{"v":65.8848816773171,"d":"65.8849"}},{"$f":"VLOOKUP(D65,必修课优良率!A$1:B$173,2,FALSE)","v":"71.43%"},{"$f":"VLOOKUP(D65,四级成绩!B$2:C$178,2,FALSE)","v":445},{"$f":"VLOOKUP(D65,必修课优良率!A$1:D$173,4,FALSE)","v":"否"}]
[63,139,"2024010466","王南南",{"$f":"VLOOKUP(D66,美育!B$2:E$182,2,FALSE)","v":"化工类24-1班"},{"$f":"VLOOKUP(D66,互评分!C$2:F$181,4,FALSE)","v":{"v":98.55555556,"d":"98.5556"}},{"$f":"VLOOKUP(D66,辅导员加分!B$2:C$176,2,FALSE)","v":{"v":92,"d":"92.0000"}},{"$f":"VLOOKUP(D66,互评分!C$2:F$181,3,FALSE)","v":{"v":100,"d":"100.0000"}},{"$f":"VLOOKUP(D66,互评分!C$2:F$181,2,FALSE)","v":{"v":98,"d":"98.0000"}},{"$f":"F66*0.2","v":{"v":19.711111112,"d":"19.7111"}},{"$f":"G66*0.5","v":{"v":46,"d":"46.0000"}},{"$f":"H66*0.2","v":{"v":20,"d":"20.0000"}},{"$f":"I66*0.1","v":{"v":9.8,"d":"9.8000"}},{"$f":"SUM(J66:M66)*0.7","v":{"v":66.8577777784,"d":"66.8578"}},{"$f":"VLOOKUP(D66,学生干部加分!A$1:C$140,3,FALSE)","v":{"v":8,"d":"8.0000"}},{"v":0,"d":"0.0000"},{"v":0,"d":"0.0000"},{"$f":"N66+O66+P66-Q66","v":{"v":74.8577777784,"d":"74.8578"}},{"$f":"R66*0.15","v":{"v":11.22866666676,"d":"11.2287"}},{"v":72.5641025641026,"d":"72.5641"},{"v":87.3333333333333,"d":"87.3333"},{"$f":"IF(U66>0,T66*0.9+U66*0.1,T66)","v":{"v":74.0410256410257,"d":"74.0410"}},{"$f":"VLOOKUP(D66,智育加分汇总!A$2:C$44,3,FALSE)","v":{"v":3,"d":"3.0000"}},{"$f":"V66*0.85+W66","v":{"v":65.9348717948718,"d":"65.9349"}},{"$f":"0.7*X66","v":{"v":46.1544102564103,"d":"46.1544"}},{"$f":"VLOOKUP(D66,体测成绩!B$2:C$273,2,FALSE)","v":{"v":60,"d":"60.0000"}},{"$f":"VLOOKUP(D66,体育锻炼成绩!A$2:B$182,2,FALSE)","v":"100.00"},{"$f":"0.8*Z66","v":{"v":48,"d":"48.0000"}},{"$f":"AA66*0.2","v":{"v":20,"d":"20.0000"}},{"$f":"SUM(AB66:AC66)*0.7","v":{"v":47.6,"d":"47.6000"}},{"$f":"VLOOKUP(D66,体育加分汇总!A$1:C$79,3,FALSE)","v":{"v":8,"d":"8.0000"}},{"$f":"AD66+AE66","v":{"v":55.6,"d":"55.6000"}},{"$f":"AF66*0.05","v":{"v":2.78,"d":"2.7800"}},{"$f":"VLOOKUP(D66,美育!B$2:F$182,5,FALSE)","v":{"v":70,"d":"70.0000"}},{"$f":"VLOOKUP(D66,美育!B$2:E$182,4,FALSE)","v":{"v":0,"d":"0.0000"}},{"$f":"AH66+AI66","v":{"v":70,"d":"70.0000"}},{"$f":"AJ66*0.05","v":{"v":3.5,"d":"3.5000"}},{"$f":"VLOOKUP(D66,劳育基础分!B$3:AF$182,31,FALSE)","v":{"v":40,"d":"40.0000"}},{"$f":"VLOOKUP(D66,劳育加分!A$3:I$34,9,FALSE)","v":{"v":4,"d":"4.0000"}},{"$f":"AL66+AM66","v":{"v":44,"d":"44.0000"}},{"$f":"AN66*0.05","v":{"v":2.2,"d":"2.2000"}},{"$f":"S66+Y66+AG66+AK66+AO66","v":{"v":65.8630769231703,"d":"65.8631"}},{"$f":"VLOOKUP(D66,必修课优良率!A$1:B$173,2,FALSE)","v":"57.89%"},{"$f":"VLOOKUP(D66,四级成绩!B$2:C$178,2,FALSE)","v":515},{"$f":"VLOOKUP(D66,必修课优良率!A$1:D$173,4,FALSE)","v":"是"}]
[64,44,"2024010619","孔德烨",{"$f":"VLOOKUP(D67,美育!B$2:E$182,2,FALSE)","v":"化工类24-6班"},{"$f":"VLOOKUP(D67,互评分!C$2:F$181,4,FALSE)","v":{"v":98.4615384615385,"d":"98.4615"}},{"$f":"VLOOKUP(D67,辅导员加分!B$2:C$176,2,FALSE)","v":{"v":92,"d":"92.0000"}},{"$f":"VLOOKUP(D67,互评分!C$2:F$181,3,FALSE)","v":{"v":100,"d":"100.0000"}},{"$f":"VLOOKUP(D67,互评分!C$2:F$181,2,FALSE)","v":{"v":100,"d":"100.0000"}},{"$f":"F67*0.2","v":{"v":19.6923076923077,"d":"19.6923"}},{"$f":"G67*0.5","v":{"v":46,"d":"46.0000"}},{"$f":"H67*0.2","v":{"v":20,"d":"20.0000"}},{"$f":"I67*0.1","v":{"v":10,"d":"10.0000"}},{"$f":"SUM(J67:M67)*0.7","v":{"v":66.9846153846154,"d":"66.9846"}},{"v":0,"d":"0.0000"},{"v":0,"d":"0.0000"},{"v":0,"d":"0.0000"},{"$f":"N67+O67+P67-Q67","v":{"v":66.9846153846154,"d":"66.9846"}},{"$f":"R67*0.15","v":{"v":10.0476923076923,"d":"10.0477"}},{"v":82.0609756097561,"d":"82.0610"},{"v":0,"d":"0.0000"},{"$f":"IF(U67>0,T67*0.9+U67*0.1,T67)","v":{"v":82.0609756097561,"d":"82.0610"}},{"v":0,"d":"0.0000"},{"$f":"V67*0.85+W67","v":{"v":69.7518292682927,"d":"69.7518"}},{"$f":"0.7*X67","v":{"v":48.8262804878049,"d":"48.8263"}},{"$f":"VLOOKUP(D67,体测成绩!B$2:C$273,2,FALSE)","v":{"v":71.2,"d":"71.2000"}},{"$f":"VLOOKUP(D67,体育锻炼成绩!A$2:B$182,2,FALSE)","v":"100.00"},{"$f":"0.8*Z67","v":{"v":56.96,"d":"56.9600"}},{"$f":"AA67*0.2","v":{"v":20,"d":"20.0000"}},{"$f":"SUM(AB67:AC67)*0.7","v":{"v":53.872,"d":"53.8720"}},{"v":0,"d":"0.0000"},{"$f":"AD67+AE67","v":{"v":53.872,"d":"53.8720"}},{"$f":"AF67*0.05","v":2.6936},{"$f":"VLOOKUP(D67,美育!B$2:F$182,5,FALSE)","v":{"v":60,"d":"60.0000"}},{"$f":"VLOOKUP(D67,美育!B$2:E$182,4,FALSE)","v":{"v":0,"d":"0.0000"}},{"$f":"AH67+AI67","v":{"v":60,"d":"60.0000"}},{"$f":"AJ67*0.05","v":{"v":3,"d":"3.0000"}},{"$f":"VLOOKUP(D67,劳育基础分!B$3:AF$182,31,FALSE)","v":{"v":24,"d":"24.0000"}},{"v":0,"d":"0.0000"},{"$f":"AL67+AM67","v":{"v":24,"d":"24.0000"}},{"$f":"AN67*0.05","v":{"v":1.2,"d":"1.2000"}},{"$f":"S67+Y67+AG67+AK67+AO67","v":{"v":65.7675727954972,"d":"65.7676"}},{"$f":"VLOOKUP(D67,必修课优良率!A$1:B$173,2,FALSE)","v":"71.43%"},{"$f":"VLOOKUP(D67,四级成绩!B$2:C$178,2,FALSE)","v":"497"},{"$f":"VLOOKUP(D67,必修课优良率!A$1:D$173,4,FALSE)","v":"否"}]
[65,73,2024010620,"杨磊",{"$f":"VLOOKUP(D68,美育!B$2:E$182,2,FALSE)","v":"化工类24-6班"},{"$f":"VLOOKUP(D68,互评分!C$2:F$181,4,FALSE)","v":{"v":98.4615384615385,"d":"98.4615"}},{"$f":"VLOOKUP(D68,辅导员加分!B$2:C$176,2,FALSE)","v":{"v":92,"d":"92.0000"}},{"$f":"VLOOKUP(D68,互评分!C$2:F$181,3,FALSE)","v":{"v":100,"d":"100.0000"}},{"$f":"VLOOKUP(D68,互评分!C$2:F$181,2,FALSE)","v":{"v":100,"d":"100.0000"}},{"$f":"F68*0.2","v":{"v":19.6923076923077,"d":"19.6923"}},{"$f":"G68*0.5","v":{"v":46,"d":"46.0000"}},{"$f":"H68*0.2","v":{"v":20,"d":"20.0000"}},{"$f":"I68*0.1","v":{"v":10,"d":"10.0000"}},{"$f":"SUM(J68:M68)*0.7","v":{"v":66.9846153846154,"d":"66.9846"}},{"$f":"VLOOKUP(D68,学生干部加分!A$1:C$140,3,FALSE)","v":{"v":3.5,"d":"3.5000"}},{"v":0,"d":"0.0000"},{"v":0,"d":"0.0000"},{"$f":"N68+O68+P68-Q68","v":{"v":70.4846153846154,"d":"70.4846"}},{"$f":"R68*0.15","v":{"v":10.5726923076923,"d":"10.5727"}},{"v":78.88,"d":"78.8800"},{"v":89,"d":"89.0000"},{"$f":"IF(U68>0,T68*0.9+U68*0.1,T68)","v":{"v":79.892,"d":"79.8920"}},{"v":0,"d":"0.0000"},{"$f":"V68*0.85+W68","v":67.9082},{"$f":"0.7*X68","v":{"v":47.53574,"d":"47.5357"}},{"$f":"VLOOKUP(D68,体测成绩!B$2:C$273,2,FALSE)","v":{"v":77.8,"d":"77.8000"}},{"$f":"VLOOKUP(D68,体育锻炼成绩!A$2:B$182,2,FALSE)","v":"100.00"},{"$f":"0.8*Z68","v":{"v":62.24,"d":"62.2400"}},{"$f":"AA68*0.2","v":{"v":20,"d":"20.0000"}},{"$f":"SUM(AB68:AC68)*0.7","v":{"v":57.568,"d":"57.5680"}},{"$f":"VLOOKUP(D68,体育加分汇总!A$1:C$79,3,FALSE)","v":{"v":14,"d":"14.0000"}},{"$f":"AD68+AE68","v":{"v":71.568,"d":"71.5680"}},{"$f":"AF68*0.05","v":3.5784},{"$f":"VLOOKUP(D68,美育!B$2:F$182,5,FALSE)","v":{"v":40,"d":"40.0000"}},{"$f":"VLOOKUP(D68,美育!B$2:E$182,4,FALSE)","v":{"v":0,"d":"0.0000"}},{"$f":"AH68+AI68","v":{"v":40,"d":"40.0000"}},{"$f":"AJ68*0.05","v":{"v":2,"d":"2.0000"}},{"$f":"VLOOKUP(D68,劳育基础分!B$3:AF$182,31,FALSE)","v":{"v":40,"d":"40.0000"}},{"v":0,"d":"0.0000"},{"$f":"AL68+AM68","v":{"v":40,"d":"40.0000"}},{"$f":"AN68*0.05","v":{"v":2,"d":"2.0000"}},{"$f":"S68+Y68+AG68+AK68+AO68","v":{"v":65.6868323076923,"d":"65.6868"}},{"v":0.7,"d":"70.0000%"},{"$f":"VLOOKUP(D68,四级成绩!B$2:C$178,2,FALSE)","v":474},"否"]
[66,115,2024010614,"闫乙昕",{"$f":"VLOOKUP(D69,美育!B$2:E$182,2,FALSE)","v":"化工类24-6班"},{"$f":"VLOOKUP(D69,互评分!C$2:F$181,4,FALSE)","v":{"v":96.9615384615385,"d":"96.9615"}},{"$f":"VLOOKUP(D69,辅导员加分!B$2:C$176,2,FALSE)","v":{"v":94,"d":"94.0000"}},{"$f":"VLOOKUP(D69,互评分!C$2:F$181,3,FALSE)","v":{"v":100,"d":"100.0000"}},{"$f":"VLOOKUP(D69,互评分!C$2:F$181,2,FALSE)","v":{"v":100,"d":"100.0000"}},{"$f":"F69*0.2","v":{"v":19.3923076923077,"d":"19.3923"}},{"$f":"G69*0.5","v":{"v":47,"d":"47.0000"}},{"$f":"H69*0.2","v":{"v":20,"d":"20.0000"}},{"$f":"I69*0.1","v":{"v":10,"d":"10.0000"}},{"$f":"SUM(J69:M69)*0.7","v":{"v":67.4746153846154,"d":"67.4746"}},{"$f":"VLOOKUP(D69,学生干部加分!A$1:C$140,3,FALSE)","v":{"v":6,"d":"6.0000"}},{"v":0,"d":"0.0000"},{"v":0,"d":"0.0000"},{"$f":"N69+O69+P69-Q69","v":{"v":73.4746153846154,"d":"73.4746"}},{"$f":"R69*0.15","v":{"v":11.0211923076923,"d":"11.0212"}},{"$f":"VLOOKUP(D69,[1]必修课成绩!C$71:AE$100,29,FALSE)","v":74.6125},{"$f":"VLOOKUP(D69,[1]选修课成绩!C$72:AC$101,27,FALSE)","v":{"v":70,"d":"70.0000"}},{"$f":"IF(U69>0,T69*0.9+U69*0.1,T69)","v":{"v":74.15125,"d":"74.1513"}},{"$f":"VLOOKUP(D69,智育加分汇总!A$2:C$44,3,FALSE)","v":{"v":4.5,"d":"4.5000"}},{"$f":"V69*0.85+W69","v":{"v":67.5285625,"d":"67.5286"}},{"$f":"0.7*X69","v":{"v":47.26999375,"d":"47.2700"}},{"$f":"VLOOKUP(D69,体测成绩!B$2:C$273,2,FALSE)","v":{"v":73.5,"d":"73.5000"}},{"$f":"VLOOKUP(D69,体育锻炼成绩!A$2:B$182,2,FALSE)","v":"100.00"},{"$f":"0.8*Z69","v":{"v":58.8,"d":"58.8000"}},{"$f":"AA69*0.2","v":{"v":20,"d":"20.0000"}},{"$f":"SUM(AB69:AC69)*0.7","v":{"v":55.16,"d":"55.1600"}},{"$f":"VLOOKUP(D69,体育加分汇总!A$1:C$79,3,FALSE)","v":{"v":0,"d":"0.0000"}},{"$f":"AD69+AE69","v":{"v":55.16,"d":"55.1600"}},{"$f":"AF69*0.05","v":{"v":2.758,"d":"2.7580"}},{"$f":"VLOOKUP(D69,美育!B$2:F$182,5,FALSE)","v":{"v":40,"d":"40.0000"}},{"$f":"VLOOKUP(D69,美育!B$2:E$182,4,FALSE)","v":{"v":4,"d":"4.0000"}},{"$f":"AH69+AI69","v":{"v":44,"d":"44.0000"}},{"$f":"AJ69*0.05","v":{"v":2.2,"d":"2.2000"}},{"$f":"VLOOKUP(D69,劳育基础分!B$3:AF$182,31,FALSE)","v":{"v":40,"d":"40.0000"}},{"$f":"VLOOKUP(D69,劳育加分!A$3:I$34,9,FALSE)","v":{"v":4,"d":"4.0000"}},{"$f":"AL69+AM69","v":{"v":44,"d":"44.0000"}},{"$f":"AN69*0.05","v":{"v":2.2,"d":"2.2000"}},{"$f":"S69+Y69+AG69+AK69+AO69","v":{"v":65.4491860576923,"d":"65.4492"}},{"$f":"VLOOKUP(D69,必修课优良率!A$1:B$173,2,FALSE)","v":"71.43%"},{"$f":"VLOOKUP(D69,四级成绩!B$2:C$178,2,FALSE)","v":438},{"$f":"VLOOKUP(D69,必修课优良率!A$1:D$173,4,FALSE)","v":"否"}]
[67,56,"2024010552","胡语轩",{"$f":"VLOOKUP(D70,美育!B$2:E$182,2,FALSE)","v":"化工类24-4班"},{"$f":"VLOOKUP(D70,互评分!C$2:F$181,4,FALSE)","v":96.6429},{"$f":"VLOOKUP(D70,辅导员加分!B$2:C$176,2,FALSE)","v":{"v":94,"d":"94.0000"}},{"$f":"VLOOKUP(D70,互评分!C$2:F$181,3,FALSE)","v":{"v":98.42857,"d":"98.4286"}},{"$f":"VLOOKUP(D70,互评分!C$2:F$181,2,FALSE)","v":{"v":100,"d":"100.0000"}},{"$f":"F70*0.2","v":{"v":19.32858,"d":"19.3286"}},{"$f":"G70*0.5","v":{"v":47,"d":"47.0000"}},{"$f":"H70*0.2","v":{"v":19.685714,"d":"19.6857"}},{"$f":"I70*0.1","v":{"v":10,"d":"10.0000"}},{"$f":"SUM(J70:M70)*0.7","v":{"v":67.2100058,"d":"67.2100"}},{"$f":"VLOOKUP(D70,学生干部加分!A$1:C$140,3,FALSE)","v":{"v":4,"d":"4.0000"}},{"v":0,"d":"0.0000"},{"v":0,"d":"0.0000"},{"$f":"N70+O70+P70-Q70","v":{"v":71.2100058,"d":"71.2100"}},{"$f":"R70*0.15","v":{"v":10.68150087,"d":"10.6815"}},{"v":80.7317073170732,"d":"80.7317"},{"v":78.5,"d":"78.5000"},{"$f":"IF(U70>0,T70*0.9+U70*0.1,T70)","v":{"v":80.5085365853659,"d":"80.5085"}},{"v":0,"d":"0.0000"},{"$f":"V70*0.85+W70","v":{"v":68.432256097561,"d":"68.4323"}},{"$f":"0.7*X70","v":{"v":47.9025792682927,"d":"47.9026"}},{"$f":"VLOOKUP(D70,体测成绩!B$2:C$273,2,FALSE)","v":{"v":70,"d":"70.0000"}},{"$f":"VLOOKUP(D70,体育锻炼成绩!A$2:B$182,2,FALSE)","v":"100.00"},{"$f":"0.8*Z70","v":{"v":56,"d":"56.0000"}},{"$f":"AA70*0.2","v":{"v":20,"d":"20.0000"}},{"$f":"SUM(AB70:AC70)*0.7","v":{"v":53.2,"d":"53.2000"}},{"v":0,"d":"0.0000"},{"$f":"AD70+AE70","v":{"v":53.2,"d":"53.2000"}},{"$f":"AF70*0.05","v":{"v":2.66,"d":"2.6600"}},{"$f":"VLOOKUP(D70,美育!B$2:F$182,5,FALSE)","v":{"v":40,"d":"40.0000"}},{"$f":"VLOOKUP(D70,美育!B$2:E$182,4,FALSE)","v":{"v":0,"d":"0.0000"}},{"$f":"AH70+AI70","v":{"v":40,"d":"40.0000"}},{"$f":"AJ70*0.05","v":{"v":2,"d":"2.0000"}},{"$f":"VLOOKUP(D70,劳育基础分!B$3:AF$182,31,FALSE)","v":{"v":40,"d":"40.0000"}},{"v":0,"d":"0.0000"},{"$f":"AL70+AM70","v":{"v":40,"d":"40.0000"}},{"$f":"AN70*0.05","v":{"v":2,"d":"2.0000"}},{"$f":"S70+Y70+AG70+AK70+AO70","v":{"v":65.2440801382927,"d":"65.2441"}},{"$f":"VLOOKUP(D70,必修课优良率!A$1:B$173,2,FALSE)","v":"66.67%"},{"$f":"VLOOKUP(D70,四级成绩!B$2:C$178,2,FALSE)","v":548},{"$f":"VLOOKUP(D70,必修课优良率!A$1:D$173,4,FALSE)","v":"否"}]
[68,98,"2024010627","王笑睿",{"$f":"VLOOKUP(D71,美育!B$2:E$182,2,FALSE)","v":"化工类24-6班"},{"$f":"VLOOKUP(D71,互评分!C$2:F$181,4,FALSE)","v":{"v":98.4615384615385,"d":"98.4615"}},{"$f":"VLOOKUP(D71,辅导员加分!B$2:C$176,2,FALSE)","v":{"v":92,"d":"92.0000"}},{"$f":"VLOOKUP(D71,互评分!C$2:F$181,3,FALSE)","v":{"v":100,"d":"100.0000"}},{"$f":"VLOOKUP(D71,互评分!C$2:F$181,2,FALSE)","v":{"v":100,"d":"100.0000"}},{"$f":"F71*0.2","v":{"v":19.6923076923077,"d":"19.6923"}},{"$f":"G71*0.5","v":{"v":46,"d":"46.0000"}},{"$f":"H71*0.2","v":{"v":20,"d":"20.0000"}},{"$f":"I71*0.1","v":{"v":10,"d":"10.0000"}},{"$f":"SUM(J71:M71)*0.7","v":{"v":66.9846153846154,"d":"66.9846"}},{"$f":"VLOOKUP(D71,学生干部加分!A$1:C$140,3,FALSE)","v":{"v":7.8,"d":"7.8000"}},{"v":0,"d":"0.0000"},{"v":0,"d":"0.0000"},{"$f":"N71+O71+P71-Q71","v":{"v":74.7846153846154,"d":"74.7846"}},{"$f":"R71*0.15","v":{"v":11.2176923076923,"d":"11.2177"}},{"v":76.2682926829268,"d":"76.2683"},{"v":86,"d":"86.0000"},{"$f":"IF(U71>0,T71*0.9+U71*0.1,T71)","v":{"v":77.2414634146341,"d":"77.2415"}},{"$f":"VLOOKUP(D71,智育加分汇总!A$2:C$44,3,FALSE)","v":4.1667},{"$f":"V71*0.85+W71","v":{"v":69.821943902439,"d":"69.8219"}},{"$f":"0.7*X71","v":{"v":48.8753607317073,"d":"48.8754"}},{"$f":"VLOOKUP(D71,体测成绩!B$2:C$273,2,FALSE)","v":{"v":60.7,"d":"60.7000"}},{"$f":"VLOOKUP(D71,体育锻炼成绩!A$2:B$182,2,FALSE)","v":"100.00"},{"$f":"0.8*Z71","v":{"v":48.56,"d":"48.5600"}},{"$f":"AA71*0.2","v":{"v":20,"d":"20.0000"}},{"$f":"SUM(AB71:AC71)*0.7","v":{"v":47.992,"d":"47.9920"}},{"$f":"VLOOKUP(D71,体育加分汇总!A$1:C$79,3,FALSE)","v":{"v":0,"d":"0.0000"}},{"$f":"AD71+AE71","v":{"v":47.992,"d":"47.9920"}},{"$f":"AF71*0.05","v":2.3996},{"$f":"VLOOKUP(D71,美育!B$2:F$182,5,FALSE)","v":{"v":9,"d":"9.0000"}},{"$f":"VLOOKUP(D71,美育!B$2:E$182,4,FALSE)","v":{"v":0,"d":"0.0000"}},{"$f":"AH71+AI71","v":{"v":9,"d":"9.0000"}},{"$f":"AJ71*0.05","v":{"v":0.45,"d":"0.4500"}},{"$f":"VLOOKUP(D71,劳育基础分!B$3:AF$182,31,FALSE)","v":{"v":40,"d":"40.0000"}},{"v":0,"d":"0.0000"},{"$f":"AL71+AM71","v":{"v":40,"d":"40.0000"}},{"$f":"AN71*0.05","v":{"v":2,"d":"2.0000"}},{"$f":"S71+Y71+AG71+AK71+AO71","v":{"v":64.9426530393996,"d":"64.9427"}},{"$f":"VLOOKUP(D71,必修课优良率!A$1:B$173,2,FALSE)","v":"52.38%"},{"$f":"VLOOKUP(D71,四级成绩!B$2:C$178,2,FALSE)","v":"457"},{"$f":"VLOOKUP(D71,必修课优良率!A$1:D$173,4,FALSE)","v":"否"}]
[69,43,"2024010598","张子木",{"$f":"VLOOKUP(D72,美育!B$2:E$182,2,FALSE)","v":"化工类24-5班"},{"$f":"VLOOKUP(D72,互评分!C$2:F$181,4,FALSE)","v":{"v":99.7407407407407,"d":"99.7407"}},{"$f":"VLOOKUP(D72,辅导员加分!B$2:C$176,2,FALSE)","v":{"v":92,"d":"92.0000"}},{"$f":"VLOOKUP(D72,互评分!C$2:F$181,3,FALSE)","v":{"v":100,"d":"100.0000"}},{"$f":"VLOOKUP(D72,互评分!C$2:F$181,2,FALSE)","v":{"v":90,"d":"90.0000"}},{"$f":"F72*0.2","v":{"v":19.9481481481481,"d":"19.9481"}},{"$f":"G72*0.5","v":{"v":46,"d":"46.0000"}},{"$f":"H72*0.2","v":{"v":20,"d":"20.0000"}},{"$f":"I72*0.1","v":{"v":9,"d":"9.0000"}},{"$f":"SUM(J72:M72)*0.7","v":{"v":66.4637037037037,"d":"66.4637"}},{"v":0,"d":"0.0000"},{"v":0,"d":"0.0000"},{"v":0,"d":"0.0000"},{"$f":"N72+O72+P72-Q72","v":{"v":66.4637037037037,"d":"66.4637"}},{"$f":"R72*0.15","v":{"v":9.96955555555555,"d":"9.9696"}},{"v":82.109756097561,"d":"82.1098"},{"v":80.6666666666667,"d":"80.6667"},{"$f":"IF(U72>0,T72*0.9+U72*0.1,T72)","v":{"v":81.9654471544716,"d":"81.9654"}},{"v":0,"d":"0.0000"},{"$f":"V72*0.85+W72","v":{"v":69.6706300813008,"d":"69.6706"}},{"$f":"0.7*X72","v":{"v":48.7694410569106,"d":"48.7694"}},{"$f":"VLOOKUP(D72,体测成绩!B$2:C$273,2,FALSE)","v":{"v":63.6,"d":"63.6000"}},{"$f":"VLOOKUP(D72,体育锻炼成绩!A$2:B$182,2,FALSE)","v":"100.00"},{"$f":"0.8*Z72","v":{"v":50.88,"d":"50.8800"}},{"$f":"AA72*0.2","v":{"v":20,"d":"20.0000"}},{"$f":"SUM(AB72:AC72)*0.7","v":{"v":49.616,"d":"49.6160"}},{"v":0,"d":"0.0000"},{"$f":"AD72+AE72","v":{"v":49.616,"d":"49.6160"}},{"$f":"AF72*0.05","v":2.4808},{"$f":"VLOOKUP(D72,美育!B$2:F$182,5,FALSE)","v":{"v":30,"d":"30.0000"}},{"$f":"VLOOKUP(D72,美育!B$2:E$182,4,FALSE)","v":{"v":0,"d":"0.0000"}},{"$f":"AH72+AI72","v":{"v":30,"d":"30.0000"}},{"$f":"AJ72*0.05","v":{"v":1.5,"d":"1.5000"}},{"$f":"VLOOKUP(D72,劳育基础分!B$3:AF$182,31,FALSE)","v":{"v":44,"d":"44.0000"}},{"v":0,"d":"0.0000"},{"$f":"AL72+AM72","v":{"v":44,"d":"44.0000"}},{"$f":"AN72*0.05","v":{"v":2.2,"d":"2.2000"}},{"$f":"S72+Y72+AG72+AK72+AO72","v":{"v":64.9197966124661,"d":"64.9198"}},{"$f":"VLOOKUP(D72,必修课优良率!A$1:B$173,2,FALSE)","v":"71.43%"},{"$f":"VLOOKUP(D72,四级成绩!B$2:C$178,2,FALSE)","v":443},{"$f":"VLOOKUP(D72,必修课优良率!A$1:D$173,4,FALSE)","v":"否"}]
[70,62,"2024010589","水源",{"$f":"VLOOKUP(D73,美育!B$2:E$182,2,FALSE)","v":"化工类24-5班"},{"$f":"VLOOKUP(D73,互评分!C$2:F$181,4,FALSE)","v":{"v":99.6666666666667,"d":"99.6667"}},{"$f":"VLOOKUP(D73,辅导员加分!B$2:C$176,2,FALSE)","v":{"v":92,"d":"92.0000"}},{"$f":"VLOOKUP(D73,互评分!C$2:F$181,3,FALSE)","v":{"v":100,"d":"100.0000"}},{"$f":"VLOOKUP(D73,互评分!C$2:F$181,2,FALSE)","v":{"v":90,"d":"90.0000"}},{"$f":"F73*0.2","v":{"v":19.9333333333333,"d":"19.9333"}},{"$f":"G73*0.5","v":{"v":46,"d":"46.0000"}},{"$f":"H73*0.2","v":{"v":20,"d":"20.0000"}},{"$f":"I73*0.1","v":{"v":9,"d":"9.0000"}},{"$f":"SUM(J73:M73)*0.7","v":{"v":66.4533333333333,"d":"66.4533"}},{"$f":"VLOOKUP(D73,学生干部加分!A$1:C$140,3,FALSE)","v":{"v":3,"d":"3.0000"}},{"v":0,"d":"0.0000"},{"v":0,"d":"0.0000"},{"$f":"N73+O73+P73-Q73","v":{"v":69.4533333333333,"d":"69.4533"}},{"$f":"R73*0.15","v":{"v":10.418,"d":"10.4180"}},{"v":79.6666666666667,"d":"79.6667"},{"v":91,"d":"91.0000"},{"$f":"IF(U73>0,T73*0.9+U73*0.1,T73)","v":{"v":80.8,"d":"80.8000"}},{"v":0,"d":"0.0000"},{"$f":"V73*0.85+W73","v":{"v":68.68,"d":"68.6800"}},{"$f":"0.7*X73","v":{"v":48.076,"d":"48.0760"}},{"$f":"VLOOKUP(D73,体测成绩!B$2:C$273,2,FALSE)","v":{"v":65.8,"d":"65.8000"}},{"$f":"VLOOKUP(D73,体育锻炼成绩!A$2:B$182,2,FALSE)","v":"100.00"},{"$f":"0.8*Z73","v":{"v":52.64,"d":"52.6400"}},{"$f":"AA73*0.2","v":{"v":20,"d":"20.0000"}},{"$f":"SUM(AB73:AC73)*0.7","v":{"v":50.848,"d":"50.8480"}},{"$f":"VLOOKUP(D73,体育加分汇总!A$1:C$79,3,FALSE)","v":{"v":2,"d":"2.0000"}},{"$f":"AD73+AE73","v":{"v":52.848,"d":"52.8480"}},{"$f":"AF73*0.05","v":2.6424},{"$f":"VLOOKUP(D73,美育!B$2:F$182,5,FALSE)","v":{"v":38,"d":"38.0000"}},{"$f":"VLOOKUP(D73,美育!B$2:E$182,4,FALSE)","v":{"v":0,"d":"0.0000"}},{"$f":"AH73+AI73","v":{"v":38,"d":"38.0000"}},{"$f":"AJ73*0.05","v":{"v":1.9,"d":"1.9000"}},{"$f":"VLOOKUP(D73,劳育基础分!B$3:AF$182,31,FALSE)","v":{"v":37,"d":"37.0000"}},{"v":0,"d":"0.0000"},{"$f":"AL73+AM73","v":{"v":37,"d":"37.0000"}},{"$f":"AN73*0.05","v":{"v":1.85,"d":"1.8500"}},{"$f":"S73+Y73+AG73+AK73+AO73","v":64.8864},{"$f":"VLOOKUP(D73,必修课优良率!A$1:B$173,2,FALSE)","v":"71.43%"},{"$f":"VLOOKUP(D73,四级成绩!B$2:C$178,2,FALSE)","v":507},{"$f":"VLOOKUP(D73,必修课优良率!A$1:D$173,4,FALSE)","v":"否"}]
[71,60,"2024010499","李耀初",{"$f":"VLOOKUP(D74,美育!B$2:E$182,2,FALSE)","v":"化工类24-2班"},{"$f":"VLOOKUP(D74,互评分!C$2:F$181,4,FALSE)","v":{"v":97.5714285714286,"d":"97.5714"}},{"$f":"VLOOKUP(D74,辅导员加分!B$2:C$176,2,FALSE)","v":{"v":94,"d":"94.0000"}},{"$f":"VLOOKUP(D74,互评分!C$2:F$181,3,FALSE)","v":{"v":100,"d":"100.0000"}},{"$f":"VLOOKUP(D74,互评分!C$2:F$181,2,FALSE)","v":{"v":94,"d":"94.0000"}},{"$f":"F74*0.2","v":{"v":19.5142857142857,"d":"19.5143"}},{"$f":"G74*0.5","v":{"v":47,"d":"47.0000"}},{"$f":"H74*0.2","v":{"v":20,"d":"20.0000"}},{"$f":"I74*0.1","v":{"v":9.4,"d":"9.4000"}},{"$f":"SUM(J74:M74)*0.7","v":{"v":67.14,"d":"67.1400"}},{"$f":"VLOOKUP(D74,学生干部加分!A$1:C$140,3,FALSE)","v":{"v":5,"d":"5.0000"}},{"v":0,"d":"0.0000"},{"v":0,"d":"0.0000"},{"$f":"N74+O74+P74-Q74","v":{"v":72.14,"d":"72.1400"}},{"$f":"R74*0.15","v":{"v":10.821,"d":"10.8210"}},{"v":79.9634146341463,"d":"79.9634"},{"v":0,"d":"0.0000"},{"$f":"IF(U74>0,T74*0.9+U74*0.1,T74)","v":{"v":79.9634146341463,"d":"79.9634"}},{"v":0,"d":"0.0000"},{"$f":"V74*0.85+W74","v":{"v":67.9689024390244,"d":"67.9689"}},{"$f":"0.7*X74","v":{"v":47.5782317073171,"d":"47.5782"}},{"$f":"VLOOKUP(D74,体测成绩!B$2:C$273,2,FALSE)","v":{"v":75.4,"d":"75.4000"}},{"$f":"VLOOKUP(D74,体育锻炼成绩!A$2:B$182,2,FALSE)","v":"100.00"},{"$f":"0.8*Z74","v":{"v":60.32,"d":"60.3200"}},{"$f":"AA74*0.2","v":{"v":20,"d":"20.0000"}},{"$f":"SUM(AB74:AC74)*0.7","v":{"v":56.224,"d":"56.2240"}},{"$f":"VLOOKUP(D74,体育加分汇总!A$1:C$79,3,FALSE)","v":{"v":27,"d":"27.0000"}},{"$f":"AD74+AE74","v":{"v":83.224,"d":"83.2240"}},{"$f":"AF74*0.05","v":4.1612},{"$f":"VLOOKUP(D74,美育!B$2:F$182,5,FALSE)","v":{"v":5,"d":"5.0000"}},{"$f":"VLOOKUP(D74,美育!B$2:E$182,4,FALSE)","v":{"v":0,"d":"0.0000"}},{"$f":"AH74+AI74","v":{"v":5,"d":"5.0000"}},{"$f":"AJ74*0.05","v":{"v":0.25,"d":"0.2500"}},{"$f":"VLOOKUP(D74,劳育基础分!B$3:AF$182,31,FALSE)","v":{"v":40,"d":"40.0000"}},{"v":0,"d":"0.0000"},{"$f":"AL74+AM74","v":{"v":40,"d":"40.0000"}},{"$f":"AN74*0.05","v":{"v":2,"d":"2.0000"}},{"$f":"S74+Y74+AG74+AK74+AO74","v":{"v":64.8104317073171,"d":"64.8104"}},{"$f":"VLOOKUP(D74,必修课优良率!A$1:B$173,2,FALSE)","v":"57.14%"},{"$f":"VLOOKUP(D74,四级成绩!B$2:C$178,2,FALSE)","v":"471"},{"$f":"VLOOKUP(D74,必修课优良率!A$1:D$173,4,FALSE)","v":"是"}]
[72,49,2024010609,"王晓娜",{"$f":"VLOOKUP(D75,美育!B$2:E$182,2,FALSE)","v":"化工类24-6班"},{"$f":"VLOOKUP(D75,互评分!C$2:F$181,4,FALSE)","v":{"v":98.8461538461538,"d":"98.8462"}},{"$f":"VLOOKUP(D75,辅导员加分!B$2:C$176,2,FALSE)","v":{"v":92,"d":"92.0000"}},{"$f":"VLOOKUP(D75,互评分!C$2:F$181,3,FALSE)","v":{"v":100,"d":"100.0000"}},{"$f":"VLOOKUP(D75,互评分!C$2:F$181,2,FALSE)","v":{"v":100,"d":"100.0000"}},{"$f":"F75*0.2","v":{"v":19.7692307692308,"d":"19.7692"}},{"$f":"G75*0.5","v":{"v":46,"d":"46.0000"}},{"$f":"H75*0.2","v":{"v":20,"d":"20.0000"}},{"$f":"I75*0.1","v":{"v":10,"d":"10.0000"}},{"$f":"SUM(J75:M75)*0.7","v":{"v":67.0384615384615,"d":"67.0385"}},{"v":0,"d":"0.0000"},{"v":0,"d":"0.0000"},{"v":0,"d":"0.0000"},{"$f":"N75+O75+P75-Q75","v":{"v":67.0384615384615,"d":"67.0385"}},{"$f":"R75*0.15","v":{"v":10.0557692307692,"d":"10.0558"}},{"v":81.2658227848101,"d":"81.2658"},{"v":86.2,"d":"86.2000"},{"$f":"IF(U75>0,T75*0.9+U75*0.1,T75)","v":{"v":81.7592405063291,"d":"81.7592"}},{"v":0,"d":"0.0000"},{"$f":"V75*0.85+W75","v":{"v":69.4953544303797,"d":"69.4954"}},{"$f":"0.7*X75","v":{"v":48.6467481012658,"d":"48.6467"}},{"$f":"VLOOKUP(D75,体测成绩!B$2:C$273,2,FALSE)","v":{"v":69.4,"d":"69.4000"}},{"$f":"VLOOKUP(D75,体育锻炼成绩!A$2:B$182,2,FALSE)","v":"100.00"},{"$f":"0.8*Z75","v":{"v":55.52,"d":"55.5200"}},{"$f":"AA75*0.2","v":{"v":20,"d":"20.0000"}},{"$f":"SUM(AB75:AC75)*0.7","v":{"v":52.864,"d":"52.8640"}},{"v":0,"d":"0.0000"},{"$f":"AD75+AE75","v":{"v":52.864,"d":"52.8640"}},{"$f":"AF75*0.05","v":2.6432},{"$f":"VLOOKUP(D75,美育!B$2:F$182,5,FALSE)","v":{"v":18,"d":"18.0000"}},{"$f":"VLOOKUP(D75,美育!B$2:E$182,4,FALSE)","v":{"v":0,"d":"0.0000"}},{"$f":"AH75+AI75","v":{"v":18,"d":"18.0000"}},{"$f":"AJ75*0.05","v":{"v":0.9,"d":"0.9000"}},{"$f":"VLOOKUP(D75,劳育基础分!B$3:AF$182,31,FALSE)","v":{"v":40,"d":"40.0000"}},{"$f":"VLOOKUP(D75,劳育加分!A$3:I$34,9,FALSE)","v":{"v":4,"d":"4.0000"}},{"$f":"AL75+AM75","v":{"v":44,"d":"44.0000"}},{"$f":"AN75*0.05","v":{"v":2.2,"d":"2.2000"}},{"$f":"S75+Y75+AG75+AK75+AO75","v":{"v":64.445717332035,"d":"64.4457"}},{"v":0.7,"d":"70.0000%"},{"$f":"VLOOKUP(D75,四级成绩!B$2:C$178,2,FALSE)","v":515},"否"]
[73,63,"2024010601","李毅恒",{"$f":"VLOOKUP(D76,美育!B$2:E$182,2,FALSE)","v":"化工类24-5班"},{"$f":"VLOOKUP(D76,互评分!C$2:F$181,4,FALSE)","v":{"v":99.6666666666667,"d":"99.6667"}},{"$f":"VLOOKUP(D76,辅导员加分!B$2:C$176,2,FALSE)","v":{"v":92,"d":"92.0000"}},{"$f":"VLOOKUP(D76,互评分!C$2:F$181,3,FALSE)","v":{"v":100,"d":"100.0000"}},{"$f":"VLOOKUP(D76,互评分!C$2:F$181,2,FALSE)","v":{"v":88,"d":"88.0000"}},{"$f":"F76*0.2","v":{"v":19.9333333333333,"d":"19.9333"}},{"$f":"G76*0.5","v":{"v":46,"d":"46.0000"}},{"$f":"H76*0.2","v":{"v":20,"d":"20.0000"}},{"$f":"I76*0.1","v":{"v":8.8,"d":"8.8000"}},{"$f":"SUM(J76:M76)*0.7","v":{"v":66.3133333333333,"d":"66.3133"}},{"$f":"VLOOKUP(D76,学生干部加分!A$1:C$140,3,FALSE)","v":{"v":4,"d":"4.0000"}},{"v":0,"d":"0.0000"},{"v":0,"d":"0.0000"},{"$f":"N76+O76+P76-Q76","v":{"v":70.3133333333333,"d":"70.3133"}},{"$f":"R76*0.15","v":{"v":10.547,"d":"10.5470"}},{"v":79.6585365853659,"d":"79.6585"},{"v":80.5,"d":"80.5000"},{"$f":"IF(U76>0,T76*0.9+U76*0.1,T76)","v":{"v":79.7426829268293,"d":"79.7427"}},{"v":0,"d":"0.0000"},{"$f":"V76*0.85+W76","v":{"v":67.7812804878049,"d":"67.7813"}},{"$f":"0.7*X76","v":{"v":47.4468963414634,"d":"47.4469"}},{"$f":"VLOOKUP(D76,体测成绩!B$2:C$273,2,FALSE)","v":{"v":68,"d":"68.0000"}},{"$f":"VLOOKUP(D76,体育锻炼成绩!A$2:B$182,2,FALSE)","v":"100.00"},{"$f":"0.8*Z76","v":{"v":54.4,"d":"54.4000"}},{"$f":"AA76*0.2","v":{"v":20,"d":"20.0000"}},{"$f":"SUM(AB76:AC76)*0.7","v":{"v":52.08,"d":"52.0800"}},{"v":0,"d":"0.0000"},{"$f":"AD76+AE76","v":{"v":52.08,"d":"52.0800"}},{"$f":"AF76*0.05","v":{"v":2.604,"d":"2.6040"}},{"$f":"VLOOKUP(D76,美育!B$2:F$182,5,FALSE)","v":{"v":32,"d":"32.0000"}},{"$f":"VLOOKUP(D76,美育!B$2:E$182,4,FALSE)","v":{"v":0,"d":"0.0000"}},{"$f":"AH76+AI76","v":{"v":32,"d":"32.0000"}},{"$f":"AJ76*0.05","v":{"v":1.6,"d":"1.6000"}},{"$f":"VLOOKUP(D76,劳育基础分!B$3:AF$182,31,FALSE)","v":{"v":44,"d":"44.0000"}},{"v":0,"d":"0.0000"},{"$f":"AL76+AM76","v":{"v":44,"d":"44.0000"}},{"$f":"AN76*0.05","v":{"v":2.2,"d":"2.2000"}},{"$f":"S76+Y76+AG76+AK76+AO76","v":{"v":64.3978963414634,"d":"64.3979"}},{"$f":"VLOOKUP(D76,必修课优良率!A$1:B$173,2,FALSE)","v":"76.19%"},{"$f":"VLOOKUP(D76,四级成绩!B$2:C$178,2,FALSE)","v":524},{"$f":"VLOOKUP(D76,必修课优良率!A$1:D$173,4,FALSE)","v":"否"}]
[74,131,"2024010522","艾芯蕊",{"$f":"VLOOKUP(D77,美育!B$2:E$182,2,FALSE)","v":"化工类24-3班"},{"$f":"VLOOKUP(D77,互评分!C$2:F$181,4,FALSE)","v":{"v":99.1481481481482,"d":"99.1481"}},{"$f":"VLOOKUP(D77,辅导员加分!B$2:C$176,2,FALSE)","v":{"v":92,"d":"92.0000"}},{"$f":"VLOOKUP(D77,互评分!C$2:F$181,3,FALSE)","v":{"v":100,"d":"100.0000"}},{"$f":"VLOOKUP(D77,互评分!C$2:F$181,2,FALSE)","v":{"v":99,"d":"99.0000"}},{"$f":"F77*0.2","v":{"v":19.8296296296296,"d":"19.8296"}},{"$f":"G77*0.5","v":{"v":46,"d":"46.0000"}},{"$f":"H77*0.2","v":{"v":20,"d":"20.0000"}},{"$f":"I77*0.1","v":{"v":9.9,"d":"9.9000"}},{"$f":"SUM(J77:M77)*0.7","v":{"v":67.0107407407407,"d":"67.0107"}},{"$f":"VLOOKUP(D77,学生干部加分!A$1:C$140,3,FALSE)","v":{"v":5,"d":"5.0000"}},{"$f":"VLOOKUP(D77,德育加分!C$2:K$30,9,FALSE)","v":{"v":8,"d":"8.0000"}},{"v":0,"d":"0.0000"},{"$f":"N77+O77+P77-Q77","v":{"v":80.0107407407407,"d":"80.0107"}},{"$f":"R77*0.15","v":{"v":12.0016111111111,"d":"12.0016"}},{"v":73.5595238095238,"d":"73.5595"},{"v":88.5,"d":"88.5000"},{"$f":"IF(U77>0,T77*0.9+U77*0.1,T77)","v":{"v":75.0535714285714,"d":"75.0536"}},{"v":0,"d":"0.0000"},{"$f":"V77*0.85+W77","v":{"v":63.7955357142857,"d":"63.7955"}},{"$f":"0.7*X77","v":{"v":44.656875,"d":"44.6569"}},{"$f":"VLOOKUP(D77,体测成绩!B$2:C$273,2,FALSE)","v":{"v":72.6,"d":"72.6000"}},{"$f":"VLOOKUP(D77,体育锻炼成绩!A$2:B$182,2,FALSE)","v":"100.00"},{"$f":"0.8*Z77","v":{"v":58.08,"d":"58.0800"}},{"$f":"AA77*0.2","v":{"v":20,"d":"20.0000"}},{"$f":"SUM(AB77:AC77)*0.7","v":{"v":54.656,"d":"54.6560"}},{"$f":"VLOOKUP(D77,体育加分汇总!A$1:C$79,3,FALSE)","v":{"v":15,"d":"15.0000"}},{"$f":"AD77+AE77","v":{"v":69.656,"d":"69.6560"}},{"$f":"AF77*0.05","v":3.4828},{"$f":"VLOOKUP(D77,美育!B$2:F$182,5,FALSE)","v":{"v":45,"d":"45.0000"}},{"$f":"VLOOKUP(D77,美育!B$2:E$182,4,FALSE)","v":{"v":0,"d":"0.0000"}},{"$f":"AH77+AI77","v":{"v":45,"d":"45.0000"}},{"$f":"AJ77*0.05","v":{"v":2.25,"d":"2.2500"}},{"$f":"VLOOKUP(D77,劳育基础分!B$3:AF$182,31,FALSE)","v":{"v":40,"d":"40.0000"}},{"v":0,"d":"0.0000"},{"$f":"AL77+AM77","v":{"v":40,"d":"40.0000"}},{"$f":"AN77*0.05","v":{"v":2,"d":"2.0000"}},{"$f":"S77+Y77+AG77+AK77+AO77","v":{"v":64.3912861111111,"d":"64.3913"}},{"$f":"VLOOKUP(D77,必修课优良率!A$1:B$173,2,FALSE)","v":"61.90%"},{"$f":"VLOOKUP(D77,四级成绩!B$2:C$178,2,FALSE)","v":540},{"$f":"VLOOKUP(D77,必修课优良率!A$1:D$173,4,FALSE)","v":"是"}]
[75,79,"2024010508","谢文博",{"$f":"VLOOKUP(D78,美育!B$2:E$182,2,FALSE)","v":"化工类24-2班"},{"$f":"VLOOKUP(D78,互评分!C$2:F$181,4,FALSE)","v":{"v":98.1071428571429,"d":"98.1071"}},{"$f":"VLOOKUP(D78,辅导员加分!B$2:C$176,2,FALSE)","v":{"v":94,"d":"94.0000"}},{"$f":"VLOOKUP(D78,互评分!C$2:F$181,3,FALSE)","v":{"v":100,"d":"100.0000"}},{"$f":"VLOOKUP(D78,互评分!C$2:F$181,2,FALSE)","v":{"v":97,"d":"97.0000"}},{"$f":"F78*0.2","v":{"v":19.6214285714286,"d":"19.6214"}},{"$f":"G78*0.5","v":{"v":47,"d":"47.0000"}},{"$f":"H78*0.2","v":{"v":20,"d":"20.0000"}},{"$f":"I78*0.1","v":{"v":9.7,"d":"9.7000"}},{"$f":"SUM(J78:M78)*0.7","v":{"v":67.425,"d":"67.4250"}},{"$f":"VLOOKUP(D78,学生干部加分!A$1:C$140,3,FALSE)","v":{"v":6,"d":"6.0000"}},{"v":0,"d":"0.0000"},{"v":0,"d":"0.0000"},{"$f":"N78+O78+P78-Q78","v":{"v":73.425,"d":"73.4250"}},{"$f":"R78*0.15","v":{"v":11.01375,"d":"11.0138"}},{"v":78.2926829268293,"d":"78.2927"},{"v":0,"d":"0.0000"},{"$f":"IF(U78>0,T78*0.9+U78*0.1,T78)","v":{"v":78.2926829268293,"d":"78.2927"}},{"v":0,"d":"0.0000"},{"$f":"V78*0.85+W78","v":{"v":66.5487804878049,"d":"66.5488"}},{"$f":"0.7*X78","v":{"v":46.5841463414634,"d":"46.5841"}},{"$f":"VLOOKUP(D78,体测成绩!B$2:C$273,2,FALSE)","v":{"v":69,"d":"69.0000"}},{"$f":"VLOOKUP(D78,体育锻炼成绩!A$2:B$182,2,FALSE)","v":"100.00"},{"$f":"0.8*Z78","v":{"v":55.2,"d":"55.2000"}},{"$f":"AA78*0.2","v":{"v":20,"d":"20.0000"}},{"$f":"SUM(AB78:AC78)*0.7","v":{"v":52.64,"d":"52.6400"}},{"v":0,"d":"0.0000"},{"$f":"AD78+AE78","v":{"v":52.64,"d":"52.6400"}},{"$f":"AF78*0.05","v":{"v":2.632,"d":"2.6320"}},{"$f":"VLOOKUP(D78,美育!B$2:F$182,5,FALSE)","v":{"v":35,"d":"35.0000"}},{"$f":"VLOOKUP(D78,美育!B$2:E$182,4,FALSE)","v":{"v":0,"d":"0.0000"}},{"$f":"AH78+AI78","v":{"v":35,"d":"35.0000"}},{"$f":"AJ78*0.05","v":{"v":1.75,"d":"1.7500"}},{"$f":"VLOOKUP(D78,劳育基础分!B$3:AF$182,31,FALSE)","v":{"v":44,"d":"44.0000"}},{"$f":"VLOOKUP(D78,劳育加分!A$3:I$34,9,FALSE)","v":{"v":4,"d":"4.0000"}},{"$f":"AL78+AM78","v":{"v":48,"d":"48.0000"}},{"$f":"AN78*0.05","v":{"v":2.4,"d":"2.4000"}},{"$f":"S78+Y78+AG78+AK78+AO78","v":{"v":64.3798963414634,"d":"64.3799"}},{"$f":"VLOOKUP(D78,必修课优良率!A$1:B$173,2,FALSE)","v":"66.67%"},{"$f":"VLOOKUP(D78,四级成绩!B$2:C$178,2,FALSE)","v":"449"},{"$f":"VLOOKUP(D78,必修课优良率!A$1:D$173,4,FALSE)","v":"否"}]
[76,112,"2024010606","王睦钧",{"$f":"VLOOKUP(D79,美育!B$2:E$182,2,FALSE)","v":"化工类24-5班"},{"$f":"VLOOKUP(D79,互评分!C$2:F$181,4,FALSE)","v":{"v":99.6296296296296,"d":"99.6296"}},{"$f":"VLOOKUP(D79,辅导员加分!B$2:C$176,2,FALSE)","v":{"v":94,"d":"94.0000"}},{"$f":"VLOOKUP(D79,互评分!C$2:F$181,3,FALSE)","v":{"v":100,"d":"100.0000"}},{"$f":"VLOOKUP(D79,互评分!C$2:F$181,2,FALSE)","v":{"v":85,"d":"85.0000"}},{"$f":"F79*0.2","v":{"v":19.9259259259259,"d":"19.9259"}},{"$f":"G79*0.5","v":{"v":47,"d":"47.0000"}},{"$f":"H79*0.2","v":{"v":20,"d":"20.0000"}},{"$f":"I79*0.1","v":{"v":8.5,"d":"8.5000"}},{"$f":"SUM(J79:M79)*0.7","v":{"v":66.7981481481481,"d":"66.7981"}},{"$f":"VLOOKUP(D79,学生干部加分!A$1:C$140,3,FALSE)","v":{"v":4,"d":"4.0000"}},{"v":0,"d":"0.0000"},{"v":0,"d":"0.0000"},{"$f":"N79+O79+P79-Q79","v":{"v":70.7981481481481,"d":"70.7981"}},{"$f":"R79*0.15","v":{"v":10.6197222222222,"d":"10.6197"}},{"v":74.9880952380952,"d":"74.9881"},{"v":0,"d":"0.0000"},{"$f":"IF(U79>0,T79*0.9+U79*0.1,T79)","v":{"v":74.9880952380952,"d":"74.9881"}},{"$f":"VLOOKUP(D79,智育加分汇总!A$2:C$44,3,FALSE)","v":{"v":1.5,"d":"1.5000"}},{"$f":"V79*0.85+W79","v":{"v":65.2398809523809,"d":"65.2399"}},{"$f":"0.7*X79","v":{"v":45.6679166666666,"d":"45.6679"}},{"$f":"VLOOKUP(D79,体测成绩!B$2:C$273,2,FALSE)","v":{"v":80.3,"d":"80.3000"}},{"$f":"VLOOKUP(D79,体育锻炼成绩!A$2:B$182,2,FALSE)","v":"100.00"},{"$f":"0.8*Z79","v":{"v":64.24,"d":"64.2400"}},{"$f":"AA79*0.2","v":{"v":20,"d":"20.0000"}},{"$f":"SUM(AB79:AC79)*0.7","v":{"v":58.968,"d":"58.9680"}},{"$f":"VLOOKUP(D79,体育加分汇总!A$1:C$79,3,FALSE)","v":{"v":11,"d":"11.0000"}},{"$f":"AD79+AE79","v":{"v":69.968,"d":"69.9680"}},{"$f":"AF79*0.05","v":3.4984},{"$f":"VLOOKUP(D79,美育!B$2:F$182,5,FALSE)","v":{"v":43,"d":"43.0000"}},{"$f":"VLOOKUP(D79,美育!B$2:E$182,4,FALSE)","v":{"v":2,"d":"2.0000"}},{"$f":"AH79+AI79","v":{"v":45,"d":"45.0000"}},{"$f":"AJ79*0.05","v":{"v":2.25,"d":"2.2500"}},{"$f":"VLOOKUP(D79,劳育基础分!B$3:AF$182,31,FALSE)","v":{"v":42.5,"d":"42.5000"}},{"$f":"VLOOKUP(D79,劳育加分!A$3:I$34,9,FALSE)","v":{"v":4,"d":"4.0000"}},{"$f":"AL79+AM79","v":{"v":46.5,"d":"46.5000"}},{"$f":"AN79*0.05","v":{"v":2.325,"d":"2.3250"}},{"$f":"S79+Y79+AG79+AK79+AO79","v":{"v":64.3610388888889,"d":"64.3610"}},{"$f":"VLOOKUP(D79,必修课优良率!A$1:B$173,2,FALSE)","v":"57.14%"},{"$f":"VLOOKUP(D79,四级成绩!B$2:C$178,2,FALSE)","v":485},{"$f":"VLOOKUP(D79,必修课优良率!A$1:D$173,4,FALSE)","v":"否"}]
[77,72,"2024010632","贾金鑫",{"$f":"VLOOKUP(D80,美育!B$2:E$182,2,FALSE)","v":"化工类24-6班"},{"$f":"VLOOKUP(D80,互评分!C$2:F$181,4,FALSE)","v":{"v":96.5384615384615,"d":"96.5385"}},{"$f":"VLOOKUP(D80,辅导员加分!B$2:C$176,2,FALSE)","v":{"v":92,"d":"92.0000"}},{"$f":"VLOOKUP(D80,互评分!C$2:F$181,3,FALSE)","v":{"v":100,"d":"100.0000"}},{"$f":"VLOOKUP(D80,互评分!C$2:F$181,2,FALSE)","v":{"v":100,"d":"100.0000"}},{"$f":"F80*0.2","v":{"v":19.3076923076923,"d":"19.3077"}},{"$f":"G80*0.5","v":{"v":46,"d":"46.0000"}},{"$f":"H80*0.2","v":{"v":20,"d":"20.0000"}},{"$f":"I80*0.1","v":{"v":10,"d":"10.0000"}},{"$f":"SUM(J80:M80)*0.7","v":{"v":66.7153846153846,"d":"66.7154"}},{"$f":"VLOOKUP(D80,学生干部加分!A$1:C$140,3,FALSE)","v":{"v":7,"d":"7.0000"}},{"v":0,"d":"0.0000"},{"v":0,"d":"0.0000"},{"$f":"N80+O80+P80-Q80","v":{"v":73.7153846153846,"d":"73.7154"}},{"$f":"R80*0.15","v":{"v":11.0573076923077,"d":"11.0573"}},{"v":78.9268292682927,"d":"78.9268"},{"v":0,"d":"0.0000"},{"$f":"IF(U80>0,T80*0.9+U80*0.1,T80)","v":{"v":78.9268292682927,"d":"78.9268"}},{"v":0,"d":"0.0000"},{"$f":"V80*0.85+W80","v":{"v":67.0878048780488,"d":"67.0878"}},{"$f":"0.7*X80","v":{"v":46.9614634146342,"d":"46.9615"}},{"$f":"VLOOKUP(D80,体测成绩!B$2:C$273,2,FALSE)","v":{"v":73.9,"d":"73.9000"}},{"$f":"VLOOKUP(D80,体育锻炼成绩!A$2:B$182,2,FALSE)","v":{"v":100,"d":"100.0000"}},{"$f":"0.8*Z80","v":{"v":59.12,"d":"59.1200"}},{"$f":"AA80*0.2","v":{"v":20,"d":"20.0000"}},{"$f":"SUM(AB80:AC80)*0.7","v":{"v":55.384,"d":"55.3840"}},{"v":0,"d":"0.0000"},{"$f":"AD80+AE80","v":{"v":55.384,"d":"55.3840"}},{"$f":"AF80*0.05","v":2.7692},{"$f":"VLOOKUP(D80,美育!B$2:F$182,5,FALSE)","v":{"v":31,"d":"31.0000"}},{"$f":"VLOOKUP(D80,美育!B$2:E$182,4,FALSE)","v":{"v":0,"d":"0.0000"}},{"$f":"AH80+AI80","v":{"v":31,"d":"31.0000"}},{"$f":"AJ80*0.05","v":{"v":1.55,"d":"1.5500"}},{"$f":"VLOOKUP(D80,劳育基础分!B$3:AF$182,31,FALSE)","v":{"v":39.5,"d":"39.5000"}},{"v":0,"d":"0.0000"},{"$f":"AL80+AM80","v":{"v":39.5,"d":"39.5000"}},{"$f":"AN80*0.05","v":{"v":1.975,"d":"1.9750"}},{"$f":"S80+Y80+AG80+AK80+AO80","v":{"v":64.3129711069418,"d":"64.3130"}},{"$f":"VLOOKUP(D80,必修课优良率!A$1:B$173,2,FALSE)","v":"71.43%"},{"$f":"VLOOKUP(D80,四级成绩!B$2:C$178,2,FALSE)","v":"460"},{"$f":"VLOOKUP(D80,必修课优良率!A$1:D$173,4,FALSE)","v":"否"}]
[78,66,"2024010469","何俊希",{"$f":"VLOOKUP(D81,美育!B$2:E$182,2,FALSE)","v":"化工类24-1班"},{"$f":"VLOOKUP(D81,互评分!C$2:F$181,4,FALSE)","v":{"v":97.66666667,"d":"97.6667"}},{"$f":"VLOOKUP(D81,辅导员加分!B$2:C$176,2,FALSE)","v":{"v":94,"d":"94.0000"}},{"$f":"VLOOKUP(D81,互评分!C$2:F$181,3,FALSE)","v":{"v":99.1666666666667,"d":"99.1667"}},{"$f":"VLOOKUP(D81,互评分!C$2:F$181,2,FALSE)","v":{"v":90,"d":"90.0000"}},{"$f":"F81*0.2","v":{"v":19.533333334,"d":"19.5333"}},{"$f":"G81*0.5","v":{"v":47,"d":"47.0000"}},{"$f":"H81*0.2","v":{"v":19.8333333333333,"d":"19.8333"}},{"$f":"I81*0.1","v":{"v":9,"d":"9.0000"}},{"$f":"SUM(J81:M81)*0.7","v":{"v":66.7566666671333,"d":"66.7567"}},{"$f":"VLOOKUP(D81,学生干部加分!A$1:C$140,3,FALSE)","v":{"v":3.5,"d":"3.5000"}},{"v":0,"d":"0.0000"},{"v":0,"d":"0.0000"},{"$f":"N81+O81+P81-Q81","v":{"v":70.2566666671333,"d":"70.2567"}},{"$f":"R81*0.15","v":{"v":10.53850000007,"d":"10.5385"}},{"$f":"VLOOKUP(D81,[2]必修课成绩!C$59:BO$82,65,FALSE)","v":{"v":79.5365853658537,"d":"79.5366"}},{"$f":"VLOOKUP(D81,[2]选修课成绩!C$60:BI$83,59,FALSE)","v":{"v":84.25,"d":"84.2500"}},{"$f":"IF(U81>0,T81*0.9+U81*0.1,T81)","v":{"v":80.0079268292683,"d":"80.0079"}},{"$f":"VLOOKUP(D81,智育加分汇总!A$2:C$44,3,FALSE)","v":{"v":1.5,"d":"1.5000"}},{"$f":"V81*0.85+W81","v":{"v":69.5067378048781,"d":"69.5067"}},{"$f":"0.7*X81","v":{"v":48.6547164634146,"d":"48.6547"}},{"$f":"VLOOKUP(D81,体测成绩!B$2:C$273,2,FALSE)","v":{"v":60,"d":"60.0000"}},{"$f":"VLOOKUP(D81,体育锻炼成绩!A$2:B$182,2,FALSE)","v":{"v":100,"d":"100.0000"}},{"$f":"0.8*Z81","v":{"v":48,"d":"48.0000"}},{"$f":"AA81*0.2","v":{"v":20,"d":"20.0000"}},{"$f":"SUM(AB81:AC81)*0.7","v":{"v":47.6,"d":"47.6000"}},{"v":0,"d":"0.0000"},{"$f":"AD81+AE81","v":{"v":47.6,"d":"47.6000"}},{"$f":"AF81*0.05","v":{"v":2.38,"d":"2.3800"}},{"$f":"VLOOKUP(D81,美育!B$2:F$182,5,FALSE)","v":{"v":0,"d":"0.0000"}},{"$f":"VLOOKUP(D81,美育!B$2:E$182,4,FALSE)","v":{"v":6,"d":"6.0000"}},{"$f":"AH81+AI81","v":{"v":6,"d":"6.0000"}},{"$f":"AJ81*0.05","v":{"v":0.3,"d":"0.3000"}},{"$f":"VLOOKUP(D81,劳育基础分!B$3:AF$182,31,FALSE)","v":{"v":44,"d":"44.0000"}},{"v":0,"d":"0.0000"},{"$f":"AL81+AM81","v":{"v":44,"d":"44.0000"}},{"$f":"AN81*0.05","v":{"v":2.2,"d":"2.2000"}},{"$f":"S81+Y81+AG81+AK81+AO81","v":{"v":64.0732164634846,"d":"64.0732"}},{"$f":"VLOOKUP(D81,必修课优良率!A$1:B$173,2,FALSE)","v":"61.90%"},{"$f":"VLOOKUP(D81,四级成绩!B$2:C$178,2,FALSE)","v":489},{"$f":"VLOOKUP(D81,必修课优良率!A$1:D$173,4,FALSE)","v":"否"}]
[79,30,"2024010491","田慧慧",{"$f":"VLOOKUP(D82,美育!B$2:E$182,2,FALSE)","v":"化工类24-2班"},{"$f":"VLOOKUP(D82,互评分!C$2:F$181,4,FALSE)","v":{"v":97.5714285714286,"d":"97.5714"}},{"$f":"VLOOKUP(D82,辅导员加分!B$2:C$176,2,FALSE)","v":{"v":92,"d":"92.0000"}},{"$f":"VLOOKUP(D82,互评分!C$2:F$181,3,FALSE)","v":{"v":99.1666666666667,"d":"99.1667"}},{"$f":"VLOOKUP(D82,互评分!C$2:F$181,2,FALSE)","v":{"v":92,"d":"92.0000"}},{"$f":"F82*0.2","v":{"v":19.5142857142857,"d":"19.5143"}},{"$f":"G82*0.5","v":{"v":46,"d":"46.0000"}},{"$f":"H82*0.2","v":{"v":19.8333333333333,"d":"19.8333"}},{"$f":"I82*0.1","v":{"v":9.2,"d":"9.2000"}},{"$f":"SUM(J82:M82)*0.7","v":{"v":66.1833333333333,"d":"66.1833"}},{"v":0,"d":"0.0000"},{"v":0,"d":"0.0000"},{"v":0,"d":"0.0000"},{"$f":"N82+O82+P82-Q82","v":{"v":66.1833333333333,"d":"66.1833"}},{"$f":"R82*0.15","v":9.9275},{"v":83.8095238095238,"d":"83.8095"},{"v":0,"d":"0.0000"},{"$f":"IF(U82>0,T82*0.9+U82*0.1,T82)","v":{"v":83.8095238095238,"d":"83.8095"}},{"v":0,"d":"0.0000"},{"$f":"V82*0.85+W82","v":{"v":71.2380952380952,"d":"71.2381"}},{"$f":"0.7*X82","v":{"v":49.8666666666667,"d":"49.8667"}},{"$f":"VLOOKUP(D82,体测成绩!B$2:C$273,2,FALSE)","v":{"v":81,"d":"81.0000"}},{"$f":"VLOOKUP(D82,体育锻炼成绩!A$2:B$182,2,FALSE)","v":"0.00"},{"$f":"0.8*Z82","v":{"v":64.8,"d":"64.8000"}},{"$f":"AA82*0.2","v":{"v":0,"d":"0.0000"}},{"$f":"SUM(AB82:AC82)*0.7","v":{"v":45.36,"d":"45.3600"}},{"v":0,"d":"0.0000"},{"$f":"AD82+AE82","v":{"v":45.36,"d":"45.3600"}},{"$f":"AF82*0.05","v":{"v":2.268,"d":"2.2680"}},{"$f":"VLOOKUP(D82,美育!B$2:F$182,5,FALSE)","v":{"v":0,"d":"0.0000"}},{"$f":"VLOOKUP(D82,美育!B$2:E$182,4,FALSE)","v":{"v":0,"d":"0.0000"}},{"$f":"AH82+AI82","v":{"v":0,"d":"0.0000"}},{"$f":"AJ82*0.05","v":{"v":0,"d":"0.0000"}},{"$f":"VLOOKUP(D82,劳育基础分!B$3:AF$182,31,FALSE)","v":{"v":40,"d":"40.0000"}},{"v":0,"d":"0.0000"},{"$f":"AL82+AM82","v":{"v":40,"d":"40.0000"}},{"$f":"AN82*0.05","v":{"v":2,"d":"2.0000"}},{"$f":"S82+Y82+AG82+AK82+AO82","v":{"v":64.0621666666667,"d":"64.0622"}},{"$f":"VLOOKUP(D82,必修课优良率!A$1:B$173,2,FALSE)","v":"85.71%"},{"$f":"VLOOKUP(D82,四级成绩!B$2:C$178,2,FALSE)","v":647},{"$f":"VLOOKUP(D82,必修课优良率!A$1:D$173,4,FALSE)","v":"否"}]
[80,113,"2024010478","杨州",{"$f":"VLOOKUP(D83,美育!B$2:E$182,2,FALSE)","v":"化工类24-1班"},{"$f":"VLOOKUP(D83,互评分!C$2:F$181,4,FALSE)","v":{"v":99.07407407,"d":"99.0741"}},{"$f":"VLOOKUP(D83,辅导员加分!B$2:C$176,2,FALSE)","v":{"v":92,"d":"92.0000"}},{"$f":"VLOOKUP(D83,互评分!C$2:F$181,3,FALSE)","v":{"v":100,"d":"100.0000"}},{"$f":"VLOOKUP(D83,互评分!C$2:F$181,2,FALSE)","v":{"v":98,"d":"98.0000"}},{"$f":"F83*0.2","v":{"v":19.814814814,"d":"19.8148"}},{"$f":"G83*0.5","v":{"v":46,"d":"46.0000"}},{"$f":"H83*0.2","v":{"v":20,"d":"20.0000"}},{"$f":"I83*0.1","v":{"v":9.8,"d":"9.8000"}},{"$f":"SUM(J83:M83)*0.7","v":{"v":66.9303703698,"d":"66.9304"}},{"$f":"VLOOKUP(D83,学生干部加分!A$1:C$140,3,FALSE)","v":{"v":7.25,"d":"7.2500"}},{"v":0,"d":"0.0000"},{"v":0,"d":"0.0000"},{"$f":"N83+O83+P83-Q83","v":{"v":74.1803703698,"d":"74.1804"}},{"$f":"R83*0.15","v":{"v":11.12705555547,"d":"11.1271"}},{"v":74.9512195121951,"d":"74.9512"},{"v":84.3333333333333,"d":"84.3333"},{"$f":"IF(U83>0,T83*0.9+U83*0.1,T83)","v":{"v":75.8894308943089,"d":"75.8894"}},{"v":0,"d":"0.0000"},{"$f":"V83*0.85+W83","v":{"v":64.5060162601626,"d":"64.5060"}},{"$f":"0.7*X83","v":{"v":45.1542113821138,"d":"45.1542"}},{"$f":"VLOOKUP(D83,体测成绩!B$2:C$273,2,FALSE)","v":{"v":67.6,"d":"67.6000"}},{"$f":"VLOOKUP(D83,体育锻炼成绩!A$2:B$182,2,FALSE)","v":"100.00"},{"$f":"0.8*Z83","v":{"v":54.08,"d":"54.0800"}},{"$f":"AA83*0.2","v":{"v":20,"d":"20.0000"}},{"$f":"SUM(AB83:AC83)*0.7","v":{"v":51.856,"d":"51.8560"}},{"$f":"VLOOKUP(D83,体育加分汇总!A$1:C$79,3,FALSE)","v":{"v":9,"d":"9.0000"}},{"$f":"AD83+AE83","v":{"v":60.856,"d":"60.8560"}},{"$f":"AF83*0.05","v":3.0428},{"$f":"VLOOKUP(D83,美育!B$2:F$182,5,FALSE)","v":{"v":60,"d":"60.0000"}},{"$f":"VLOOKUP(D83,美育!B$2:E$182,4,FALSE)","v":{"v":0,"d":"0.0000"}},{"$f":"AH83+AI83","v":{"v":60,"d":"60.0000"}},{"$f":"AJ83*0.05","v":{"v":3,"d":"3.0000"}},{"$f":"VLOOKUP(D83,劳育基础分!B$3:AF$182,31,FALSE)","v":{"v":29,"d":"29.0000"}},{"v":0,"d":"0.0000"},{"$f":"AL83+AM83","v":{"v":29,"d":"29.0000"}},{"$f":"AN83*0.05","v":{"v":1.45,"d":"1.4500"}},{"$f":"S83+Y83+AG83+AK83+AO83","v":{"v":63.7740669375838,"d":"63.7741"}},{"$f":"VLOOKUP(D83,必修课优良率!A$1:B$173,2,FALSE)","v":"52.38%"},{"$f":"VLOOKUP(D83,四级成绩!B$2:C$178,2,FALSE)","v":439},{"$f":"VLOOKUP(D83,必修课优良率!A$1:D$173,4,FALSE)","v":"是"}]
[81,59,"2024010597","潘兴顺",{"$f":"VLOOKUP(D84,美育!B$2:E$182,2,FALSE)","v":"化工类24-5班"},{"$f":"VLOOKUP(D84,互评分!C$2:F$181,4,FALSE)","v":{"v":99.7037037037037,"d":"99.7037"}},{"$f":"VLOOKUP(D84,辅导员加分!B$2:C$176,2,FALSE)","v":{"v":90,"d":"90.0000"}},{"$f":"VLOOKUP(D84,互评分!C$2:F$181,3,FALSE)","v":{"v":100,"d":"100.0000"}},{"$f":"VLOOKUP(D84,互评分!C$2:F$181,2,FALSE)","v":{"v":90,"d":"90.0000"}},{"$f":"F84*0.2","v":{"v":19.9407407407407,"d":"19.9407"}},{"$f":"G84*0.5","v":{"v":45,"d":"45.0000"}},{"$f":"H84*0.2","v":{"v":20,"d":"20.0000"}},{"$f":"I84*0.1","v":{"v":9,"d":"9.0000"}},{"$f":"SUM(J84:M84)*0.7","v":{"v":65.7585185185185,"d":"65.7585"}},{"v":0,"d":"0.0000"},{"v":0,"d":"0.0000"},{"v":0,"d":"0.0000"},{"$f":"N84+O84+P84-Q84","v":{"v":65.7585185185185,"d":"65.7585"}},{"$f":"R84*0.15","v":{"v":9.86377777777778,"d":"9.8638"}},{"v":79.9736842105263,"d":"79.9737"},{"v":89.16,"d":"89.1600"},{"$f":"IF(U84>0,T84*0.9+U84*0.1,T84)","v":{"v":80.8923157894737,"d":"80.8923"}},{"v":0,"d":"0.0000"},{"$f":"V84*0.85+W84","v":{"v":68.7584684210526,"d":"68.7585"}},{"$f":"0.7*X84","v":{"v":48.1309278947368,"d":"48.1309"}},{"$f":"VLOOKUP(D84,体测成绩!B$2:C$273,2,FALSE)","v":{"v":73.7,"d":"73.7000"}},{"$f":"VLOOKUP(D84,体育锻炼成绩!A$2:B$182,2,FALSE)","v":"100.00"},{"$f":"0.8*Z84","v":{"v":58.96,"d":"58.9600"}},{"$f":"AA84*0.2","v":{"v":20,"d":"20.0000"}},{"$f":"SUM(AB84:AC84)*0.7","v":{"v":55.272,"d":"55.2720"}},{"v":0,"d":"0.0000"},{"$f":"AD84+AE84","v":{"v":55.272,"d":"55.2720"}},{"$f":"AF84*0.05","v":2.7636},{"$f":"VLOOKUP(D84,美育!B$2:F$182,5,FALSE)","v":{"v":20,"d":"20.0000"}},{"$f":"VLOOKUP(D84,美育!B$2:E$182,4,FALSE)","v":{"v":0,"d":"0.0000"}},{"$f":"AH84+AI84","v":{"v":20,"d":"20.0000"}},{"$f":"AJ84*0.05","v":{"v":1,"d":"1.0000"}},{"$f":"VLOOKUP(D84,劳育基础分!B$3:AF$182,31,FALSE)","v":{"v":40,"d":"40.0000"}},{"v":0,"d":"0.0000"},{"$f":"AL84+AM84","v":{"v":40,"d":"40.0000"}},{"$f":"AN84*0.05","v":{"v":2,"d":"2.0000"}},{"$f":"S84+Y84+AG84+AK84+AO84","v":{"v":63.7583056725146,"d":"63.7583"}},{"$f":"VLOOKUP(D84,必修课优良率!A$1:B$173,2,FALSE)","v":"84.21%"},{"$f":"VLOOKUP(D84,四级成绩!B$2:C$178,2,FALSE)","v":0},{"$f":"VLOOKUP(D84,必修课优良率!A$1:D$173,4,FALSE)","v":"否"}]
[82,32,"2024010537","龚贝",{"$f":"VLOOKUP(D85,美育!B$2:E$182,2,FALSE)","v":"化工类24-3班"},{"$f":"VLOOKUP(D85,互评分!C$2:F$181,4,FALSE)","v":{"v":99.1481481481482,"d":"99.1481"}},{"$f":"VLOOKUP(D85,辅导员加分!B$2:C$176,2,FALSE)","v":{"v":92,"d":"92.0000"}},{"$f":"VLOOKUP(D85,互评分!C$2:F$181,3,FALSE)","v":{"v":100,"d":"100.0000"}},{"$f":"VLOOKUP(D85,互评分!C$2:F$181,2,FALSE)","v":{"v":99,"d":"99.0000"}},{"$f":"F85*0.2","v":{"v":19.8296296296296,"d":"19.8296"}},{"$f":"G85*0.5","v":{"v":46,"d":"46.0000"}},{"$f":"H85*0.2","v":{"v":20,"d":"20.0000"}},{"$f":"I85*0.1","v":{"v":9.9,"d":"9.9000"}},{"$f":"SUM(J85:M85)*0.7","v":{"v":67.0107407407407,"d":"67.0107"}},{"v":0,"d":"0.0000"},{"v":0,"d":"0.0000"},{"v":0,"d":"0.0000"},{"$f":"N85+O85+P85-Q85","v":{"v":67.0107407407407,"d":"67.0107"}},{"$f":"R85*0.15","v":{"v":10.0516111111111,"d":"10.0516"}},{"v":83.2976190476191,"d":"83.2976"},{"v":73,"d":"73.0000"},{"$f":"IF(U85>0,T85*0.9+U85*0.1,T85)","v":{"v":82.2678571428572,"d":"82.2679"}},{"v":0,"d":"0.0000"},{"$f":"V85*0.85+W85","v":{"v":69.9276785714286,"d":"69.9277"}},{"$f":"0.7*X85","v":{"v":48.949375,"d":"48.9494"}},{"$f":"VLOOKUP(D85,体测成绩!B$2:C$273,2,FALSE)","v":{"v":69.5,"d":"69.5000"}},{"$f":"VLOOKUP(D85,体育锻炼成绩!A$2:B$182,2,FALSE)","v":"100.00"},{"$f":"0.8*Z85","v":{"v":55.6,"d":"55.6000"}},{"$f":"AA85*0.2","v":{"v":20,"d":"20.0000"}},{"$f":"SUM(AB85:AC85)*0.7","v":{"v":52.92,"d":"52.9200"}},{"v":0,"d":"0.0000"},{"$f":"AD85+AE85","v":{"v":52.92,"d":"52.9200"}},{"$f":"AF85*0.05","v":{"v":2.646,"d":"2.6460"}},{"$f":"VLOOKUP(D85,美育!B$2:F$182,5,FALSE)","v":{"v":5,"d":"5.0000"}},{"$f":"VLOOKUP(D85,美育!B$2:E$182,4,FALSE)","v":{"v":0,"d":"0.0000"}},{"$f":"AH85+AI85","v":{"v":5,"d":"5.0000"}},{"$f":"AJ85*0.05","v":{"v":0.25,"d":"0.2500"}},{"$f":"VLOOKUP(D85,劳育基础分!B$3:AF$182,31,FALSE)","v":{"v":37,"d":"37.0000"}},{"v":0,"d":"0.0000"},{"$f":"AL85+AM85","v":{"v":37,"d":"37.0000"}},{"$f":"AN85*0.05","v":{"v":1.85,"d":"1.8500"}},{"$f":"S85+Y85+AG85+AK85+AO85","v":{"v":63.7469861111111,"d":"63.7470"}},{"$f":"VLOOKUP(D85,必修课优良率!A$1:B$173,2,FALSE)","v":"66.67%"},{"$f":"VLOOKUP(D85,四级成绩!B$2:C$178,2,FALSE)","v":442},{"$f":"VLOOKUP(D85,必修课优良率!A$1:D$173,4,FALSE)","v":"是"}]
[83,82,"2024010494","姜明明",{"$f":"VLOOKUP(D86,美育!B$2:E$182,2,FALSE)","v":"化工类24-2班"},{"$f":"VLOOKUP(D86,互评分!C$2:F$181,4,FALSE)","v":{"v":97.4642857142857,"d":"97.4643"}},{"$f":"VLOOKUP(D86,辅导员加分!B$2:C$176,2,FALSE)","v":{"v":92,"d":"92.0000"}},{"$f":"VLOOKUP(D86,互评分!C$2:F$181,3,FALSE)","v":{"v":98.4,"d":"98.4000"}},{"$f":"VLOOKUP(D86,互评分!C$2:F$181,2,FALSE)","v":{"v":96,"d":"96.0000"}},{"$f":"F86*0.2","v":{"v":19.4928571428571,"d":"19.4929"}},{"$f":"G86*0.5","v":{"v":46,"d":"46.0000"}},{"$f":"H86*0.2","v":{"v":19.68,"d":"19.6800"}},{"$f":"I86*0.1","v":{"v":9.6,"d":"9.6000"}},{"$f":"SUM(J86:M86)*0.7","v":{"v":66.341,"d":"66.3410"}},{"$f":"VLOOKUP(D86,学生干部加分!A$1:C$140,3,FALSE)","v":{"v":8,"d":"8.0000"}},{"v":0,"d":"0.0000"},{"v":0,"d":"0.0000"},{"$f":"N86+O86+P86-Q86","v":{"v":74.341,"d":"74.3410"}},{"$f":"R86*0.15","v":{"v":11.15115,"d":"11.1512"}},{"$f":"VLOOKUP(D86,[2]必修课成绩!C$59:BO$82,65,FALSE)","v":{"v":77.9634146341463,"d":"77.9634"}},{"$f":"VLOOKUP(D86,[2]选修课成绩!C$60:BI$83,59,FALSE)","v":{"v":90,"d":"90.0000"}},{"$f":"IF(U86>0,T86*0.9+U86*0.1,T86)","v":{"v":79.1670731707317,"d":"79.1671"}},{"v":0,"d":"0.0000"},{"$f":"V86*0.85+W86","v":{"v":67.2920121951219,"d":"67.2920"}},{"$f":"0.7*X86","v":{"v":47.1044085365853,"d":"47.1044"}},{"$f":"VLOOKUP(D86,体测成绩!B$2:C$273,2,FALSE)","v":{"v":60,"d":"60.0000"}},{"$f":"VLOOKUP(D86,体育锻炼成绩!A$2:B$182,2,FALSE)","v":"100.00"},{"$f":"0.8*Z86","v":{"v":48,"d":"48.0000"}},{"$f":"AA86*0.2","v":{"v":20,"d":"20.0000"}},{"$f":"SUM(AB86:AC86)*0.7","v":{"v":47.6,"d":"47.6000"}},{"v":0,"d":"0.0000"},{"$f":"AD86+AE86","v":{"v":47.6,"d":"47.6000"}},{"$f":"AF86*0.05","v":{"v":2.38,"d":"2.3800"}},{"$f":"VLOOKUP(D86,美育!B$2:F$182,5,FALSE)","v":{"v":20,"d":"20.0000"}},{"$f":"VLOOKUP(D86,美育!B$2:E$182,4,FALSE)","v":{"v":0,"d":"0.0000"}},{"$f":"AH86+AI86","v":{"v":20,"d":"20.0000"}},{"$f":"AJ86*0.05","v":{"v":1,"d":"1.0000"}},{"$f":"VLOOKUP(D86,劳育基础分!B$3:AF$182,31,FALSE)","v":{"v":42,"d":"42.0000"}},{"v":0,"d":"0.0000"},{"$f":"AL86+AM86","v":{"v":42,"d":"42.0000"}},{"$f":"AN86*0.05","v":{"v":2.1,"d":"2.1000"}},{"$f":"S86+Y86+AG86+AK86+AO86","v":{"v":63.7355585365853,"d":"63.7356"}},{"$f":"VLOOKUP(D86,必修课优良率!A$1:B$173,2,FALSE)","v":"57.14%"},{"$f":"VLOOKUP(D86,四级成绩!B$2:C$178,2,FALSE)","v":539},{"$f":"VLOOKUP(D86,必修课优良率!A$1:D$173,4,FALSE)","v":"否"}]
[84,61,"2024010468","王诚毅",{"$f":"VLOOKUP(D87,美育!B$2:E$182,2,FALSE)","v":"化工类24-1班"},{"$f":"VLOOKUP(D87,互评分!C$2:F$181,4,FALSE)","v":{"v":98.74074074,"d":"98.7407"}},{"$f":"VLOOKUP(D87,辅导员加分!B$2:C$176,2,FALSE)","v":{"v":92,"d":"92.0000"}},{"$f":"VLOOKUP(D87,互评分!C$2:F$181,3,FALSE)","v":{"v":100,"d":"100.0000"}},{"$f":"VLOOKUP(D87,互评分!C$2:F$181,2,FALSE)","v":{"v":97,"d":"97.0000"}},{"$f":"F87*0.2","v":{"v":19.748148148,"d":"19.7481"}},{"$f":"G87*0.5","v":{"v":46,"d":"46.0000"}},{"$f":"H87*0.2","v":{"v":20,"d":"20.0000"}},{"$f":"I87*0.1","v":{"v":9.7,"d":"9.7000"}},{"$f":"SUM(J87:M87)*0.7","v":{"v":66.8137037036,"d":"66.8137"}},{"$f":"VLOOKUP(D87,学生干部加分!A$1:C$140,3,FALSE)","v":{"v":6,"d":"6.0000"}},{"v":0,"d":"0.0000"},{"v":0,"d":"0.0000"},{"$f":"N87+O87+P87-Q87","v":{"v":72.8137037036,"d":"72.8137"}},{"$f":"R87*0.15","v":{"v":10.92205555554,"d":"10.9221"}},{"v":79.7439024390244,"d":"79.7439"},{"v":86.1818181818182,"d":"86.1818"},{"$f":"IF(U87>0,T87*0.9+U87*0.1,T87)","v":{"v":80.3876940133038,"d":"80.3877"}},{"v":0,"d":"0.0000"},{"$f":"V87*0.85+W87","v":{"v":68.3295399113082,"d":"68.3295"}},{"$f":"0.7*X87","v":{"v":47.8306779379158,"d":"47.8307"}},{"$f":"VLOOKUP(D87,体测成绩!B$2:C$273,2,FALSE)","v":{"v":64.5,"d":"64.5000"}},{"$f":"VLOOKUP(D87,体育锻炼成绩!A$2:B$182,2,FALSE)","v":"100.00"},{"$f":"0.8*Z87","v":{"v":51.6,"d":"51.6000"}},{"$f":"AA87*0.2","v":{"v":20,"d":"20.0000"}},{"$f":"SUM(AB87:AC87)*0.7","v":{"v":50.12,"d":"50.1200"}},{"$f":"VLOOKUP(D87,体育加分汇总!A$1:C$79,3,FALSE)","v":{"v":6,"d":"6.0000"}},{"$f":"AD87+AE87","v":{"v":56.12,"d":"56.1200"}},{"$f":"AF87*0.05","v":{"v":2.806,"d":"2.8060"}},{"$f":"VLOOKUP(D87,美育!B$2:F$182,5,FALSE)","v":{"v":8,"d":"8.0000"}},{"$f":"VLOOKUP(D87,美育!B$2:E$182,4,FALSE)","v":{"v":0,"d":"0.0000"}},{"$f":"AH87+AI87","v":{"v":8,"d":"8.0000"}},{"$f":"AJ87*0.05","v":{"v":0.4,"d":"0.4000"}},{"$f":"VLOOKUP(D87,劳育基础分!B$3:AF$182,31,FALSE)","v":{"v":34,"d":"34.0000"}},{"v":0,"d":"0.0000"},{"$f":"AL87+AM87","v":{"v":34,"d":"34.0000"}},{"$f":"AN87*0.05","v":{"v":1.7,"d":"1.7000"}},{"$f":"S87+Y87+AG87+AK87+AO87","v":{"v":63.6587334934557,"d":"63.6587"}},{"$f":"VLOOKUP(D87,必修课优良率!A$1:B$173,2,FALSE)","v":"57.14%"},{"$f":"VLOOKUP(D87,四级成绩!B$2:C$178,2,FALSE)","v":524},{"$f":"VLOOKUP(D87,必修课优良率!A$1:D$173,4,FALSE)","v":"否"}]
[85,123,"2024010495","韩子路",{"$f":"VLOOKUP(D88,美育!B$2:E$182,2,FALSE)","v":"化工类24-2班"},{"$f":"VLOOKUP(D88,互评分!C$2:F$181,4,FALSE)","v":{"v":97.4285714285714,"d":"97.4286"}},{"$f":"VLOOKUP(D88,辅导员加分!B$2:C$176,2,FALSE)","v":{"v":94,"d":"94.0000"}},{"$f":"VLOOKUP(D88,互评分!C$2:F$181,3,FALSE)","v":{"v":99,"d":"99.0000"}},{"$f":"VLOOKUP(D88,互评分!C$2:F$181,2,FALSE)","v":{"v":90,"d":"90.0000"}},{"$f":"F88*0.2","v":{"v":19.4857142857143,"d":"19.4857"}},{"$f":"G88*0.5","v":{"v":47,"d":"47.0000"}},{"$f":"H88*0.2","v":{"v":19.8,"d":"19.8000"}},{"$f":"I88*0.1","v":{"v":9,"d":"9.0000"}},{"$f":"SUM(J88:M88)*0.7","v":{"v":66.7,"d":"66.7000"}},{"$f":"VLOOKUP(D88,学生干部加分!A$1:C$140,3,FALSE)","v":{"v":6,"d":"6.0000"}},{"v":0,"d":"0.0000"},{"v":0,"d":"0.0000"},{"$f":"N88+O88+P88-Q88","v":{"v":72.7,"d":"72.7000"}},{"$f":"R88*0.15","v":{"v":10.905,"d":"10.9050"}},{"v":74.3048780487805,"d":"74.3049"},{"v":90.75,"d":"90.7500"},{"$f":"IF(U88>0,T88*0.9+U88*0.1,T88)","v":{"v":75.9493902439025,"d":"75.9494"}},{"v":0,"d":"0.0000"},{"$f":"V88*0.85+W88","v":{"v":64.5569817073171,"d":"64.5570"}},{"$f":"0.7*X88","v":{"v":45.189887195122,"d":"45.1899"}},{"$f":"VLOOKUP(D88,体测成绩!B$2:C$273,2,FALSE)","v":{"v":66.2,"d":"66.2000"}},{"$f":"VLOOKUP(D88,体育锻炼成绩!A$2:B$182,2,FALSE)","v":{"v":100,"d":"100.0000"}},{"$f":"0.8*Z88","v":{"v":52.96,"d":"52.9600"}},{"$f":"AA88*0.2","v":{"v":20,"d":"20.0000"}},{"$f":"SUM(AB88:AC88)*0.7","v":{"v":51.072,"d":"51.0720"}},{"$f":"VLOOKUP(D88,体育加分汇总!A$1:C$79,3,FALSE)","v":{"v":0,"d":"0.0000"}},{"$f":"AD88+AE88","v":{"v":51.072,"d":"51.0720"}},{"$f":"AF88*0.05","v":2.5536},{"$f":"VLOOKUP(D88,美育!B$2:F$182,5,FALSE)","v":{"v":55,"d":"55.0000"}},{"$f":"VLOOKUP(D88,美育!B$2:E$182,4,FALSE)","v":{"v":0,"d":"0.0000"}},{"$f":"AH88+AI88","v":{"v":55,"d":"55.0000"}},{"$f":"AJ88*0.05","v":{"v":2.75,"d":"2.7500"}},{"$f":"VLOOKUP(D88,劳育基础分!B$3:AF$182,31,FALSE)","v":{"v":40,"d":"40.0000"}},{"$f":"VLOOKUP(D88,劳育加分!A$3:I$34,9,FALSE)","v":{"v":4,"d":"4.0000"}},{"$f":"AL88+AM88","v":{"v":44,"d":"44.0000"}},{"$f":"AN88*0.05","v":{"v":2.2,"d":"2.2000"}},{"$f":"S88+Y88+AG88+AK88+AO88","v":{"v":63.598487195122,"d":"63.5985"}},{"$f":"VLOOKUP(D88,必修课优良率!A$1:B$173,2,FALSE)","v":"52.38%"},{"$f":"VLOOKUP(D88,四级成绩!B$2:C$178,2,FALSE)","v":505},{"$f":"VLOOKUP(D88,必修课优良率!A$1:D$173,4,FALSE)","v":"是"}]
[86,128,"2024010487","杨悦",{"$f":"VLOOKUP(D89,美育!B$2:E$182,2,FALSE)","v":"化工类24-2班"},{"$f":"VLOOKUP(D89,互评分!C$2:F$181,4,FALSE)","v":{"v":96.8928571428571,"d":"96.8929"}},{"$f":"VLOOKUP(D89,辅导员加分!B$2:C$176,2,FALSE)","v":{"v":92,"d":"92.0000"}},{"$f":"VLOOKUP(D89,互评分!C$2:F$181,3,FALSE)","v":{"v":98.3333333333333,"d":"98.3333"}},{"$f":"VLOOKUP(D89,互评分!C$2:F$181,2,FALSE)","v":{"v":90,"d":"90.0000"}},{"$f":"F89*0.2","v":{"v":19.3785714285714,"d":"19.3786"}},{"$f":"G89*0.5","v":{"v":46,"d":"46.0000"}},{"$f":"H89*0.2","v":{"v":19.6666666666667,"d":"19.6667"}},{"$f":"I89*0.1","v":{"v":9,"d":"9.0000"}},{"$f":"SUM(J89:M89)*0.7","v":{"v":65.8316666666666,"d":"65.8317"}},{"$f":"VLOOKUP(D89,学生干部加分!A$1:C$140,3,FALSE)","v":{"v":4,"d":"4.0000"}},{"v":0,"d":"0.0000"},{"v":0,"d":"0.0000"},{"$f":"N89+O89+P89-Q89","v":{"v":69.8316666666666,"d":"69.8317"}},{"$f":"R89*0.15","v":{"v":10.47475,"d":"10.4748"}},{"v":73.7619047619048,"d":"73.7619"},{"v":90,"d":"90.0000"},{"$f":"IF(U89>0,T89*0.9+U89*0.1,T89)","v":{"v":75.3857142857143,"d":"75.3857"}},{"v":0,"d":"0.0000"},{"$f":"V89*0.85+W89","v":{"v":64.0778571428572,"d":"64.0779"}},{"$f":"0.7*X89","v":44.8545},{"$f":"VLOOKUP(D89,体测成绩!B$2:C$273,2,FALSE)","v":{"v":76.7,"d":"76.7000"}},{"$f":"VLOOKUP(D89,体育锻炼成绩!A$2:B$182,2,FALSE)","v":"100.00"},{"$f":"0.8*Z89","v":{"v":61.36,"d":"61.3600"}},{"$f":"AA89*0.2","v":{"v":20,"d":"20.0000"}},{"$f":"SUM(AB89:AC89)*0.7","v":{"v":56.952,"d":"56.9520"}},{"$f":"VLOOKUP(D89,体育加分汇总!A$1:C$79,3,FALSE)","v":{"v":8,"d":"8.0000"}},{"$f":"AD89+AE89","v":{"v":64.952,"d":"64.9520"}},{"$f":"AF89*0.05","v":3.2476},{"$f":"VLOOKUP(D89,美育!B$2:F$182,5,FALSE)","v":{"v":55,"d":"55.0000"}},{"$f":"VLOOKUP(D89,美育!B$2:E$182,4,FALSE)","v":{"v":0,"d":"0.0000"}},{"$f":"AH89+AI89","v":{"v":55,"d":"55.0000"}},{"$f":"AJ89*0.05","v":{"v":2.75,"d":"2.7500"}},{"$f":"VLOOKUP(D89,劳育基础分!B$3:AF$182,31,FALSE)","v":{"v":40,"d":"40.0000"}},{"$f":"VLOOKUP(D89,劳育加分!A$3:I$34,9,FALSE)","v":{"v":4,"d":"4.0000"}},{"$f":"AL89+AM89","v":{"v":44,"d":"44.0000"}},{"$f":"AN89*0.05","v":{"v":2.2,"d":"2.2000"}},{"$f":"S89+Y89+AG89+AK89+AO89","v":{"v":63.52685,"d":"63.5269"}},{"$f":"VLOOKUP(D89,必修课优良率!A$1:B$173,2,FALSE)","v":"47.62%"},{"$f":"VLOOKUP(D89,四级成绩!B$2:C$178,2,FALSE)","v":454},{"$f":"VLOOKUP(D89,必修课优良率!A$1:D$173,4,FALSE)","v":"是"}]
[87,92,2024010600,"王思远",{"$f":"VLOOKUP(D90,美育!B$2:E$182,2,FALSE)","v":"化工类24-5班"},{"$f":"VLOOKUP(D90,互评分!C$2:F$181,4,FALSE)","v":{"v":99.2592592592593,"d":"99.2593"}},{"$f":"VLOOKUP(D90,辅导员加分!B$2:C$176,2,FALSE)","v":{"v":94,"d":"94.0000"}},{"$f":"VLOOKUP(D90,互评分!C$2:F$181,3,FALSE)","v":{"v":100,"d":"100.0000"}},{"$f":"VLOOKUP(D90,互评分!C$2:F$181,2,FALSE)","v":{"v":90,"d":"90.0000"}},{"$f":"F90*0.2","v":{"v":19.8518518518519,"d":"19.8519"}},{"$f":"G90*0.5","v":{"v":47,"d":"47.0000"}},{"$f":"H90*0.2","v":{"v":20,"d":"20.0000"}},{"$f":"I90*0.1","v":{"v":9,"d":"9.0000"}},{"$f":"SUM(J90:M90)*0.7","v":{"v":67.0962962962963,"d":"67.0963"}},{"$f":"VLOOKUP(D90,学生干部加分!A$1:C$140,3,FALSE)","v":{"v":3,"d":"3.0000"}},{"v":0,"d":"0.0000"},{"v":0,"d":"0.0000"},{"$f":"N90+O90+P90-Q90","v":{"v":70.0962962962963,"d":"70.0963"}},{"$f":"R90*0.15","v":{"v":10.5144444444444,"d":"10.5144"}},{"v":76.9620253164557,"d":"76.9620"},83.2727,{"$f":"IF(U90>0,T90*0.9+U90*0.1,T90)","v":{"v":77.5930927848101,"d":"77.5931"}},{"v":0,"d":"0.0000"},{"$f":"V90*0.85+W90","v":{"v":65.9541288670886,"d":"65.9541"}},{"$f":"0.7*X90","v":{"v":46.167890206962,"d":"46.1679"}},{"$f":"VLOOKUP(D90,体测成绩!B$2:C$273,2,FALSE)","v":{"v":72.4,"d":"72.4000"}},{"$f":"VLOOKUP(D90,体育锻炼成绩!A$2:B$182,2,FALSE)","v":"100.00"},{"$f":"0.8*Z90","v":{"v":57.92,"d":"57.9200"}},{"$f":"AA90*0.2","v":{"v":20,"d":"20.0000"}},{"$f":"SUM(AB90:AC90)*0.7","v":{"v":54.544,"d":"54.5440"}},{"$f":"VLOOKUP(D90,体育加分汇总!A$1:C$79,3,FALSE)","v":{"v":13,"d":"13.0000"}},{"$f":"AD90+AE90","v":{"v":67.544,"d":"67.5440"}},{"$f":"AF90*0.05","v":3.3772},{"$f":"VLOOKUP(D90,美育!B$2:F$182,5,FALSE)","v":{"v":18,"d":"18.0000"}},{"$f":"VLOOKUP(D90,美育!B$2:E$182,4,FALSE)","v":{"v":0,"d":"0.0000"}},{"$f":"AH90+AI90","v":{"v":18,"d":"18.0000"}},{"$f":"AJ90*0.05","v":{"v":0.9,"d":"0.9000"}},{"$f":"VLOOKUP(D90,劳育基础分!B$3:AF$182,31,FALSE)","v":{"v":46.5,"d":"46.5000"}},{"$f":"VLOOKUP(D90,劳育加分!A$3:I$34,9,FALSE)","v":{"v":2,"d":"2.0000"}},{"$f":"AL90+AM90","v":{"v":48.5,"d":"48.5000"}},{"$f":"AN90*0.05","v":{"v":2.425,"d":"2.4250"}},{"$f":"S90+Y90+AG90+AK90+AO90","v":{"v":63.3845346514065,"d":"63.3845"}},{"v":0.65,"d":"65.0000%"},{"$f":"VLOOKUP(D90,四级成绩!B$2:C$178,2,FALSE)","v":478},"否"]
[88,81,"2024010631","宋梦博",{"$f":"VLOOKUP(D91,美育!B$2:E$182,2,FALSE)","v":"化工类24-6班"},{"$f":"VLOOKUP(D91,互评分!C$2:F$181,4,FALSE)","v":{"v":96.5384615384615,"d":"96.5385"}},{"$f":"VLOOKUP(D91,辅导员加分!B$2:C$176,2,FALSE)","v":{"v":92,"d":"92.0000"}},{"$f":"VLOOKUP(D91,互评分!C$2:F$181,3,FALSE)","v":{"v":100,"d":"100.0000"}},{"$f":"VLOOKUP(D91,互评分!C$2:F$181,2,FALSE)","v":{"v":100,"d":"100.0000"}},{"$f":"F91*0.2","v":{"v":19.3076923076923,"d":"19.3077"}},{"$f":"G91*0.5","v":{"v":46,"d":"46.0000"}},{"$f":"H91*0.2","v":{"v":20,"d":"20.0000"}},{"$f":"I91*0.1","v":{"v":10,"d":"10.0000"}},{"$f":"SUM(J91:M91)*0.7","v":{"v":66.7153846153846,"d":"66.7154"}},{"$f":"VLOOKUP(D91,学生干部加分!A$1:C$140,3,FALSE)","v":{"v":5,"d":"5.0000"}},{"v":0,"d":"0.0000"},{"v":0,"d":"0.0000"},{"$f":"N91+O91+P91-Q91","v":{"v":71.7153846153846,"d":"71.7154"}},{"$f":"R91*0.15","v":{"v":10.7573076923077,"d":"10.7573"}},{"v":77.9756097560976,"d":"77.9756"},{"v":0,"d":"0.0000"},{"$f":"IF(U91>0,T91*0.9+U91*0.1,T91)","v":{"v":77.9756097560976,"d":"77.9756"}},{"v":0,"d":"0.0000"},{"$f":"V91*0.85+W91","v":{"v":66.279268292683,"d":"66.2793"}},{"$f":"0.7*X91","v":{"v":46.3954878048781,"d":"46.3955"}},{"$f":"VLOOKUP(D91,体测成绩!B$2:C$273,2,FALSE)","v":{"v":83.2,"d":"83.2000"}},{"$f":"VLOOKUP(D91,体育锻炼成绩!A$2:B$182,2,FALSE)","v":"100.00"},{"$f":"0.8*Z91","v":{"v":66.56,"d":"66.5600"}},{"$f":"AA91*0.2","v":{"v":20,"d":"20.0000"}},{"$f":"SUM(AB91:AC91)*0.7","v":{"v":60.592,"d":"60.5920"}},{"v":0,"d":"0.0000"},{"$f":"AD91+AE91","v":{"v":60.592,"d":"60.5920"}},{"$f":"AF91*0.05","v":3.0296},{"$f":"VLOOKUP(D91,美育!B$2:F$182,5,FALSE)","v":{"v":30,"d":"30.0000"}},{"$f":"VLOOKUP(D91,美育!B$2:E$182,4,FALSE)","v":{"v":0,"d":"0.0000"}},{"$f":"AH91+AI91","v":{"v":30,"d":"30.0000"}},{"$f":"AJ91*0.05","v":{"v":1.5,"d":"1.5000"}},{"$f":"VLOOKUP(D91,劳育基础分!B$3:AF$182,31,FALSE)","v":{"v":34,"d":"34.0000"}},{"v":0,"d":"0.0000"},{"$f":"AL91+AM91","v":{"v":34,"d":"34.0000"}},{"$f":"AN91*0.05","v":{"v":1.7,"d":"1.7000"}},{"$f":"S91+Y91+AG91+AK91+AO91","v":{"v":63.3823954971858,"d":"63.3824"}},{"$f":"VLOOKUP(D91,必修课优良率!A$1:B$173,2,FALSE)","v":"57.14%"},{"$f":"VLOOKUP(D91,四级成绩!B$2:C$178,2,FALSE)","v":"433"},{"$f":"VLOOKUP(D91,必修课优良率!A$1:D$173,4,FALSE)","v":"否"}]
[89,68,2024010544,"陈永利",{"$f":"VLOOKUP(D92,美育!B$2:E$182,2,FALSE)","v":"化工类24-3班"},{"$f":"VLOOKUP(D92,互评分!C$2:F$181,4,FALSE)","v":{"v":98.8214285714286,"d":"98.8214"}},{"$f":"VLOOKUP(D92,辅导员加分!B$2:C$176,2,FALSE)","v":{"v":90,"d":"90.0000"}},{"$f":"VLOOKUP(D92,互评分!C$2:F$181,3,FALSE)","v":{"v":100,"d":"100.0000"}},{"$f":"VLOOKUP(D92,互评分!C$2:F$181,2,FALSE)","v":{"v":99,"d":"99.0000"}},{"$f":"F92*0.2","v":{"v":19.7642857142857,"d":"19.7643"}},{"$f":"G92*0.5","v":{"v":45,"d":"45.0000"}},{"$f":"H92*0.2","v":{"v":20,"d":"20.0000"}},{"$f":"I92*0.1","v":{"v":9.9,"d":"9.9000"}},{"$f":"SUM(J92:M92)*0.7","v":{"v":66.265,"d":"66.2650"}},{"$f":"VLOOKUP(D92,学生干部加分!A$1:C$140,3,FALSE)","v":{"v":3.5,"d":"3.5000"}},{"v":0,"d":"0.0000"},{"v":0,"d":"0.0000"},{"$f":"N92+O92+P92-Q92","v":{"v":69.765,"d":"69.7650"}},{"$f":"R92*0.15","v":{"v":10.46475,"d":"10.4648"}},{"$f":"VLOOKUP(D92,[1]必修课成绩!C$71:AE$100,29,FALSE)","v":79.3375},{"$f":"VLOOKUP(D92,[1]选修课成绩!C$72:AC$101,27,FALSE)","v":{"v":0,"d":"0.0000"}},{"$f":"IF(U92>0,T92*0.9+U92*0.1,T92)","v":79.3375},{"v":0,"d":"0.0000"},{"$f":"V92*0.85+W92","v":{"v":67.436875,"d":"67.4369"}},{"$f":"0.7*X92","v":{"v":47.2058125,"d":"47.2058"}},{"$f":"VLOOKUP(D92,体测成绩!B$2:C$273,2,FALSE)","v":{"v":68.8,"d":"68.8000"}},{"$f":"VLOOKUP(D92,体育锻炼成绩!A$2:B$182,2,FALSE)","v":"100.00"},{"$f":"0.8*Z92","v":{"v":55.04,"d":"55.0400"}},{"$f":"AA92*0.2","v":{"v":20,"d":"20.0000"}},{"$f":"SUM(AB92:AC92)*0.7","v":{"v":52.528,"d":"52.5280"}},{"$f":"VLOOKUP(D92,体育加分汇总!A$1:C$79,3,FALSE)","v":{"v":4,"d":"4.0000"}},{"$f":"AD92+AE92","v":{"v":56.528,"d":"56.5280"}},{"$f":"AF92*0.05","v":2.8264},{"$f":"VLOOKUP(D92,美育!B$2:F$182,5,FALSE)","v":{"v":28,"d":"28.0000"}},{"$f":"VLOOKUP(D92,美育!B$2:E$182,4,FALSE)","v":{"v":0,"d":"0.0000"}},{"$f":"AH92+AI92","v":{"v":28,"d":"28.0000"}},{"$f":"AJ92*0.05","v":{"v":1.4,"d":"1.4000"}},{"$f":"VLOOKUP(D92,劳育基础分!B$3:AF$182,31,FALSE)","v":{"v":29,"d":"29.0000"}},{"v":0,"d":"0.0000"},{"$f":"AL92+AM92","v":{"v":29,"d":"29.0000"}},{"$f":"AN92*0.05","v":{"v":1.45,"d":"1.4500"}},{"$f":"S92+Y92+AG92+AK92+AO92","v":{"v":63.3469625,"d":"63.3470"}},{"$f":"VLOOKUP(D92,必修课优良率!A$1:B$173,2,FALSE)","v":"76.19%"},{"$f":"VLOOKUP(D92,四级成绩!B$2:C$178,2,FALSE)","v":509},{"$f":"VLOOKUP(D92,必修课优良率!A$1:D$173,4,FALSE)","v":"否"}]
[90,53,2024010470,"陈韵轩",{"$f":"VLOOKUP(D93,美育!B$2:E$182,2,FALSE)","v":"化工类24-1班"},{"$f":"VLOOKUP(D93,互评分!C$2:F$181,4,FALSE)","v":{"v":97.66666667,"d":"97.6667"}},{"$f":"VLOOKUP(D93,辅导员加分!B$2:C$176,2,FALSE)","v":{"v":92,"d":"92.0000"}},{"$f":"VLOOKUP(D93,互评分!C$2:F$181,3,FALSE)","v":{"v":99.1666666666667,"d":"99.1667"}},{"$f":"VLOOKUP(D93,互评分!C$2:F$181,2,FALSE)","v":{"v":80,"d":"80.0000"}},{"$f":"F93*0.2","v":{"v":19.533333334,"d":"19.5333"}},{"$f":"G93*0.5","v":{"v":46,"d":"46.0000"}},{"$f":"H93*0.2","v":{"v":19.8333333333333,"d":"19.8333"}},{"$f":"I93*0.1","v":{"v":8,"d":"8.0000"}},{"$f":"SUM(J93:M93)*0.7","v":{"v":65.3566666671333,"d":"65.3567"}},{"$f":"VLOOKUP(D93,学生干部加分!A$1:C$140,3,FALSE)","v":{"v":4,"d":"4.0000"}},{"v":0,"d":"0.0000"},{"v":0,"d":"0.0000"},{"$f":"N93+O93+P93-Q93","v":{"v":69.3566666671333,"d":"69.3567"}},{"$f":"R93*0.15","v":{"v":10.40350000007,"d":"10.4035"}},{"v":80.9746835443038,"d":"80.9747"},{"v":0,"d":"0.0000"},{"$f":"IF(U93>0,T93*0.9+U93*0.1,T93)","v":{"v":80.9746835443038,"d":"80.9747"}},{"v":0,"d":"0.0000"},{"$f":"V93*0.85+W93","v":{"v":68.8284810126582,"d":"68.8285"}},{"$f":"0.7*X93","v":{"v":48.1799367088608,"d":"48.1799"}},{"$f":"VLOOKUP(D93,体测成绩!B$2:C$273,2,FALSE)","v":{"v":55.6,"d":"55.6000"}},{"$f":"VLOOKUP(D93,体育锻炼成绩!A$2:B$182,2,FALSE)","v":{"v":100,"d":"100.0000"}},{"$f":"0.8*Z93","v":{"v":44.48,"d":"44.4800"}},{"$f":"AA93*0.2","v":{"v":20,"d":"20.0000"}},{"$f":"SUM(AB93:AC93)*0.7","v":{"v":45.136,"d":"45.1360"}},{"v":0,"d":"0.0000"},{"$f":"AD93+AE93","v":{"v":45.136,"d":"45.1360"}},{"$f":"AF93*0.05","v":2.2568},{"$f":"VLOOKUP(D93,美育!B$2:F$182,5,FALSE)","v":{"v":10,"d":"10.0000"}},{"$f":"VLOOKUP(D93,美育!B$2:E$182,4,FALSE)","v":{"v":0,"d":"0.0000"}},{"$f":"AH93+AI93","v":{"v":10,"d":"10.0000"}},{"$f":"AJ93*0.05","v":{"v":0.5,"d":"0.5000"}},{"$f":"VLOOKUP(D93,劳育基础分!B$3:AF$182,31,FALSE)","v":{"v":40,"d":"40.0000"}},{"v":0,"d":"0.0000"},{"$f":"AL93+AM93","v":{"v":40,"d":"40.0000"}},{"$f":"AN93*0.05","v":{"v":2,"d":"2.0000"}},{"$f":"S93+Y93+AG93+AK93+AO93","v":{"v":63.3402367089308,"d":"63.3402"}},{"v":0.65,"d":"65.0000%"},0,"否"]
[91,42,"2024010472","赵延奇",{"$f":"VLOOKUP(D94,美育!B$2:E$182,2,FALSE)","v":"化工类24-1班"},{"$f":"VLOOKUP(D94,互评分!C$2:F$181,4,FALSE)","v":{"v":98.40740741,"d":"98.4074"}},{"$f":"VLOOKUP(D94,辅导员加分!B$2:C$176,2,FALSE)","v":{"v":90,"d":"90.0000"}},{"$f":"VLOOKUP(D94,互评分!C$2:F$181,3,FALSE)","v":{"v":100,"d":"100.0000"}},{"$f":"VLOOKUP(D94,互评分!C$2:F$181,2,FALSE)","v":{"v":99,"d":"99.0000"}},{"$f":"F94*0.2","v":{"v":19.681481482,"d":"19.6815"}},{"$f":"G94*0.5","v":{"v":45,"d":"45.0000"}},{"$f":"H94*0.2","v":{"v":20,"d":"20.0000"}},{"$f":"I94*0.1","v":{"v":9.9,"d":"9.9000"}},{"$f":"SUM(J94:M94)*0.7","v":{"v":66.2070370374,"d":"66.2070"}},{"v":0,"d":"0.0000"},{"v":0,"d":"0.0000"},{"v":0,"d":"0.0000"},{"$f":"N94+O94+P94-Q94","v":{"v":66.2070370374,"d":"66.2070"}},{"$f":"R94*0.15","v":{"v":9.93105555561,"d":"9.9311"}},{"v":82.1486486486486,"d":"82.1486"},{"v":89.6666666666667,"d":"89.6667"},{"$f":"IF(U94>0,T94*0.9+U94*0.1,T94)","v":{"v":82.9004504504504,"d":"82.9005"}},{"v":0,"d":"0.0000"},{"$f":"V94*0.85+W94","v":{"v":70.4653828828828,"d":"70.4654"}},{"$f":"0.7*X94","v":{"v":49.325768018018,"d":"49.3258"}},{"$f":"VLOOKUP(D94,体测成绩!B$2:C$273,2,FALSE)","v":{"v":56.5,"d":"56.5000"}},{"$f":"VLOOKUP(D94,体育锻炼成绩!A$2:B$182,2,FALSE)","v":"100.00"},{"$f":"0.8*Z94","v":{"v":45.2,"d":"45.2000"}},{"$f":"AA94*0.2","v":{"v":20,"d":"20.0000"}},{"$f":"SUM(AB94:AC94)*0.7","v":{"v":45.64,"d":"45.6400"}},{"v":0,"d":"0.0000"},{"$f":"AD94+AE94","v":{"v":45.64,"d":"45.6400"}},{"$f":"AF94*0.05","v":{"v":2.282,"d":"2.2820"}},{"$f":"VLOOKUP(D94,美育!B$2:F$182,5,FALSE)","v":{"v":0,"d":"0.0000"}},{"$f":"VLOOKUP(D94,美育!B$2:E$182,4,FALSE)","v":{"v":0,"d":"0.0000"}},{"$f":"AH94+AI94","v":{"v":0,"d":"0.0000"}},{"$f":"AJ94*0.05","v":{"v":0,"d":"0.0000"}},{"$f":"VLOOKUP(D94,劳育基础分!B$3:AF$182,31,FALSE)","v":{"v":36,"d":"36.0000"}},{"v":0,"d":"0.0000"},{"$f":"AL94+AM94","v":{"v":36,"d":"36.0000"}},{"$f":"AN94*0.05","v":{"v":1.8,"d":"1.8000"}},{"$f":"S94+Y94+AG94+AK94+AO94","v":{"v":63.338823573628,"d":"63.3388"}},{"$f":"VLOOKUP(D94,必修课优良率!A$1:B$173,2,FALSE)","v":"47.37%"},null,{"$f":"VLOOKUP(D94,必修课优良率!A$1:D$173,4,FALSE)","v":"否"}]
[92,129,"2024010539","赵毅轩",{"$f":"VLOOKUP(D95,美育!B$2:E$182,2,FALSE)","v":"化工类24-3班"},{"$f":"VLOOKUP(D95,互评分!C$2:F$181,4,FALSE)","v":{"v":98.75,"d":"98.7500"}},{"$f":"VLOOKUP(D95,辅导员加分!B$2:C$176,2,FALSE)","v":{"v":92,"d":"92.0000"}},{"$f":"VLOOKUP(D95,互评分!C$2:F$181,3,FALSE)","v":{"v":100,"d":"100.0000"}},{"$f":"VLOOKUP(D95,互评分!C$2:F$181,2,FALSE)","v":{"v":99,"d":"99.0000"}},{"$f":"F95*0.2","v":{"v":19.75,"d":"19.7500"}},{"$f":"G95*0.5","v":{"v":46,"d":"46.0000"}},{"$f":"H95*0.2","v":{"v":20,"d":"20.0000"}},{"$f":"I95*0.1","v":{"v":9.9,"d":"9.9000"}},{"$f":"SUM(J95:M95)*0.7","v":{"v":66.955,"d":"66.9550"}},{"$f":"VLOOKUP(D95,学生干部加分!A$1:C$140,3,FALSE)","v":{"v":6,"d":"6.0000"}},{"v":0,"d":"0.0000"},{"v":0,"d":"0.0000"},{"$f":"N95+O95+P95-Q95","v":{"v":72.955,"d":"72.9550"}},{"$f":"R95*0.15","v":{"v":10.94325,"d":"10.9433"}},{"v":73.5833333333333,"d":"73.5833"},{"v":88.7333333333333,"d":"88.7333"},{"$f":"IF(U95>0,T95*0.9+U95*0.1,T95)","v":{"v":75.0983333333333,"d":"75.0983"}},{"$f":"VLOOKUP(D95,智育加分汇总!A$2:C$44,3,FALSE)","v":{"v":5,"d":"5.0000"}},{"$f":"V95*0.85+W95","v":{"v":68.8335833333333,"d":"68.8336"}},{"$f":"0.7*X95","v":{"v":48.1835083333333,"d":"48.1835"}},{"$f":"VLOOKUP(D95,体测成绩!B$2:C$273,2,FALSE)","v":{"v":67.3,"d":"67.3000"}},{"$f":"VLOOKUP(D95,体育锻炼成绩!A$2:B$182,2,FALSE)","v":"100.00"},{"$f":"0.8*Z95","v":{"v":53.84,"d":"53.8400"}},{"$f":"AA95*0.2","v":{"v":20,"d":"20.0000"}},{"$f":"SUM(AB95:AC95)*0.7","v":{"v":51.688,"d":"51.6880"}},{"v":0,"d":"0.0000"},{"$f":"AD95+AE95","v":{"v":51.688,"d":"51.6880"}},{"$f":"AF95*0.05","v":2.5844},{"$f":"VLOOKUP(D95,美育!B$2:F$182,5,FALSE)","v":{"v":5,"d":"5.0000"}},{"$f":"VLOOKUP(D95,美育!B$2:E$182,4,FALSE)","v":{"v":0,"d":"0.0000"}},{"$f":"AH95+AI95","v":{"v":5,"d":"5.0000"}},{"$f":"AJ95*0.05","v":{"v":0.25,"d":"0.2500"}},{"$f":"VLOOKUP(D95,劳育基础分!B$3:AF$182,31,FALSE)","v":{"v":25.5,"d":"25.5000"}},{"v":0,"d":"0.0000"},{"$f":"AL95+AM95","v":{"v":25.5,"d":"25.5000"}},{"$f":"AN95*0.05","v":{"v":1.275,"d":"1.2750"}},{"$f":"S95+Y95+AG95+AK95+AO95","v":{"v":63.2361583333333,"d":"63.2362"}},{"$f":"VLOOKUP(D95,必修课优良率!A$1:B$173,2,FALSE)","v":"52.38%"},{"$f":"VLOOKUP(D95,四级成绩!B$2:C$178,2,FALSE)","v":611},{"$f":"VLOOKUP(D95,必修课优良率!A$1:D$173,4,FALSE)","v":"否"}]
[93,65,"2024010633","陈朕",{"$f":"VLOOKUP(D96,美育!B$2:E$182,2,FALSE)","v":"化工类24-6班"},{"$f":"VLOOKUP(D96,互评分!C$2:F$181,4,FALSE)","v":{"v":98.4615384615385,"d":"98.4615"}},{"$f":"VLOOKUP(D96,辅导员加分!B$2:C$176,2,FALSE)","v":{"v":92,"d":"92.0000"}},{"$f":"VLOOKUP(D96,互评分!C$2:F$181,3,FALSE)","v":{"v":100,"d":"100.0000"}},{"$f":"VLOOKUP(D96,互评分!C$2:F$181,2,FALSE)","v":{"v":100,"d":"100.0000"}},{"$f":"F96*0.2","v":{"v":19.6923076923077,"d":"19.6923"}},{"$f":"G96*0.5","v":{"v":46,"d":"46.0000"}},{"$f":"H96*0.2","v":{"v":20,"d":"20.0000"}},{"$f":"I96*0.1","v":{"v":10,"d":"10.0000"}},{"$f":"SUM(J96:M96)*0.7","v":{"v":66.9846153846154,"d":"66.9846"}},{"v":0,"d":"0.0000"},{"v":0,"d":"0.0000"},{"v":0,"d":"0.0000"},{"$f":"N96+O96+P96-Q96","v":{"v":66.9846153846154,"d":"66.9846"}},{"$f":"R96*0.15","v":{"v":10.0476923076923,"d":"10.0477"}},{"v":79.5487804878049,"d":"79.5488"},{"v":0,"d":"0.0000"},{"$f":"IF(U96>0,T96*0.9+U96*0.1,T96)","v":{"v":79.5487804878049,"d":"79.5488"}},{"v":0,"d":"0.0000"},{"$f":"V96*0.85+W96","v":{"v":67.6164634146342,"d":"67.6165"}},{"$f":"0.7*X96","v":{"v":47.3315243902439,"d":"47.3315"}},{"$f":"VLOOKUP(D96,体测成绩!B$2:C$273,2,FALSE)","v":{"v":65.7,"d":"65.7000"}},{"$f":"VLOOKUP(D96,体育锻炼成绩!A$2:B$182,2,FALSE)","v":"100.00"},{"$f":"0.8*Z96","v":{"v":52.56,"d":"52.5600"}},{"$f":"AA96*0.2","v":{"v":20,"d":"20.0000"}},{"$f":"SUM(AB96:AC96)*0.7","v":{"v":50.792,"d":"50.7920"}},{"v":0,"d":"0.0000"},{"$f":"AD96+AE96","v":{"v":50.792,"d":"50.7920"}},{"$f":"AF96*0.05","v":2.5396},{"$f":"VLOOKUP(D96,美育!B$2:F$182,5,FALSE)","v":{"v":18,"d":"18.0000"}},{"$f":"VLOOKUP(D96,美育!B$2:E$182,4,FALSE)","v":{"v":0,"d":"0.0000"}},{"$f":"AH96+AI96","v":{"v":18,"d":"18.0000"}},{"$f":"AJ96*0.05","v":{"v":0.9,"d":"0.9000"}},{"$f":"VLOOKUP(D96,劳育基础分!B$3:AF$182,31,FALSE)","v":{"v":46.5,"d":"46.5000"}},{"v":0,"d":"0.0000"},{"$f":"AL96+AM96","v":{"v":46.5,"d":"46.5000"}},{"$f":"AN96*0.05","v":{"v":2.325,"d":"2.3250"}},{"$f":"S96+Y96+AG96+AK96+AO96","v":{"v":63.1438166979362,"d":"63.1438"}},{"$f":"VLOOKUP(D96,必修课优良率!A$1:B$173,2,FALSE)","v":"57.14%"},{"$f":"VLOOKUP(D96,四级成绩!B$2:C$178,2,FALSE)","v":"456"},{"$f":"VLOOKUP(D96,必修课优良率!A$1:D$173,4,FALSE)","v":"否"}]
[94,80,2024010543,"张家诚",{"$f":"VLOOKUP(D97,美育!B$2:E$182,2,FALSE)","v":"化工类24-3班"},{"$f":"VLOOKUP(D97,互评分!C$2:F$181,4,FALSE)","v":{"v":98.8928571428571,"d":"98.8929"}},{"$f":"VLOOKUP(D97,辅导员加分!B$2:C$176,2,FALSE)","v":{"v":92,"d":"92.0000"}},{"$f":"VLOOKUP(D97,互评分!C$2:F$181,3,FALSE)","v":{"v":100,"d":"100.0000"}},{"$f":"VLOOKUP(D97,互评分!C$2:F$181,2,FALSE)","v":{"v":99,"d":"99.0000"}},{"$f":"F97*0.2","v":{"v":19.7785714285714,"d":"19.7786"}},{"$f":"G97*0.5","v":{"v":46,"d":"46.0000"}},{"$f":"H97*0.2","v":{"v":20,"d":"20.0000"}},{"$f":"I97*0.1","v":{"v":9.9,"d":"9.9000"}},{"$f":"SUM(J97:M97)*0.7","v":{"v":66.975,"d":"66.9750"}},{"$f":"VLOOKUP(D97,学生干部加分!A$1:C$140,3,FALSE)","v":{"v":6,"d":"6.0000"}},{"v":0,"d":"0.0000"},{"v":0,"d":"0.0000"},{"$f":"N97+O97+P97-Q97","v":{"v":72.975,"d":"72.9750"}},{"$f":"R97*0.15","v":{"v":10.94625,"d":"10.9463"}},{"$f":"VLOOKUP(D97,[1]必修课成绩!C$71:AE$100,29,FALSE)","v":{"v":78.2658227848101,"d":"78.2658"}},{"$f":"VLOOKUP(D97,[1]选修课成绩!C$72:AC$101,27,FALSE)","v":{"v":0,"d":"0.0000"}},{"$f":"IF(U97>0,T97*0.9+U97*0.1,T97)","v":{"v":78.2658227848101,"d":"78.2658"}},{"v":0,"d":"0.0000"},{"$f":"V97*0.85+W97","v":{"v":66.5259493670886,"d":"66.5259"}},{"$f":"0.7*X97","v":{"v":46.568164556962,"d":"46.5682"}},{"$f":"VLOOKUP(D97,体测成绩!B$2:C$273,2,FALSE)","v":{"v":71,"d":"71.0000"}},{"$f":"VLOOKUP(D97,体育锻炼成绩!A$2:B$182,2,FALSE)","v":"100.00"},{"$f":"0.8*Z97","v":{"v":56.8,"d":"56.8000"}},{"$f":"AA97*0.2","v":{"v":20,"d":"20.0000"}},{"$f":"SUM(AB97:AC97)*0.7","v":{"v":53.76,"d":"53.7600"}},{"$f":"VLOOKUP(D97,体育加分汇总!A$1:C$79,3,FALSE)","v":{"v":4,"d":"4.0000"}},{"$f":"AD97+AE97","v":{"v":57.76,"d":"57.7600"}},{"$f":"AF97*0.05","v":{"v":2.888,"d":"2.8880"}},{"$f":"VLOOKUP(D97,美育!B$2:F$182,5,FALSE)","v":{"v":18,"d":"18.0000"}},{"$f":"VLOOKUP(D97,美育!B$2:E$182,4,FALSE)","v":{"v":0,"d":"0.0000"}},{"$f":"AH97+AI97","v":{"v":18,"d":"18.0000"}},{"$f":"AJ97*0.05","v":{"v":0.9,"d":"0.9000"}},{"$f":"VLOOKUP(D97,劳育基础分!B$3:AF$182,31,FALSE)","v":{"v":32,"d":"32.0000"}},{"v":0,"d":"0.0000"},{"$f":"AL97+AM97","v":{"v":32,"d":"32.0000"}},{"$f":"AN97*0.05","v":{"v":1.6,"d":"1.6000"}},{"$f":"S97+Y97+AG97+AK97+AO97","v":{"v":62.902414556962,"d":"62.9024"}},{"$f":"VLOOKUP(D97,必修课优良率!A$1:B$173,2,FALSE)","v":"47.62%"},{"$f":"VLOOKUP(D97,四级成绩!B$2:C$178,2,FALSE)","v":499},{"$f":"VLOOKUP(D97,必修课优良率!A$1:D$173,4,FALSE)","v":"否"}]
[95,84,"2024010503","孙立夫",{"$f":"VLOOKUP(D98,美育!B$2:E$182,2,FALSE)","v":"化工类24-2班"},{"$f":"VLOOKUP(D98,互评分!C$2:F$181,4,FALSE)","v":{"v":97.4642857142857,"d":"97.4643"}},{"$f":"VLOOKUP(D98,辅导员加分!B$2:C$176,2,FALSE)","v":{"v":90,"d":"90.0000"}},{"$f":"VLOOKUP(D98,互评分!C$2:F$181,3,FALSE)","v":{"v":100,"d":"100.0000"}},{"$f":"VLOOKUP(D98,互评分!C$2:F$181,2,FALSE)","v":{"v":91,"d":"91.0000"}},{"$f":"F98*0.2","v":{"v":19.4928571428571,"d":"19.4929"}},{"$f":"G98*0.5","v":{"v":45,"d":"45.0000"}},{"$f":"H98*0.2","v":{"v":20,"d":"20.0000"}},{"$f":"I98*0.1","v":{"v":9.1,"d":"9.1000"}},{"$f":"SUM(J98:M98)*0.7","v":{"v":65.515,"d":"65.5150"}},{"v":0,"d":"0.0000"},{"$f":"VLOOKUP(D98,德育加分!C$2:K$30,9,FALSE)","v":{"v":5,"d":"5.0000"}},{"v":0,"d":"0.0000"},{"$f":"N98+O98+P98-Q98","v":{"v":70.515,"d":"70.5150"}},{"$f":"R98*0.15","v":{"v":10.57725,"d":"10.5773"}},{"v":77.5853658536585,"d":"77.5854"},{"v":0,"d":"0.0000"},{"$f":"IF(U98>0,T98*0.9+U98*0.1,T98)","v":{"v":77.5853658536585,"d":"77.5854"}},{"v":0,"d":"0.0000"},{"$f":"V98*0.85+W98","v":{"v":65.9475609756097,"d":"65.9476"}},{"$f":"0.7*X98","v":{"v":46.1632926829268,"d":"46.1633"}},{"$f":"VLOOKUP(D98,体测成绩!B$2:C$273,2,FALSE)","v":{"v":52.6,"d":"52.6000"}},{"$f":"VLOOKUP(D98,体育锻炼成绩!A$2:B$182,2,FALSE)","v":"100.00"},{"$f":"0.8*Z98","v":{"v":42.08,"d":"42.0800"}},{"$f":"AA98*0.2","v":{"v":20,"d":"20.0000"}},{"$f":"SUM(AB98:AC98)*0.7","v":{"v":43.456,"d":"43.4560"}},{"v":0,"d":"0.0000"},{"$f":"AD98+AE98","v":{"v":43.456,"d":"43.4560"}},{"$f":"AF98*0.05","v":2.1728},{"$f":"VLOOKUP(D98,美育!B$2:F$182,5,FALSE)","v":{"v":35,"d":"35.0000"}},{"$f":"VLOOKUP(D98,美育!B$2:E$182,4,FALSE)","v":{"v":0,"d":"0.0000"}},{"$f":"AH98+AI98","v":{"v":35,"d":"35.0000"}},{"$f":"AJ98*0.05","v":{"v":1.75,"d":"1.7500"}},{"$f":"VLOOKUP(D98,劳育基础分!B$3:AF$182,31,FALSE)","v":{"v":44,"d":"44.0000"}},{"v":0,"d":"0.0000"},{"$f":"AL98+AM98","v":{"v":44,"d":"44.0000"}},{"$f":"AN98*0.05","v":{"v":2.2,"d":"2.2000"}},{"$f":"S98+Y98+AG98+AK98+AO98","v":{"v":62.8633426829268,"d":"62.8633"}},{"$f":"VLOOKUP(D98,必修课优良率!A$1:B$173,2,FALSE)","v":"57.14%"},{"$f":"VLOOKUP(D98,四级成绩!B$2:C$178,2,FALSE)","v":417},{"$f":"VLOOKUP(D98,必修课优良率!A$1:D$173,4,FALSE)","v":"否"}]
[96,102,"2024010500","黄大原",{"$f":"VLOOKUP(D99,美育!B$2:E$182,2,FALSE)","v":"化工类24-2班"},{"$f":"VLOOKUP(D99,互评分!C$2:F$181,4,FALSE)","v":{"v":97,"d":"97.0000"}},{"$f":"VLOOKUP(D99,辅导员加分!B$2:C$176,2,FALSE)","v":{"v":92,"d":"92.0000"}},{"$f":"VLOOKUP(D99,互评分!C$2:F$181,3,FALSE)","v":{"v":98.3333333333333,"d":"98.3333"}},{"$f":"VLOOKUP(D99,互评分!C$2:F$181,2,FALSE)","v":{"v":96,"d":"96.0000"}},{"$f":"F99*0.2","v":{"v":19.4,"d":"19.4000"}},{"$f":"G99*0.5","v":{"v":46,"d":"46.0000"}},{"$f":"H99*0.2","v":{"v":19.6666666666667,"d":"19.6667"}},{"$f":"I99*0.1","v":{"v":9.6,"d":"9.6000"}},{"$f":"SUM(J99:M99)*0.7","v":{"v":66.2666666666667,"d":"66.2667"}},{"$f":"VLOOKUP(D99,学生干部加分!A$1:C$140,3,FALSE)","v":{"v":7.75,"d":"7.7500"}},{"v":0,"d":"0.0000"},{"v":0,"d":"0.0000"},{"$f":"N99+O99+P99-Q99","v":{"v":74.0166666666667,"d":"74.0167"}},{"$f":"R99*0.15","v":11.1025},{"v":75.6904761904762,"d":"75.6905"},{"v":60,"d":"60.0000"},{"$f":"IF(U99>0,T99*0.9+U99*0.1,T99)","v":{"v":74.1214285714286,"d":"74.1214"}},{"$f":"VLOOKUP(D99,智育加分汇总!A$2:C$44,3,FALSE)","v":{"v":1.5,"d":"1.5000"}},{"$f":"V99*0.85+W99","v":{"v":64.5032142857143,"d":"64.5032"}},{"$f":"0.7*X99","v":{"v":45.15225,"d":"45.1523"}},{"$f":"VLOOKUP(D99,体测成绩!B$2:C$273,2,FALSE)","v":{"v":67.4,"d":"67.4000"}},{"$f":"VLOOKUP(D99,体育锻炼成绩!A$2:B$182,2,FALSE)","v":"100.00"},{"$f":"0.8*Z99","v":{"v":53.92,"d":"53.9200"}},{"$f":"AA99*0.2","v":{"v":20,"d":"20.0000"}},{"$f":"SUM(AB99:AC99)*0.7","v":{"v":51.744,"d":"51.7440"}},{"$f":"VLOOKUP(D99,体育加分汇总!A$1:C$79,3,FALSE)","v":{"v":0,"d":"0.0000"}},{"$f":"AD99+AE99","v":{"v":51.744,"d":"51.7440"}},{"$f":"AF99*0.05","v":2.5872},{"$f":"VLOOKUP(D99,美育!B$2:F$182,5,FALSE)","v":{"v":40,"d":"40.0000"}},{"$f":"VLOOKUP(D99,美育!B$2:E$182,4,FALSE)","v":{"v":0,"d":"0.0000"}},{"$f":"AH99+AI99","v":{"v":40,"d":"40.0000"}},{"$f":"AJ99*0.05","v":{"v":2,"d":"2.0000"}},{"$f":"VLOOKUP(D99,劳育基础分!B$3:AF$182,31,FALSE)","v":{"v":40,"d":"40.0000"}},{"v":0,"d":"0.0000"},{"$f":"AL99+AM99","v":{"v":40,"d":"40.0000"}},{"$f":"AN99*0.05","v":{"v":2,"d":"2.0000"}},{"$f":"S99+Y99+AG99+AK99+AO99","v":{"v":62.84195,"d":"62.8420"}},{"$f":"VLOOKUP(D99,必修课优良率!A$1:B$173,2,FALSE)","v":"57.14%"},{"$f":"VLOOKUP(D99,四级成绩!B$2:C$178,2,FALSE)","v":497},{"$f":"VLOOKUP(D99,必修课优良率!A$1:D$173,4,FALSE)","v":"否"}]
[97,133,2024010517,"洪瑞",{"$f":"VLOOKUP(D100,美育!B$2:E$182,2,FALSE)","v":"化工类24-3班"},{"$f":"VLOOKUP(D100,互评分!C$2:F$181,4,FALSE)","v":{"v":99.0740740740741,"d":"99.0741"}},{"$f":"VLOOKUP(D100,辅导员加分!B$2:C$176,2,FALSE)","v":{"v":92,"d":"92.0000"}},{"$f":"VLOOKUP(D100,互评分!C$2:F$181,3,FALSE)","v":{"v":100,"d":"100.0000"}},{"$f":"VLOOKUP(D100,互评分!C$2:F$181,2,FALSE)","v":{"v":99,"d":"99.0000"}},{"$f":"F100*0.2","v":{"v":19.8148148148148,"d":"19.8148"}},{"$f":"G100*0.5","v":{"v":46,"d":"46.0000"}},{"$f":"H100*0.2","v":{"v":20,"d":"20.0000"}},{"$f":"I100*0.1","v":{"v":9.9,"d":"9.9000"}},{"$f":"SUM(J100:M100)*0.7","v":{"v":67.0003703703704,"d":"67.0004"}},{"$f":"VLOOKUP(D100,学生干部加分!A$1:C$140,3,FALSE)","v":{"v":2.5,"d":"2.5000"}},{"v":0,"d":"0.0000"},{"v":0,"d":"0.0000"},{"$f":"N100+O100+P100-Q100","v":{"v":69.5003703703704,"d":"69.5004"}},{"$f":"R100*0.15","v":{"v":10.4250555555556,"d":"10.4251"}},{"$f":"VLOOKUP(D100,[1]必修课成绩!C$71:AE$100,29,FALSE)","v":{"v":73.525,"d":"73.5250"}},{"$f":"VLOOKUP(D100,[1]选修课成绩!C$72:AC$101,27,FALSE)","v":{"v":88,"d":"88.0000"}},{"$f":"IF(U100>0,T100*0.9+U100*0.1,T100)","v":74.9725},{"v":0,"d":"0.0000"},{"$f":"V100*0.85+W100","v":{"v":63.726625,"d":"63.7266"}},{"$f":"0.7*X100","v":{"v":44.6086375,"d":"44.6086"}},{"$f":"VLOOKUP(D100,体测成绩!B$2:C$273,2,FALSE)","v":{"v":80.7,"d":"80.7000"}},{"$f":"VLOOKUP(D100,体育锻炼成绩!A$2:B$182,2,FALSE)","v":"100.00"},{"$f":"0.8*Z100","v":{"v":64.56,"d":"64.5600"}},{"$f":"AA100*0.2","v":{"v":20,"d":"20.0000"}},{"$f":"SUM(AB100:AC100)*0.7","v":{"v":59.192,"d":"59.1920"}},{"$f":"VLOOKUP(D100,体育加分汇总!A$1:C$79,3,FALSE)","v":{"v":17,"d":"17.0000"}},{"$f":"AD100+AE100","v":{"v":76.192,"d":"76.1920"}},{"$f":"AF100*0.05","v":3.8096},{"$f":"VLOOKUP(D100,美育!B$2:F$182,5,FALSE)","v":{"v":43,"d":"43.0000"}},{"$f":"VLOOKUP(D100,美育!B$2:E$182,4,FALSE)","v":{"v":0,"d":"0.0000"}},{"$f":"AH100+AI100","v":{"v":43,"d":"43.0000"}},{"$f":"AJ100*0.05","v":{"v":2.15,"d":"2.1500"}},{"$f":"VLOOKUP(D100,劳育基础分!B$3:AF$182,31,FALSE)","v":{"v":30,"d":"30.0000"}},{"$f":"VLOOKUP(D100,劳育加分!A$3:I$34,9,FALSE)","v":{"v":4,"d":"4.0000"}},{"$f":"AL100+AM100","v":{"v":34,"d":"34.0000"}},{"$f":"AN100*0.05","v":{"v":1.7,"d":"1.7000"}},{"$f":"S100+Y100+AG100+AK100+AO100","v":{"v":62.6932930555556,"d":"62.6933"}},{"$f":"VLOOKUP(D100,必修课优良率!A$1:B$173,2,FALSE)","v":"47.62%"},{"$f":"VLOOKUP(D100,四级成绩!B$2:C$178,2,FALSE)","v":476},{"$f":"VLOOKUP(D100,必修课优良率!A$1:D$173,4,FALSE)","v":"否"}]
[98,121,"2024010524","吕秋桦",{"$f":"VLOOKUP(D101,美育!B$2:E$182,2,FALSE)","v":"化工类24-3班"},{"$f":"VLOOKUP(D101,互评分!C$2:F$181,4,FALSE)","v":{"v":98.6428571428571,"d":"98.6429"}},{"$f":"VLOOKUP(D101,辅导员加分!B$2:C$176,2,FALSE)","v":{"v":92,"d":"92.0000"}},{"$f":"VLOOKUP(D101,互评分!C$2:F$181,3,FALSE)","v":{"v":100,"d":"100.0000"}},{"$f":"VLOOKUP(D101,互评分!C$2:F$181,2,FALSE)","v":{"v":99,"d":"99.0000"}},{"$f":"F101*0.2","v":{"v":19.7285714285714,"d":"19.7286"}},{"$f":"G101*0.5","v":{"v":46,"d":"46.0000"}},{"$f":"H101*0.2","v":{"v":20,"d":"20.0000"}},{"$f":"I101*0.1","v":{"v":9.9,"d":"9.9000"}},{"$f":"SUM(J101:M101)*0.7","v":{"v":66.94,"d":"66.9400"}},{"$f":"VLOOKUP(D101,学生干部加分!A$1:C$140,3,FALSE)","v":{"v":4,"d":"4.0000"}},{"v":0,"d":"0.0000"},{"v":0,"d":"0.0000"},{"$f":"N101+O101+P101-Q101","v":{"v":70.94,"d":"70.9400"}},{"$f":"R101*0.15","v":{"v":10.641,"d":"10.6410"}},{"v":74.4047619047619,"d":"74.4048"},{"v":90,"d":"90.0000"},{"$f":"IF(U101>0,T101*0.9+U101*0.1,T101)","v":{"v":75.9642857142857,"d":"75.9643"}},{"v":0,"d":"0.0000"},{"$f":"V101*0.85+W101","v":{"v":64.5696428571429,"d":"64.5696"}},{"$f":"0.7*X101","v":{"v":45.19875,"d":"45.1988"}},{"$f":"VLOOKUP(D101,体测成绩!B$2:C$273,2,FALSE)","v":{"v":36.6,"d":"36.6000"}},{"v":100,"d":"100.0000"},{"$f":"0.8*Z101","v":{"v":29.28,"d":"29.2800"}},{"$f":"AA101*0.2","v":{"v":20,"d":"20.0000"}},{"$f":"SUM(AB101:AC101)*0.7","v":{"v":34.496,"d":"34.4960"}},{"$f":"VLOOKUP(D101,体育加分汇总!A$1:C$79,3,FALSE)","v":{"v":0,"d":"0.0000"}},{"$f":"AD101+AE101","v":{"v":34.496,"d":"34.4960"}},{"$f":"AF101*0.05","v":1.7248},{"$f":"VLOOKUP(D101,美育!B$2:F$182,5,FALSE)","v":{"v":70,"d":"70.0000"}},{"$f":"VLOOKUP(D101,美育!B$2:E$182,4,FALSE)","v":{"v":0,"d":"0.0000"}},{"$f":"AH101+AI101","v":{"v":70,"d":"70.0000"}},{"$f":"AJ101*0.05","v":{"v":3.5,"d":"3.5000"}},{"$f":"VLOOKUP(D101,劳育基础分!B$3:AF$182,31,FALSE)","v":{"v":31,"d":"31.0000"}},{"v":0,"d":"0.0000"},{"$f":"AL101+AM101","v":{"v":31,"d":"31.0000"}},{"$f":"AN101*0.05","v":{"v":1.55,"d":"1.5500"}},{"$f":"S101+Y101+AG101+AK101+AO101","v":{"v":62.61455,"d":"62.6146"}},{"$f":"VLOOKUP(D101,必修课优良率!A$1:B$173,2,FALSE)","v":"52.38%"},{"$f":"VLOOKUP(D101,四级成绩!B$2:C$178,2,FALSE)","v":409},{"$f":"VLOOKUP(D101,必修课优良率!A$1:D$173,4,FALSE)","v":"是"}]
[99,90,2024010604,"刘俊超",{"$f":"VLOOKUP(D102,美育!B$2:E$182,2,FALSE)","v":"化工类24-5班"},{"$f":"VLOOKUP(D102,互评分!C$2:F$181,4,FALSE)","v":{"v":99.6296296296296,"d":"99.6296"}},{"$f":"VLOOKUP(D102,辅导员加分!B$2:C$176,2,FALSE)","v":{"v":92,"d":"92.0000"}},{"$f":"VLOOKUP(D102,互评分!C$2:F$181,3,FALSE)","v":{"v":100,"d":"100.0000"}},{"$f":"VLOOKUP(D102,互评分!C$2:F$181,2,FALSE)","v":{"v":88,"d":"88.0000"}},{"$f":"F102*0.2","v":{"v":19.9259259259259,"d":"19.9259"}},{"$f":"G102*0.5","v":{"v":46,"d":"46.0000"}},{"$f":"H102*0.2","v":{"v":20,"d":"20.0000"}},{"$f":"I102*0.1","v":{"v":8.8,"d":"8.8000"}},{"$f":"SUM(J102:M102)*0.7","v":{"v":66.3081481481481,"d":"66.3081"}},{"$f":"VLOOKUP(D102,学生干部加分!A$1:C$140,3,FALSE)","v":{"v":6,"d":"6.0000"}},{"v":0,"d":"0.0000"},{"v":0,"d":"0.0000"},{"$f":"N102+O102+P102-Q102","v":{"v":72.3081481481481,"d":"72.3081"}},{"$f":"R102*0.15","v":{"v":10.8462222222222,"d":"10.8462"}},{"v":77.1025641025641,"d":"77.1026"},{"v":94.5,"d":"94.5000"},{"$f":"IF(U102>0,T102*0.9+U102*0.1,T102)","v":{"v":78.8423076923077,"d":"78.8423"}},{"v":0,"d":"0.0000"},{"$f":"V102*0.85+W102","v":{"v":67.0159615384615,"d":"67.0160"}},{"$f":"0.7*X102","v":{"v":46.9111730769231,"d":"46.9112"}},{"$f":"VLOOKUP(D102,体测成绩!B$2:C$273,2,FALSE)","v":{"v":60,"d":"60.0000"}},{"$f":"VLOOKUP(D102,体育锻炼成绩!A$2:B$182,2,FALSE)","v":"100.00"},{"$f":"0.8*Z102","v":{"v":48,"d":"48.0000"}},{"$f":"AA102*0.2","v":{"v":20,"d":"20.0000"}},{"$f":"SUM(AB102:AC102)*0.7","v":{"v":47.6,"d":"47.6000"}},{"v":0,"d":"0.0000"},{"$f":"AD102+AE102","v":{"v":47.6,"d":"47.6000"}},{"$f":"AF102*0.05","v":{"v":2.38,"d":"2.3800"}},{"$f":"VLOOKUP(D102,美育!B$2:F$182,5,FALSE)","v":{"v":5,"d":"5.0000"}},{"$f":"VLOOKUP(D102,美育!B$2:E$182,4,FALSE)","v":{"v":0,"d":"0.0000"}},{"$f":"AH102+AI102","v":{"v":5,"d":"5.0000"}},{"$f":"AJ102*0.05","v":{"v":0.25,"d":"0.2500"}},{"$f":"VLOOKUP(D102,劳育基础分!B$3:AF$182,31,FALSE)","v":{"v":42.5,"d":"42.5000"}},{"v":0,"d":"0.0000"},{"$f":"AL102+AM102","v":{"v":42.5,"d":"42.5000"}},{"$f":"AN102*0.05","v":{"v":2.125,"d":"2.1250"}},{"$f":"S102+Y102+AG102+AK102+AO102","v":{"v":62.5123952991453,"d":"62.5124"}},{"$f":"VLOOKUP(D102,必修课优良率!A$1:B$173,2,FALSE)","v":"47.37%"},{"$f":"VLOOKUP(D102,四级成绩!B$2:C$178,2,FALSE)","v":510},{"$f":"VLOOKUP(D102,必修课优良率!A$1:D$173,4,FALSE)","v":"否"}]
[100,122,"2024010594","王志龙",{"$f":"VLOOKUP(D103,美育!B$2:E$182,2,FALSE)","v":"化工类24-5班"},{"$f":"VLOOKUP(D103,互评分!C$2:F$181,4,FALSE)","v":{"v":99.6296296296296,"d":"99.6296"}},{"$f":"VLOOKUP(D103,辅导员加分!B$2:C$176,2,FALSE)","v":{"v":90,"d":"90.0000"}},{"$f":"VLOOKUP(D103,互评分!C$2:F$181,3,FALSE)","v":{"v":100,"d":"100.0000"}},{"$f":"VLOOKUP(D103,互评分!C$2:F$181,2,FALSE)","v":{"v":85,"d":"85.0000"}},{"$f":"F103*0.2","v":{"v":19.9259259259259,"d":"19.9259"}},{"$f":"G103*0.5","v":{"v":45,"d":"45.0000"}},{"$f":"H103*0.2","v":{"v":20,"d":"20.0000"}},{"$f":"I103*0.1","v":{"v":8.5,"d":"8.5000"}},{"$f":"SUM(J103:M103)*0.7","v":{"v":65.3981481481481,"d":"65.3981"}},{"$f":"VLOOKUP(D103,学生干部加分!A$1:C$140,3,FALSE)","v":{"v":2,"d":"2.0000"}},{"v":0,"d":"0.0000"},{"v":0,"d":"0.0000"},{"$f":"N103+O103+P103-Q103","v":{"v":67.3981481481481,"d":"67.3981"}},{"$f":"R103*0.15","v":{"v":10.1097222222222,"d":"10.1097"}},{"v":74.390243902439,"d":"74.3902"},{"v":83.3333333333333,"d":"83.3333"},{"$f":"IF(U103>0,T103*0.9+U103*0.1,T103)","v":{"v":75.2845528455284,"d":"75.2846"}},{"v":0,"d":"0.0000"},{"$f":"V103*0.85+W103","v":{"v":63.9918699186992,"d":"63.9919"}},{"$f":"0.7*X103","v":{"v":44.7943089430894,"d":"44.7943"}},{"$f":"VLOOKUP(D103,体测成绩!B$2:C$273,2,FALSE)","v":{"v":70,"d":"70.0000"}},{"$f":"VLOOKUP(D103,体育锻炼成绩!A$2:B$182,2,FALSE)","v":{"v":100,"d":"100.0000"}},{"$f":"0.8*Z103","v":{"v":56,"d":"56.0000"}},{"$f":"AA103*0.2","v":{"v":20,"d":"20.0000"}},{"$f":"SUM(AB103:AC103)*0.7","v":{"v":53.2,"d":"53.2000"}},{"v":0,"d":"0.0000"},{"$f":"AD103+AE103","v":{"v":53.2,"d":"53.2000"}},{"$f":"AF103*0.05","v":{"v":2.66,"d":"2.6600"}},{"$f":"VLOOKUP(D103,美育!B$2:F$182,5,FALSE)","v":{"v":53,"d":"53.0000"}},{"$f":"VLOOKUP(D103,美育!B$2:E$182,4,FALSE)","v":{"v":0,"d":"0.0000"}},{"$f":"AH103+AI103","v":{"v":53,"d":"53.0000"}},{"$f":"AJ103*0.05","v":{"v":2.65,"d":"2.6500"}},{"$f":"VLOOKUP(D103,劳育基础分!B$3:AF$182,31,FALSE)","v":{"v":40,"d":"40.0000"}},{"$f":"VLOOKUP(D103,劳育加分!A$3:I$34,9,FALSE)","v":{"v":4,"d":"4.0000"}},{"$f":"AL103+AM103","v":{"v":44,"d":"44.0000"}},{"$f":"AN103*0.05","v":{"v":2.2,"d":"2.2000"}},{"$f":"S103+Y103+AG103+AK103+AO103","v":{"v":62.4140311653116,"d":"62.4140"}},{"$f":"VLOOKUP(D103,必修课优良率!A$1:B$173,2,FALSE)","v":"47.62%"},{"$f":"VLOOKUP(D103,四级成绩!B$2:C$178,2,FALSE)","v":495},{"$f":"VLOOKUP(D103,必修课优良率!A$1:D$173,4,FALSE)","v":"是"}]
[101,70,"2024010504","陈启骏",{"$f":"VLOOKUP(D104,美育!B$2:E$182,2,FALSE)","v":"化工类24-2班"},{"$f":"VLOOKUP(D104,互评分!C$2:F$181,4,FALSE)","v":{"v":96.8571428571429,"d":"96.8571"}},{"$f":"VLOOKUP(D104,辅导员加分!B$2:C$176,2,FALSE)","v":{"v":92,"d":"92.0000"}},{"$f":"VLOOKUP(D104,互评分!C$2:F$181,3,FALSE)","v":{"v":99.1666666666667,"d":"99.1667"}},{"$f":"VLOOKUP(D104,互评分!C$2:F$181,2,FALSE)","v":{"v":89,"d":"89.0000"}},{"$f":"F104*0.2","v":{"v":19.3714285714286,"d":"19.3714"}},{"$f":"G104*0.5","v":{"v":46,"d":"46.0000"}},{"$f":"H104*0.2","v":{"v":19.8333333333333,"d":"19.8333"}},{"$f":"I104*0.1","v":{"v":8.9,"d":"8.9000"}},{"$f":"SUM(J104:M104)*0.7","v":{"v":65.8733333333333,"d":"65.8733"}},{"v":0,"d":"0.0000"},{"v":0,"d":"0.0000"},{"v":0,"d":"0.0000"},{"$f":"N104+O104+P104-Q104","v":{"v":65.8733333333333,"d":"65.8733"}},{"$f":"R104*0.15","v":{"v":9.881,"d":"9.8810"}},{"v":78.9880952380952,"d":"78.9881"},{"v":0,"d":"0.0000"},{"$f":"IF(U104>0,T104*0.9+U104*0.1,T104)","v":{"v":78.9880952380952,"d":"78.9881"}},{"v":0,"d":"0.0000"},{"$f":"V104*0.85+W104","v":{"v":67.1398809523809,"d":"67.1399"}},{"$f":"0.7*X104","v":{"v":46.9979166666666,"d":"46.9979"}},{"$f":"VLOOKUP(D104,体测成绩!B$2:C$273,2,FALSE)","v":{"v":73.5,"d":"73.5000"}},{"$f":"VLOOKUP(D104,体育锻炼成绩!A$2:B$182,2,FALSE)","v":"100.00"},{"$f":"0.8*Z104","v":{"v":58.8,"d":"58.8000"}},{"$f":"AA104*0.2","v":{"v":20,"d":"20.0000"}},{"$f":"SUM(AB104:AC104)*0.7","v":{"v":55.16,"d":"55.1600"}},{"v":0,"d":"0.0000"},{"$f":"AD104+AE104","v":{"v":55.16,"d":"55.1600"}},{"$f":"AF104*0.05","v":{"v":2.758,"d":"2.7580"}},{"$f":"VLOOKUP(D104,美育!B$2:F$182,5,FALSE)","v":{"v":30,"d":"30.0000"}},{"$f":"VLOOKUP(D104,美育!B$2:E$182,4,FALSE)","v":{"v":0,"d":"0.0000"}},{"$f":"AH104+AI104","v":{"v":30,"d":"30.0000"}},{"$f":"AJ104*0.05","v":{"v":1.5,"d":"1.5000"}},{"$f":"VLOOKUP(D104,劳育基础分!B$3:AF$182,31,FALSE)","v":{"v":25.5,"d":"25.5000"}},{"v":0,"d":"0.0000"},{"$f":"AL104+AM104","v":{"v":25.5,"d":"25.5000"}},{"$f":"AN104*0.05","v":{"v":1.275,"d":"1.2750"}},{"$f":"S104+Y104+AG104+AK104+AO104","v":{"v":62.4119166666666,"d":"62.4119"}},{"$f":"VLOOKUP(D104,必修课优良率!A$1:B$173,2,FALSE)","v":"71.43%"},{"$f":"VLOOKUP(D104,四级成绩!B$2:C$178,2,FALSE)","v":576},{"$f":"VLOOKUP(D104,必修课优良率!A$1:D$173,4,FALSE)","v":"否"}]
[102,100,"2024010572","邱子恒",{"$f":"VLOOKUP(D105,美育!B$2:E$182,2,FALSE)","v":"化工类24-4班"},{"$f":"VLOOKUP(D105,互评分!C$2:F$181,4,FALSE)","v":{"v":97.25,"d":"97.2500"}},{"$f":"VLOOKUP(D105,辅导员加分!B$2:C$176,2,FALSE)","v":{"v":94,"d":"94.0000"}},{"$f":"VLOOKUP(D105,互评分!C$2:F$181,3,FALSE)","v":{"v":96.57143,"d":"96.5714"}},{"$f":"VLOOKUP(D105,互评分!C$2:F$181,2,FALSE)","v":{"v":100,"d":"100.0000"}},{"$f":"F105*0.2","v":{"v":19.45,"d":"19.4500"}},{"$f":"G105*0.5","v":{"v":47,"d":"47.0000"}},{"$f":"H105*0.2","v":{"v":19.314286,"d":"19.3143"}},{"$f":"I105*0.1","v":{"v":10,"d":"10.0000"}},{"$f":"SUM(J105:M105)*0.7","v":{"v":67.0350002,"d":"67.0350"}},{"$f":"VLOOKUP(D105,学生干部加分!A$1:C$140,3,FALSE)","v":{"v":4,"d":"4.0000"}},{"v":0,"d":"0.0000"},{"v":0,"d":"0.0000"},{"$f":"N105+O105+P105-Q105","v":{"v":71.0350002,"d":"71.0350"}},{"$f":"R105*0.15","v":{"v":10.65525003,"d":"10.6553"}},{"v":76.0731707317073,"d":"76.0732"},{"v":77,"d":"77.0000"},{"$f":"IF(U105>0,T105*0.9+U105*0.1,T105)","v":{"v":76.1658536585366,"d":"76.1659"}},{"$f":"VLOOKUP(D105,智育加分汇总!A$2:C$44,3,FALSE)","v":{"v":2.5,"d":"2.5000"}},{"$f":"V105*0.85+W105","v":{"v":67.2409756097561,"d":"67.2410"}},{"$f":"0.7*X105","v":{"v":47.0686829268293,"d":"47.0687"}},{"$f":"VLOOKUP(D105,体测成绩!B$2:C$273,2,FALSE)","v":{"v":60,"d":"60.0000"}},{"$f":"VLOOKUP(D105,体育锻炼成绩!A$2:B$182,2,FALSE)","v":"100.00"},{"$f":"0.8*Z105","v":{"v":48,"d":"48.0000"}},{"$f":"AA105*0.2","v":{"v":20,"d":"20.0000"}},{"$f":"SUM(AB105:AC105)*0.7","v":{"v":47.6,"d":"47.6000"}},{"v":0,"d":"0.0000"},{"$f":"AD105+AE105","v":{"v":47.6,"d":"47.6000"}},{"$f":"AF105*0.05","v":{"v":2.38,"d":"2.3800"}},{"$f":"VLOOKUP(D105,美育!B$2:F$182,5,FALSE)","v":{"v":18,"d":"18.0000"}},{"$f":"VLOOKUP(D105,美育!B$2:E$182,4,FALSE)","v":{"v":0,"d":"0.0000"}},{"$f":"AH105+AI105","v":{"v":18,"d":"18.0000"}},{"$f":"AJ105*0.05","v":{"v":0.9,"d":"0.9000"}},{"$f":"VLOOKUP(D105,劳育基础分!B$3:AF$182,31,FALSE)","v":{"v":20,"d":"20.0000"}},{"$f":"VLOOKUP(D105,劳育加分!A$3:I$34,9,FALSE)","v":{"v":4,"d":"4.0000"}},{"$f":"AL105+AM105","v":{"v":24,"d":"24.0000"}},{"$f":"AN105*0.05","v":{"v":1.2,"d":"1.2000"}},{"$f":"S105+Y105+AG105+AK105+AO105","v":{"v":62.2039329568293,"d":"62.2039"}},{"$f":"VLOOKUP(D105,必修课优良率!A$1:B$173,2,FALSE)","v":"61.90%"},{"$f":"VLOOKUP(D105,四级成绩!B$2:C$178,2,FALSE)","v":"445"},{"$f":"VLOOKUP(D105,必修课优良率!A$1:D$173,4,FALSE)","v":"否"}]
[103,69,2024010514,"蒋卓达",{"$f":"VLOOKUP(D106,美育!B$2:E$182,2,FALSE)","v":"化工类24-2班"},{"$f":"VLOOKUP(D106,互评分!C$2:F$181,4,FALSE)","v":{"v":96.4285714285714,"d":"96.4286"}},{"$f":"VLOOKUP(D106,辅导员加分!B$2:C$176,2,FALSE)","v":{"v":92,"d":"92.0000"}},{"$f":"VLOOKUP(D106,互评分!C$2:F$181,3,FALSE)","v":{"v":99.1666666666667,"d":"99.1667"}},{"$f":"VLOOKUP(D106,互评分!C$2:F$181,2,FALSE)","v":{"v":89,"d":"89.0000"}},{"$f":"F106*0.2","v":{"v":19.2857142857143,"d":"19.2857"}},{"$f":"G106*0.5","v":{"v":46,"d":"46.0000"}},{"$f":"H106*0.2","v":{"v":19.8333333333333,"d":"19.8333"}},{"$f":"I106*0.1","v":{"v":8.9,"d":"8.9000"}},{"$f":"SUM(J106:M106)*0.7","v":{"v":65.8133333333333,"d":"65.8133"}},{"$f":"VLOOKUP(D106,学生干部加分!A$1:C$140,3,FALSE)","v":{"v":3.5,"d":"3.5000"}},{"v":0,"d":"0.0000"},{"v":0,"d":"0.0000"},{"$f":"N106+O106+P106-Q106","v":{"v":69.3133333333333,"d":"69.3133"}},{"$f":"R106*0.15","v":{"v":10.397,"d":"10.3970"}},{"$f":"VLOOKUP(D106,[1]必修课成绩!C$71:AE$100,29,FALSE)","v":{"v":79.1025641025641,"d":"79.1026"}},{"$f":"VLOOKUP(D106,[1]选修课成绩!C$72:AC$101,27,FALSE)","v":{"v":39,"d":"39.0000"}},{"$f":"IF(U106>0,T106*0.9+U106*0.1,T106)","v":{"v":75.0923076923077,"d":"75.0923"}},{"$f":"VLOOKUP(D106,智育加分汇总!A$2:C$44,3,FALSE)","v":{"v":1.5,"d":"1.5000"}},{"$f":"V106*0.85+W106","v":{"v":65.3284615384615,"d":"65.3285"}},{"$f":"0.7*X106","v":{"v":45.7299230769231,"d":"45.7299"}},{"$f":"VLOOKUP(D106,体测成绩!B$2:C$273,2,FALSE)","v":{"v":66.8,"d":"66.8000"}},{"$f":"VLOOKUP(D106,体育锻炼成绩!A$2:B$182,2,FALSE)","v":"100.00"},{"$f":"0.8*Z106","v":{"v":53.44,"d":"53.4400"}},{"$f":"AA106*0.2","v":{"v":20,"d":"20.0000"}},{"$f":"SUM(AB106:AC106)*0.7","v":{"v":51.408,"d":"51.4080"}},{"v":0,"d":"0.0000"},{"$f":"AD106+AE106","v":{"v":51.408,"d":"51.4080"}},{"$f":"AF106*0.05","v":2.5704},{"$f":"VLOOKUP(D106,美育!B$2:F$182,5,FALSE)","v":{"v":25,"d":"25.0000"}},{"$f":"VLOOKUP(D106,美育!B$2:E$182,4,FALSE)","v":{"v":0,"d":"0.0000"}},{"$f":"AH106+AI106","v":{"v":25,"d":"25.0000"}},{"$f":"AJ106*0.05","v":{"v":1.25,"d":"1.2500"}},{"$f":"VLOOKUP(D106,劳育基础分!B$3:AF$182,31,FALSE)","v":{"v":40,"d":"40.0000"}},{"$f":"VLOOKUP(D106,劳育加分!A$3:I$34,9,FALSE)","v":{"v":4,"d":"4.0000"}},{"$f":"AL106+AM106","v":{"v":44,"d":"44.0000"}},{"$f":"AN106*0.05","v":{"v":2.2,"d":"2.2000"}},{"$f":"S106+Y106+AG106+AK106+AO106","v":{"v":62.1473230769231,"d":"62.1473"}},{"$f":"VLOOKUP(D106,必修课优良率!A$1:B$173,2,FALSE)","v":"63.16%"},{"$f":"VLOOKUP(D106,四级成绩!B$2:C$178,2,FALSE)","v":446},{"$f":"VLOOKUP(D106,必修课优良率!A$1:D$173,4,FALSE)","v":"是"}]
[104,118,2024010528,"黄贤君",{"$f":"VLOOKUP(D107,美育!B$2:E$182,2,FALSE)","v":"化工类24-3班"},{"$f":"VLOOKUP(D107,互评分!C$2:F$181,4,FALSE)","v":{"v":99.2222222222222,"d":"99.2222"}},{"$f":"VLOOKUP(D107,辅导员加分!B$2:C$176,2,FALSE)","v":{"v":94,"d":"94.0000"}},{"$f":"VLOOKUP(D107,互评分!C$2:F$181,3,FALSE)","v":{"v":100,"d":"100.0000"}},{"$f":"VLOOKUP(D107,互评分!C$2:F$181,2,FALSE)","v":{"v":99,"d":"99.0000"}},{"$f":"F107*0.2","v":{"v":19.8444444444444,"d":"19.8444"}},{"$f":"G107*0.5","v":{"v":47,"d":"47.0000"}},{"$f":"H107*0.2","v":{"v":20,"d":"20.0000"}},{"$f":"I107*0.1","v":{"v":9.9,"d":"9.9000"}},{"$f":"SUM(J107:M107)*0.7","v":{"v":67.7211111111111,"d":"67.7211"}},{"$f":"VLOOKUP(D107,学生干部加分!A$1:C$140,3,FALSE)","v":{"v":5.75,"d":"5.7500"}},{"v":0,"d":"0.0000"},{"v":0,"d":"0.0000"},{"$f":"N107+O107+P107-Q107","v":{"v":73.4711111111111,"d":"73.4711"}},{"$f":"R107*0.15","v":{"v":11.0206666666667,"d":"11.0207"}},{"$f":"VLOOKUP(D107,[1]必修课成绩!C$71:AE$100,29,FALSE)","v":{"v":74.4507042253521,"d":"74.4507"}},{"$f":"VLOOKUP(D107,[1]选修课成绩!C$72:AC$101,27,FALSE)","v":{"v":0,"d":"0.0000"}},{"$f":"IF(U107>0,T107*0.9+U107*0.1,T107)","v":{"v":74.4507042253521,"d":"74.4507"}},{"v":0,"d":"0.0000"},{"$f":"V107*0.85+W107","v":{"v":63.2830985915493,"d":"63.2831"}},{"$f":"0.7*X107","v":{"v":44.2981690140845,"d":"44.2982"}},{"$f":"VLOOKUP(D107,体测成绩!B$2:C$273,2,FALSE)","v":{"v":71.4,"d":"71.4000"}},{"$f":"VLOOKUP(D107,体育锻炼成绩!A$2:B$182,2,FALSE)","v":"100.00"},{"$f":"0.8*Z107","v":{"v":57.12,"d":"57.1200"}},{"$f":"AA107*0.2","v":{"v":20,"d":"20.0000"}},{"$f":"SUM(AB107:AC107)*0.7","v":{"v":53.984,"d":"53.9840"}},{"$f":"VLOOKUP(D107,体育加分汇总!A$1:C$79,3,FALSE)","v":{"v":10,"d":"10.0000"}},{"$f":"AD107+AE107","v":{"v":63.984,"d":"63.9840"}},{"$f":"AF107*0.05","v":3.1992},{"$f":"VLOOKUP(D107,美育!B$2:F$182,5,FALSE)","v":{"v":40,"d":"40.0000"}},{"$f":"VLOOKUP(D107,美育!B$2:E$182,4,FALSE)","v":{"v":0,"d":"0.0000"}},{"$f":"AH107+AI107","v":{"v":40,"d":"40.0000"}},{"$f":"AJ107*0.05","v":{"v":2,"d":"2.0000"}},{"$f":"VLOOKUP(D107,劳育基础分!B$3:AF$182,31,FALSE)","v":{"v":31,"d":"31.0000"}},{"v":0,"d":"0.0000"},{"$f":"AL107+AM107","v":{"v":31,"d":"31.0000"}},{"$f":"AN107*0.05","v":{"v":1.55,"d":"1.5500"}},{"$f":"S107+Y107+AG107+AK107+AO107","v":{"v":62.0680356807512,"d":"62.0680"}},{"$f":"VLOOKUP(D107,必修课优良率!A$1:B$173,2,FALSE)","v":"52.94%"},{"$f":"VLOOKUP(D107,四级成绩!B$2:C$178,2,FALSE)","v":378},{"$f":"VLOOKUP(D107,必修课优良率!A$1:D$173,4,FALSE)","v":"否"}]
[105,125,"2024010557","李政阳",{"$f":"VLOOKUP(D108,美育!B$2:E$182,2,FALSE)","v":"化工类24-4班"},{"$f":"VLOOKUP(D108,互评分!C$2:F$181,4,FALSE)","v":{"v":97.35714,"d":"97.3571"}},{"$f":"VLOOKUP(D108,辅导员加分!B$2:C$176,2,FALSE)","v":{"v":94,"d":"94.0000"}},{"$f":"VLOOKUP(D108,互评分!C$2:F$181,3,FALSE)","v":{"v":95.57143,"d":"95.5714"}},{"$f":"VLOOKUP(D108,互评分!C$2:F$181,2,FALSE)","v":{"v":100,"d":"100.0000"}},{"$f":"F108*0.2","v":{"v":19.471428,"d":"19.4714"}},{"$f":"G108*0.5","v":{"v":47,"d":"47.0000"}},{"$f":"H108*0.2","v":{"v":19.114286,"d":"19.1143"}},{"$f":"I108*0.1","v":{"v":10,"d":"10.0000"}},{"$f":"SUM(J108:M108)*0.7","v":{"v":66.9099998,"d":"66.9100"}},{"$f":"VLOOKUP(D108,学生干部加分!A$1:C$140,3,FALSE)","v":{"v":6,"d":"6.0000"}},{"v":0,"d":"0.0000"},{"v":0,"d":"0.0000"},{"$f":"N108+O108+P108-Q108","v":{"v":72.9099998,"d":"72.9100"}},{"$f":"R108*0.15","v":{"v":10.93649997,"d":"10.9365"}},{"v":74.0243902439024,"d":"74.0244"},{"v":80.1428571428571,"d":"80.1429"},{"$f":"IF(U108>0,T108*0.9+U108*0.1,T108)","v":{"v":74.6362369337979,"d":"74.6362"}},{"v":0,"d":"0.0000"},{"$f":"V108*0.85+W108","v":{"v":63.4408013937282,"d":"63.4408"}},{"$f":"0.7*X108","v":{"v":44.4085609756097,"d":"44.4086"}},{"$f":"VLOOKUP(D108,体测成绩!B$2:C$273,2,FALSE)","v":{"v":71,"d":"71.0000"}},{"$f":"VLOOKUP(D108,体育锻炼成绩!A$2:B$182,2,FALSE)","v":"100.00"},{"$f":"0.8*Z108","v":{"v":56.8,"d":"56.8000"}},{"$f":"AA108*0.2","v":{"v":20,"d":"20.0000"}},{"$f":"SUM(AB108:AC108)*0.7","v":{"v":53.76,"d":"53.7600"}},{"v":0,"d":"0.0000"},{"$f":"AD108+AE108","v":{"v":53.76,"d":"53.7600"}},{"$f":"AF108*0.05","v":{"v":2.688,"d":"2.6880"}},{"$f":"VLOOKUP(D108,美育!B$2:F$182,5,FALSE)","v":{"v":30,"d":"30.0000"}},{"$f":"VLOOKUP(D108,美育!B$2:E$182,4,FALSE)","v":{"v":0,"d":"0.0000"}},{"$f":"AH108+AI108","v":{"v":30,"d":"30.0000"}},{"$f":"AJ108*0.05","v":{"v":1.5,"d":"1.5000"}},{"$f":"VLOOKUP(D108,劳育基础分!B$3:AF$182,31,FALSE)","v":{"v":44,"d":"44.0000"}},{"$f":"VLOOKUP(D108,劳育加分!A$3:I$34,9,FALSE)","v":{"v":4,"d":"4.0000"}},{"$f":"AL108+AM108","v":{"v":48,"d":"48.0000"}},{"$f":"AN108*0.05","v":{"v":2.4,"d":"2.4000"}},{"$f":"S108+Y108+AG108+AK108+AO108","v":{"v":61.9330609456097,"d":"61.9331"}},{"$f":"VLOOKUP(D108,必修课优良率!A$1:B$173,2,FALSE)","v":"61.90%"},{"$f":"VLOOKUP(D108,四级成绩!B$2:C$178,2,FALSE)","v":451},{"$f":"VLOOKUP(D108,必修课优良率!A$1:D$173,4,FALSE)","v":"是"}]
[106,146,"2024010497","赵晶晶",{"$f":"VLOOKUP(D109,美育!B$2:E$182,2,FALSE)","v":"化工类24-2班"},{"$f":"VLOOKUP(D109,互评分!C$2:F$181,4,FALSE)","v":{"v":97.2857142857143,"d":"97.2857"}},{"$f":"VLOOKUP(D109,辅导员加分!B$2:C$176,2,FALSE)","v":{"v":95,"d":"95.0000"}},{"$f":"VLOOKUP(D109,互评分!C$2:F$181,3,FALSE)","v":{"v":98.3333333333333,"d":"98.3333"}},{"$f":"VLOOKUP(D109,互评分!C$2:F$181,2,FALSE)","v":{"v":92,"d":"92.0000"}},{"$f":"F109*0.2","v":{"v":19.4571428571429,"d":"19.4571"}},{"$f":"G109*0.5","v":{"v":47.5,"d":"47.5000"}},{"$f":"H109*0.2","v":{"v":19.6666666666667,"d":"19.6667"}},{"$f":"I109*0.1","v":{"v":9.2,"d":"9.2000"}},{"$f":"SUM(J109:M109)*0.7","v":{"v":67.0766666666667,"d":"67.0767"}},{"$f":"VLOOKUP(D109,学生干部加分!A$1:C$140,3,FALSE)","v":{"v":6,"d":"6.0000"}},{"v":0,"d":"0.0000"},{"v":0,"d":"0.0000"},{"$f":"N109+O109+P109-Q109","v":{"v":73.0766666666667,"d":"73.0767"}},{"$f":"R109*0.15","v":10.9615},{"v":71.719512195122,"d":"71.7195"},{"v":72.75,"d":"72.7500"},{"$f":"IF(U109>0,T109*0.9+U109*0.1,T109)","v":{"v":71.8225609756098,"d":"71.8226"}},{"v":0,"d":"0.0000"},{"$f":"V109*0.85+W109","v":{"v":61.0491768292683,"d":"61.0492"}},{"$f":"0.7*X109","v":{"v":42.7344237804878,"d":"42.7344"}},{"$f":"VLOOKUP(D109,体测成绩!B$2:C$273,2,FALSE)","v":{"v":81.3,"d":"81.3000"}},{"$f":"VLOOKUP(D109,体育锻炼成绩!A$2:B$182,2,FALSE)","v":"100.00"},{"$f":"0.8*Z109","v":{"v":65.04,"d":"65.0400"}},{"$f":"AA109*0.2","v":{"v":20,"d":"20.0000"}},{"$f":"SUM(AB109:AC109)*0.7","v":{"v":59.528,"d":"59.5280"}},{"$f":"VLOOKUP(D109,体育加分汇总!A$1:C$79,3,FALSE)","v":{"v":0,"d":"0.0000"}},{"$f":"AD109+AE109","v":{"v":59.528,"d":"59.5280"}},{"$f":"AF109*0.05","v":2.9764},{"$f":"VLOOKUP(D109,美育!B$2:F$182,5,FALSE)","v":{"v":60,"d":"60.0000"}},{"$f":"VLOOKUP(D109,美育!B$2:E$182,4,FALSE)","v":{"v":0,"d":"0.0000"}},{"$f":"AH109+AI109","v":{"v":60,"d":"60.0000"}},{"$f":"AJ109*0.05","v":{"v":3,"d":"3.0000"}},{"$f":"VLOOKUP(D109,劳育基础分!B$3:AF$182,31,FALSE)","v":{"v":40,"d":"40.0000"}},{"$f":"VLOOKUP(D109,劳育加分!A$3:I$34,9,FALSE)","v":{"v":4,"d":"4.0000"}},{"$f":"AL109+AM109","v":{"v":44,"d":"44.0000"}},{"$f":"AN109*0.05","v":{"v":2.2,"d":"2.2000"}},{"$f":"S109+Y109+AG109+AK109+AO109","v":{"v":61.8723237804878,"d":"61.8723"}},{"$f":"VLOOKUP(D109,必修课优良率!A$1:B$173,2,FALSE)","v":"38.10%"},{"$f":"VLOOKUP(D109,四级成绩!B$2:C$178,2,FALSE)","v":"465"},{"$f":"VLOOKUP(D109,必修课优良率!A$1:D$173,4,FALSE)","v":"是"}]
[107,164,"2024010630","周子晨",{"$f":"VLOOKUP(D110,美育!B$2:E$182,2,FALSE)","v":"化工类24-6班"},{"$f":"VLOOKUP(D110,互评分!C$2:F$181,4,FALSE)","v":{"v":98.0769230769231,"d":"98.0769"}},{"$f":"VLOOKUP(D110,辅导员加分!B$2:C$176,2,FALSE)","v":{"v":94,"d":"94.0000"}},{"$f":"VLOOKUP(D110,互评分!C$2:F$181,3,FALSE)","v":{"v":100,"d":"100.0000"}},{"$f":"VLOOKUP(D110,互评分!C$2:F$181,2,FALSE)","v":{"v":100,"d":"100.0000"}},{"$f":"F110*0.2","v":{"v":19.6153846153846,"d":"19.6154"}},{"$f":"G110*0.5","v":{"v":47,"d":"47.0000"}},{"$f":"H110*0.2","v":{"v":20,"d":"20.0000"}},{"$f":"I110*0.1","v":{"v":10,"d":"10.0000"}},{"$f":"SUM(J110:M110)*0.7","v":{"v":67.6307692307692,"d":"67.6308"}},{"$f":"VLOOKUP(D110,学生干部加分!A$1:C$140,3,FALSE)","v":{"v":8,"d":"8.0000"}},{"v":0,"d":"0.0000"},{"v":0,"d":"0.0000"},{"$f":"N110+O110+P110-Q110","v":{"v":75.6307692307692,"d":"75.6308"}},{"$f":"R110*0.15","v":{"v":11.3446153846154,"d":"11.3446"}},{"v":66.4512195121951,"d":"66.4512"},{"v":92,"d":"92.0000"},{"$f":"IF(U110>0,T110*0.9+U110*0.1,T110)","v":{"v":69.0060975609756,"d":"69.0061"}},{"$f":"VLOOKUP(D110,智育加分汇总!A$2:C$44,3,FALSE)","v":{"v":6.25,"d":"6.2500"}},{"$f":"V110*0.85+W110","v":{"v":64.9051829268292,"d":"64.9052"}},{"$f":"0.7*X110","v":{"v":45.4336280487805,"d":"45.4336"}},{"$f":"VLOOKUP(D110,体测成绩!B$2:C$273,2,FALSE)","v":{"v":67.1,"d":"67.1000"}},{"$f":"VLOOKUP(D110,体育锻炼成绩!A$2:B$182,2,FALSE)","v":"100.00"},{"$f":"0.8*Z110","v":{"v":53.68,"d":"53.6800"}},{"$f":"AA110*0.2","v":{"v":20,"d":"20.0000"}},{"$f":"SUM(AB110:AC110)*0.7","v":{"v":51.576,"d":"51.5760"}},{"v":0,"d":"0.0000"},{"$f":"AD110+AE110","v":{"v":51.576,"d":"51.5760"}},{"$f":"AF110*0.05","v":2.5788},{"$f":"VLOOKUP(D110,美育!B$2:F$182,5,FALSE)","v":{"v":5,"d":"5.0000"}},{"$f":"VLOOKUP(D110,美育!B$2:E$182,4,FALSE)","v":{"v":0,"d":"0.0000"}},{"$f":"AH110+AI110","v":{"v":5,"d":"5.0000"}},{"$f":"AJ110*0.05","v":{"v":0.25,"d":"0.2500"}},{"$f":"VLOOKUP(D110,劳育基础分!B$3:AF$182,31,FALSE)","v":{"v":40,"d":"40.0000"}},{"$f":"VLOOKUP(D110,劳育加分!A$3:I$34,9,FALSE)","v":{"v":4,"d":"4.0000"}},{"$f":"AL110+AM110","v":{"v":44,"d":"44.0000"}},{"$f":"AN110*0.05","v":{"v":2.2,"d":"2.2000"}},{"$f":"S110+Y110+AG110+AK110+AO110","v":{"v":61.8070434333958,"d":"61.8070"}},{"$f":"VLOOKUP(D110,必修课优良率!A$1:B$173,2,FALSE)","v":"28.57%"},{"$f":"VLOOKUP(D110,四级成绩!B$2:C$178,2,FALSE)","v":"没考"},{"$f":"VLOOKUP(D110,必修课优良率!A$1:D$173,4,FALSE)","v":"是"}]
[108,108,"2024010629","杨恒",{"$f":"VLOOKUP(D111,美育!B$2:E$182,2,FALSE)","v":"化工类24-6班"},{"$f":"VLOOKUP(D111,互评分!C$2:F$181,4,FALSE)","v":{"v":98.4615384615385,"d":"98.4615"}},{"$f":"VLOOKUP(D111,辅导员加分!B$2:C$176,2,FALSE)","v":{"v":92,"d":"92.0000"}},{"$f":"VLOOKUP(D111,互评分!C$2:F$181,3,FALSE)","v":{"v":100,"d":"100.0000"}},{"$f":"VLOOKUP(D111,互评分!C$2:F$181,2,FALSE)","v":{"v":100,"d":"100.0000"}},{"$f":"F111*0.2","v":{"v":19.6923076923077,"d":"19.6923"}},{"$f":"G111*0.5","v":{"v":46,"d":"46.0000"}},{"$f":"H111*0.2","v":{"v":20,"d":"20.0000"}},{"$f":"I111*0.1","v":{"v":10,"d":"10.0000"}},{"$f":"SUM(J111:M111)*0.7","v":{"v":66.9846153846154,"d":"66.9846"}},{"$f":"VLOOKUP(D111,学生干部加分!A$1:C$140,3,FALSE)","v":{"v":4,"d":"4.0000"}},{"v":0,"d":"0.0000"},{"v":0,"d":"0.0000"},{"$f":"N111+O111+P111-Q111","v":{"v":70.9846153846154,"d":"70.9846"}},{"$f":"R111*0.15","v":{"v":10.6476923076923,"d":"10.6477"}},{"v":75.2439024390244,"d":"75.2439"},{"v":79,"d":"79.0000"},{"$f":"IF(U111>0,T111*0.9+U111*0.1,T111)","v":{"v":75.619512195122,"d":"75.6195"}},{"$f":"VLOOKUP(D111,智育加分汇总!A$2:C$44,3,FALSE)","v":{"v":2,"d":"2.0000"}},{"$f":"V111*0.85+W111","v":{"v":66.2765853658537,"d":"66.2766"}},{"$f":"0.7*X111","v":{"v":46.3936097560976,"d":"46.3936"}},{"$f":"VLOOKUP(D111,体测成绩!B$2:C$273,2,FALSE)","v":{"v":68.3,"d":"68.3000"}},{"$f":"VLOOKUP(D111,体育锻炼成绩!A$2:B$182,2,FALSE)","v":"100.00"},{"$f":"0.8*Z111","v":{"v":54.64,"d":"54.6400"}},{"$f":"AA111*0.2","v":{"v":20,"d":"20.0000"}},{"$f":"SUM(AB111:AC111)*0.7","v":{"v":52.248,"d":"52.2480"}},{"v":0,"d":"0.0000"},{"$f":"AD111+AE111","v":{"v":52.248,"d":"52.2480"}},{"$f":"AF111*0.05","v":2.6124},{"$f":"VLOOKUP(D111,美育!B$2:F$182,5,FALSE)","v":{"v":0,"d":"0.0000"}},{"$f":"VLOOKUP(D111,美育!B$2:E$182,4,FALSE)","v":{"v":0,"d":"0.0000"}},{"$f":"AH111+AI111","v":{"v":0,"d":"0.0000"}},{"$f":"AJ111*0.05","v":{"v":0,"d":"0.0000"}},{"$f":"VLOOKUP(D111,劳育基础分!B$3:AF$182,31,FALSE)","v":{"v":41,"d":"41.0000"}},{"v":0,"d":"0.0000"},{"$f":"AL111+AM111","v":{"v":41,"d":"41.0000"}},{"$f":"AN111*0.05","v":{"v":2.05,"d":"2.0500"}},{"$f":"S111+Y111+AG111+AK111+AO111","v":{"v":61.7037020637899,"d":"61.7037"}},{"$f":"VLOOKUP(D111,必修课优良率!A$1:B$173,2,FALSE)","v":"57.14%"},{"$f":"VLOOKUP(D111,四级成绩!B$2:C$178,2,FALSE)","v":"439"},{"$f":"VLOOKUP(D111,必修课优良率!A$1:D$173,4,FALSE)","v":"否"}]
[109,109,"2024010591","黄皓仑",{"$f":"VLOOKUP(D112,美育!B$2:E$182,2,FALSE)","v":"化工类24-5班"},{"$f":"VLOOKUP(D112,互评分!C$2:F$181,4,FALSE)","v":{"v":99.6666666666667,"d":"99.6667"}},{"$f":"VLOOKUP(D112,辅导员加分!B$2:C$176,2,FALSE)","v":{"v":92,"d":"92.0000"}},{"$f":"VLOOKUP(D112,互评分!C$2:F$181,3,FALSE)","v":{"v":100,"d":"100.0000"}},{"$f":"VLOOKUP(D112,互评分!C$2:F$181,2,FALSE)","v":{"v":90,"d":"90.0000"}},{"$f":"F112*0.2","v":{"v":19.9333333333333,"d":"19.9333"}},{"$f":"G112*0.5","v":{"v":46,"d":"46.0000"}},{"$f":"H112*0.2","v":{"v":20,"d":"20.0000"}},{"$f":"I112*0.1","v":{"v":9,"d":"9.0000"}},{"$f":"SUM(J112:M112)*0.7","v":{"v":66.4533333333333,"d":"66.4533"}},{"$f":"VLOOKUP(D112,学生干部加分!A$1:C$140,3,FALSE)","v":{"v":6,"d":"6.0000"}},{"v":0,"d":"0.0000"},{"v":0,"d":"0.0000"},{"$f":"N112+O112+P112-Q112","v":{"v":72.4533333333333,"d":"72.4533"}},{"$f":"R112*0.15","v":{"v":10.868,"d":"10.8680"}},{"v":75.2439024390244,"d":"75.2439"},{"v":82,"d":"82.0000"},{"$f":"IF(U112>0,T112*0.9+U112*0.1,T112)","v":{"v":75.919512195122,"d":"75.9195"}},{"v":0,"d":"0.0000"},{"$f":"V112*0.85+W112","v":{"v":64.5315853658537,"d":"64.5316"}},{"$f":"0.7*X112","v":{"v":45.1721097560976,"d":"45.1721"}},{"$f":"VLOOKUP(D112,体测成绩!B$2:C$273,2,FALSE)","v":{"v":61.2,"d":"61.2000"}},{"$f":"VLOOKUP(D112,体育锻炼成绩!A$2:B$182,2,FALSE)","v":"100.00"},{"$f":"0.8*Z112","v":{"v":48.96,"d":"48.9600"}},{"$f":"AA112*0.2","v":{"v":20,"d":"20.0000"}},{"$f":"SUM(AB112:AC112)*0.7","v":{"v":48.272,"d":"48.2720"}},{"v":0,"d":"0.0000"},{"$f":"AD112+AE112","v":{"v":48.272,"d":"48.2720"}},{"$f":"AF112*0.05","v":2.4136},{"$f":"VLOOKUP(D112,美育!B$2:F$182,5,FALSE)","v":{"v":18,"d":"18.0000"}},{"$f":"VLOOKUP(D112,美育!B$2:E$182,4,FALSE)","v":{"v":0,"d":"0.0000"}},{"$f":"AH112+AI112","v":{"v":18,"d":"18.0000"}},{"$f":"AJ112*0.05","v":{"v":0.9,"d":"0.9000"}},{"$f":"VLOOKUP(D112,劳育基础分!B$3:AF$182,31,FALSE)","v":{"v":42.5,"d":"42.5000"}},{"$f":"VLOOKUP(D112,劳育加分!A$3:I$34,9,FALSE)","v":{"v":4,"d":"4.0000"}},{"$f":"AL112+AM112","v":{"v":46.5,"d":"46.5000"}},{"$f":"AN112*0.05","v":{"v":2.325,"d":"2.3250"}},{"$f":"S112+Y112+AG112+AK112+AO112","v":{"v":61.6787097560976,"d":"61.6787"}},{"$f":"VLOOKUP(D112,必修课优良率!A$1:B$173,2,FALSE)","v":"57.14%"},{"$f":"VLOOKUP(D112,四级成绩!B$2:C$178,2,FALSE)","v":515},{"$f":"VLOOKUP(D112,必修课优良率!A$1:D$173,4,FALSE)","v":"否"}]
[110,147,"2024010477","李俊义",{"$f":"VLOOKUP(D113,美育!B$2:E$182,2,FALSE)","v":"化工类24-1班"},{"$f":"VLOOKUP(D113,互评分!C$2:F$181,4,FALSE)","v":{"v":99.48148148,"d":"99.4815"}},{"$f":"VLOOKUP(D113,辅导员加分!B$2:C$176,2,FALSE)","v":{"v":92,"d":"92.0000"}},{"$f":"VLOOKUP(D113,互评分!C$2:F$181,3,FALSE)","v":{"v":100,"d":"100.0000"}},{"$f":"VLOOKUP(D113,互评分!C$2:F$181,2,FALSE)","v":{"v":99,"d":"99.0000"}},{"$f":"F113*0.2","v":{"v":19.896296296,"d":"19.8963"}},{"$f":"G113*0.5","v":{"v":46,"d":"46.0000"}},{"$f":"H113*0.2","v":{"v":20,"d":"20.0000"}},{"$f":"I113*0.1","v":{"v":9.9,"d":"9.9000"}},{"$f":"SUM(J113:M113)*0.7","v":{"v":67.0574074072,"d":"67.0574"}},{"$f":"VLOOKUP(D113,学生干部加分!A$1:C$140,3,FALSE)","v":{"v":5,"d":"5.0000"}},{"v":0,"d":"0.0000"},{"v":0,"d":"0.0000"},{"$f":"N113+O113+P113-Q113","v":{"v":72.0574074072,"d":"72.0574"}},{"$f":"R113*0.15","v":{"v":10.80861111108,"d":"10.8086"}},{"v":71.6341463414634,"d":"71.6341"},{"v":87.2857142857143,"d":"87.2857"},{"$f":"IF(U113>0,T113*0.9+U113*0.1,T113)","v":{"v":73.1993031358885,"d":"73.1993"}},{"v":0,"d":"0.0000"},{"$f":"V113*0.85+W113","v":{"v":62.2194076655052,"d":"62.2194"}},{"$f":"0.7*X113","v":{"v":43.5535853658537,"d":"43.5536"}},{"$f":"VLOOKUP(D113,体测成绩!B$2:C$273,2,FALSE)","v":{"v":76.2,"d":"76.2000"}},{"$f":"VLOOKUP(D113,体育锻炼成绩!A$2:B$182,2,FALSE)","v":"100.00"},{"$f":"0.8*Z113","v":{"v":60.96,"d":"60.9600"}},{"$f":"AA113*0.2","v":{"v":20,"d":"20.0000"}},{"$f":"SUM(AB113:AC113)*0.7","v":{"v":56.672,"d":"56.6720"}},{"$f":"VLOOKUP(D113,体育加分汇总!A$1:C$79,3,FALSE)","v":{"v":1,"d":"1.0000"}},{"$f":"AD113+AE113","v":{"v":57.672,"d":"57.6720"}},{"$f":"AF113*0.05","v":2.8836},{"$f":"VLOOKUP(D113,美育!B$2:F$182,5,FALSE)","v":{"v":25,"d":"25.0000"}},{"$f":"VLOOKUP(D113,美育!B$2:E$182,4,FALSE)","v":{"v":0,"d":"0.0000"}},{"$f":"AH113+AI113","v":{"v":25,"d":"25.0000"}},{"$f":"AJ113*0.05","v":{"v":1.25,"d":"1.2500"}},{"$f":"VLOOKUP(D113,劳育基础分!B$3:AF$182,31,FALSE)","v":{"v":62,"d":"62.0000"}},{"v":0,"d":"0.0000"},{"$f":"AL113+AM113","v":{"v":62,"d":"62.0000"}},{"$f":"AN113*0.05","v":{"v":3.1,"d":"3.1000"}},{"$f":"S113+Y113+AG113+AK113+AO113","v":{"v":61.5957964769337,"d":"61.5958"}},{"$f":"VLOOKUP(D113,必修课优良率!A$1:B$173,2,FALSE)","v":"47.62%"},0,{"$f":"VLOOKUP(D113,必修课优良率!A$1:D$173,4,FALSE)","v":"是"}]
[111,87,2024010498,"杨胤泽",{"$f":"VLOOKUP(D114,美育!B$2:E$182,2,FALSE)","v":"化工类24-2班"},{"$f":"VLOOKUP(D114,互评分!C$2:F$181,4,FALSE)","v":{"v":96.4642857142857,"d":"96.4643"}},{"$f":"VLOOKUP(D114,辅导员加分!B$2:C$176,2,FALSE)","v":{"v":94,"d":"94.0000"}},{"$f":"VLOOKUP(D114,互评分!C$2:F$181,3,FALSE)","v":{"v":98.3333333333333,"d":"98.3333"}},{"$f":"VLOOKUP(D114,互评分!C$2:F$181,2,FALSE)","v":{"v":90,"d":"90.0000"}},{"$f":"F114*0.2","v":{"v":19.2928571428571,"d":"19.2929"}},{"$f":"G114*0.5","v":{"v":47,"d":"47.0000"}},{"$f":"H114*0.2","v":{"v":19.6666666666667,"d":"19.6667"}},{"$f":"I114*0.1","v":{"v":9,"d":"9.0000"}},{"$f":"SUM(J114:M114)*0.7","v":{"v":66.4716666666667,"d":"66.4717"}},{"v":0,"d":"0.0000"},{"v":0,"d":"0.0000"},{"v":0,"d":"0.0000"},{"$f":"N114+O114+P114-Q114","v":{"v":66.4716666666667,"d":"66.4717"}},{"$f":"R114*0.15","v":{"v":9.97075,"d":"9.9708"}},{"$f":"VLOOKUP(D114,[1]必修课成绩!C$71:AE$100,29,FALSE)","v":{"v":77.4,"d":"77.4000"}},{"$f":"VLOOKUP(D114,[1]选修课成绩!C$72:AC$101,27,FALSE)","v":{"v":0,"d":"0.0000"}},{"$f":"IF(U114>0,T114*0.9+U114*0.1,T114)","v":{"v":77.4,"d":"77.4000"}},{"v":0,"d":"0.0000"},{"$f":"V114*0.85+W114","v":{"v":65.79,"d":"65.7900"}},{"$f":"0.7*X114","v":{"v":46.053,"d":"46.0530"}},{"$f":"VLOOKUP(D114,体测成绩!B$2:C$273,2,FALSE)","v":{"v":75.8,"d":"75.8000"}},{"$f":"VLOOKUP(D114,体育锻炼成绩!A$2:B$182,2,FALSE)","v":"100.00"},{"$f":"0.8*Z114","v":{"v":60.64,"d":"60.6400"}},{"$f":"AA114*0.2","v":{"v":20,"d":"20.0000"}},{"$f":"SUM(AB114:AC114)*0.7","v":{"v":56.448,"d":"56.4480"}},{"v":0,"d":"0.0000"},{"$f":"AD114+AE114","v":{"v":56.448,"d":"56.4480"}},{"$f":"AF114*0.05","v":2.8224},{"$f":"VLOOKUP(D114,美育!B$2:F$182,5,FALSE)","v":{"v":25,"d":"25.0000"}},{"$f":"VLOOKUP(D114,美育!B$2:E$182,4,FALSE)","v":{"v":0,"d":"0.0000"}},{"$f":"AH114+AI114","v":{"v":25,"d":"25.0000"}},{"$f":"AJ114*0.05","v":{"v":1.25,"d":"1.2500"}},{"$f":"VLOOKUP(D114,劳育基础分!B$3:AF$182,31,FALSE)","v":{"v":29.5,"d":"29.5000"}},{"v":0,"d":"0.0000"},{"$f":"AL114+AM114","v":{"v":29.5,"d":"29.5000"}},{"$f":"AN114*0.05","v":{"v":1.475,"d":"1.4750"}},{"$f":"S114+Y114+AG114+AK114+AO114","v":{"v":61.57115,"d":"61.5712"}},{"$f":"VLOOKUP(D114,必修课优良率!A$1:B$173,2,FALSE)","v":"66.67%"},{"$f":"VLOOKUP(D114,四级成绩!B$2:C$178,2,FALSE)","v":416},{"$f":"VLOOKUP(D114,必修课优良率!A$1:D$173,4,FALSE)","v":"否"}]
[112,88,"2024010624","任务",{"$f":"VLOOKUP(D115,美育!B$2:E$182,2,FALSE)","v":"化工类24-6班"},{"$f":"VLOOKUP(D115,互评分!C$2:F$181,4,FALSE)","v":{"v":98.4615384615385,"d":"98.4615"}},{"$f":"VLOOKUP(D115,辅导员加分!B$2:C$176,2,FALSE)","v":{"v":92,"d":"92.0000"}},{"$f":"VLOOKUP(D115,互评分!C$2:F$181,3,FALSE)","v":{"v":100,"d":"100.0000"}},{"$f":"VLOOKUP(D115,互评分!C$2:F$181,2,FALSE)","v":{"v":100,"d":"100.0000"}},{"$f":"F115*0.2","v":{"v":19.6923076923077,"d":"19.6923"}},{"$f":"G115*0.5","v":{"v":46,"d":"46.0000"}},{"$f":"H115*0.2","v":{"v":20,"d":"20.0000"}},{"$f":"I115*0.1","v":{"v":10,"d":"10.0000"}},{"$f":"SUM(J115:M115)*0.7","v":{"v":66.9846153846154,"d":"66.9846"}},{"v":0,"d":"0.0000"},{"v":0,"d":"0.0000"},{"v":0,"d":"0.0000"},{"$f":"N115+O115+P115-Q115","v":{"v":66.9846153846154,"d":"66.9846"}},{"$f":"R115*0.15","v":{"v":10.0476923076923,"d":"10.0477"}},{"v":77.3658536585366,"d":"77.3659"},{"v":87,"d":"87.0000"},{"$f":"IF(U115>0,T115*0.9+U115*0.1,T115)","v":{"v":78.3292682926829,"d":"78.3293"}},{"v":0,"d":"0.0000"},{"$f":"V115*0.85+W115","v":{"v":66.5798780487805,"d":"66.5799"}},{"$f":"0.7*X115","v":{"v":46.6059146341463,"d":"46.6059"}},{"$f":"VLOOKUP(D115,体测成绩!B$2:C$273,2,FALSE)","v":{"v":69.4,"d":"69.4000"}},{"$f":"VLOOKUP(D115,体育锻炼成绩!A$2:B$182,2,FALSE)","v":"100.00"},{"$f":"0.8*Z115","v":{"v":55.52,"d":"55.5200"}},{"$f":"AA115*0.2","v":{"v":20,"d":"20.0000"}},{"$f":"SUM(AB115:AC115)*0.7","v":{"v":52.864,"d":"52.8640"}},{"v":0,"d":"0.0000"},{"$f":"AD115+AE115","v":{"v":52.864,"d":"52.8640"}},{"$f":"AF115*0.05","v":2.6432},{"$f":"VLOOKUP(D115,美育!B$2:F$182,5,FALSE)","v":{"v":10,"d":"10.0000"}},{"$f":"VLOOKUP(D115,美育!B$2:E$182,4,FALSE)","v":{"v":0,"d":"0.0000"}},{"$f":"AH115+AI115","v":{"v":10,"d":"10.0000"}},{"$f":"AJ115*0.05","v":{"v":0.5,"d":"0.5000"}},{"$f":"VLOOKUP(D115,劳育基础分!B$3:AF$182,31,FALSE)","v":{"v":35,"d":"35.0000"}},{"v":0,"d":"0.0000"},{"$f":"AL115+AM115","v":{"v":35,"d":"35.0000"}},{"$f":"AN115*0.05","v":{"v":1.75,"d":"1.7500"}},{"$f":"S115+Y115+AG115+AK115+AO115","v":{"v":61.5468069418387,"d":"61.5468"}},{"$f":"VLOOKUP(D115,必修课优良率!A$1:B$173,2,FALSE)","v":"66.67%"},{"$f":"VLOOKUP(D115,四级成绩!B$2:C$178,2,FALSE)","v":545},{"$f":"VLOOKUP(D115,必修课优良率!A$1:D$173,4,FALSE)","v":"否"}]
[113,101,"2024010510","钟家豪",{"$f":"VLOOKUP(D116,美育!B$2:E$182,2,FALSE)","v":"化工类24-2班"},{"$f":"VLOOKUP(D116,互评分!C$2:F$181,4,FALSE)","v":{"v":96.6785714285714,"d":"96.6786"}},{"$f":"VLOOKUP(D116,辅导员加分!B$2:C$176,2,FALSE)","v":{"v":90,"d":"90.0000"}},{"$f":"VLOOKUP(D116,互评分!C$2:F$181,3,FALSE)","v":{"v":98.3333333333333,"d":"98.3333"}},{"$f":"VLOOKUP(D116,互评分!C$2:F$181,2,FALSE)","v":{"v":94,"d":"94.0000"}},{"$f":"F116*0.2","v":{"v":19.3357142857143,"d":"19.3357"}},{"$f":"G116*0.5","v":{"v":45,"d":"45.0000"}},{"$f":"H116*0.2","v":{"v":19.6666666666667,"d":"19.6667"}},{"$f":"I116*0.1","v":{"v":9.4,"d":"9.4000"}},{"$f":"SUM(J116:M116)*0.7","v":{"v":65.3816666666667,"d":"65.3817"}},{"v":0,"d":"0.0000"},{"v":0,"d":"0.0000"},{"v":0,"d":"0.0000"},{"$f":"N116+O116+P116-Q116","v":{"v":65.3816666666667,"d":"65.3817"}},{"$f":"R116*0.15","v":{"v":9.80725,"d":"9.8073"}},{"v":75.925,"d":"75.9250"},{"v":82.6666666666667,"d":"82.6667"},{"$f":"IF(U116>0,T116*0.9+U116*0.1,T116)","v":{"v":76.5991666666667,"d":"76.5992"}},{"v":0,"d":"0.0000"},{"$f":"V116*0.85+W116","v":{"v":65.1092916666667,"d":"65.1093"}},{"$f":"0.7*X116","v":{"v":45.5765041666667,"d":"45.5765"}},{"$f":"VLOOKUP(D116,体测成绩!B$2:C$273,2,FALSE)","v":{"v":60,"d":"60.0000"}},{"$f":"VLOOKUP(D116,体育锻炼成绩!A$2:B$182,2,FALSE)","v":"100.00"},{"$f":"0.8*Z116","v":{"v":48,"d":"48.0000"}},{"$f":"AA116*0.2","v":{"v":20,"d":"20.0000"}},{"$f":"SUM(AB116:AC116)*0.7","v":{"v":47.6,"d":"47.6000"}},{"v":0,"d":"0.0000"},{"$f":"AD116+AE116","v":{"v":47.6,"d":"47.6000"}},{"$f":"AF116*0.05","v":{"v":2.38,"d":"2.3800"}},{"$f":"VLOOKUP(D116,美育!B$2:F$182,5,FALSE)","v":{"v":34,"d":"34.0000"}},{"$f":"VLOOKUP(D116,美育!B$2:E$182,4,FALSE)","v":{"v":0,"d":"0.0000"}},{"$f":"AH116+AI116","v":{"v":34,"d":"34.0000"}},{"$f":"AJ116*0.05","v":{"v":1.7,"d":"1.7000"}},{"$f":"VLOOKUP(D116,劳育基础分!B$3:AF$182,31,FALSE)","v":{"v":41.5,"d":"41.5000"}},{"v":0,"d":"0.0000"},{"$f":"AL116+AM116","v":{"v":41.5,"d":"41.5000"}},{"$f":"AN116*0.05","v":{"v":2.075,"d":"2.0750"}},{"$f":"S116+Y116+AG116+AK116+AO116","v":{"v":61.5387541666667,"d":"61.5388"}},{"$f":"VLOOKUP(D116,必修课优良率!A$1:B$173,2,FALSE)","v":"75.00%"},{"$f":"VLOOKUP(D116,四级成绩!B$2:C$178,2,FALSE)","v":426},{"$f":"VLOOKUP(D116,必修课优良率!A$1:D$173,4,FALSE)","v":"是"}]
[114,135,2024010462,"佟安冉",{"$f":"VLOOKUP(D117,美育!B$2:E$182,2,FALSE)","v":"化工类24-1班"},{"$f":"VLOOKUP(D117,互评分!C$2:F$181,4,FALSE)","v":{"v":96.51851852,"d":"96.5185"}},{"$f":"VLOOKUP(D117,辅导员加分!B$2:C$176,2,FALSE)","v":{"v":92,"d":"92.0000"}},{"$f":"VLOOKUP(D117,互评分!C$2:F$181,3,FALSE)","v":{"v":97.5,"d":"97.5000"}},{"$f":"VLOOKUP(D117,互评分!C$2:F$181,2,FALSE)","v":{"v":90,"d":"90.0000"}},{"$f":"F117*0.2","v":{"v":19.303703704,"d":"19.3037"}},{"$f":"G117*0.5","v":{"v":46,"d":"46.0000"}},{"$f":"H117*0.2","v":{"v":19.5,"d":"19.5000"}},{"$f":"I117*0.1","v":{"v":9,"d":"9.0000"}},{"$f":"SUM(J117:M117)*0.7","v":{"v":65.6625925928,"d":"65.6626"}},{"v":0,"d":"0.0000"},{"v":0,"d":"0.0000"},{"v":0,"d":"0.0000"},{"$f":"N117+O117+P117-Q117","v":{"v":65.6625925928,"d":"65.6626"}},{"$f":"R117*0.15","v":{"v":9.84938888892,"d":"9.8494"}},{"$f":"VLOOKUP(D117,[1]必修课成绩!C$71:AE$100,29,FALSE)","v":{"v":72.95,"d":"72.9500"}},{"$f":"VLOOKUP(D117,[1]选修课成绩!C$72:AC$101,27,FALSE)","v":{"v":89,"d":"89.0000"}},{"$f":"IF(U117>0,T117*0.9+U117*0.1,T117)","v":{"v":74.555,"d":"74.5550"}},{"v":0,"d":"0.0000"},{"$f":"V117*0.85+W117","v":{"v":63.37175,"d":"63.3718"}},{"$f":"0.7*X117","v":{"v":44.360225,"d":"44.3602"}},{"$f":"VLOOKUP(D117,体测成绩!B$2:C$273,2,FALSE)","v":{"v":64.7,"d":"64.7000"}},{"$f":"VLOOKUP(D117,体育锻炼成绩!A$2:B$182,2,FALSE)","v":"100.00"},{"$f":"0.8*Z117","v":{"v":51.76,"d":"51.7600"}},{"$f":"AA117*0.2","v":{"v":20,"d":"20.0000"}},{"$f":"SUM(AB117:AC117)*0.7","v":{"v":50.232,"d":"50.2320"}},{"v":0,"d":"0.0000"},{"$f":"AD117+AE117","v":{"v":50.232,"d":"50.2320"}},{"$f":"AF117*0.05","v":2.5116},{"$f":"VLOOKUP(D117,美育!B$2:F$182,5,FALSE)","v":{"v":48,"d":"48.0000"}},{"$f":"VLOOKUP(D117,美育!B$2:E$182,4,FALSE)","v":{"v":4,"d":"4.0000"}},{"$f":"AH117+AI117","v":{"v":52,"d":"52.0000"}},{"$f":"AJ117*0.05","v":{"v":2.6,"d":"2.6000"}},{"$f":"VLOOKUP(D117,劳育基础分!B$3:AF$182,31,FALSE)","v":{"v":40,"d":"40.0000"}},{"$f":"VLOOKUP(D117,劳育加分!A$3:I$34,9,FALSE)","v":{"v":4,"d":"4.0000"}},{"$f":"AL117+AM117","v":{"v":44,"d":"44.0000"}},{"$f":"AN117*0.05","v":{"v":2.2,"d":"2.2000"}},{"$f":"S117+Y117+AG117+AK117+AO117","v":{"v":61.52121388892,"d":"61.5212"}},{"$f":"VLOOKUP(D117,必修课优良率!A$1:B$173,2,FALSE)","v":"52.38%"},{"$f":"VLOOKUP(D117,四级成绩!B$2:C$178,2,FALSE)","v":343},{"$f":"VLOOKUP(D117,必修课优良率!A$1:D$173,4,FALSE)","v":"是"}]
[115,154,"2024010616","吕佳琳",{"$f":"VLOOKUP(D118,美育!B$2:E$182,2,FALSE)","v":"化工类24-6班"},{"$f":"VLOOKUP(D118,互评分!C$2:F$181,4,FALSE)","v":{"v":97.3076923076923,"d":"97.3077"}},{"$f":"VLOOKUP(D118,辅导员加分!B$2:C$176,2,FALSE)","v":{"v":92,"d":"92.0000"}},{"$f":"VLOOKUP(D118,互评分!C$2:F$181,3,FALSE)","v":{"v":100,"d":"100.0000"}},{"$f":"VLOOKUP(D118,互评分!C$2:F$181,2,FALSE)","v":{"v":100,"d":"100.0000"}},{"$f":"F118*0.2","v":{"v":19.4615384615385,"d":"19.4615"}},{"$f":"G118*0.5","v":{"v":46,"d":"46.0000"}},{"$f":"H118*0.2","v":{"v":20,"d":"20.0000"}},{"$f":"I118*0.1","v":{"v":10,"d":"10.0000"}},{"$f":"SUM(J118:M118)*0.7","v":{"v":66.8230769230769,"d":"66.8231"}},{"$f":"VLOOKUP(D118,学生干部加分!A$1:C$140,3,FALSE)","v":{"v":6,"d":"6.0000"}},{"v":0,"d":"0.0000"},{"v":0,"d":"0.0000"},{"$f":"N118+O118+P118-Q118","v":{"v":72.8230769230769,"d":"72.8231"}},{"$f":"R118*0.15","v":{"v":10.9234615384615,"d":"10.9235"}},{"v":69.280487804878,"d":"69.2805"},{"v":82.5,"d":"82.5000"},{"$f":"IF(U118>0,T118*0.9+U118*0.1,T118)","v":{"v":70.6024390243902,"d":"70.6024"}},{"v":0,"d":"0.0000"},{"$f":"V118*0.85+W118","v":{"v":60.0120731707317,"d":"60.0121"}},{"$f":"0.7*X118","v":{"v":42.0084512195122,"d":"42.0085"}},{"$f":"VLOOKUP(D118,体测成绩!B$2:C$273,2,FALSE)","v":{"v":70.5,"d":"70.5000"}},{"$f":"VLOOKUP(D118,体育锻炼成绩!A$2:B$182,2,FALSE)","v":"100.00"},{"$f":"0.8*Z118","v":{"v":56.4,"d":"56.4000"}},{"$f":"AA118*0.2","v":{"v":20,"d":"20.0000"}},{"$f":"SUM(AB118:AC118)*0.7","v":{"v":53.48,"d":"53.4800"}},{"$f":"VLOOKUP(D118,体育加分汇总!A$1:C$79,3,FALSE)","v":{"v":8,"d":"8.0000"}},{"$f":"AD118+AE118","v":{"v":61.48,"d":"61.4800"}},{"$f":"AF118*0.05","v":{"v":3.074,"d":"3.0740"}},{"$f":"VLOOKUP(D118,美育!B$2:F$182,5,FALSE)","v":{"v":68,"d":"68.0000"}},{"$f":"VLOOKUP(D118,美育!B$2:E$182,4,FALSE)","v":{"v":0,"d":"0.0000"}},{"$f":"AH118+AI118","v":{"v":68,"d":"68.0000"}},{"$f":"AJ118*0.05","v":{"v":3.4,"d":"3.4000"}},{"$f":"VLOOKUP(D118,劳育基础分!B$3:AF$182,31,FALSE)","v":{"v":42,"d":"42.0000"}},{"v":0,"d":"0.0000"},{"$f":"AL118+AM118","v":{"v":42,"d":"42.0000"}},{"$f":"AN118*0.05","v":{"v":2.1,"d":"2.1000"}},{"$f":"S118+Y118+AG118+AK118+AO118","v":{"v":61.5059127579737,"d":"61.5059"}},{"$f":"VLOOKUP(D118,必修课优良率!A$1:B$173,2,FALSE)","v":"61.90%"},{"$f":"VLOOKUP(D118,四级成绩!B$2:C$178,2,FALSE)","v":484},{"$f":"VLOOKUP(D118,必修课优良率!A$1:D$173,4,FALSE)","v":"是"}]
[116,137,"2024010485","马永龙",{"$f":"VLOOKUP(D119,美育!B$2:E$182,2,FALSE)","v":"化工类24-1班"},{"$f":"VLOOKUP(D119,互评分!C$2:F$181,4,FALSE)","v":{"v":99.66666667,"d":"99.6667"}},{"$f":"VLOOKUP(D119,辅导员加分!B$2:C$176,2,FALSE)","v":{"v":92,"d":"92.0000"}},{"$f":"VLOOKUP(D119,互评分!C$2:F$181,3,FALSE)","v":{"v":100,"d":"100.0000"}},{"$f":"VLOOKUP(D119,互评分!C$2:F$181,2,FALSE)","v":{"v":99,"d":"99.0000"}},{"$f":"F119*0.2","v":{"v":19.933333334,"d":"19.9333"}},{"$f":"G119*0.5","v":{"v":46,"d":"46.0000"}},{"$f":"H119*0.2","v":{"v":20,"d":"20.0000"}},{"$f":"I119*0.1","v":{"v":9.9,"d":"9.9000"}},{"$f":"SUM(J119:M119)*0.7","v":{"v":67.0833333338,"d":"67.0833"}},{"$f":"VLOOKUP(D119,学生干部加分!A$1:C$140,3,FALSE)","v":{"v":6,"d":"6.0000"}},{"v":0,"d":"0.0000"},{"v":0,"d":"0.0000"},{"$f":"N119+O119+P119-Q119","v":{"v":73.0833333338,"d":"73.0833"}},{"$f":"R119*0.15","v":{"v":10.96250000007,"d":"10.9625"}},{"v":72.609756097561,"d":"72.6098"},{"v":79.3333333333333,"d":"79.3333"},{"$f":"IF(U119>0,T119*0.9+U119*0.1,T119)","v":{"v":73.2821138211382,"d":"73.2821"}},{"v":0,"d":"0.0000"},{"$f":"V119*0.85+W119","v":{"v":62.2897967479675,"d":"62.2898"}},{"$f":"0.7*X119","v":{"v":43.6028577235772,"d":"43.6029"}},{"$f":"VLOOKUP(D119,体测成绩!B$2:C$273,2,FALSE)","v":{"v":75.7,"d":"75.7000"}},{"$f":"VLOOKUP(D119,体育锻炼成绩!A$2:B$182,2,FALSE)","v":"100.00"},{"$f":"0.8*Z119","v":{"v":60.56,"d":"60.5600"}},{"$f":"AA119*0.2","v":{"v":20,"d":"20.0000"}},{"$f":"SUM(AB119:AC119)*0.7","v":{"v":56.392,"d":"56.3920"}},{"$f":"VLOOKUP(D119,体育加分汇总!A$1:C$79,3,FALSE)","v":{"v":8,"d":"8.0000"}},{"$f":"AD119+AE119","v":{"v":64.392,"d":"64.3920"}},{"$f":"AF119*0.05","v":3.2196},{"$f":"VLOOKUP(D119,美育!B$2:F$182,5,FALSE)","v":{"v":40,"d":"40.0000"}},{"$f":"VLOOKUP(D119,美育!B$2:E$182,4,FALSE)","v":{"v":0,"d":"0.0000"}},{"$f":"AH119+AI119","v":{"v":40,"d":"40.0000"}},{"$f":"AJ119*0.05","v":{"v":2,"d":"2.0000"}},{"$f":"VLOOKUP(D119,劳育基础分!B$3:AF$182,31,FALSE)","v":{"v":33,"d":"33.0000"}},{"v":0,"d":"0.0000"},{"$f":"AL119+AM119","v":{"v":33,"d":"33.0000"}},{"$f":"AN119*0.05","v":{"v":1.65,"d":"1.6500"}},{"$f":"S119+Y119+AG119+AK119+AO119","v":{"v":61.4349577236472,"d":"61.4350"}},{"$f":"VLOOKUP(D119,必修课优良率!A$1:B$173,2,FALSE)","v":"47.62%"},{"$f":"VLOOKUP(D119,四级成绩!B$2:C$178,2,FALSE)","v":"375"},{"$f":"VLOOKUP(D119,必修课优良率!A$1:D$173,4,FALSE)","v":"是"}]
[117,117,"2024010560","葸旺",{"$f":"VLOOKUP(D120,美育!B$2:E$182,2,FALSE)","v":"化工类24-4班"},{"$f":"VLOOKUP(D120,互评分!C$2:F$181,4,FALSE)","v":{"v":95.25,"d":"95.2500"}},{"$f":"VLOOKUP(D120,辅导员加分!B$2:C$176,2,FALSE)","v":{"v":92,"d":"92.0000"}},{"$f":"VLOOKUP(D120,互评分!C$2:F$181,3,FALSE)","v":{"v":94.28571,"d":"94.2857"}},{"$f":"VLOOKUP(D120,互评分!C$2:F$181,2,FALSE)","v":{"v":100,"d":"100.0000"}},{"$f":"F120*0.2","v":{"v":19.05,"d":"19.0500"}},{"$f":"G120*0.5","v":{"v":46,"d":"46.0000"}},{"$f":"H120*0.2","v":{"v":18.857142,"d":"18.8571"}},{"$f":"I120*0.1","v":{"v":10,"d":"10.0000"}},{"$f":"SUM(J120:M120)*0.7","v":{"v":65.7349994,"d":"65.7350"}},{"$f":"VLOOKUP(D120,学生干部加分!A$1:C$140,3,FALSE)","v":{"v":6,"d":"6.0000"}},{"v":0,"d":"0.0000"},{"v":0,"d":"0.0000"},{"$f":"N120+O120+P120-Q120","v":{"v":71.7349994,"d":"71.7350"}},{"$f":"R120*0.15","v":{"v":10.76024991,"d":"10.7602"}},{"$f":"VLOOKUP(D120,[2]必修课成绩!C$59:BO$82,65,FALSE)","v":{"v":74.5121951219512,"d":"74.5122"}},{"$f":"VLOOKUP(D120,[2]选修课成绩!C$60:BI$83,59,FALSE)","v":{"v":78.3333333333333,"d":"78.3333"}},{"$f":"IF(U120>0,T120*0.9+U120*0.1,T120)","v":{"v":74.8943089430894,"d":"74.8943"}},{"v":0,"d":"0.0000"},{"$f":"V120*0.85+W120","v":{"v":63.660162601626,"d":"63.6602"}},{"$f":"0.7*X120","v":{"v":44.5621138211382,"d":"44.5621"}},{"$f":"VLOOKUP(D120,体测成绩!B$2:C$273,2,FALSE)","v":{"v":67.9,"d":"67.9000"}},{"$f":"VLOOKUP(D120,体育锻炼成绩!A$2:B$182,2,FALSE)","v":"100.00"},{"$f":"0.8*Z120","v":{"v":54.32,"d":"54.3200"}},{"$f":"AA120*0.2","v":{"v":20,"d":"20.0000"}},{"$f":"SUM(AB120:AC120)*0.7","v":{"v":52.024,"d":"52.0240"}},{"v":0,"d":"0.0000"},{"$f":"AD120+AE120","v":{"v":52.024,"d":"52.0240"}},{"$f":"AF120*0.05","v":2.6012},{"$f":"VLOOKUP(D120,美育!B$2:F$182,5,FALSE)","v":{"v":30,"d":"30.0000"}},{"$f":"VLOOKUP(D120,美育!B$2:E$182,4,FALSE)","v":{"v":0,"d":"0.0000"}},{"$f":"AH120+AI120","v":{"v":30,"d":"30.0000"}},{"$f":"AJ120*0.05","v":{"v":1.5,"d":"1.5000"}},{"$f":"VLOOKUP(D120,劳育基础分!B$3:AF$182,31,FALSE)","v":{"v":40,"d":"40.0000"}},{"v":0,"d":"0.0000"},{"$f":"AL120+AM120","v":{"v":40,"d":"40.0000"}},{"$f":"AN120*0.05","v":{"v":2,"d":"2.0000"}},{"$f":"S120+Y120+AG120+AK120+AO120","v":{"v":61.4235637311382,"d":"61.4236"}},{"$f":"VLOOKUP(D120,必修课优良率!A$1:B$173,2,FALSE)","v":"47.62%"},535,{"$f":"VLOOKUP(D120,必修课优良率!A$1:D$173,4,FALSE)","v":"否"}]
[118,148,"2024010595","王二壮",{"$f":"VLOOKUP(D121,美育!B$2:E$182,2,FALSE)","v":"化工类24-5班"},{"$f":"VLOOKUP(D121,互评分!C$2:F$181,4,FALSE)","v":{"v":99.8518518518518,"d":"99.8519"}},{"$f":"VLOOKUP(D121,辅导员加分!B$2:C$176,2,FALSE)","v":{"v":92,"d":"92.0000"}},{"$f":"VLOOKUP(D121,互评分!C$2:F$181,3,FALSE)","v":{"v":100,"d":"100.0000"}},{"$f":"VLOOKUP(D121,互评分!C$2:F$181,2,FALSE)","v":{"v":85,"d":"85.0000"}},{"$f":"F121*0.2","v":{"v":19.9703703703704,"d":"19.9704"}},{"$f":"G121*0.5","v":{"v":46,"d":"46.0000"}},{"$f":"H121*0.2","v":{"v":20,"d":"20.0000"}},{"$f":"I121*0.1","v":{"v":8.5,"d":"8.5000"}},{"$f":"SUM(J121:M121)*0.7","v":{"v":66.1292592592592,"d":"66.1293"}},{"$f":"VLOOKUP(D121,学生干部加分!A$1:C$140,3,FALSE)","v":{"v":8,"d":"8.0000"}},{"v":0,"d":"0.0000"},{"v":0,"d":"0.0000"},{"$f":"N121+O121+P121-Q121","v":{"v":74.1292592592592,"d":"74.1293"}},{"$f":"R121*0.15","v":{"v":11.1193888888889,"d":"11.1194"}},{"v":71.5487804878049,"d":"71.5488"},{"v":83,"d":"83.0000"},{"$f":"IF(U121>0,T121*0.9+U121*0.1,T121)","v":{"v":72.6939024390244,"d":"72.6939"}},{"v":0,"d":"0.0000"},{"$f":"V121*0.85+W121","v":{"v":61.7898170731708,"d":"61.7898"}},{"$f":"0.7*X121","v":{"v":43.2528719512195,"d":"43.2529"}},{"$f":"VLOOKUP(D121,体测成绩!B$2:C$273,2,FALSE)","v":{"v":72.3,"d":"72.3000"}},{"$f":"VLOOKUP(D121,体育锻炼成绩!A$2:B$182,2,FALSE)","v":"100.00"},{"$f":"0.8*Z121","v":{"v":57.84,"d":"57.8400"}},{"$f":"AA121*0.2","v":{"v":20,"d":"20.0000"}},{"$f":"SUM(AB121:AC121)*0.7","v":{"v":54.488,"d":"54.4880"}},{"$f":"VLOOKUP(D121,体育加分汇总!A$1:C$79,3,FALSE)","v":{"v":6,"d":"6.0000"}},{"$f":"AD121+AE121","v":{"v":60.488,"d":"60.4880"}},{"$f":"AF121*0.05","v":3.0244},{"$f":"VLOOKUP(D121,美育!B$2:F$182,5,FALSE)","v":{"v":30,"d":"30.0000"}},{"$f":"VLOOKUP(D121,美育!B$2:E$182,4,FALSE)","v":{"v":0,"d":"0.0000"}},{"$f":"AH121+AI121","v":{"v":30,"d":"30.0000"}},{"$f":"AJ121*0.05","v":{"v":1.5,"d":"1.5000"}},{"$f":"VLOOKUP(D121,劳育基础分!B$3:AF$182,31,FALSE)","v":{"v":46.5,"d":"46.5000"}},{"$f":"VLOOKUP(D121,劳育加分!A$3:I$34,9,FALSE)","v":{"v":4,"d":"4.0000"}},{"$f":"AL121+AM121","v":{"v":50.5,"d":"50.5000"}},{"$f":"AN121*0.05","v":{"v":2.525,"d":"2.5250"}},{"$f":"S121+Y121+AG121+AK121+AO121","v":{"v":61.4216608401084,"d":"61.4217"}},{"$f":"VLOOKUP(D121,必修课优良率!A$1:B$173,2,FALSE)","v":"33.33%"},{"$f":"VLOOKUP(D121,四级成绩!B$2:C$178,2,FALSE)","v":477},{"$f":"VLOOKUP(D121,必修课优良率!A$1:D$173,4,FALSE)","v":"否"}]
[119,96,"2024010551","王珏",{"$f":"VLOOKUP(D122,美育!B$2:E$182,2,FALSE)","v":"化工类24-4班"},{"$f":"VLOOKUP(D122,互评分!C$2:F$181,4,FALSE)","v":{"v":97.321,"d":"97.3210"}},{"$f":"VLOOKUP(D122,辅导员加分!B$2:C$176,2,FALSE)","v":{"v":92,"d":"92.0000"}},{"$f":"VLOOKUP(D122,互评分!C$2:F$181,3,FALSE)","v":{"v":98.42857,"d":"98.4286"}},{"$f":"VLOOKUP(D122,互评分!C$2:F$181,2,FALSE)","v":{"v":100,"d":"100.0000"}},{"$f":"F122*0.2","v":19.4642},{"$f":"G122*0.5","v":{"v":46,"d":"46.0000"}},{"$f":"H122*0.2","v":{"v":19.685714,"d":"19.6857"}},{"$f":"I122*0.1","v":{"v":10,"d":"10.0000"}},{"$f":"SUM(J122:M122)*0.7","v":{"v":66.6049398,"d":"66.6049"}},{"$f":"VLOOKUP(D122,学生干部加分!A$1:C$140,3,FALSE)","v":{"v":2,"d":"2.0000"}},{"v":0,"d":"0.0000"},{"v":0,"d":"0.0000"},{"$f":"N122+O122+P122-Q122","v":{"v":68.6049398,"d":"68.6049"}},{"$f":"R122*0.15","v":{"v":10.29074097,"d":"10.2907"}},{"$f":"VLOOKUP(D122,[2]必修课成绩!C$59:BO$82,65,FALSE)","v":{"v":76.4634146341463,"d":"76.4634"}},{"$f":"VLOOKUP(D122,[2]选修课成绩!C$60:BI$83,59,FALSE)","v":{"v":73,"d":"73.0000"}},{"$f":"IF(U122>0,T122*0.9+U122*0.1,T122)","v":{"v":76.1170731707317,"d":"76.1171"}},{"v":0,"d":"0.0000"},{"$f":"V122*0.85+W122","v":{"v":64.6995121951219,"d":"64.6995"}},{"$f":"0.7*X122","v":{"v":45.2896585365853,"d":"45.2897"}},{"$f":"VLOOKUP(D122,体测成绩!B$2:C$273,2,FALSE)","v":{"v":63.9,"d":"63.9000"}},{"$f":"VLOOKUP(D122,体育锻炼成绩!A$2:B$182,2,FALSE)","v":"100.00"},{"$f":"0.8*Z122","v":{"v":51.12,"d":"51.1200"}},{"$f":"AA122*0.2","v":{"v":20,"d":"20.0000"}},{"$f":"SUM(AB122:AC122)*0.7","v":{"v":49.784,"d":"49.7840"}},{"$f":"VLOOKUP(D122,体育加分汇总!A$1:C$79,3,FALSE)","v":{"v":0,"d":"0.0000"}},{"$f":"AD122+AE122","v":{"v":49.784,"d":"49.7840"}},{"$f":"AF122*0.05","v":2.4892},{"$f":"VLOOKUP(D122,美育!B$2:F$182,5,FALSE)","v":{"v":25,"d":"25.0000"}},{"$f":"VLOOKUP(D122,美育!B$2:E$182,4,FALSE)","v":{"v":0,"d":"0.0000"}},{"$f":"AH122+AI122","v":{"v":25,"d":"25.0000"}},{"$f":"AJ122*0.05","v":{"v":1.25,"d":"1.2500"}},{"$f":"VLOOKUP(D122,劳育基础分!B$3:AF$182,31,FALSE)","v":{"v":42,"d":"42.0000"}},{"v":0,"d":"0.0000"},{"$f":"AL122+AM122","v":{"v":42,"d":"42.0000"}},{"$f":"AN122*0.05","v":{"v":2.1,"d":"2.1000"}},{"$f":"S122+Y122+AG122+AK122+AO122","v":{"v":61.4195995065853,"d":"61.4196"}},{"$f":"VLOOKUP(D122,必修课优良率!A$1:B$173,2,FALSE)","v":"52.38%"},{"$f":"VLOOKUP(D122,四级成绩!B$2:C$178,2,FALSE)","v":557},{"$f":"VLOOKUP(D122,必修课优良率!A$1:D$173,4,FALSE)","v":"否"}]
[120,114,"2024010488","郭圣元",{"$f":"VLOOKUP(D123,美育!B$2:E$182,2,FALSE)","v":"化工类24-2班"},{"$f":"VLOOKUP(D123,互评分!C$2:F$181,4,FALSE)","v":{"v":96.5357142857143,"d":"96.5357"}},{"$f":"VLOOKUP(D123,辅导员加分!B$2:C$176,2,FALSE)","v":{"v":92,"d":"92.0000"}},{"$f":"VLOOKUP(D123,互评分!C$2:F$181,3,FALSE)","v":{"v":98.3333333333333,"d":"98.3333"}},{"$f":"VLOOKUP(D123,互评分!C$2:F$181,2,FALSE)","v":{"v":91,"d":"91.0000"}},{"$f":"F123*0.2","v":{"v":19.3071428571429,"d":"19.3071"}},{"$f":"G123*0.5","v":{"v":46,"d":"46.0000"}},{"$f":"H123*0.2","v":{"v":19.6666666666667,"d":"19.6667"}},{"$f":"I123*0.1","v":{"v":9.1,"d":"9.1000"}},{"$f":"SUM(J123:M123)*0.7","v":{"v":65.8516666666667,"d":"65.8517"}},{"$f":"VLOOKUP(D123,学生干部加分!A$1:C$140,3,FALSE)","v":{"v":4,"d":"4.0000"}},{"v":0,"d":"0.0000"},{"v":0,"d":"0.0000"},{"$f":"N123+O123+P123-Q123","v":{"v":69.8516666666667,"d":"69.8517"}},{"$f":"R123*0.15","v":{"v":10.47775,"d":"10.4778"}},{"$f":"VLOOKUP(D123,[2]必修课成绩!C$59:BO$82,65,FALSE)","v":{"v":74.8414634146341,"d":"74.8415"}},{"$f":"VLOOKUP(D123,[2]选修课成绩!C$60:BI$83,59,FALSE)","v":{"v":0,"d":"0.0000"}},{"$f":"IF(U123>0,T123*0.9+U123*0.1,T123)","v":{"v":74.8414634146341,"d":"74.8415"}},{"v":0,"d":"0.0000"},{"$f":"V123*0.85+W123","v":{"v":63.615243902439,"d":"63.6152"}},{"$f":"0.7*X123","v":{"v":44.5306707317073,"d":"44.5307"}},{"$f":"VLOOKUP(D123,体测成绩!B$2:C$273,2,FALSE)","v":{"v":60,"d":"60.0000"}},{"$f":"VLOOKUP(D123,体育锻炼成绩!A$2:B$182,2,FALSE)","v":"100.00"},{"$f":"0.8*Z123","v":{"v":48,"d":"48.0000"}},{"$f":"AA123*0.2","v":{"v":20,"d":"20.0000"}},{"$f":"SUM(AB123:AC123)*0.7","v":{"v":47.6,"d":"47.6000"}},{"v":0,"d":"0.0000"},{"$f":"AD123+AE123","v":{"v":47.6,"d":"47.6000"}},{"$f":"AF123*0.05","v":{"v":2.38,"d":"2.3800"}},{"$f":"VLOOKUP(D123,美育!B$2:F$182,5,FALSE)","v":{"v":40,"d":"40.0000"}},{"$f":"VLOOKUP(D123,美育!B$2:E$182,4,FALSE)","v":{"v":0,"d":"0.0000"}},{"$f":"AH123+AI123","v":{"v":40,"d":"40.0000"}},{"$f":"AJ123*0.05","v":{"v":2,"d":"2.0000"}},{"$f":"VLOOKUP(D123,劳育基础分!B$3:AF$182,31,FALSE)","v":{"v":40,"d":"40.0000"}},{"v":0,"d":"0.0000"},{"$f":"AL123+AM123","v":{"v":40,"d":"40.0000"}},{"$f":"AN123*0.05","v":{"v":2,"d":"2.0000"}},{"$f":"S123+Y123+AG123+AK123+AO123","v":{"v":61.3884207317073,"d":"61.3884"}},{"$f":"VLOOKUP(D123,必修课优良率!A$1:B$173,2,FALSE)","v":"57.14%"},{"$f":"VLOOKUP(D123,四级成绩!B$2:C$178,2,FALSE)","v":419},{"$f":"VLOOKUP(D123,必修课优良率!A$1:D$173,4,FALSE)","v":"否"}]
[121,104,"2024010603","彭天佑",{"$f":"VLOOKUP(D124,美育!B$2:E$182,2,FALSE)","v":"化工类24-5班"},{"$f":"VLOOKUP(D124,互评分!C$2:F$181,4,FALSE)","v":{"v":99.6296296296296,"d":"99.6296"}},{"$f":"VLOOKUP(D124,辅导员加分!B$2:C$176,2,FALSE)","v":{"v":92,"d":"92.0000"}},{"$f":"VLOOKUP(D124,互评分!C$2:F$181,3,FALSE)","v":{"v":100,"d":"100.0000"}},{"$f":"VLOOKUP(D124,互评分!C$2:F$181,2,FALSE)","v":{"v":85,"d":"85.0000"}},{"$f":"F124*0.2","v":{"v":19.9259259259259,"d":"19.9259"}},{"$f":"G124*0.5","v":{"v":46,"d":"46.0000"}},{"$f":"H124*0.2","v":{"v":20,"d":"20.0000"}},{"$f":"I124*0.1","v":{"v":8.5,"d":"8.5000"}},{"$f":"SUM(J124:M124)*0.7","v":{"v":66.0981481481481,"d":"66.0981"}},{"$f":"VLOOKUP(D124,学生干部加分!A$1:C$140,3,FALSE)","v":{"v":4,"d":"4.0000"}},{"v":0,"d":"0.0000"},{"v":0,"d":"0.0000"},{"$f":"N124+O124+P124-Q124","v":{"v":70.0981481481481,"d":"70.0981"}},{"$f":"R124*0.15","v":{"v":10.5147222222222,"d":"10.5147"}},{"v":75.6309523809524,"d":"75.6310"},{"v":0,"d":"0.0000"},{"$f":"IF(U124>0,T124*0.9+U124*0.1,T124)","v":{"v":75.6309523809524,"d":"75.6310"}},{"v":0,"d":"0.0000"},{"$f":"V124*0.85+W124","v":{"v":64.2863095238095,"d":"64.2863"}},{"$f":"0.7*X124","v":{"v":45.0004166666667,"d":"45.0004"}},{"$f":"VLOOKUP(D124,体测成绩!B$2:C$273,2,FALSE)","v":{"v":69.2,"d":"69.2000"}},{"$f":"VLOOKUP(D124,体育锻炼成绩!A$2:B$182,2,FALSE)","v":"100.00"},{"$f":"0.8*Z124","v":{"v":55.36,"d":"55.3600"}},{"$f":"AA124*0.2","v":{"v":20,"d":"20.0000"}},{"$f":"SUM(AB124:AC124)*0.7","v":{"v":52.752,"d":"52.7520"}},{"v":0,"d":"0.0000"},{"$f":"AD124+AE124","v":{"v":52.752,"d":"52.7520"}},{"$f":"AF124*0.05","v":2.6376},{"$f":"VLOOKUP(D124,美育!B$2:F$182,5,FALSE)","v":{"v":20,"d":"20.0000"}},{"$f":"VLOOKUP(D124,美育!B$2:E$182,4,FALSE)","v":{"v":0,"d":"0.0000"}},{"$f":"AH124+AI124","v":{"v":20,"d":"20.0000"}},{"$f":"AJ124*0.05","v":{"v":1,"d":"1.0000"}},{"$f":"VLOOKUP(D124,劳育基础分!B$3:AF$182,31,FALSE)","v":{"v":42.5,"d":"42.5000"}},{"v":0,"d":"0.0000"},{"$f":"AL124+AM124","v":{"v":42.5,"d":"42.5000"}},{"$f":"AN124*0.05","v":{"v":2.125,"d":"2.1250"}},{"$f":"S124+Y124+AG124+AK124+AO124","v":{"v":61.2777388888889,"d":"61.2777"}},{"$f":"VLOOKUP(D124,必修课优良率!A$1:B$173,2,FALSE)","v":"52.38%"},{"$f":"VLOOKUP(D124,四级成绩!B$2:C$178,2,FALSE)","v":425},{"$f":"VLOOKUP(D124,必修课优良率!A$1:D$173,4,FALSE)","v":"是"}]
[122,132,2024010610,"姜柏彤",{"$f":"VLOOKUP(D125,美育!B$2:E$182,2,FALSE)","v":"化工类24-6班"},{"$f":"VLOOKUP(D125,互评分!C$2:F$181,4,FALSE)","v":{"v":98.8846153846154,"d":"98.8846"}},{"$f":"VLOOKUP(D125,辅导员加分!B$2:C$176,2,FALSE)","v":{"v":94,"d":"94.0000"}},{"$f":"VLOOKUP(D125,互评分!C$2:F$181,3,FALSE)","v":{"v":100,"d":"100.0000"}},{"$f":"VLOOKUP(D125,互评分!C$2:F$181,2,FALSE)","v":{"v":100,"d":"100.0000"}},{"$f":"F125*0.2","v":{"v":19.7769230769231,"d":"19.7769"}},{"$f":"G125*0.5","v":{"v":47,"d":"47.0000"}},{"$f":"H125*0.2","v":{"v":20,"d":"20.0000"}},{"$f":"I125*0.1","v":{"v":10,"d":"10.0000"}},{"$f":"SUM(J125:M125)*0.7","v":{"v":67.7438461538461,"d":"67.7438"}},{"$f":"VLOOKUP(D125,学生干部加分!A$1:C$140,3,FALSE)","v":{"v":8,"d":"8.0000"}},{"v":0,"d":"0.0000"},{"v":0,"d":"0.0000"},{"$f":"N125+O125+P125-Q125","v":{"v":75.7438461538461,"d":"75.7438"}},{"$f":"R125*0.15","v":{"v":11.3615769230769,"d":"11.3616"}},{"$f":"VLOOKUP(D125,[1]必修课成绩!C$71:AE$100,29,FALSE)","v":{"v":73.55,"d":"73.5500"}},{"$f":"VLOOKUP(D125,[1]选修课成绩!C$72:AC$101,27,FALSE)","v":{"v":78,"d":"78.0000"}},{"$f":"IF(U125>0,T125*0.9+U125*0.1,T125)","v":{"v":73.995,"d":"73.9950"}},{"v":0,"d":"0.0000"},{"$f":"V125*0.85+W125","v":{"v":62.89575,"d":"62.8958"}},{"$f":"0.7*X125","v":{"v":44.027025,"d":"44.0270"}},{"$f":"VLOOKUP(D125,体测成绩!B$2:C$273,2,FALSE)","v":{"v":76.4,"d":"76.4000"}},{"$f":"VLOOKUP(D125,体育锻炼成绩!A$2:B$182,2,FALSE)","v":"100.00"},{"$f":"0.8*Z125","v":{"v":61.12,"d":"61.1200"}},{"$f":"AA125*0.2","v":{"v":20,"d":"20.0000"}},{"$f":"SUM(AB125:AC125)*0.7","v":{"v":56.784,"d":"56.7840"}},{"v":0,"d":"0.0000"},{"$f":"AD125+AE125","v":{"v":56.784,"d":"56.7840"}},{"$f":"AF125*0.05","v":2.8392},{"$f":"VLOOKUP(D125,美育!B$2:F$182,5,FALSE)","v":{"v":20,"d":"20.0000"}},{"$f":"VLOOKUP(D125,美育!B$2:E$182,4,FALSE)","v":{"v":0,"d":"0.0000"}},{"$f":"AH125+AI125","v":{"v":20,"d":"20.0000"}},{"$f":"AJ125*0.05","v":{"v":1,"d":"1.0000"}},{"$f":"VLOOKUP(D125,劳育基础分!B$3:AF$182,31,FALSE)","v":{"v":40,"d":"40.0000"}},{"v":0,"d":"0.0000"},{"$f":"AL125+AM125","v":{"v":40,"d":"40.0000"}},{"$f":"AN125*0.05","v":{"v":2,"d":"2.0000"}},{"$f":"S125+Y125+AG125+AK125+AO125","v":{"v":61.2278019230769,"d":"61.2278"}},{"$f":"VLOOKUP(D125,必修课优良率!A$1:B$173,2,FALSE)","v":"61.90%"},{"$f":"VLOOKUP(D125,四级成绩!B$2:C$178,2,FALSE)","v":522},{"$f":"VLOOKUP(D125,必修课优良率!A$1:D$173,4,FALSE)","v":"否"}]
[123,91,"2024010463","杨子惠",{"$f":"VLOOKUP(D126,美育!B$2:E$182,2,FALSE)","v":"化工类24-1班"},{"$f":"VLOOKUP(D126,互评分!C$2:F$181,4,FALSE)","v":{"v":97,"d":"97.0000"}},{"$f":"VLOOKUP(D126,辅导员加分!B$2:C$176,2,FALSE)","v":{"v":92,"d":"92.0000"}},{"$f":"VLOOKUP(D126,互评分!C$2:F$181,3,FALSE)","v":{"v":100,"d":"100.0000"}},{"$f":"VLOOKUP(D126,互评分!C$2:F$181,2,FALSE)","v":{"v":99,"d":"99.0000"}},{"$f":"F126*0.2","v":{"v":19.4,"d":"19.4000"}},{"$f":"G126*0.5","v":{"v":46,"d":"46.0000"}},{"$f":"H126*0.2","v":{"v":20,"d":"20.0000"}},{"$f":"I126*0.1","v":{"v":9.9,"d":"9.9000"}},{"$f":"SUM(J126:M126)*0.7","v":{"v":66.71,"d":"66.7100"}},{"v":0,"d":"0.0000"},{"v":0,"d":"0.0000"},{"v":0,"d":"0.0000"},{"$f":"N126+O126+P126-Q126","v":{"v":66.71,"d":"66.7100"}},{"$f":"R126*0.15","v":10.0065},{"v":77.0731707317073,"d":"77.0732"},{"v":61,"d":"61.0000"},{"$f":"IF(U126>0,T126*0.9+U126*0.1,T126)","v":{"v":75.4658536585366,"d":"75.4659"}},{"v":0,"d":"0.0000"},{"$f":"V126*0.85+W126","v":{"v":64.1459756097561,"d":"64.1460"}},{"$f":"0.7*X126","v":{"v":44.9021829268293,"d":"44.9022"}},{"$f":"VLOOKUP(D126,体测成绩!B$2:C$273,2,FALSE)","v":{"v":78.2,"d":"78.2000"}},{"$f":"VLOOKUP(D126,体育锻炼成绩!A$2:B$182,2,FALSE)","v":"100.00"},{"$f":"0.8*Z126","v":{"v":62.56,"d":"62.5600"}},{"$f":"AA126*0.2","v":{"v":20,"d":"20.0000"}},{"$f":"SUM(AB126:AC126)*0.7","v":{"v":57.792,"d":"57.7920"}},{"v":0,"d":"0.0000"},{"$f":"AD126+AE126","v":{"v":57.792,"d":"57.7920"}},{"$f":"AF126*0.05","v":2.8896},{"$f":"VLOOKUP(D126,美育!B$2:F$182,5,FALSE)","v":{"v":30,"d":"30.0000"}},{"$f":"VLOOKUP(D126,美育!B$2:E$182,4,FALSE)","v":{"v":0,"d":"0.0000"}},{"$f":"AH126+AI126","v":{"v":30,"d":"30.0000"}},{"$f":"AJ126*0.05","v":{"v":1.5,"d":"1.5000"}},{"$f":"VLOOKUP(D126,劳育基础分!B$3:AF$182,31,FALSE)","v":{"v":35,"d":"35.0000"}},{"v":0,"d":"0.0000"},{"$f":"AL126+AM126","v":{"v":35,"d":"35.0000"}},{"$f":"AN126*0.05","v":{"v":1.75,"d":"1.7500"}},{"$f":"S126+Y126+AG126+AK126+AO126","v":{"v":61.0482829268293,"d":"61.0483"}},{"$f":"VLOOKUP(D126,必修课优良率!A$1:B$173,2,FALSE)","v":"57.14%"},{"$f":"VLOOKUP(D126,四级成绩!B$2:C$178,2,FALSE)","v":"475"},{"$f":"VLOOKUP(D126,必修课优良率!A$1:D$173,4,FALSE)","v":"否"}]
[124,74,"2024010618","肖港权",{"$f":"VLOOKUP(D127,美育!B$2:E$182,2,FALSE)","v":"化工类24-6班"},{"$f":"VLOOKUP(D127,互评分!C$2:F$181,4,FALSE)","v":{"v":98.4615384615385,"d":"98.4615"}},{"$f":"VLOOKUP(D127,辅导员加分!B$2:C$176,2,FALSE)","v":{"v":92,"d":"92.0000"}},{"$f":"VLOOKUP(D127,互评分!C$2:F$181,3,FALSE)","v":{"v":100,"d":"100.0000"}},{"$f":"VLOOKUP(D127,互评分!C$2:F$181,2,FALSE)","v":{"v":100,"d":"100.0000"}},{"$f":"F127*0.2","v":{"v":19.6923076923077,"d":"19.6923"}},{"$f":"G127*0.5","v":{"v":46,"d":"46.0000"}},{"$f":"H127*0.2","v":{"v":20,"d":"20.0000"}},{"$f":"I127*0.1","v":{"v":10,"d":"10.0000"}},{"$f":"SUM(J127:M127)*0.7","v":{"v":66.9846153846154,"d":"66.9846"}},{"v":0,"d":"0.0000"},{"v":0,"d":"0.0000"},{"v":0,"d":"0.0000"},{"$f":"N127+O127+P127-Q127","v":{"v":66.9846153846154,"d":"66.9846"}},{"$f":"R127*0.15","v":{"v":10.0476923076923,"d":"10.0477"}},{"v":78.8048780487805,"d":"78.8049"},{"v":83,"d":"83.0000"},{"$f":"IF(U127>0,T127*0.9+U127*0.1,T127)","v":{"v":79.2243902439024,"d":"79.2244"}},{"v":0,"d":"0.0000"},{"$f":"V127*0.85+W127","v":{"v":67.3407317073171,"d":"67.3407"}},{"$f":"0.7*X127","v":{"v":47.1385121951219,"d":"47.1385"}},{"$f":"VLOOKUP(D127,体测成绩!B$2:C$273,2,FALSE)","v":{"v":69.3,"d":"69.3000"}},{"$f":"VLOOKUP(D127,体育锻炼成绩!A$2:B$182,2,FALSE)","v":"100.00"},{"$f":"0.8*Z127","v":{"v":55.44,"d":"55.4400"}},{"$f":"AA127*0.2","v":{"v":20,"d":"20.0000"}},{"$f":"SUM(AB127:AC127)*0.7","v":{"v":52.808,"d":"52.8080"}},{"v":0,"d":"0.0000"},{"$f":"AD127+AE127","v":{"v":52.808,"d":"52.8080"}},{"$f":"AF127*0.05","v":2.6404},{"$f":"VLOOKUP(D127,美育!B$2:F$182,5,FALSE)","v":{"v":0,"d":"0.0000"}},{"$f":"VLOOKUP(D127,美育!B$2:E$182,4,FALSE)","v":{"v":0,"d":"0.0000"}},{"$f":"AH127+AI127","v":{"v":0,"d":"0.0000"}},{"$f":"AJ127*0.05","v":{"v":0,"d":"0.0000"}},{"$f":"VLOOKUP(D127,劳育基础分!B$3:AF$182,31,FALSE)","v":{"v":20,"d":"20.0000"}},{"v":0,"d":"0.0000"},{"$f":"AL127+AM127","v":{"v":20,"d":"20.0000"}},{"$f":"AN127*0.05","v":{"v":1,"d":"1.0000"}},{"$f":"S127+Y127+AG127+AK127+AO127","v":{"v":60.8266045028143,"d":"60.8266"}},{"$f":"VLOOKUP(D127,必修课优良率!A$1:B$173,2,FALSE)","v":"57.14%"},{"$f":"VLOOKUP(D127,四级成绩!B$2:C$178,2,FALSE)","v":524},{"$f":"VLOOKUP(D127,必修课优良率!A$1:D$173,4,FALSE)","v":"否"}]
[125,94,2024010567,"张玉杨",{"$f":"VLOOKUP(D128,美育!B$2:E$182,2,FALSE)","v":"化工类24-4班"},{"$f":"VLOOKUP(D128,互评分!C$2:F$181,4,FALSE)","v":{"v":96.67857,"d":"96.6786"}},{"$f":"VLOOKUP(D128,辅导员加分!B$2:C$176,2,FALSE)","v":{"v":92,"d":"92.0000"}},{"$f":"VLOOKUP(D128,互评分!C$2:F$181,3,FALSE)","v":{"v":95.71429,"d":"95.7143"}},{"$f":"VLOOKUP(D128,互评分!C$2:F$181,2,FALSE)","v":{"v":100,"d":"100.0000"}},{"$f":"F128*0.2","v":{"v":19.335714,"d":"19.3357"}},{"$f":"G128*0.5","v":{"v":46,"d":"46.0000"}},{"$f":"H128*0.2","v":{"v":19.142858,"d":"19.1429"}},{"$f":"I128*0.1","v":{"v":10,"d":"10.0000"}},{"$f":"SUM(J128:M128)*0.7","v":{"v":66.1350004,"d":"66.1350"}},{"$f":"VLOOKUP(D128,学生干部加分!A$1:C$140,3,FALSE)","v":{"v":4,"d":"4.0000"}},{"v":0,"d":"0.0000"},{"v":0,"d":"0.0000"},{"$f":"N128+O128+P128-Q128","v":{"v":70.1350004,"d":"70.1350"}},{"$f":"R128*0.15","v":{"v":10.52025006,"d":"10.5203"}},{"$f":"VLOOKUP(D128,[1]必修课成绩!C$71:AE$100,29,FALSE)","v":{"v":76.925,"d":"76.9250"}},{"$f":"VLOOKUP(D128,[1]选修课成绩!C$72:AC$101,27,FALSE)","v":{"v":0,"d":"0.0000"}},{"$f":"IF(U128>0,T128*0.9+U128*0.1,T128)","v":{"v":76.925,"d":"76.9250"}},{"v":0,"d":"0.0000"},{"$f":"V128*0.85+W128","v":{"v":65.38625,"d":"65.3863"}},{"$f":"0.7*X128","v":{"v":45.770375,"d":"45.7704"}},{"$f":"VLOOKUP(D128,体测成绩!B$2:C$273,2,FALSE)","v":{"v":88.9,"d":"88.9000"}},{"$f":"VLOOKUP(D128,体育锻炼成绩!A$2:B$182,2,FALSE)","v":{"v":100,"d":"100.0000"}},{"$f":"0.8*Z128","v":{"v":71.12,"d":"71.1200"}},{"$f":"AA128*0.2","v":{"v":20,"d":"20.0000"}},{"$f":"SUM(AB128:AC128)*0.7","v":{"v":63.784,"d":"63.7840"}},{"v":0,"d":"0.0000"},{"$f":"AD128+AE128","v":{"v":63.784,"d":"63.7840"}},{"$f":"AF128*0.05","v":3.1892},{"$f":"VLOOKUP(D128,美育!B$2:F$182,5,FALSE)","v":{"v":5,"d":"5.0000"}},{"$f":"VLOOKUP(D128,美育!B$2:E$182,4,FALSE)","v":{"v":0,"d":"0.0000"}},{"$f":"AH128+AI128","v":{"v":5,"d":"5.0000"}},{"$f":"AJ128*0.05","v":{"v":0.25,"d":"0.2500"}},{"$f":"VLOOKUP(D128,劳育基础分!B$3:AF$182,31,FALSE)","v":{"v":21,"d":"21.0000"}},{"v":0,"d":"0.0000"},{"$f":"AL128+AM128","v":{"v":21,"d":"21.0000"}},{"$f":"AN128*0.05","v":{"v":1.05,"d":"1.0500"}},{"$f":"S128+Y128+AG128+AK128+AO128","v":{"v":60.77982506,"d":"60.7798"}},{"$f":"VLOOKUP(D128,必修课优良率!A$1:B$173,2,FALSE)","v":"61.90%"},{"$f":"VLOOKUP(D128,四级成绩!B$2:C$178,2,FALSE)","v":548},{"$f":"VLOOKUP(D128,必修课优良率!A$1:D$173,4,FALSE)","v":"否"}]
[126,78,"2024010559","郑翔鸿",{"$f":"VLOOKUP(D129,美育!B$2:E$182,2,FALSE)","v":"化工类24-4班"},{"$f":"VLOOKUP(D129,互评分!C$2:F$181,4,FALSE)","v":{"v":95.75,"d":"95.7500"}},{"$f":"VLOOKUP(D129,辅导员加分!B$2:C$176,2,FALSE)","v":{"v":92,"d":"92.0000"}},{"$f":"VLOOKUP(D129,互评分!C$2:F$181,3,FALSE)","v":{"v":95.14286,"d":"95.1429"}},{"$f":"VLOOKUP(D129,互评分!C$2:F$181,2,FALSE)","v":{"v":100,"d":"100.0000"}},{"$f":"F129*0.2","v":{"v":19.15,"d":"19.1500"}},{"$f":"G129*0.5","v":{"v":46,"d":"46.0000"}},{"$f":"H129*0.2","v":{"v":19.028572,"d":"19.0286"}},{"$f":"I129*0.1","v":{"v":10,"d":"10.0000"}},{"$f":"SUM(J129:M129)*0.7","v":{"v":65.9250004,"d":"65.9250"}},{"v":0,"d":"0.0000"},{"v":0,"d":"0.0000"},{"v":0,"d":"0.0000"},{"$f":"N129+O129+P129-Q129","v":{"v":65.9250004,"d":"65.9250"}},{"$f":"R129*0.15","v":{"v":9.88875006,"d":"9.8888"}},{"$f":"VLOOKUP(D129,[2]必修课成绩!C$59:BO$82,65,FALSE)","v":{"v":78.4268292682927,"d":"78.4268"}},{"$f":"VLOOKUP(D129,[2]选修课成绩!C$60:BI$83,59,FALSE)","v":{"v":75,"d":"75.0000"}},{"$f":"IF(U129>0,T129*0.9+U129*0.1,T129)","v":{"v":78.0841463414634,"d":"78.0841"}},{"v":0,"d":"0.0000"},{"$f":"V129*0.85+W129","v":{"v":66.3715243902439,"d":"66.3715"}},{"$f":"0.7*X129","v":{"v":46.4600670731707,"d":"46.4601"}},{"$f":"VLOOKUP(D129,体测成绩!B$2:C$273,2,FALSE)","v":{"v":60,"d":"60.0000"}},{"v":100,"d":"100.0000"},{"$f":"0.8*Z129","v":{"v":48,"d":"48.0000"}},{"$f":"AA129*0.2","v":{"v":20,"d":"20.0000"}},{"$f":"SUM(AB129:AC129)*0.7","v":{"v":47.6,"d":"47.6000"}},{"v":0,"d":"0.0000"},{"$f":"AD129+AE129","v":{"v":47.6,"d":"47.6000"}},{"$f":"AF129*0.05","v":{"v":2.38,"d":"2.3800"}},{"$f":"VLOOKUP(D129,美育!B$2:F$182,5,FALSE)","v":{"v":15,"d":"15.0000"}},{"$f":"VLOOKUP(D129,美育!B$2:E$182,4,FALSE)","v":{"v":0,"d":"0.0000"}},{"$f":"AH129+AI129","v":{"v":15,"d":"15.0000"}},{"$f":"AJ129*0.05","v":{"v":0.75,"d":"0.7500"}},{"$f":"VLOOKUP(D129,劳育基础分!B$3:AF$182,31,FALSE)","v":{"v":25,"d":"25.0000"}},{"v":0,"d":"0.0000"},{"$f":"AL129+AM129","v":{"v":25,"d":"25.0000"}},{"$f":"AN129*0.05","v":{"v":1.25,"d":"1.2500"}},{"$f":"S129+Y129+AG129+AK129+AO129","v":{"v":60.7288171331707,"d":"60.7288"}},{"$f":"VLOOKUP(D129,必修课优良率!A$1:B$173,2,FALSE)","v":"57.14%"},{"$f":"VLOOKUP(D129,四级成绩!B$2:C$178,2,FALSE)","v":462},{"$f":"VLOOKUP(D129,必修课优良率!A$1:D$173,4,FALSE)","v":"否"}]
[127,86,"2024010507","赵佳富",{"$f":"VLOOKUP(D130,美育!B$2:E$182,2,FALSE)","v":"化工类24-2班"},{"$f":"VLOOKUP(D130,互评分!C$2:F$181,4,FALSE)","v":{"v":97,"d":"97.0000"}},{"$f":"VLOOKUP(D130,辅导员加分!B$2:C$176,2,FALSE)","v":{"v":90,"d":"90.0000"}},{"$f":"VLOOKUP(D130,互评分!C$2:F$181,3,FALSE)","v":{"v":96.6666666666667,"d":"96.6667"}},{"$f":"VLOOKUP(D130,互评分!C$2:F$181,2,FALSE)","v":{"v":89,"d":"89.0000"}},{"$f":"F130*0.2","v":{"v":19.4,"d":"19.4000"}},{"$f":"G130*0.5","v":{"v":45,"d":"45.0000"}},{"$f":"H130*0.2","v":{"v":19.3333333333333,"d":"19.3333"}},{"$f":"I130*0.1","v":{"v":8.9,"d":"8.9000"}},{"$f":"SUM(J130:M130)*0.7","v":{"v":64.8433333333333,"d":"64.8433"}},{"$f":"VLOOKUP(D130,学生干部加分!A$1:C$140,3,FALSE)","v":{"v":4,"d":"4.0000"}},{"v":0,"d":"0.0000"},{"v":0,"d":"0.0000"},{"$f":"N130+O130+P130-Q130","v":{"v":68.8433333333333,"d":"68.8433"}},{"$f":"R130*0.15","v":10.3265},{"v":77.4512195121951,"d":"77.4512"},{"v":82,"d":"82.0000"},{"$f":"IF(U130>0,T130*0.9+U130*0.1,T130)","v":{"v":77.9060975609756,"d":"77.9061"}},{"v":0,"d":"0.0000"},{"$f":"V130*0.85+W130","v":{"v":66.2201829268293,"d":"66.2202"}},{"$f":"0.7*X130","v":{"v":46.3541280487805,"d":"46.3541"}},{"$f":"VLOOKUP(D130,体测成绩!B$2:C$273,2,FALSE)","v":{"v":58,"d":"58.0000"}},{"$f":"VLOOKUP(D130,体育锻炼成绩!A$2:B$182,2,FALSE)","v":"100.00"},{"$f":"0.8*Z130","v":{"v":46.4,"d":"46.4000"}},{"$f":"AA130*0.2","v":{"v":20,"d":"20.0000"}},{"$f":"SUM(AB130:AC130)*0.7","v":{"v":46.48,"d":"46.4800"}},{"v":0,"d":"0.0000"},{"$f":"AD130+AE130","v":{"v":46.48,"d":"46.4800"}},{"$f":"AF130*0.05","v":{"v":2.324,"d":"2.3240"}},{"$f":"VLOOKUP(D130,美育!B$2:F$182,5,FALSE)","v":{"v":5,"d":"5.0000"}},{"$f":"VLOOKUP(D130,美育!B$2:E$182,4,FALSE)","v":{"v":0,"d":"0.0000"}},{"$f":"AH130+AI130","v":{"v":5,"d":"5.0000"}},{"$f":"AJ130*0.05","v":{"v":0.25,"d":"0.2500"}},{"$f":"VLOOKUP(D130,劳育基础分!B$3:AF$182,31,FALSE)","v":{"v":27,"d":"27.0000"}},{"v":0,"d":"0.0000"},{"$f":"AL130+AM130","v":{"v":27,"d":"27.0000"}},{"$f":"AN130*0.05","v":{"v":1.35,"d":"1.3500"}},{"$f":"S130+Y130+AG130+AK130+AO130","v":{"v":60.6046280487805,"d":"60.6046"}},{"$f":"VLOOKUP(D130,必修课优良率!A$1:B$173,2,FALSE)","v":"57.14%"},{"$f":"VLOOKUP(D130,四级成绩!B$2:C$178,2,FALSE)","v":472},{"$f":"VLOOKUP(D130,必修课优良率!A$1:D$173,4,FALSE)","v":"否"}]
[128,99,"2024010622","李宇春",{"$f":"VLOOKUP(D131,美育!B$2:E$182,2,FALSE)","v":"化工类24-6班"},{"$f":"VLOOKUP(D131,互评分!C$2:F$181,4,FALSE)","v":{"v":98.4615384615385,"d":"98.4615"}},{"$f":"VLOOKUP(D131,辅导员加分!B$2:C$176,2,FALSE)","v":{"v":92,"d":"92.0000"}},{"$f":"VLOOKUP(D131,互评分!C$2:F$181,3,FALSE)","v":{"v":100,"d":"100.0000"}},{"$f":"VLOOKUP(D131,互评分!C$2:F$181,2,FALSE)","v":{"v":100,"d":"100.0000"}},{"$f":"F131*0.2","v":{"v":19.6923076923077,"d":"19.6923"}},{"$f":"G131*0.5","v":{"v":46,"d":"46.0000"}},{"$f":"H131*0.2","v":{"v":20,"d":"20.0000"}},{"$f":"I131*0.1","v":{"v":10,"d":"10.0000"}},{"$f":"SUM(J131:M131)*0.7","v":{"v":66.9846153846154,"d":"66.9846"}},{"$f":"VLOOKUP(D131,学生干部加分!A$1:C$140,3,FALSE)","v":{"v":4,"d":"4.0000"}},{"v":0,"d":"0.0000"},{"v":0,"d":"0.0000"},{"$f":"N131+O131+P131-Q131","v":{"v":70.9846153846154,"d":"70.9846"}},{"$f":"R131*0.15","v":{"v":10.6476923076923,"d":"10.6477"}},{"v":76.1585365853659,"d":"76.1585"},{"v":0,"d":"0.0000"},{"$f":"IF(U131>0,T131*0.9+U131*0.1,T131)","v":{"v":76.1585365853659,"d":"76.1585"}},{"v":0,"d":"0.0000"},{"$f":"V131*0.85+W131","v":{"v":64.734756097561,"d":"64.7348"}},{"$f":"0.7*X131","v":{"v":45.3143292682927,"d":"45.3143"}},{"$f":"VLOOKUP(D131,体测成绩!B$2:C$273,2,FALSE)","v":{"v":75,"d":"75.0000"}},{"$f":"VLOOKUP(D131,体育锻炼成绩!A$2:B$182,2,FALSE)","v":"100.00"},{"$f":"0.8*Z131","v":{"v":60,"d":"60.0000"}},{"$f":"AA131*0.2","v":{"v":20,"d":"20.0000"}},{"$f":"SUM(AB131:AC131)*0.7","v":{"v":56,"d":"56.0000"}},{"$f":"VLOOKUP(D131,体育加分汇总!A$1:C$79,3,FALSE)","v":{"v":0,"d":"0.0000"}},{"$f":"AD131+AE131","v":{"v":56,"d":"56.0000"}},{"$f":"AF131*0.05","v":{"v":2.8,"d":"2.8000"}},{"$f":"VLOOKUP(D131,美育!B$2:F$182,5,FALSE)","v":{"v":15,"d":"15.0000"}},{"$f":"VLOOKUP(D131,美育!B$2:E$182,4,FALSE)","v":{"v":0,"d":"0.0000"}},{"$f":"AH131+AI131","v":{"v":15,"d":"15.0000"}},{"$f":"AJ131*0.05","v":{"v":0.75,"d":"0.7500"}},{"$f":"VLOOKUP(D131,劳育基础分!B$3:AF$182,31,FALSE)","v":{"v":20,"d":"20.0000"}},{"v":0,"d":"0.0000"},{"$f":"AL131+AM131","v":{"v":20,"d":"20.0000"}},{"$f":"AN131*0.05","v":{"v":1,"d":"1.0000"}},{"$f":"S131+Y131+AG131+AK131+AO131","v":{"v":60.512021575985,"d":"60.5120"}},{"$f":"VLOOKUP(D131,必修课优良率!A$1:B$173,2,FALSE)","v":"57.14%"},{"$f":"VLOOKUP(D131,四级成绩!B$2:C$178,2,FALSE)","v":384},{"$f":"VLOOKUP(D131,必修课优良率!A$1:D$173,4,FALSE)","v":"否"}]
[129,151,2024010615,"刘钢彬",{"$f":"VLOOKUP(D132,美育!B$2:E$182,2,FALSE)","v":"化工类24-6班"},{"$f":"VLOOKUP(D132,互评分!C$2:F$181,4,FALSE)","v":{"v":99.2307692307692,"d":"99.2308"}},{"$f":"VLOOKUP(D132,辅导员加分!B$2:C$176,2,FALSE)","v":{"v":92,"d":"92.0000"}},{"$f":"VLOOKUP(D132,互评分!C$2:F$181,3,FALSE)","v":{"v":100,"d":"100.0000"}},{"$f":"VLOOKUP(D132,互评分!C$2:F$181,2,FALSE)","v":{"v":100,"d":"100.0000"}},{"$f":"F132*0.2","v":{"v":19.8461538461538,"d":"19.8462"}},{"$f":"G132*0.5","v":{"v":46,"d":"46.0000"}},{"$f":"H132*0.2","v":{"v":20,"d":"20.0000"}},{"$f":"I132*0.1","v":{"v":10,"d":"10.0000"}},{"$f":"SUM(J132:M132)*0.7","v":{"v":67.0923076923077,"d":"67.0923"}},{"$f":"VLOOKUP(D132,学生干部加分!A$1:C$140,3,FALSE)","v":{"v":6,"d":"6.0000"}},{"v":0,"d":"0.0000"},{"v":0,"d":"0.0000"},{"$f":"N132+O132+P132-Q132","v":{"v":73.0923076923077,"d":"73.0923"}},{"$f":"R132*0.15","v":{"v":10.9638461538462,"d":"10.9638"}},{"v":70.8461538461538,"d":"70.8462"},{"v":80,"d":"80.0000"},{"$f":"IF(U132>0,T132*0.9+U132*0.1,T132)","v":{"v":71.7615384615384,"d":"71.7615"}},{"v":0,"d":"0.0000"},{"$f":"V132*0.85+W132","v":{"v":60.9973076923077,"d":"60.9973"}},{"$f":"0.7*X132","v":{"v":42.6981153846154,"d":"42.6981"}},{"$f":"VLOOKUP(D132,体测成绩!B$2:C$273,2,FALSE)","v":{"v":91.2,"d":"91.2000"}},{"$f":"VLOOKUP(D132,体育锻炼成绩!A$2:B$182,2,FALSE)","v":"100.00"},{"$f":"0.8*Z132","v":{"v":72.96,"d":"72.9600"}},{"$f":"AA132*0.2","v":{"v":20,"d":"20.0000"}},{"$f":"SUM(AB132:AC132)*0.7","v":{"v":65.072,"d":"65.0720"}},{"v":0,"d":"0.0000"},{"$f":"AD132+AE132","v":{"v":65.072,"d":"65.0720"}},{"$f":"AF132*0.05","v":3.2536},{"$f":"VLOOKUP(D132,美育!B$2:F$182,5,FALSE)","v":{"v":23,"d":"23.0000"}},{"$f":"VLOOKUP(D132,美育!B$2:E$182,4,FALSE)","v":{"v":0,"d":"0.0000"}},{"$f":"AH132+AI132","v":{"v":23,"d":"23.0000"}},{"$f":"AJ132*0.05","v":{"v":1.15,"d":"1.1500"}},{"$f":"VLOOKUP(D132,劳育基础分!B$3:AF$182,31,FALSE)","v":{"v":43,"d":"43.0000"}},{"v":0,"d":"0.0000"},{"$f":"AL132+AM132","v":{"v":43,"d":"43.0000"}},{"$f":"AN132*0.05","v":{"v":2.15,"d":"2.1500"}},{"$f":"S132+Y132+AG132+AK132+AO132","v":{"v":60.2155615384615,"d":"60.2156"}},{"$f":"VLOOKUP(D132,必修课优良率!A$1:B$173,2,FALSE)","v":"47.62%"},{"$f":"VLOOKUP(D132,四级成绩!B$2:C$178,2,FALSE)","v":477},{"$f":"VLOOKUP(D132,必修课优良率!A$1:D$173,4,FALSE)","v":"是"}]
[130,103,"2024010531","王崇南",{"$f":"VLOOKUP(D133,美育!B$2:E$182,2,FALSE)","v":"化工类24-3班"},{"$f":"VLOOKUP(D133,互评分!C$2:F$181,4,FALSE)","v":{"v":99.1111111111111,"d":"99.1111"}},{"$f":"VLOOKUP(D133,辅导员加分!B$2:C$176,2,FALSE)","v":{"v":90,"d":"90.0000"}},{"$f":"VLOOKUP(D133,互评分!C$2:F$181,3,FALSE)","v":{"v":100,"d":"100.0000"}},{"$f":"VLOOKUP(D133,互评分!C$2:F$181,2,FALSE)","v":{"v":99,"d":"99.0000"}},{"$f":"F133*0.2","v":{"v":19.8222222222222,"d":"19.8222"}},{"$f":"G133*0.5","v":{"v":45,"d":"45.0000"}},{"$f":"H133*0.2","v":{"v":20,"d":"20.0000"}},{"$f":"I133*0.1","v":{"v":9.9,"d":"9.9000"}},{"$f":"SUM(J133:M133)*0.7","v":{"v":66.3055555555556,"d":"66.3056"}},{"v":0,"d":"0.0000"},{"v":0,"d":"0.0000"},{"v":0,"d":"0.0000"},{"$f":"N133+O133+P133-Q133","v":{"v":66.3055555555556,"d":"66.3056"}},{"$f":"R133*0.15","v":{"v":9.94583333333333,"d":"9.9458"}},{"v":75.6785714285714,"d":"75.6786"},{"v":0,"d":"0.0000"},{"$f":"IF(U133>0,T133*0.9+U133*0.1,T133)","v":{"v":75.6785714285714,"d":"75.6786"}},{"v":0,"d":"0.0000"},{"$f":"V133*0.85+W133","v":{"v":64.3267857142857,"d":"64.3268"}},{"$f":"0.7*X133","v":{"v":45.02875,"d":"45.0288"}},{"$f":"VLOOKUP(D133,体测成绩!B$2:C$273,2,FALSE)","v":{"v":74.1,"d":"74.1000"}},{"$f":"VLOOKUP(D133,体育锻炼成绩!A$2:B$182,2,FALSE)","v":"100.00"},{"$f":"0.8*Z133","v":{"v":59.28,"d":"59.2800"}},{"$f":"AA133*0.2","v":{"v":20,"d":"20.0000"}},{"$f":"SUM(AB133:AC133)*0.7","v":{"v":55.496,"d":"55.4960"}},{"v":0,"d":"0.0000"},{"$f":"AD133+AE133","v":{"v":55.496,"d":"55.4960"}},{"$f":"AF133*0.05","v":2.7748},{"$f":"VLOOKUP(D133,美育!B$2:F$182,5,FALSE)","v":{"v":23,"d":"23.0000"}},{"$f":"VLOOKUP(D133,美育!B$2:E$182,4,FALSE)","v":{"v":0,"d":"0.0000"}},{"$f":"AH133+AI133","v":{"v":23,"d":"23.0000"}},{"$f":"AJ133*0.05","v":{"v":1.15,"d":"1.1500"}},{"$f":"VLOOKUP(D133,劳育基础分!B$3:AF$182,31,FALSE)","v":{"v":24,"d":"24.0000"}},{"v":0,"d":"0.0000"},{"$f":"AL133+AM133","v":{"v":24,"d":"24.0000"}},{"$f":"AN133*0.05","v":{"v":1.2,"d":"1.2000"}},{"$f":"S133+Y133+AG133+AK133+AO133","v":{"v":60.0993833333333,"d":"60.0994"}},{"$f":"VLOOKUP(D133,必修课优良率!A$1:B$173,2,FALSE)","v":"61.90%"},{"$f":"VLOOKUP(D133,四级成绩!B$2:C$178,2,FALSE)","v":412},{"$f":"VLOOKUP(D133,必修课优良率!A$1:D$173,4,FALSE)","v":"否"}]
[131,158,"2024010592","罗晓珍",{"$f":"VLOOKUP(D134,美育!B$2:E$182,2,FALSE)","v":"化工类24-5班"},{"$f":"VLOOKUP(D134,互评分!C$2:F$181,4,FALSE)","v":{"v":99.6296296296296,"d":"99.6296"}},{"$f":"VLOOKUP(D134,辅导员加分!B$2:C$176,2,FALSE)","v":{"v":90,"d":"90.0000"}},{"$f":"VLOOKUP(D134,互评分!C$2:F$181,3,FALSE)","v":{"v":100,"d":"100.0000"}},{"$f":"VLOOKUP(D134,互评分!C$2:F$181,2,FALSE)","v":{"v":85,"d":"85.0000"}},{"$f":"F134*0.2","v":{"v":19.9259259259259,"d":"19.9259"}},{"$f":"G134*0.5","v":{"v":45,"d":"45.0000"}},{"$f":"H134*0.2","v":{"v":20,"d":"20.0000"}},{"$f":"I134*0.1","v":{"v":8.5,"d":"8.5000"}},{"$f":"SUM(J134:M134)*0.7","v":{"v":65.3981481481481,"d":"65.3981"}},{"$f":"VLOOKUP(D134,学生干部加分!A$1:C$140,3,FALSE)","v":{"v":5,"d":"5.0000"}},{"v":0,"d":"0.0000"},{"v":0,"d":"0.0000"},{"$f":"N134+O134+P134-Q134","v":{"v":70.3981481481481,"d":"70.3981"}},{"$f":"R134*0.15","v":{"v":10.5597222222222,"d":"10.5597"}},{"v":68.4878048780488,"d":"68.4878"},{"v":78,"d":"78.0000"},{"$f":"IF(U134>0,T134*0.9+U134*0.1,T134)","v":{"v":69.4390243902439,"d":"69.4390"}},{"v":0,"d":"0.0000"},{"$f":"V134*0.85+W134","v":{"v":59.0231707317073,"d":"59.0232"}},{"$f":"0.7*X134","v":{"v":41.3162195121951,"d":"41.3162"}},{"$f":"VLOOKUP(D134,体测成绩!B$2:C$273,2,FALSE)","v":{"v":86.2,"d":"86.2000"}},{"$f":"VLOOKUP(D134,体育锻炼成绩!A$2:B$182,2,FALSE)","v":"100.00"},{"$f":"0.8*Z134","v":{"v":68.96,"d":"68.9600"}},{"$f":"AA134*0.2","v":{"v":20,"d":"20.0000"}},{"$f":"SUM(AB134:AC134)*0.7","v":{"v":62.272,"d":"62.2720"}},{"$f":"VLOOKUP(D134,体育加分汇总!A$1:C$79,3,FALSE)","v":{"v":6,"d":"6.0000"}},{"$f":"AD134+AE134","v":{"v":68.272,"d":"68.2720"}},{"$f":"AF134*0.05","v":3.4136},{"$f":"VLOOKUP(D134,美育!B$2:F$182,5,FALSE)","v":{"v":51,"d":"51.0000"}},{"$f":"VLOOKUP(D134,美育!B$2:E$182,4,FALSE)","v":{"v":0,"d":"0.0000"}},{"$f":"AH134+AI134","v":{"v":51,"d":"51.0000"}},{"$f":"AJ134*0.05","v":{"v":2.55,"d":"2.5500"}},{"$f":"VLOOKUP(D134,劳育基础分!B$3:AF$182,31,FALSE)","v":{"v":43.5,"d":"43.5000"}},{"v":0,"d":"0.0000"},{"$f":"AL134+AM134","v":{"v":43.5,"d":"43.5000"}},{"$f":"AN134*0.05","v":{"v":2.175,"d":"2.1750"}},{"$f":"S134+Y134+AG134+AK134+AO134","v":{"v":60.0145417344173,"d":"60.0145"}},{"$f":"VLOOKUP(D134,必修课优良率!A$1:B$173,2,FALSE)","v":"42.86%"},{"$f":"VLOOKUP(D134,四级成绩!B$2:C$178,2,FALSE)","v":380},{"$f":"VLOOKUP(D134,必修课优良率!A$1:D$173,4,FALSE)","v":"是"}]
[132,143,"2024010575","寇笑源",{"$f":"VLOOKUP(D135,美育!B$2:E$182,2,FALSE)","v":"化工类24-4班"},{"$f":"VLOOKUP(D135,互评分!C$2:F$181,4,FALSE)","v":{"v":96.64286,"d":"96.6429"}},{"$f":"VLOOKUP(D135,辅导员加分!B$2:C$176,2,FALSE)","v":{"v":94,"d":"94.0000"}},{"$f":"VLOOKUP(D135,互评分!C$2:F$181,3,FALSE)","v":{"v":95.57143,"d":"95.5714"}},{"$f":"VLOOKUP(D135,互评分!C$2:F$181,2,FALSE)","v":{"v":100,"d":"100.0000"}},{"$f":"F135*0.2","v":{"v":19.328572,"d":"19.3286"}},{"$f":"G135*0.5","v":{"v":47,"d":"47.0000"}},{"$f":"H135*0.2","v":{"v":19.114286,"d":"19.1143"}},{"$f":"I135*0.1","v":{"v":10,"d":"10.0000"}},{"$f":"SUM(J135:M135)*0.7","v":{"v":66.8100006,"d":"66.8100"}},{"$f":"VLOOKUP(D135,学生干部加分!A$1:C$140,3,FALSE)","v":{"v":6,"d":"6.0000"}},{"v":0,"d":"0.0000"},{"v":0,"d":"0.0000"},{"$f":"N135+O135+P135-Q135","v":{"v":72.8100006,"d":"72.8100"}},{"$f":"R135*0.15","v":{"v":10.92150009,"d":"10.9215"}},{"$f":"VLOOKUP(D135,[2]必修课成绩!C$59:BO$82,65,FALSE)","v":{"v":72.0975609756098,"d":"72.0976"}},{"$f":"VLOOKUP(D135,[2]选修课成绩!C$60:BI$83,59,FALSE)","v":{"v":0,"d":"0.0000"}},{"$f":"IF(U135>0,T135*0.9+U135*0.1,T135)","v":{"v":72.0975609756098,"d":"72.0976"}},{"v":0,"d":"0.0000"},{"$f":"V135*0.85+W135","v":{"v":61.2829268292683,"d":"61.2829"}},{"$f":"0.7*X135","v":{"v":42.8980487804878,"d":"42.8980"}},{"$f":"VLOOKUP(D135,体测成绩!B$2:C$273,2,FALSE)","v":{"v":80.4,"d":"80.4000"}},{"$f":"VLOOKUP(D135,体育锻炼成绩!A$2:B$182,2,FALSE)","v":"100.00"},{"$f":"0.8*Z135","v":{"v":64.32,"d":"64.3200"}},{"$f":"AA135*0.2","v":{"v":20,"d":"20.0000"}},{"$f":"SUM(AB135:AC135)*0.7","v":{"v":59.024,"d":"59.0240"}},{"v":0,"d":"0.0000"},{"$f":"AD135+AE135","v":{"v":59.024,"d":"59.0240"}},{"$f":"AF135*0.05","v":2.9512},{"$f":"VLOOKUP(D135,美育!B$2:F$182,5,FALSE)","v":{"v":20,"d":"20.0000"}},{"$f":"VLOOKUP(D135,美育!B$2:E$182,4,FALSE)","v":{"v":0,"d":"0.0000"}},{"$f":"AH135+AI135","v":{"v":20,"d":"20.0000"}},{"$f":"AJ135*0.05","v":{"v":1,"d":"1.0000"}},{"$f":"VLOOKUP(D135,劳育基础分!B$3:AF$182,31,FALSE)","v":{"v":40,"d":"40.0000"}},{"v":0,"d":"0.0000"},{"$f":"AL135+AM135","v":{"v":40,"d":"40.0000"}},{"$f":"AN135*0.05","v":{"v":2,"d":"2.0000"}},{"$f":"S135+Y135+AG135+AK135+AO135","v":{"v":59.7707488704878,"d":"59.7707"}},{"$f":"VLOOKUP(D135,必修课优良率!A$1:B$173,2,FALSE)","v":"42.86%"},{"$f":"VLOOKUP(D135,四级成绩!B$2:C$178,2,FALSE)","v":508},{"$f":"VLOOKUP(D135,必修课优良率!A$1:D$173,4,FALSE)","v":"是"}]
[133,111,2024010545,"徐旋",{"$f":"VLOOKUP(D136,美育!B$2:E$182,2,FALSE)","v":"化工类24-3班"},{"$f":"VLOOKUP(D136,互评分!C$2:F$181,4,FALSE)","v":{"v":98.9642857142857,"d":"98.9643"}},{"$f":"VLOOKUP(D136,辅导员加分!B$2:C$176,2,FALSE)","v":{"v":92,"d":"92.0000"}},{"$f":"VLOOKUP(D136,互评分!C$2:F$181,3,FALSE)","v":{"v":100,"d":"100.0000"}},{"$f":"VLOOKUP(D136,互评分!C$2:F$181,2,FALSE)","v":{"v":99,"d":"99.0000"}},{"$f":"F136*0.2","v":{"v":19.7928571428571,"d":"19.7929"}},{"$f":"G136*0.5","v":{"v":46,"d":"46.0000"}},{"$f":"H136*0.2","v":{"v":20,"d":"20.0000"}},{"$f":"I136*0.1","v":{"v":9.9,"d":"9.9000"}},{"$f":"SUM(J136:M136)*0.7","v":{"v":66.985,"d":"66.9850"}},{"v":0,"d":"0.0000"},{"v":0,"d":"0.0000"},{"v":0,"d":"0.0000"},{"$f":"N136+O136+P136-Q136","v":{"v":66.985,"d":"66.9850"}},{"$f":"R136*0.15","v":{"v":10.04775,"d":"10.0478"}},{"$f":"VLOOKUP(D136,[1]必修课成绩!C$71:AE$100,29,FALSE)","v":{"v":75.1,"d":"75.1000"}},{"$f":"VLOOKUP(D136,[1]选修课成绩!C$72:AC$101,27,FALSE)","v":{"v":0,"d":"0.0000"}},{"$f":"IF(U136>0,T136*0.9+U136*0.1,T136)","v":{"v":75.1,"d":"75.1000"}},{"v":0,"d":"0.0000"},{"$f":"V136*0.85+W136","v":{"v":63.835,"d":"63.8350"}},{"$f":"0.7*X136","v":44.6845},{"$f":"VLOOKUP(D136,体测成绩!B$2:C$273,2,FALSE)","v":{"v":76.3,"d":"76.3000"}},{"$f":"VLOOKUP(D136,体育锻炼成绩!A$2:B$182,2,FALSE)","v":"100.00"},{"$f":"0.8*Z136","v":{"v":61.04,"d":"61.0400"}},{"$f":"AA136*0.2","v":{"v":20,"d":"20.0000"}},{"$f":"SUM(AB136:AC136)*0.7","v":{"v":56.728,"d":"56.7280"}},{"$f":"VLOOKUP(D136,体育加分汇总!A$1:C$79,3,FALSE)","v":{"v":4,"d":"4.0000"}},{"$f":"AD136+AE136","v":{"v":60.728,"d":"60.7280"}},{"$f":"AF136*0.05","v":3.0364},{"$f":"VLOOKUP(D136,美育!B$2:F$182,5,FALSE)","v":{"v":10,"d":"10.0000"}},{"$f":"VLOOKUP(D136,美育!B$2:E$182,4,FALSE)","v":{"v":0,"d":"0.0000"}},{"$f":"AH136+AI136","v":{"v":10,"d":"10.0000"}},{"$f":"AJ136*0.05","v":{"v":0.5,"d":"0.5000"}},{"$f":"VLOOKUP(D136,劳育基础分!B$3:AF$182,31,FALSE)","v":{"v":29,"d":"29.0000"}},{"v":0,"d":"0.0000"},{"$f":"AL136+AM136","v":{"v":29,"d":"29.0000"}},{"$f":"AN136*0.05","v":{"v":1.45,"d":"1.4500"}},{"$f":"S136+Y136+AG136+AK136+AO136","v":{"v":59.71865,"d":"59.7187"}},{"$f":"VLOOKUP(D136,必修课优良率!A$1:B$173,2,FALSE)","v":"66.67%"},{"$f":"VLOOKUP(D136,四级成绩!B$2:C$178,2,FALSE)","v":428},{"$f":"VLOOKUP(D136,必修课优良率!A$1:D$173,4,FALSE)","v":"是"}]
[134,77,"2024010471","王路寒",{"$f":"VLOOKUP(D137,美育!B$2:E$182,2,FALSE)","v":"化工类24-1班"},{"$f":"VLOOKUP(D137,互评分!C$2:F$181,4,FALSE)","v":{"v":98.77777778,"d":"98.7778"}},{"$f":"VLOOKUP(D137,辅导员加分!B$2:C$176,2,FALSE)","v":{"v":92,"d":"92.0000"}},{"$f":"VLOOKUP(D137,互评分!C$2:F$181,3,FALSE)","v":{"v":99.1666666666667,"d":"99.1667"}},{"$f":"VLOOKUP(D137,互评分!C$2:F$181,2,FALSE)","v":{"v":98,"d":"98.0000"}},{"$f":"F137*0.2","v":{"v":19.755555556,"d":"19.7556"}},{"$f":"G137*0.5","v":{"v":46,"d":"46.0000"}},{"$f":"H137*0.2","v":{"v":19.8333333333333,"d":"19.8333"}},{"$f":"I137*0.1","v":{"v":9.8,"d":"9.8000"}},{"$f":"SUM(J137:M137)*0.7","v":{"v":66.7722222225333,"d":"66.7722"}},{"$f":"VLOOKUP(D137,学生干部加分!A$1:C$140,3,FALSE)","v":{"v":2,"d":"2.0000"}},{"v":0,"d":"0.0000"},{"v":0,"d":"0.0000"},{"$f":"N137+O137+P137-Q137","v":{"v":68.7722222225333,"d":"68.7722"}},{"$f":"R137*0.15","v":{"v":10.31583333338,"d":"10.3158"}},{"v":78.4390243902439,"d":"78.4390"},{"v":60,"d":"60.0000"},{"$f":"IF(U137>0,T137*0.9+U137*0.1,T137)","v":{"v":76.5951219512195,"d":"76.5951"}},{"v":0,"d":"0.0000"},{"$f":"V137*0.85+W137","v":{"v":65.1058536585366,"d":"65.1059"}},{"$f":"0.7*X137","v":{"v":45.5740975609756,"d":"45.5741"}},{"$f":"VLOOKUP(D137,体测成绩!B$2:C$273,2,FALSE)","v":{"v":60,"d":"60.0000"}},{"$f":"VLOOKUP(D137,体育锻炼成绩!A$2:B$182,2,FALSE)","v":{"v":100,"d":"100.0000"}},{"$f":"0.8*Z137","v":{"v":48,"d":"48.0000"}},{"$f":"AA137*0.2","v":{"v":20,"d":"20.0000"}},{"$f":"SUM(AB137:AC137)*0.7","v":{"v":47.6,"d":"47.6000"}},{"v":0,"d":"0.0000"},{"$f":"AD137+AE137","v":{"v":47.6,"d":"47.6000"}},{"$f":"AF137*0.05","v":{"v":2.38,"d":"2.3800"}},{"$f":"VLOOKUP(D137,美育!B$2:F$182,5,FALSE)","v":{"v":0,"d":"0.0000"}},{"$f":"VLOOKUP(D137,美育!B$2:E$182,4,FALSE)","v":{"v":0,"d":"0.0000"}},{"$f":"AH137+AI137","v":{"v":0,"d":"0.0000"}},{"$f":"AJ137*0.05","v":{"v":0,"d":"0.0000"}},{"$f":"VLOOKUP(D137,劳育基础分!B$3:AF$182,31,FALSE)","v":{"v":28,"d":"28.0000"}},{"v":0,"d":"0.0000"},{"$f":"AL137+AM137","v":{"v":28,"d":"28.0000"}},{"$f":"AN137*0.05","v":{"v":1.4,"d":"1.4000"}},{"$f":"S137+Y137+AG137+AK137+AO137","v":{"v":59.6699308943556,"d":"59.6699"}},{"$f":"VLOOKUP(D137,必修课优良率!A$1:B$173,2,FALSE)","v":"38.10%"},{"$f":"VLOOKUP(D137,四级成绩!B$2:C$178,2,FALSE)","v":"442"},{"$f":"VLOOKUP(D137,必修课优良率!A$1:D$173,4,FALSE)","v":"否"}]
[135,107,"2024010509","孙铭徽",{"$f":"VLOOKUP(D138,美育!B$2:E$182,2,FALSE)","v":"化工类24-2班"},{"$f":"VLOOKUP(D138,互评分!C$2:F$181,4,FALSE)","v":{"v":96.7142857142857,"d":"96.7143"}},{"$f":"VLOOKUP(D138,辅导员加分!B$2:C$176,2,FALSE)","v":{"v":92,"d":"92.0000"}},{"$f":"VLOOKUP(D138,互评分!C$2:F$181,3,FALSE)","v":{"v":98.3333333333333,"d":"98.3333"}},{"$f":"VLOOKUP(D138,互评分!C$2:F$181,2,FALSE)","v":{"v":92,"d":"92.0000"}},{"$f":"F138*0.2","v":{"v":19.3428571428571,"d":"19.3429"}},{"$f":"G138*0.5","v":{"v":46,"d":"46.0000"}},{"$f":"H138*0.2","v":{"v":19.6666666666667,"d":"19.6667"}},{"$f":"I138*0.1","v":{"v":9.2,"d":"9.2000"}},{"$f":"SUM(J138:M138)*0.7","v":{"v":65.9466666666667,"d":"65.9467"}},{"v":0,"d":"0.0000"},{"v":0,"d":"0.0000"},{"v":0,"d":"0.0000"},{"$f":"N138+O138+P138-Q138","v":{"v":65.9466666666667,"d":"65.9467"}},{"$f":"R138*0.15","v":{"v":9.892,"d":"9.8920"}},{"v":75.2926829268293,"d":"75.2927"},{"v":61.5,"d":"61.5000"},{"$f":"IF(U138>0,T138*0.9+U138*0.1,T138)","v":{"v":73.9134146341464,"d":"73.9134"}},{"v":0,"d":"0.0000"},{"$f":"V138*0.85+W138","v":{"v":62.8264024390244,"d":"62.8264"}},{"$f":"0.7*X138","v":{"v":43.9784817073171,"d":"43.9785"}},{"$f":"VLOOKUP(D138,体测成绩!B$2:C$273,2,FALSE)","v":{"v":69,"d":"69.0000"}},{"$f":"VLOOKUP(D138,体育锻炼成绩!A$2:B$182,2,FALSE)","v":"100.00"},{"$f":"0.8*Z138","v":{"v":55.2,"d":"55.2000"}},{"$f":"AA138*0.2","v":{"v":20,"d":"20.0000"}},{"$f":"SUM(AB138:AC138)*0.7","v":{"v":52.64,"d":"52.6400"}},{"v":0,"d":"0.0000"},{"$f":"AD138+AE138","v":{"v":52.64,"d":"52.6400"}},{"$f":"AF138*0.05","v":{"v":2.632,"d":"2.6320"}},{"$f":"VLOOKUP(D138,美育!B$2:F$182,5,FALSE)","v":{"v":15,"d":"15.0000"}},{"$f":"VLOOKUP(D138,美育!B$2:E$182,4,FALSE)","v":{"v":0,"d":"0.0000"}},{"$f":"AH138+AI138","v":{"v":15,"d":"15.0000"}},{"$f":"AJ138*0.05","v":{"v":0.75,"d":"0.7500"}},{"$f":"VLOOKUP(D138,劳育基础分!B$3:AF$182,31,FALSE)","v":{"v":40,"d":"40.0000"}},{"v":0,"d":"0.0000"},{"$f":"AL138+AM138","v":{"v":40,"d":"40.0000"}},{"$f":"AN138*0.05","v":{"v":2,"d":"2.0000"}},{"$f":"S138+Y138+AG138+AK138+AO138","v":{"v":59.2524817073171,"d":"59.2525"}},{"$f":"VLOOKUP(D138,必修课优良率!A$1:B$173,2,FALSE)","v":"66.67%"},{"$f":"VLOOKUP(D138,四级成绩!B$2:C$178,2,FALSE)","v":466},{"$f":"VLOOKUP(D138,必修课优良率!A$1:D$173,4,FALSE)","v":"否"}]
[136,126,"2024010635","吴俊",{"$f":"VLOOKUP(D139,美育!B$2:E$182,2,FALSE)","v":"化工类24-6班"},{"$f":"VLOOKUP(D139,互评分!C$2:F$181,4,FALSE)","v":{"v":98.8076923076923,"d":"98.8077"}},{"$f":"VLOOKUP(D139,辅导员加分!B$2:C$176,2,FALSE)","v":{"v":90,"d":"90.0000"}},{"$f":"VLOOKUP(D139,互评分!C$2:F$181,3,FALSE)","v":{"v":100,"d":"100.0000"}},{"$f":"VLOOKUP(D139,互评分!C$2:F$181,2,FALSE)","v":{"v":100,"d":"100.0000"}},{"$f":"F139*0.2","v":{"v":19.7615384615385,"d":"19.7615"}},{"$f":"G139*0.5","v":{"v":45,"d":"45.0000"}},{"$f":"H139*0.2","v":{"v":20,"d":"20.0000"}},{"$f":"I139*0.1","v":{"v":10,"d":"10.0000"}},{"$f":"SUM(J139:M139)*0.7","v":{"v":66.3330769230769,"d":"66.3331"}},{"$f":"VLOOKUP(D139,学生干部加分!A$1:C$140,3,FALSE)","v":{"v":4,"d":"4.0000"}},{"v":0,"d":"0.0000"},{"v":0,"d":"0.0000"},{"$f":"N139+O139+P139-Q139","v":{"v":70.3330769230769,"d":"70.3331"}},{"$f":"R139*0.15","v":{"v":10.5499615384615,"d":"10.5500"}},{"v":73.9634146341463,"d":"73.9634"},{"v":0,"d":"0.0000"},{"$f":"IF(U139>0,T139*0.9+U139*0.1,T139)","v":{"v":73.9634146341463,"d":"73.9634"}},{"$f":"VLOOKUP(D139,智育加分汇总!A$2:C$44,3,FALSE)","v":{"v":1.5,"d":"1.5000"}},{"$f":"V139*0.85+W139","v":{"v":64.3689024390244,"d":"64.3689"}},{"$f":"0.7*X139","v":{"v":45.058231707317,"d":"45.0582"}},{"$f":"VLOOKUP(D139,体测成绩!B$2:C$273,2,FALSE)","v":{"v":58.6,"d":"58.6000"}},{"$f":"VLOOKUP(D139,体育锻炼成绩!A$2:B$182,2,FALSE)","v":"100.00"},{"$f":"0.8*Z139","v":{"v":46.88,"d":"46.8800"}},{"$f":"AA139*0.2","v":{"v":20,"d":"20.0000"}},{"$f":"SUM(AB139:AC139)*0.7","v":{"v":46.816,"d":"46.8160"}},{"v":0,"d":"0.0000"},{"$f":"AD139+AE139","v":{"v":46.816,"d":"46.8160"}},{"$f":"AF139*0.05","v":2.3408},{"$f":"VLOOKUP(D139,美育!B$2:F$182,5,FALSE)","v":{"v":0,"d":"0.0000"}},{"$f":"VLOOKUP(D139,美育!B$2:E$182,4,FALSE)","v":{"v":0,"d":"0.0000"}},{"$f":"AH139+AI139","v":{"v":0,"d":"0.0000"}},{"$f":"AJ139*0.05","v":{"v":0,"d":"0.0000"}},{"$f":"VLOOKUP(D139,劳育基础分!B$3:AF$182,31,FALSE)","v":{"v":22,"d":"22.0000"}},{"v":0,"d":"0.0000"},{"$f":"AL139+AM139","v":{"v":22,"d":"22.0000"}},{"$f":"AN139*0.05","v":{"v":1.1,"d":"1.1000"}},{"$f":"S139+Y139+AG139+AK139+AO139","v":{"v":59.0489932457786,"d":"59.0490"}},{"$f":"VLOOKUP(D139,必修课优良率!A$1:B$173,2,FALSE)","v":"47.62%"},{"$f":"VLOOKUP(D139,四级成绩!B$2:C$178,2,FALSE)","v":"533"},{"$f":"VLOOKUP(D139,必修课优良率!A$1:D$173,4,FALSE)","v":"否"}]
[137,124,"2024010532","陈萍洋",{"$f":"VLOOKUP(D140,美育!B$2:E$182,2,FALSE)","v":"化工类24-3班"},{"$f":"VLOOKUP(D140,互评分!C$2:F$181,4,FALSE)","v":{"v":99.4814814814815,"d":"99.4815"}},{"$f":"VLOOKUP(D140,辅导员加分!B$2:C$176,2,FALSE)","v":{"v":92,"d":"92.0000"}},{"$f":"VLOOKUP(D140,互评分!C$2:F$181,3,FALSE)","v":{"v":100,"d":"100.0000"}},{"$f":"VLOOKUP(D140,互评分!C$2:F$181,2,FALSE)","v":{"v":99,"d":"99.0000"}},{"$f":"F140*0.2","v":{"v":19.8962962962963,"d":"19.8963"}},{"$f":"G140*0.5","v":{"v":46,"d":"46.0000"}},{"$f":"H140*0.2","v":{"v":20,"d":"20.0000"}},{"$f":"I140*0.1","v":{"v":9.9,"d":"9.9000"}},{"$f":"SUM(J140:M140)*0.7","v":{"v":67.0574074074074,"d":"67.0574"}},{"v":0,"d":"0.0000"},{"v":0,"d":"0.0000"},{"v":0,"d":"0.0000"},{"$f":"N140+O140+P140-Q140","v":{"v":67.0574074074074,"d":"67.0574"}},{"$f":"R140*0.15","v":{"v":10.0586111111111,"d":"10.0586"}},{"v":74.0921052631579,"d":"74.0921"},{"v":83,"d":"83.0000"},{"$f":"IF(U140>0,T140*0.9+U140*0.1,T140)","v":{"v":74.9828947368421,"d":"74.9829"}},{"v":0,"d":"0.0000"},{"$f":"V140*0.85+W140","v":{"v":63.7354605263158,"d":"63.7355"}},{"$f":"0.7*X140","v":{"v":44.6148223684211,"d":"44.6148"}},{"$f":"VLOOKUP(D140,体测成绩!B$2:C$273,2,FALSE)","v":{"v":60,"d":"60.0000"}},{"$f":"VLOOKUP(D140,体育锻炼成绩!A$2:B$182,2,FALSE)","v":"100.00"},{"$f":"0.8*Z140","v":{"v":48,"d":"48.0000"}},{"$f":"AA140*0.2","v":{"v":20,"d":"20.0000"}},{"$f":"SUM(AB140:AC140)*0.7","v":{"v":47.6,"d":"47.6000"}},{"v":0,"d":"0.0000"},{"$f":"AD140+AE140","v":{"v":47.6,"d":"47.6000"}},{"$f":"AF140*0.05","v":{"v":2.38,"d":"2.3800"}},{"$f":"VLOOKUP(D140,美育!B$2:F$182,5,FALSE)","v":{"v":15,"d":"15.0000"}},{"$f":"VLOOKUP(D140,美育!B$2:E$182,4,FALSE)","v":{"v":0,"d":"0.0000"}},{"$f":"AH140+AI140","v":{"v":15,"d":"15.0000"}},{"$f":"AJ140*0.05","v":{"v":0.75,"d":"0.7500"}},{"$f":"VLOOKUP(D140,劳育基础分!B$3:AF$182,31,FALSE)","v":{"v":24,"d":"24.0000"}},{"v":0,"d":"0.0000"},{"$f":"AL140+AM140","v":{"v":24,"d":"24.0000"}},{"$f":"AN140*0.05","v":{"v":1.2,"d":"1.2000"}},{"$f":"S140+Y140+AG140+AK140+AO140","v":{"v":59.0034334795322,"d":"59.0034"}},{"$f":"VLOOKUP(D140,必修课优良率!A$1:B$173,2,FALSE)","v":"47.37%"},{"$f":"VLOOKUP(D140,四级成绩!B$2:C$178,2,FALSE)","v":0},{"$f":"VLOOKUP(D140,必修课优良率!A$1:D$173,4,FALSE)","v":"否"}]
[138,97,2024010566,"王泽轩",{"$f":"VLOOKUP(D141,美育!B$2:E$182,2,FALSE)","v":"化工类24-4班"},{"$f":"VLOOKUP(D141,互评分!C$2:F$181,4,FALSE)","v":{"v":96.67857,"d":"96.6786"}},{"$f":"VLOOKUP(D141,辅导员加分!B$2:C$176,2,FALSE)","v":{"v":90,"d":"90.0000"}},{"$f":"VLOOKUP(D141,互评分!C$2:F$181,3,FALSE)","v":{"v":95.71429,"d":"95.7143"}},{"$f":"VLOOKUP(D141,互评分!C$2:F$181,2,FALSE)","v":{"v":100,"d":"100.0000"}},{"$f":"F141*0.2","v":{"v":19.335714,"d":"19.3357"}},{"$f":"G141*0.5","v":{"v":45,"d":"45.0000"}},{"$f":"H141*0.2","v":{"v":19.142858,"d":"19.1429"}},{"$f":"I141*0.1","v":{"v":10,"d":"10.0000"}},{"$f":"SUM(J141:M141)*0.7","v":{"v":65.4350004,"d":"65.4350"}},{"v":0,"d":"0.0000"},{"v":0,"d":"0.0000"},{"v":0,"d":"0.0000"},{"$f":"N141+O141+P141-Q141","v":{"v":65.4350004,"d":"65.4350"}},{"$f":"R141*0.15","v":{"v":9.81525006,"d":"9.8153"}},{"$f":"VLOOKUP(D141,[1]必修课成绩!C$71:AE$100,29,FALSE)","v":{"v":76.35,"d":"76.3500"}},{"$f":"VLOOKUP(D141,[1]选修课成绩!C$72:AC$101,27,FALSE)","v":{"v":0,"d":"0.0000"}},{"$f":"IF(U141>0,T141*0.9+U141*0.1,T141)","v":{"v":76.35,"d":"76.3500"}},{"v":0,"d":"0.0000"},{"$f":"V141*0.85+W141","v":64.8975},{"$f":"0.7*X141","v":{"v":45.42825,"d":"45.4283"}},{"$f":"VLOOKUP(D141,体测成绩!B$2:C$273,2,FALSE)","v":{"v":73.5,"d":"73.5000"}},{"$f":"VLOOKUP(D141,体育锻炼成绩!A$2:B$182,2,FALSE)","v":"100.00"},{"$f":"0.8*Z141","v":{"v":58.8,"d":"58.8000"}},{"$f":"AA141*0.2","v":{"v":20,"d":"20.0000"}},{"$f":"SUM(AB141:AC141)*0.7","v":{"v":55.16,"d":"55.1600"}},{"v":0,"d":"0.0000"},{"$f":"AD141+AE141","v":{"v":55.16,"d":"55.1600"}},{"$f":"AF141*0.05","v":{"v":2.758,"d":"2.7580"}},{"$f":"VLOOKUP(D141,美育!B$2:F$182,5,FALSE)","v":{"v":0,"d":"0.0000"}},{"$f":"VLOOKUP(D141,美育!B$2:E$182,4,FALSE)","v":{"v":0,"d":"0.0000"}},{"$f":"AH141+AI141","v":{"v":0,"d":"0.0000"}},{"$f":"AJ141*0.05","v":{"v":0,"d":"0.0000"}},{"$f":"VLOOKUP(D141,劳育基础分!B$3:AF$182,31,FALSE)","v":{"v":20,"d":"20.0000"}},{"v":0,"d":"0.0000"},{"$f":"AL141+AM141","v":{"v":20,"d":"20.0000"}},{"$f":"AN141*0.05","v":{"v":1,"d":"1.0000"}},{"$f":"S141+Y141+AG141+AK141+AO141","v":{"v":59.00150006,"d":"59.0015"}},{"$f":"VLOOKUP(D141,必修课优良率!A$1:B$173,2,FALSE)","v":"42.86%"},{"$f":"VLOOKUP(D141,四级成绩!B$2:C$178,2,FALSE)","v":518},{"$f":"VLOOKUP(D141,必修课优良率!A$1:D$173,4,FALSE)","v":"否"}]
[139,156,2024010612,"马秋阳",{"$f":"VLOOKUP(D142,美育!B$2:E$182,2,FALSE)","v":"化工类24-6班"},{"$f":"VLOOKUP(D142,互评分!C$2:F$181,4,FALSE)","v":{"v":98.8846153846154,"d":"98.8846"}},{"$f":"VLOOKUP(D142,辅导员加分!B$2:C$176,2,FALSE)","v":{"v":92,"d":"92.0000"}},{"$f":"VLOOKUP(D142,互评分!C$2:F$181,3,FALSE)","v":{"v":100,"d":"100.0000"}},{"$f":"VLOOKUP(D142,互评分!C$2:F$181,2,FALSE)","v":{"v":100,"d":"100.0000"}},{"$f":"F142*0.2","v":{"v":19.7769230769231,"d":"19.7769"}},{"$f":"G142*0.5","v":{"v":46,"d":"46.0000"}},{"$f":"H142*0.2","v":{"v":20,"d":"20.0000"}},{"$f":"I142*0.1","v":{"v":10,"d":"10.0000"}},{"$f":"SUM(J142:M142)*0.7","v":{"v":67.0438461538462,"d":"67.0438"}},{"$f":"VLOOKUP(D142,学生干部加分!A$1:C$140,3,FALSE)","v":{"v":2,"d":"2.0000"}},{"v":0,"d":"0.0000"},{"v":0,"d":"0.0000"},{"$f":"N142+O142+P142-Q142","v":{"v":69.0438461538462,"d":"69.0438"}},{"$f":"R142*0.15","v":{"v":10.3565769230769,"d":"10.3566"}},{"$f":"VLOOKUP(D142,[1]必修课成绩!C$71:AE$100,29,FALSE)","v":{"v":69.025,"d":"69.0250"}},{"$f":"VLOOKUP(D142,[1]选修课成绩!C$72:AC$101,27,FALSE)","v":{"v":75,"d":"75.0000"}},{"$f":"IF(U142>0,T142*0.9+U142*0.1,T142)","v":69.6225},{"v":0,"d":"0.0000"},{"$f":"V142*0.85+W142","v":{"v":59.179125,"d":"59.1791"}},{"$f":"0.7*X142","v":{"v":41.4253875,"d":"41.4254"}},{"$f":"VLOOKUP(D142,体测成绩!B$2:C$273,2,FALSE)","v":{"v":80.2,"d":"80.2000"}},{"$f":"VLOOKUP(D142,体育锻炼成绩!A$2:B$182,2,FALSE)","v":"100.00"},{"$f":"0.8*Z142","v":{"v":64.16,"d":"64.1600"}},{"$f":"AA142*0.2","v":{"v":20,"d":"20.0000"}},{"$f":"SUM(AB142:AC142)*0.7","v":{"v":58.912,"d":"58.9120"}},{"$f":"VLOOKUP(D142,体育加分汇总!A$1:C$79,3,FALSE)","v":{"v":8,"d":"8.0000"}},{"$f":"AD142+AE142","v":{"v":66.912,"d":"66.9120"}},{"$f":"AF142*0.05","v":3.3456},{"$f":"VLOOKUP(D142,美育!B$2:F$182,5,FALSE)","v":{"v":35,"d":"35.0000"}},{"$f":"VLOOKUP(D142,美育!B$2:E$182,4,FALSE)","v":{"v":0,"d":"0.0000"}},{"$f":"AH142+AI142","v":{"v":35,"d":"35.0000"}},{"$f":"AJ142*0.05","v":{"v":1.75,"d":"1.7500"}},{"$f":"VLOOKUP(D142,劳育基础分!B$3:AF$182,31,FALSE)","v":{"v":42,"d":"42.0000"}},{"v":0,"d":"0.0000"},{"$f":"AL142+AM142","v":{"v":42,"d":"42.0000"}},{"$f":"AN142*0.05","v":{"v":2.1,"d":"2.1000"}},{"$f":"S142+Y142+AG142+AK142+AO142","v":{"v":58.9775644230769,"d":"58.9776"}},{"$f":"VLOOKUP(D142,必修课优良率!A$1:B$173,2,FALSE)","v":"52.38%"},{"$f":"VLOOKUP(D142,四级成绩!B$2:C$178,2,FALSE)","v":427},{"$f":"VLOOKUP(D142,必修课优良率!A$1:D$173,4,FALSE)","v":"是"}]
[140,160,2024010613,"吴淑金",{"$f":"VLOOKUP(D143,美育!B$2:E$182,2,FALSE)","v":"化工类24-6班"},{"$f":"VLOOKUP(D143,互评分!C$2:F$181,4,FALSE)","v":{"v":98.9615384615385,"d":"98.9615"}},{"$f":"VLOOKUP(D143,辅导员加分!B$2:C$176,2,FALSE)","v":{"v":90,"d":"90.0000"}},{"$f":"VLOOKUP(D143,互评分!C$2:F$181,3,FALSE)","v":{"v":100,"d":"100.0000"}},{"$f":"VLOOKUP(D143,互评分!C$2:F$181,2,FALSE)","v":{"v":100,"d":"100.0000"}},{"$f":"F143*0.2","v":{"v":19.7923076923077,"d":"19.7923"}},{"$f":"G143*0.5","v":{"v":45,"d":"45.0000"}},{"$f":"H143*0.2","v":{"v":20,"d":"20.0000"}},{"$f":"I143*0.1","v":{"v":10,"d":"10.0000"}},{"$f":"SUM(J143:M143)*0.7","v":{"v":66.3546153846154,"d":"66.3546"}},{"$f":"VLOOKUP(D143,学生干部加分!A$1:C$140,3,FALSE)","v":{"v":8,"d":"8.0000"}},{"v":0,"d":"0.0000"},{"v":0,"d":"0.0000"},{"$f":"N143+O143+P143-Q143","v":{"v":74.3546153846154,"d":"74.3546"}},{"$f":"R143*0.15","v":{"v":11.1531923076923,"d":"11.1532"}},{"$f":"VLOOKUP(D143,[1]必修课成绩!C$71:AE$100,29,FALSE)","v":{"v":67.9,"d":"67.9000"}},{"$f":"VLOOKUP(D143,[1]选修课成绩!C$72:AC$101,27,FALSE)","v":{"v":84.52631579,"d":"84.5263"}},{"$f":"IF(U143>0,T143*0.9+U143*0.1,T143)","v":{"v":69.562631579,"d":"69.5626"}},{"v":0,"d":"0.0000"},{"$f":"V143*0.85+W143","v":{"v":59.12823684215,"d":"59.1282"}},{"$f":"0.7*X143","v":{"v":41.389765789505,"d":"41.3898"}},{"$f":"VLOOKUP(D143,体测成绩!B$2:C$273,2,FALSE)","v":{"v":81.2,"d":"81.2000"}},{"$f":"VLOOKUP(D143,体育锻炼成绩!A$2:B$182,2,FALSE)","v":"100.00"},{"$f":"0.8*Z143","v":{"v":64.96,"d":"64.9600"}},{"$f":"AA143*0.2","v":{"v":20,"d":"20.0000"}},{"$f":"SUM(AB143:AC143)*0.7","v":{"v":59.472,"d":"59.4720"}},{"v":0,"d":"0.0000"},{"$f":"AD143+AE143","v":{"v":59.472,"d":"59.4720"}},{"$f":"AF143*0.05","v":2.9736},{"$f":"VLOOKUP(D143,美育!B$2:F$182,5,FALSE)","v":{"v":18,"d":"18.0000"}},{"$f":"VLOOKUP(D143,美育!B$2:E$182,4,FALSE)","v":{"v":6,"d":"6.0000"}},{"$f":"AH143+AI143","v":{"v":24,"d":"24.0000"}},{"$f":"AJ143*0.05","v":{"v":1.2,"d":"1.2000"}},{"$f":"VLOOKUP(D143,劳育基础分!B$3:AF$182,31,FALSE)","v":{"v":42,"d":"42.0000"}},{"v":0,"d":"0.0000"},{"$f":"AL143+AM143","v":{"v":42,"d":"42.0000"}},{"$f":"AN143*0.05","v":{"v":2.1,"d":"2.1000"}},{"$f":"S143+Y143+AG143+AK143+AO143","v":{"v":58.8165580971973,"d":"58.8166"}},{"$f":"VLOOKUP(D143,必修课优良率!A$1:B$173,2,FALSE)","v":"52.38%"},{"$f":"VLOOKUP(D143,四级成绩!B$2:C$178,2,FALSE)","v":481},{"$f":"VLOOKUP(D143,必修课优良率!A$1:D$173,4,FALSE)","v":"是"}]
[141,116,2024010562,"冯子洋",{"$f":"VLOOKUP(D144,美育!B$2:E$182,2,FALSE)","v":"化工类24-4班"},{"$f":"VLOOKUP(D144,互评分!C$2:F$181,4,FALSE)","v":{"v":96.64286,"d":"96.6429"}},{"$f":"VLOOKUP(D144,辅导员加分!B$2:C$176,2,FALSE)","v":{"v":90,"d":"90.0000"}},{"$f":"VLOOKUP(D144,互评分!C$2:F$181,3,FALSE)","v":{"v":95.71429,"d":"95.7143"}},{"$f":"VLOOKUP(D144,互评分!C$2:F$181,2,FALSE)","v":{"v":100,"d":"100.0000"}},{"$f":"F144*0.2","v":{"v":19.328572,"d":"19.3286"}},{"$f":"G144*0.5","v":{"v":45,"d":"45.0000"}},{"$f":"H144*0.2","v":{"v":19.142858,"d":"19.1429"}},{"$f":"I144*0.1","v":{"v":10,"d":"10.0000"}},{"$f":"SUM(J144:M144)*0.7","v":{"v":65.430001,"d":"65.4300"}},{"$f":"VLOOKUP(D144,学生干部加分!A$1:C$140,3,FALSE)","v":{"v":4,"d":"4.0000"}},{"v":0,"d":"0.0000"},{"v":0,"d":"0.0000"},{"$f":"N144+O144+P144-Q144","v":{"v":69.430001,"d":"69.4300"}},{"$f":"R144*0.15","v":{"v":10.41450015,"d":"10.4145"}},{"$f":"VLOOKUP(D144,[1]必修课成绩!C$71:AE$100,29,FALSE)","v":{"v":74.55,"d":"74.5500"}},{"$f":"VLOOKUP(D144,[1]选修课成绩!C$72:AC$101,27,FALSE)","v":{"v":0,"d":"0.0000"}},{"$f":"IF(U144>0,T144*0.9+U144*0.1,T144)","v":{"v":74.55,"d":"74.5500"}},{"v":0,"d":"0.0000"},{"$f":"V144*0.85+W144","v":63.3675},{"$f":"0.7*X144","v":{"v":44.35725,"d":"44.3573"}},{"$f":"VLOOKUP(D144,体测成绩!B$2:C$273,2,FALSE)","v":{"v":74.4,"d":"74.4000"}},{"$f":"VLOOKUP(D144,体育锻炼成绩!A$2:B$182,2,FALSE)","v":"100.00"},{"$f":"0.8*Z144","v":{"v":59.52,"d":"59.5200"}},{"$f":"AA144*0.2","v":{"v":20,"d":"20.0000"}},{"$f":"SUM(AB144:AC144)*0.7","v":{"v":55.664,"d":"55.6640"}},{"v":0,"d":"0.0000"},{"$f":"AD144+AE144","v":{"v":55.664,"d":"55.6640"}},{"$f":"AF144*0.05","v":2.7832},{"$f":"VLOOKUP(D144,美育!B$2:F$182,5,FALSE)","v":{"v":3,"d":"3.0000"}},{"$f":"VLOOKUP(D144,美育!B$2:E$182,4,FALSE)","v":{"v":0,"d":"0.0000"}},{"$f":"AH144+AI144","v":{"v":3,"d":"3.0000"}},{"$f":"AJ144*0.05","v":{"v":0.15,"d":"0.1500"}},{"$f":"VLOOKUP(D144,劳育基础分!B$3:AF$182,31,FALSE)","v":{"v":20,"d":"20.0000"}},{"v":0,"d":"0.0000"},{"$f":"AL144+AM144","v":{"v":20,"d":"20.0000"}},{"$f":"AN144*0.05","v":{"v":1,"d":"1.0000"}},{"$f":"S144+Y144+AG144+AK144+AO144","v":{"v":58.70495015,"d":"58.7050"}},{"$f":"VLOOKUP(D144,必修课优良率!A$1:B$173,2,FALSE)","v":"42.86%"},{"$f":"VLOOKUP(D144,四级成绩!B$2:C$178,2,FALSE)","v":490},{"$f":"VLOOKUP(D144,必修课优良率!A$1:D$173,4,FALSE)","v":"否"}]
[142,145,2024010542,"谢子翔",{"$f":"VLOOKUP(D145,美育!B$2:E$182,2,FALSE)","v":"化工类24-3班"},{"$f":"VLOOKUP(D145,互评分!C$2:F$181,4,FALSE)","v":{"v":98.7857142857143,"d":"98.7857"}},{"$f":"VLOOKUP(D145,辅导员加分!B$2:C$176,2,FALSE)","v":{"v":92,"d":"92.0000"}},{"$f":"VLOOKUP(D145,互评分!C$2:F$181,3,FALSE)","v":{"v":100,"d":"100.0000"}},{"$f":"VLOOKUP(D145,互评分!C$2:F$181,2,FALSE)","v":{"v":99,"d":"99.0000"}},{"$f":"F145*0.2","v":{"v":19.7571428571429,"d":"19.7571"}},{"$f":"G145*0.5","v":{"v":46,"d":"46.0000"}},{"$f":"H145*0.2","v":{"v":20,"d":"20.0000"}},{"$f":"I145*0.1","v":{"v":9.9,"d":"9.9000"}},{"$f":"SUM(J145:M145)*0.7","v":{"v":66.96,"d":"66.9600"}},{"v":0,"d":"0.0000"},{"v":0,"d":"0.0000"},{"v":0,"d":"0.0000"},{"$f":"N145+O145+P145-Q145","v":{"v":66.96,"d":"66.9600"}},{"$f":"R145*0.15","v":{"v":10.044,"d":"10.0440"}},{"$f":"VLOOKUP(D145,[1]必修课成绩!C$71:AE$100,29,FALSE)","v":71.7375},{"$f":"VLOOKUP(D145,[1]选修课成绩!C$72:AC$101,27,FALSE)","v":{"v":0,"d":"0.0000"}},{"$f":"IF(U145>0,T145*0.9+U145*0.1,T145)","v":71.7375},{"v":0,"d":"0.0000"},{"$f":"V145*0.85+W145","v":{"v":60.976875,"d":"60.9769"}},{"$f":"0.7*X145","v":{"v":42.6838125,"d":"42.6838"}},{"$f":"VLOOKUP(D145,体测成绩!B$2:C$273,2,FALSE)","v":{"v":71.6,"d":"71.6000"}},{"$f":"VLOOKUP(D145,体育锻炼成绩!A$2:B$182,2,FALSE)","v":"100.00"},{"$f":"0.8*Z145","v":{"v":57.28,"d":"57.2800"}},{"$f":"AA145*0.2","v":{"v":20,"d":"20.0000"}},{"$f":"SUM(AB145:AC145)*0.7","v":{"v":54.096,"d":"54.0960"}},{"$f":"VLOOKUP(D145,体育加分汇总!A$1:C$79,3,FALSE)","v":{"v":0,"d":"0.0000"}},{"$f":"AD145+AE145","v":{"v":54.096,"d":"54.0960"}},{"$f":"AF145*0.05","v":2.7048},{"$f":"VLOOKUP(D145,美育!B$2:F$182,5,FALSE)","v":{"v":25,"d":"25.0000"}},{"$f":"VLOOKUP(D145,美育!B$2:E$182,4,FALSE)","v":{"v":0,"d":"0.0000"}},{"$f":"AH145+AI145","v":{"v":25,"d":"25.0000"}},{"$f":"AJ145*0.05","v":{"v":1.25,"d":"1.2500"}},{"$f":"VLOOKUP(D145,劳育基础分!B$3:AF$182,31,FALSE)","v":{"v":40,"d":"40.0000"}},{"v":0,"d":"0.0000"},{"$f":"AL145+AM145","v":{"v":40,"d":"40.0000"}},{"$f":"AN145*0.05","v":{"v":2,"d":"2.0000"}},{"$f":"S145+Y145+AG145+AK145+AO145","v":{"v":58.6826125,"d":"58.6826"}},{"$f":"VLOOKUP(D145,必修课优良率!A$1:B$173,2,FALSE)","v":"52.38%"},{"$f":"VLOOKUP(D145,四级成绩!B$2:C$178,2,FALSE)","v":505},{"$f":"VLOOKUP(D145,必修课优良率!A$1:D$173,4,FALSE)","v":"是"}]
[143,106,"2024010554","葛敏",{"$f":"VLOOKUP(D146,美育!B$2:E$182,2,FALSE)","v":"化工类24-4班"},{"$f":"VLOOKUP(D146,互评分!C$2:F$181,4,FALSE)","v":{"v":96.964,"d":"96.9640"}},{"$f":"VLOOKUP(D146,辅导员加分!B$2:C$176,2,FALSE)","v":{"v":90,"d":"90.0000"}},{"$f":"VLOOKUP(D146,互评分!C$2:F$181,3,FALSE)","v":{"v":98.42857,"d":"98.4286"}},{"$f":"VLOOKUP(D146,互评分!C$2:F$181,2,FALSE)","v":{"v":100,"d":"100.0000"}},{"$f":"F146*0.2","v":19.3928},{"$f":"G146*0.5","v":{"v":45,"d":"45.0000"}},{"$f":"H146*0.2","v":{"v":19.685714,"d":"19.6857"}},{"$f":"I146*0.1","v":{"v":10,"d":"10.0000"}},{"$f":"SUM(J146:M146)*0.7","v":{"v":65.8549598,"d":"65.8550"}},{"v":0,"d":"0.0000"},{"v":0,"d":"0.0000"},{"v":0,"d":"0.0000"},{"$f":"N146+O146+P146-Q146","v":{"v":65.8549598,"d":"65.8550"}},{"$f":"R146*0.15","v":{"v":9.87824397,"d":"9.8782"}},{"$f":"VLOOKUP(D146,[2]必修课成绩!C$59:BO$82,65,FALSE)","v":{"v":75.3536585365854,"d":"75.3537"}},{"$f":"VLOOKUP(D146,[2]选修课成绩!C$60:BI$83,59,FALSE)","v":{"v":84,"d":"84.0000"}},{"$f":"IF(U146>0,T146*0.9+U146*0.1,T146)","v":{"v":76.2182926829269,"d":"76.2183"}},{"v":0,"d":"0.0000"},{"$f":"V146*0.85+W146","v":{"v":64.7855487804878,"d":"64.7855"}},{"$f":"0.7*X146","v":{"v":45.3498841463415,"d":"45.3499"}},{"$f":"VLOOKUP(D146,体测成绩!B$2:C$273,2,FALSE)","v":{"v":72.2,"d":"72.2000"}},{"$f":"VLOOKUP(D146,体育锻炼成绩!A$2:B$182,2,FALSE)","v":"0.00"},{"$f":"0.8*Z146","v":{"v":57.76,"d":"57.7600"}},{"$f":"AA146*0.2","v":{"v":0,"d":"0.0000"}},{"$f":"SUM(AB146:AC146)*0.7","v":{"v":40.432,"d":"40.4320"}},{"v":0,"d":"0.0000"},{"$f":"AD146+AE146","v":{"v":40.432,"d":"40.4320"}},{"$f":"AF146*0.05","v":2.0216},{"$f":"VLOOKUP(D146,美育!B$2:F$182,5,FALSE)","v":{"v":0,"d":"0.0000"}},{"$f":"VLOOKUP(D146,美育!B$2:E$182,4,FALSE)","v":{"v":0,"d":"0.0000"}},{"$f":"AH146+AI146","v":{"v":0,"d":"0.0000"}},{"$f":"AJ146*0.05","v":{"v":0,"d":"0.0000"}},{"$f":"VLOOKUP(D146,劳育基础分!B$3:AF$182,31,FALSE)","v":{"v":28,"d":"28.0000"}},{"v":0,"d":"0.0000"},{"$f":"AL146+AM146","v":{"v":28,"d":"28.0000"}},{"$f":"AN146*0.05","v":{"v":1.4,"d":"1.4000"}},{"$f":"S146+Y146+AG146+AK146+AO146","v":{"v":58.6497281163415,"d":"58.6497"}},{"$f":"VLOOKUP(D146,必修课优良率!A$1:B$173,2,FALSE)","v":"52.38%"},0,{"$f":"VLOOKUP(D146,必修课优良率!A$1:D$173,4,FALSE)","v":"否"}]
[144,144,"2024010536","郭北辰",{"$f":"VLOOKUP(D147,美育!B$2:E$182,2,FALSE)","v":"化工类24-3班"},{"$f":"VLOOKUP(D147,互评分!C$2:F$181,4,FALSE)","v":{"v":99.4074074074074,"d":"99.4074"}},{"$f":"VLOOKUP(D147,辅导员加分!B$2:C$176,2,FALSE)","v":{"v":94,"d":"94.0000"}},{"$f":"VLOOKUP(D147,互评分!C$2:F$181,3,FALSE)","v":{"v":100,"d":"100.0000"}},{"$f":"VLOOKUP(D147,互评分!C$2:F$181,2,FALSE)","v":{"v":99,"d":"99.0000"}},{"$f":"F147*0.2","v":{"v":19.8814814814815,"d":"19.8815"}},{"$f":"G147*0.5","v":{"v":47,"d":"47.0000"}},{"$f":"H147*0.2","v":{"v":20,"d":"20.0000"}},{"$f":"I147*0.1","v":{"v":9.9,"d":"9.9000"}},{"$f":"SUM(J147:M147)*0.7","v":{"v":67.747037037037,"d":"67.7470"}},{"$f":"VLOOKUP(D147,学生干部加分!A$1:C$140,3,FALSE)","v":{"v":4,"d":"4.0000"}},{"v":0,"d":"0.0000"},{"v":0,"d":"0.0000"},{"$f":"N147+O147+P147-Q147","v":{"v":71.747037037037,"d":"71.7470"}},{"$f":"R147*0.15","v":{"v":10.7620555555556,"d":"10.7621"}},{"v":71.8690476190476,"d":"71.8690"},{"v":74,"d":"74.0000"},{"$f":"IF(U147>0,T147*0.9+U147*0.1,T147)","v":{"v":72.0821428571429,"d":"72.0821"}},{"v":0,"d":"0.0000"},{"$f":"V147*0.85+W147","v":{"v":61.2698214285714,"d":"61.2698"}},{"$f":"0.7*X147","v":{"v":42.888875,"d":"42.8889"}},{"$f":"VLOOKUP(D147,体测成绩!B$2:C$273,2,FALSE)","v":{"v":72.6,"d":"72.6000"}},{"v":100,"d":"100.0000"},{"$f":"0.8*Z147","v":{"v":58.08,"d":"58.0800"}},{"$f":"AA147*0.2","v":{"v":20,"d":"20.0000"}},{"$f":"SUM(AB147:AC147)*0.7","v":{"v":54.656,"d":"54.6560"}},{"v":0,"d":"0.0000"},{"$f":"AD147+AE147","v":{"v":54.656,"d":"54.6560"}},{"$f":"AF147*0.05","v":2.7328},{"$f":"VLOOKUP(D147,美育!B$2:F$182,5,FALSE)","v":{"v":0,"d":"0.0000"}},{"$f":"VLOOKUP(D147,美育!B$2:E$182,4,FALSE)","v":{"v":0,"d":"0.0000"}},{"$f":"AH147+AI147","v":{"v":0,"d":"0.0000"}},{"$f":"AJ147*0.05","v":{"v":0,"d":"0.0000"}},{"$f":"VLOOKUP(D147,劳育基础分!B$3:AF$182,31,FALSE)","v":{"v":42,"d":"42.0000"}},{"v":0,"d":"0.0000"},{"$f":"AL147+AM147","v":{"v":42,"d":"42.0000"}},{"$f":"AN147*0.05","v":{"v":2.1,"d":"2.1000"}},{"$f":"S147+Y147+AG147+AK147+AO147","v":{"v":58.4837305555556,"d":"58.4837"}},{"$f":"VLOOKUP(D147,必修课优良率!A$1:B$173,2,FALSE)","v":"52.38%"},{"$f":"VLOOKUP(D147,四级成绩!B$2:C$178,2,FALSE)","v":484},{"$f":"VLOOKUP(D147,必修课优良率!A$1:D$173,4,FALSE)","v":"否"}]
[145,150,"2024010489","赵倩瑶",{"$f":"VLOOKUP(D148,美育!B$2:E$182,2,FALSE)","v":"化工类24-2班"},{"$f":"VLOOKUP(D148,互评分!C$2:F$181,4,FALSE)","v":{"v":97.3571428571429,"d":"97.3571"}},{"$f":"VLOOKUP(D148,辅导员加分!B$2:C$176,2,FALSE)","v":{"v":90,"d":"90.0000"}},{"$f":"VLOOKUP(D148,互评分!C$2:F$181,3,FALSE)","v":{"v":99.1666666666667,"d":"99.1667"}},{"$f":"VLOOKUP(D148,互评分!C$2:F$181,2,FALSE)","v":{"v":91,"d":"91.0000"}},{"$f":"F148*0.2","v":{"v":19.4714285714286,"d":"19.4714"}},{"$f":"G148*0.5","v":{"v":45,"d":"45.0000"}},{"$f":"H148*0.2","v":{"v":19.8333333333333,"d":"19.8333"}},{"$f":"I148*0.1","v":{"v":9.1,"d":"9.1000"}},{"$f":"SUM(J148:M148)*0.7","v":{"v":65.3833333333333,"d":"65.3833"}},{"$f":"VLOOKUP(D148,学生干部加分!A$1:C$140,3,FALSE)","v":{"v":12,"d":"12.0000"}},{"v":0,"d":"0.0000"},{"v":0,"d":"0.0000"},{"$f":"N148+O148+P148-Q148","v":{"v":77.3833333333333,"d":"77.3833"}},{"$f":"R148*0.15","v":11.6075},{"v":71.0357142857143,"d":"71.0357"},{"v":91,"d":"91.0000"},{"$f":"IF(U148>0,T148*0.9+U148*0.1,T148)","v":{"v":73.0321428571429,"d":"73.0321"}},{"v":0,"d":"0.0000"},{"$f":"V148*0.85+W148","v":{"v":62.0773214285714,"d":"62.0773"}},{"$f":"0.7*X148","v":{"v":43.454125,"d":"43.4541"}},{"$f":"VLOOKUP(D148,体测成绩!B$2:C$273,2,FALSE)","v":{"v":64.1,"d":"64.1000"}},{"$f":"VLOOKUP(D148,体育锻炼成绩!A$2:B$182,2,FALSE)","v":"0.00"},{"$f":"0.8*Z148","v":{"v":51.28,"d":"51.2800"}},{"$f":"AA148*0.2","v":{"v":0,"d":"0.0000"}},{"$f":"SUM(AB148:AC148)*0.7","v":{"v":35.896,"d":"35.8960"}},{"v":0,"d":"0.0000"},{"$f":"AD148+AE148","v":{"v":35.896,"d":"35.8960"}},{"$f":"AF148*0.05","v":1.7948},{"$f":"VLOOKUP(D148,美育!B$2:F$182,5,FALSE)","v":{"v":0,"d":"0.0000"}},{"$f":"VLOOKUP(D148,美育!B$2:E$182,4,FALSE)","v":{"v":0,"d":"0.0000"}},{"$f":"AH148+AI148","v":{"v":0,"d":"0.0000"}},{"$f":"AJ148*0.05","v":{"v":0,"d":"0.0000"}},{"$f":"VLOOKUP(D148,劳育基础分!B$3:AF$182,31,FALSE)","v":{"v":29,"d":"29.0000"}},{"v":0,"d":"0.0000"},{"$f":"AL148+AM148","v":{"v":29,"d":"29.0000"}},{"$f":"AN148*0.05","v":{"v":1.45,"d":"1.4500"}},{"$f":"S148+Y148+AG148+AK148+AO148","v":{"v":58.306425,"d":"58.3064"}},{"$f":"VLOOKUP(D148,必修课优良率!A$1:B$173,2,FALSE)","v":"47.62%"},{"$f":"VLOOKUP(D148,四级成绩!B$2:C$178,2,FALSE)","v":445},{"$f":"VLOOKUP(D148,必修课优良率!A$1:D$173,4,FALSE)","v":"是"}]
[146,140,"2024010574","孙愷辰",{"$f":"VLOOKUP(D149,美育!B$2:E$182,2,FALSE)","v":"化工类24-4班"},{"$f":"VLOOKUP(D149,互评分!C$2:F$181,4,FALSE)","v":{"v":96.46429,"d":"96.4643"}},{"$f":"VLOOKUP(D149,辅导员加分!B$2:C$176,2,FALSE)","v":{"v":94,"d":"94.0000"}},{"$f":"VLOOKUP(D149,互评分!C$2:F$181,3,FALSE)","v":{"v":95.57143,"d":"95.5714"}},{"$f":"VLOOKUP(D149,互评分!C$2:F$181,2,FALSE)","v":{"v":100,"d":"100.0000"}},{"$f":"F149*0.2","v":{"v":19.292858,"d":"19.2929"}},{"$f":"G149*0.5","v":{"v":47,"d":"47.0000"}},{"$f":"H149*0.2","v":{"v":19.114286,"d":"19.1143"}},{"$f":"I149*0.1","v":{"v":10,"d":"10.0000"}},{"$f":"SUM(J149:M149)*0.7","v":{"v":66.7850008,"d":"66.7850"}},{"$f":"VLOOKUP(D149,学生干部加分!A$1:C$140,3,FALSE)","v":{"v":5,"d":"5.0000"}},{"v":0,"d":"0.0000"},{"v":0,"d":"0.0000"},{"$f":"N149+O149+P149-Q149","v":{"v":71.7850008,"d":"71.7850"}},{"$f":"R149*0.15","v":{"v":10.76775012,"d":"10.7678"}},{"v":72.3780487804878,"d":"72.3780"},{"v":69,"d":"69.0000"},{"$f":"IF(U149>0,T149*0.9+U149*0.1,T149)","v":{"v":72.040243902439,"d":"72.0402"}},{"v":0,"d":"0.0000"},{"$f":"V149*0.85+W149","v":{"v":61.2342073170732,"d":"61.2342"}},{"$f":"0.7*X149","v":{"v":42.8639451219512,"d":"42.8639"}},{"$f":"VLOOKUP(D149,体测成绩!B$2:C$273,2,FALSE)","v":{"v":51.5,"d":"51.5000"}},{"$f":"VLOOKUP(D149,体育锻炼成绩!A$2:B$182,2,FALSE)","v":"100.00"},{"$f":"0.8*Z149","v":{"v":41.2,"d":"41.2000"}},{"$f":"AA149*0.2","v":{"v":20,"d":"20.0000"}},{"$f":"SUM(AB149:AC149)*0.7","v":{"v":42.84,"d":"42.8400"}},{"v":0,"d":"0.0000"},{"$f":"AD149+AE149","v":{"v":42.84,"d":"42.8400"}},{"$f":"AF149*0.05","v":{"v":2.142,"d":"2.1420"}},{"$f":"VLOOKUP(D149,美育!B$2:F$182,5,FALSE)","v":{"v":15,"d":"15.0000"}},{"$f":"VLOOKUP(D149,美育!B$2:E$182,4,FALSE)","v":{"v":0,"d":"0.0000"}},{"$f":"AH149+AI149","v":{"v":15,"d":"15.0000"}},{"$f":"AJ149*0.05","v":{"v":0.75,"d":"0.7500"}},{"$f":"VLOOKUP(D149,劳育基础分!B$3:AF$182,31,FALSE)","v":{"v":28,"d":"28.0000"}},{"v":0,"d":"0.0000"},{"$f":"AL149+AM149","v":{"v":28,"d":"28.0000"}},{"$f":"AN149*0.05","v":{"v":1.4,"d":"1.4000"}},{"$f":"S149+Y149+AG149+AK149+AO149","v":{"v":57.9236952419512,"d":"57.9237"}},{"$f":"VLOOKUP(D149,必修课优良率!A$1:B$173,2,FALSE)","v":"57.14%"},{"$f":"VLOOKUP(D149,四级成绩!B$2:C$178,2,FALSE)","v":"496"},{"$f":"VLOOKUP(D149,必修课优良率!A$1:D$173,4,FALSE)","v":"是"}]
[147,134,"2024010473","李博航",{"$f":"VLOOKUP(D150,美育!B$2:E$182,2,FALSE)","v":"化工类24-1班"},{"$f":"VLOOKUP(D150,互评分!C$2:F$181,4,FALSE)","v":{"v":98.74074074,"d":"98.7407"}},{"$f":"VLOOKUP(D150,辅导员加分!B$2:C$176,2,FALSE)","v":{"v":92,"d":"92.0000"}},{"$f":"VLOOKUP(D150,互评分!C$2:F$181,3,FALSE)","v":{"v":100,"d":"100.0000"}},{"$f":"VLOOKUP(D150,互评分!C$2:F$181,2,FALSE)","v":{"v":98,"d":"98.0000"}},{"$f":"F150*0.2","v":{"v":19.748148148,"d":"19.7481"}},{"$f":"G150*0.5","v":{"v":46,"d":"46.0000"}},{"$f":"H150*0.2","v":{"v":20,"d":"20.0000"}},{"$f":"I150*0.1","v":{"v":9.8,"d":"9.8000"}},{"$f":"SUM(J150:M150)*0.7","v":{"v":66.8837037036,"d":"66.8837"}},{"$f":"VLOOKUP(D150,学生干部加分!A$1:C$140,3,FALSE)","v":{"v":2,"d":"2.0000"}},{"v":0,"d":"0.0000"},{"v":0,"d":"0.0000"},{"$f":"N150+O150+P150-Q150","v":{"v":68.8837037036,"d":"68.8837"}},{"$f":"R150*0.15","v":{"v":10.33255555554,"d":"10.3326"}},{"v":73.5,"d":"73.5000"},{"v":69,"d":"69.0000"},{"$f":"IF(U150>0,T150*0.9+U150*0.1,T150)","v":{"v":73.05,"d":"73.0500"}},{"v":0,"d":"0.0000"},{"$f":"V150*0.85+W150","v":62.0925},{"$f":"0.7*X150","v":{"v":43.46475,"d":"43.4648"}},{"$f":"VLOOKUP(D150,体测成绩!B$2:C$273,2,FALSE)","v":{"v":75.5,"d":"75.5000"}},{"$f":"VLOOKUP(D150,体育锻炼成绩!A$2:B$182,2,FALSE)","v":"100.00"},{"$f":"0.8*Z150","v":{"v":60.4,"d":"60.4000"}},{"$f":"AA150*0.2","v":{"v":20,"d":"20.0000"}},{"$f":"SUM(AB150:AC150)*0.7","v":{"v":56.28,"d":"56.2800"}},{"v":0,"d":"0.0000"},{"$f":"AD150+AE150","v":{"v":56.28,"d":"56.2800"}},{"$f":"AF150*0.05","v":{"v":2.814,"d":"2.8140"}},{"$f":"VLOOKUP(D150,美育!B$2:F$182,5,FALSE)","v":{"v":0,"d":"0.0000"}},{"$f":"VLOOKUP(D150,美育!B$2:E$182,4,FALSE)","v":{"v":0,"d":"0.0000"}},{"$f":"AH150+AI150","v":{"v":0,"d":"0.0000"}},{"$f":"AJ150*0.05","v":{"v":0,"d":"0.0000"}},{"$f":"VLOOKUP(D150,劳育基础分!B$3:AF$182,31,FALSE)","v":{"v":26,"d":"26.0000"}},{"v":0,"d":"0.0000"},{"$f":"AL150+AM150","v":{"v":26,"d":"26.0000"}},{"$f":"AN150*0.05","v":{"v":1.3,"d":"1.3000"}},{"$f":"S150+Y150+AG150+AK150+AO150","v":{"v":57.91130555554,"d":"57.9113"}},{"$f":"VLOOKUP(D150,必修课优良率!A$1:B$173,2,FALSE)","v":"52.38%"},{"$f":"VLOOKUP(D150,四级成绩!B$2:C$178,2,FALSE)","v":"430"},{"$f":"VLOOKUP(D150,必修课优良率!A$1:D$173,4,FALSE)","v":"否"}]
[148,130,"2024010571","李坤明",{"$f":"VLOOKUP(D151,美育!B$2:E$182,2,FALSE)","v":"化工类24-4班"},{"$f":"VLOOKUP(D151,互评分!C$2:F$181,4,FALSE)","v":{"v":96.75,"d":"96.7500"}},{"$f":"VLOOKUP(D151,辅导员加分!B$2:C$176,2,FALSE)","v":{"v":92,"d":"92.0000"}},{"$f":"VLOOKUP(D151,互评分!C$2:F$181,3,FALSE)","v":{"v":95.57143,"d":"95.5714"}},{"$f":"VLOOKUP(D151,互评分!C$2:F$181,2,FALSE)","v":{"v":100,"d":"100.0000"}},{"$f":"F151*0.2","v":{"v":19.35,"d":"19.3500"}},{"$f":"G151*0.5","v":{"v":46,"d":"46.0000"}},{"$f":"H151*0.2","v":{"v":19.114286,"d":"19.1143"}},{"$f":"I151*0.1","v":{"v":10,"d":"10.0000"}},{"$f":"SUM(J151:M151)*0.7","v":{"v":66.1250002,"d":"66.1250"}},{"v":0,"d":"0.0000"},{"v":0,"d":"0.0000"},{"v":0,"d":"0.0000"},{"$f":"N151+O151+P151-Q151","v":{"v":66.1250002,"d":"66.1250"}},{"$f":"R151*0.15","v":{"v":9.91875003,"d":"9.9188"}},{"v":73.5609756097561,"d":"73.5610"},{"v":73,"d":"73.0000"},{"$f":"IF(U151>0,T151*0.9+U151*0.1,T151)","v":{"v":73.5048780487805,"d":"73.5049"}},{"v":0,"d":"0.0000"},{"$f":"V151*0.85+W151","v":{"v":62.4791463414634,"d":"62.4791"}},{"$f":"0.7*X151","v":{"v":43.7354024390244,"d":"43.7354"}},{"$f":"VLOOKUP(D151,体测成绩!B$2:C$273,2,FALSE)","v":{"v":76.8,"d":"76.8000"}},{"$f":"VLOOKUP(D151,体育锻炼成绩!A$2:B$182,2,FALSE)","v":"100.00"},{"$f":"0.8*Z151","v":{"v":61.44,"d":"61.4400"}},{"$f":"AA151*0.2","v":{"v":20,"d":"20.0000"}},{"$f":"SUM(AB151:AC151)*0.7","v":{"v":57.008,"d":"57.0080"}},{"v":0,"d":"0.0000"},{"$f":"AD151+AE151","v":{"v":57.008,"d":"57.0080"}},{"$f":"AF151*0.05","v":2.8504},{"$f":"VLOOKUP(D151,美育!B$2:F$182,5,FALSE)","v":{"v":8,"d":"8.0000"}},{"$f":"VLOOKUP(D151,美育!B$2:E$182,4,FALSE)","v":{"v":0,"d":"0.0000"}},{"$f":"AH151+AI151","v":{"v":8,"d":"8.0000"}},{"$f":"AJ151*0.05","v":{"v":0.4,"d":"0.4000"}},{"$f":"VLOOKUP(D151,劳育基础分!B$3:AF$182,31,FALSE)","v":{"v":20,"d":"20.0000"}},{"v":0,"d":"0.0000"},{"$f":"AL151+AM151","v":{"v":20,"d":"20.0000"}},{"$f":"AN151*0.05","v":{"v":1,"d":"1.0000"}},{"$f":"S151+Y151+AG151+AK151+AO151","v":{"v":57.9045524690244,"d":"57.9046"}},{"$f":"VLOOKUP(D151,必修课优良率!A$1:B$173,2,FALSE)","v":"57.14%"},{"$f":"VLOOKUP(D151,四级成绩!B$2:C$178,2,FALSE)","v":"398"},{"$f":"VLOOKUP(D151,必修课优良率!A$1:D$173,4,FALSE)","v":"否"}]
[149,157,"2024010502","谯佳伟",{"$f":"VLOOKUP(D152,美育!B$2:E$182,2,FALSE)","v":"化工类24-2班"},{"$f":"VLOOKUP(D152,互评分!C$2:F$181,4,FALSE)","v":{"v":97.0357142857143,"d":"97.0357"}},{"$f":"VLOOKUP(D152,辅导员加分!B$2:C$176,2,FALSE)","v":{"v":90,"d":"90.0000"}},{"$f":"VLOOKUP(D152,互评分!C$2:F$181,3,FALSE)","v":{"v":99,"d":"99.0000"}},{"$f":"VLOOKUP(D152,互评分!C$2:F$181,2,FALSE)","v":{"v":90,"d":"90.0000"}},{"$f":"F152*0.2","v":{"v":19.4071428571429,"d":"19.4071"}},{"$f":"G152*0.5","v":{"v":45,"d":"45.0000"}},{"$f":"H152*0.2","v":{"v":19.8,"d":"19.8000"}},{"$f":"I152*0.1","v":{"v":9,"d":"9.0000"}},{"$f":"SUM(J152:M152)*0.7","v":{"v":65.245,"d":"65.2450"}},{"$f":"VLOOKUP(D152,学生干部加分!A$1:C$140,3,FALSE)","v":{"v":4,"d":"4.0000"}},{"v":0,"d":"0.0000"},{"v":0,"d":"0.0000"},{"$f":"N152+O152+P152-Q152","v":{"v":69.245,"d":"69.2450"}},{"$f":"R152*0.15","v":{"v":10.38675,"d":"10.3868"}},{"v":68.8333333333333,"d":"68.8333"},{"v":0,"d":"0.0000"},{"$f":"IF(U152>0,T152*0.9+U152*0.1,T152)","v":{"v":68.8333333333333,"d":"68.8333"}},{"v":0,"d":"0.0000"},{"$f":"V152*0.85+W152","v":{"v":58.5083333333333,"d":"58.5083"}},{"$f":"0.7*X152","v":{"v":40.9558333333333,"d":"40.9558"}},{"$f":"VLOOKUP(D152,体测成绩!B$2:C$273,2,FALSE)","v":{"v":80.6,"d":"80.6000"}},{"$f":"VLOOKUP(D152,体育锻炼成绩!A$2:B$182,2,FALSE)","v":"100.00"},{"$f":"0.8*Z152","v":{"v":64.48,"d":"64.4800"}},{"$f":"AA152*0.2","v":{"v":20,"d":"20.0000"}},{"$f":"SUM(AB152:AC152)*0.7","v":{"v":59.136,"d":"59.1360"}},{"$f":"VLOOKUP(D152,体育加分汇总!A$1:C$79,3,FALSE)","v":{"v":0,"d":"0.0000"}},{"$f":"AD152+AE152","v":{"v":59.136,"d":"59.1360"}},{"$f":"AF152*0.05","v":2.9568},{"$f":"VLOOKUP(D152,美育!B$2:F$182,5,FALSE)","v":{"v":25,"d":"25.0000"}},{"$f":"VLOOKUP(D152,美育!B$2:E$182,4,FALSE)","v":{"v":0,"d":"0.0000"}},{"$f":"AH152+AI152","v":{"v":25,"d":"25.0000"}},{"$f":"AJ152*0.05","v":{"v":1.25,"d":"1.2500"}},{"$f":"VLOOKUP(D152,劳育基础分!B$3:AF$182,31,FALSE)","v":{"v":42,"d":"42.0000"}},{"v":0,"d":"0.0000"},{"$f":"AL152+AM152","v":{"v":42,"d":"42.0000"}},{"$f":"AN152*0.05","v":{"v":2.1,"d":"2.1000"}},{"$f":"S152+Y152+AG152+AK152+AO152","v":{"v":57.6493833333333,"d":"57.6494"}},{"$f":"VLOOKUP(D152,必修课优良率!A$1:B$173,2,FALSE)","v":"57.14%"},{"$f":"VLOOKUP(D152,四级成绩!B$2:C$178,2,FALSE)","v":455},{"$f":"VLOOKUP(D152,必修课优良率!A$1:D$173,4,FALSE)","v":"是"}]
[150,141,2024010534,"李俊豪",{"$f":"VLOOKUP(D153,美育!B$2:E$182,2,FALSE)","v":"化工类24-3班"},{"$f":"VLOOKUP(D153,互评分!C$2:F$181,4,FALSE)","v":{"v":99.1111111111111,"d":"99.1111"}},{"$f":"VLOOKUP(D153,辅导员加分!B$2:C$176,2,FALSE)","v":{"v":92,"d":"92.0000"}},{"$f":"VLOOKUP(D153,互评分!C$2:F$181,3,FALSE)","v":{"v":100,"d":"100.0000"}},{"$f":"VLOOKUP(D153,互评分!C$2:F$181,2,FALSE)","v":{"v":99,"d":"99.0000"}},{"$f":"F153*0.2","v":{"v":19.8222222222222,"d":"19.8222"}},{"$f":"G153*0.5","v":{"v":46,"d":"46.0000"}},{"$f":"H153*0.2","v":{"v":20,"d":"20.0000"}},{"$f":"I153*0.1","v":{"v":9.9,"d":"9.9000"}},{"$f":"SUM(J153:M153)*0.7","v":{"v":67.0055555555556,"d":"67.0056"}},{"v":0,"d":"0.0000"},{"v":0,"d":"0.0000"},{"v":0,"d":"0.0000"},{"$f":"N153+O153+P153-Q153","v":{"v":67.0055555555556,"d":"67.0056"}},{"$f":"R153*0.15","v":{"v":10.0508333333333,"d":"10.0508"}},{"$f":"VLOOKUP(D153,[1]必修课成绩!C$71:AE$100,29,FALSE)","v":{"v":72.15,"d":"72.1500"}},{"$f":"VLOOKUP(D153,[1]选修课成绩!C$72:AC$101,27,FALSE)","v":{"v":83,"d":"83.0000"}},{"$f":"IF(U153>0,T153*0.9+U153*0.1,T153)","v":{"v":73.235,"d":"73.2350"}},{"v":0,"d":"0.0000"},{"$f":"V153*0.85+W153","v":{"v":62.24975,"d":"62.2498"}},{"$f":"0.7*X153","v":{"v":43.574825,"d":"43.5748"}},{"$f":"VLOOKUP(D153,体测成绩!B$2:C$273,2,FALSE)","v":{"v":64.2,"d":"64.2000"}},{"$f":"VLOOKUP(D153,体育锻炼成绩!A$2:B$182,2,FALSE)","v":{"v":100,"d":"100.0000"}},{"$f":"0.8*Z153","v":{"v":51.36,"d":"51.3600"}},{"$f":"AA153*0.2","v":{"v":20,"d":"20.0000"}},{"$f":"SUM(AB153:AC153)*0.7","v":{"v":49.952,"d":"49.9520"}},{"v":0,"d":"0.0000"},{"$f":"AD153+AE153","v":{"v":49.952,"d":"49.9520"}},{"$f":"AF153*0.05","v":2.4976},{"$f":"VLOOKUP(D153,美育!B$2:F$182,5,FALSE)","v":{"v":6,"d":"6.0000"}},{"$f":"VLOOKUP(D153,美育!B$2:E$182,4,FALSE)","v":{"v":0,"d":"0.0000"}},{"$f":"AH153+AI153","v":{"v":6,"d":"6.0000"}},{"$f":"AJ153*0.05","v":{"v":0.3,"d":"0.3000"}},{"$f":"VLOOKUP(D153,劳育基础分!B$3:AF$182,31,FALSE)","v":{"v":24,"d":"24.0000"}},{"v":0,"d":"0.0000"},{"$f":"AL153+AM153","v":{"v":24,"d":"24.0000"}},{"$f":"AN153*0.05","v":{"v":1.2,"d":"1.2000"}},{"$f":"S153+Y153+AG153+AK153+AO153","v":{"v":57.6232583333333,"d":"57.6233"}},{"$f":"VLOOKUP(D153,必修课优良率!A$1:B$173,2,FALSE)","v":"52.38%"},{"$f":"VLOOKUP(D153,四级成绩!B$2:C$178,2,FALSE)","v":487},{"$f":"VLOOKUP(D153,必修课优良率!A$1:D$173,4,FALSE)","v":"是"}]
[151,136,"2024010570","罗锦洪",{"$f":"VLOOKUP(D154,美育!B$2:E$182,2,FALSE)","v":"化工类24-4班"},{"$f":"VLOOKUP(D154,互评分!C$2:F$181,4,FALSE)","v":{"v":97.32143,"d":"97.3214"}},{"$f":"VLOOKUP(D154,辅导员加分!B$2:C$176,2,FALSE)","v":{"v":90,"d":"90.0000"}},{"$f":"VLOOKUP(D154,互评分!C$2:F$181,3,FALSE)","v":{"v":95.57143,"d":"95.5714"}},{"$f":"VLOOKUP(D154,互评分!C$2:F$181,2,FALSE)","v":{"v":100,"d":"100.0000"}},{"$f":"F154*0.2","v":{"v":19.464286,"d":"19.4643"}},{"$f":"G154*0.5","v":{"v":45,"d":"45.0000"}},{"$f":"H154*0.2","v":{"v":19.114286,"d":"19.1143"}},{"$f":"I154*0.1","v":{"v":10,"d":"10.0000"}},{"$f":"SUM(J154:M154)*0.7","v":{"v":65.5050004,"d":"65.5050"}},{"v":0,"d":"0.0000"},{"v":0,"d":"0.0000"},{"v":0,"d":"0.0000"},{"$f":"N154+O154+P154-Q154","v":{"v":65.5050004,"d":"65.5050"}},{"$f":"R154*0.15","v":{"v":9.82575006,"d":"9.8258"}},{"v":72.890243902439,"d":"72.8902"},{"v":82,"d":"82.0000"},{"$f":"IF(U154>0,T154*0.9+U154*0.1,T154)","v":{"v":73.8012195121951,"d":"73.8012"}},{"v":0,"d":"0.0000"},{"$f":"V154*0.85+W154","v":{"v":62.7310365853658,"d":"62.7310"}},{"$f":"0.7*X154","v":{"v":43.9117256097561,"d":"43.9117"}},{"$f":"VLOOKUP(D154,体测成绩!B$2:C$273,2,FALSE)","v":{"v":82.8,"d":"82.8000"}},{"$f":"VLOOKUP(D154,体育锻炼成绩!A$2:B$182,2,FALSE)","v":{"v":0,"d":"0.0000"}},{"$f":"0.8*Z154","v":{"v":66.24,"d":"66.2400"}},{"$f":"AA154*0.2","v":{"v":0,"d":"0.0000"}},{"$f":"SUM(AB154:AC154)*0.7","v":{"v":46.368,"d":"46.3680"}},{"$f":"VLOOKUP(D154,体育加分汇总!A$1:C$79,3,FALSE)","v":{"v":1,"d":"1.0000"}},{"$f":"AD154+AE154","v":{"v":47.368,"d":"47.3680"}},{"$f":"AF154*0.05","v":2.3684},{"$f":"VLOOKUP(D154,美育!B$2:F$182,5,FALSE)","v":{"v":0,"d":"0.0000"}},{"$f":"VLOOKUP(D154,美育!B$2:E$182,4,FALSE)","v":{"v":0,"d":"0.0000"}},{"$f":"AH154+AI154","v":{"v":0,"d":"0.0000"}},{"$f":"AJ154*0.05","v":{"v":0,"d":"0.0000"}},{"$f":"VLOOKUP(D154,劳育基础分!B$3:AF$182,31,FALSE)","v":{"v":30,"d":"30.0000"}},{"v":0,"d":"0.0000"},{"$f":"AL154+AM154","v":{"v":30,"d":"30.0000"}},{"$f":"AN154*0.05","v":{"v":1.5,"d":"1.5000"}},{"$f":"S154+Y154+AG154+AK154+AO154","v":{"v":57.6058756697561,"d":"57.6059"}},{"$f":"VLOOKUP(D154,必修课优良率!A$1:B$173,2,FALSE)","v":"57.14%"},{"$f":"VLOOKUP(D154,四级成绩!B$2:C$178,2,FALSE)","v":"493"},{"$f":"VLOOKUP(D154,必修课优良率!A$1:D$173,4,FALSE)","v":"是"}]
[152,142,"2024010548","赵淑荣",{"$f":"VLOOKUP(D155,美育!B$2:E$182,2,FALSE)","v":"化工类24-4班"},{"$f":"VLOOKUP(D155,互评分!C$2:F$181,4,FALSE)","v":97.2857},{"$f":"VLOOKUP(D155,辅导员加分!B$2:C$176,2,FALSE)","v":{"v":92,"d":"92.0000"}},{"$f":"VLOOKUP(D155,互评分!C$2:F$181,3,FALSE)","v":{"v":98.42857,"d":"98.4286"}},{"$f":"VLOOKUP(D155,互评分!C$2:F$181,2,FALSE)","v":{"v":100,"d":"100.0000"}},{"$f":"F155*0.2","v":{"v":19.45714,"d":"19.4571"}},{"$f":"G155*0.5","v":{"v":46,"d":"46.0000"}},{"$f":"H155*0.2","v":{"v":19.685714,"d":"19.6857"}},{"$f":"I155*0.1","v":{"v":10,"d":"10.0000"}},{"$f":"SUM(J155:M155)*0.7","v":{"v":66.5999978,"d":"66.6000"}},{"v":0,"d":"0.0000"},{"v":0,"d":"0.0000"},{"v":0,"d":"0.0000"},{"$f":"N155+O155+P155-Q155","v":{"v":66.5999978,"d":"66.6000"}},{"$f":"R155*0.15","v":{"v":9.98999967,"d":"9.9900"}},{"v":72.109756097561,"d":"72.1098"},{"v":83,"d":"83.0000"},{"$f":"IF(U155>0,T155*0.9+U155*0.1,T155)","v":{"v":73.1987804878049,"d":"73.1988"}},{"v":0,"d":"0.0000"},{"$f":"V155*0.85+W155","v":{"v":62.2189634146342,"d":"62.2190"}},{"$f":"0.7*X155","v":{"v":43.5532743902439,"d":"43.5533"}},{"$f":"VLOOKUP(D155,体测成绩!B$2:C$273,2,FALSE)","v":{"v":55.7,"d":"55.7000"}},{"$f":"VLOOKUP(D155,体育锻炼成绩!A$2:B$182,2,FALSE)","v":"100.00"},{"$f":"0.8*Z155","v":{"v":44.56,"d":"44.5600"}},{"$f":"AA155*0.2","v":{"v":20,"d":"20.0000"}},{"$f":"SUM(AB155:AC155)*0.7","v":{"v":45.192,"d":"45.1920"}},{"v":0,"d":"0.0000"},{"$f":"AD155+AE155","v":{"v":45.192,"d":"45.1920"}},{"$f":"AF155*0.05","v":2.2596},{"$f":"VLOOKUP(D155,美育!B$2:F$182,5,FALSE)","v":{"v":5,"d":"5.0000"}},{"$f":"VLOOKUP(D155,美育!B$2:E$182,4,FALSE)","v":{"v":0,"d":"0.0000"}},{"$f":"AH155+AI155","v":{"v":5,"d":"5.0000"}},{"$f":"AJ155*0.05","v":{"v":0.25,"d":"0.2500"}},{"$f":"VLOOKUP(D155,劳育基础分!B$3:AF$182,31,FALSE)","v":{"v":28,"d":"28.0000"}},{"v":0,"d":"0.0000"},{"$f":"AL155+AM155","v":{"v":28,"d":"28.0000"}},{"$f":"AN155*0.05","v":{"v":1.4,"d":"1.4000"}},{"$f":"S155+Y155+AG155+AK155+AO155","v":{"v":57.4528740602439,"d":"57.4529"}},{"$f":"VLOOKUP(D155,必修课优良率!A$1:B$173,2,FALSE)","v":"47.62%"},{"$f":"VLOOKUP(D155,四级成绩!B$2:C$178,2,FALSE)","v":441},{"$f":"VLOOKUP(D155,必修课优良率!A$1:D$173,4,FALSE)","v":"否"}]
[153,155,"2024010602","洪培彬",{"$f":"VLOOKUP(D156,美育!B$2:E$182,2,FALSE)","v":"化工类24-5班"},{"$f":"VLOOKUP(D156,互评分!C$2:F$181,4,FALSE)","v":{"v":99.6296296296296,"d":"99.6296"}},{"$f":"VLOOKUP(D156,辅导员加分!B$2:C$176,2,FALSE)","v":{"v":90,"d":"90.0000"}},{"$f":"VLOOKUP(D156,互评分!C$2:F$181,3,FALSE)","v":{"v":100,"d":"100.0000"}},{"$f":"VLOOKUP(D156,互评分!C$2:F$181,2,FALSE)","v":{"v":85,"d":"85.0000"}},{"$f":"F156*0.2","v":{"v":19.9259259259259,"d":"19.9259"}},{"$f":"G156*0.5","v":{"v":45,"d":"45.0000"}},{"$f":"H156*0.2","v":{"v":20,"d":"20.0000"}},{"$f":"I156*0.1","v":{"v":8.5,"d":"8.5000"}},{"$f":"SUM(J156:M156)*0.7","v":{"v":65.3981481481481,"d":"65.3981"}},{"$f":"VLOOKUP(D156,学生干部加分!A$1:C$140,3,FALSE)","v":{"v":2,"d":"2.0000"}},{"v":0,"d":"0.0000"},{"v":0,"d":"0.0000"},{"$f":"N156+O156+P156-Q156","v":{"v":67.3981481481481,"d":"67.3981"}},{"$f":"R156*0.15","v":{"v":10.1097222222222,"d":"10.1097"}},{"v":69.0714285714286,"d":"69.0714"},{"v":83.7142857142857,"d":"83.7143"},{"$f":"IF(U156>0,T156*0.9+U156*0.1,T156)","v":{"v":70.5357142857143,"d":"70.5357"}},{"$f":"VLOOKUP(D156,智育加分汇总!A$2:C$44,3,FALSE)","v":{"v":1.5,"d":"1.5000"}},{"$f":"V156*0.85+W156","v":{"v":61.4553571428572,"d":"61.4554"}},{"$f":"0.7*X156","v":{"v":43.01875,"d":"43.0188"}},{"$f":"VLOOKUP(D156,体测成绩!B$2:C$273,2,FALSE)","v":{"v":59.8,"d":"59.8000"}},{"$f":"VLOOKUP(D156,体育锻炼成绩!A$2:B$182,2,FALSE)","v":"0.00"},{"$f":"0.8*Z156","v":{"v":47.84,"d":"47.8400"}},{"$f":"AA156*0.2","v":{"v":0,"d":"0.0000"}},{"$f":"SUM(AB156:AC156)*0.7","v":{"v":33.488,"d":"33.4880"}},{"v":0,"d":"0.0000"},{"$f":"AD156+AE156","v":{"v":33.488,"d":"33.4880"}},{"$f":"AF156*0.05","v":1.6744},{"$f":"VLOOKUP(D156,美育!B$2:F$182,5,FALSE)","v":{"v":8,"d":"8.0000"}},{"$f":"VLOOKUP(D156,美育!B$2:E$182,4,FALSE)","v":{"v":0,"d":"0.0000"}},{"$f":"AH156+AI156","v":{"v":8,"d":"8.0000"}},{"$f":"AJ156*0.05","v":{"v":0.4,"d":"0.4000"}},{"$f":"VLOOKUP(D156,劳育基础分!B$3:AF$182,31,FALSE)","v":{"v":42.5,"d":"42.5000"}},{"v":0,"d":"0.0000"},{"$f":"AL156+AM156","v":{"v":42.5,"d":"42.5000"}},{"$f":"AN156*0.05","v":{"v":2.125,"d":"2.1250"}},{"$f":"S156+Y156+AG156+AK156+AO156","v":{"v":57.3278722222222,"d":"57.3279"}},{"$f":"VLOOKUP(D156,必修课优良率!A$1:B$173,2,FALSE)","v":"57.14%"},{"$f":"VLOOKUP(D156,四级成绩!B$2:C$178,2,FALSE)","v":451},{"$f":"VLOOKUP(D156,必修课优良率!A$1:D$173,4,FALSE)","v":"是"}]
[154,119,"2024010530","仇雨乐",{"$f":"VLOOKUP(D157,美育!B$2:E$182,2,FALSE)","v":"化工类24-3班"},{"$f":"VLOOKUP(D157,互评分!C$2:F$181,4,FALSE)","v":{"v":99.5185185185185,"d":"99.5185"}},{"$f":"VLOOKUP(D157,辅导员加分!B$2:C$176,2,FALSE)","v":{"v":92,"d":"92.0000"}},{"$f":"VLOOKUP(D157,互评分!C$2:F$181,3,FALSE)","v":{"v":100,"d":"100.0000"}},{"$f":"VLOOKUP(D157,互评分!C$2:F$181,2,FALSE)","v":{"v":99,"d":"99.0000"}},{"$f":"F157*0.2","v":{"v":19.9037037037037,"d":"19.9037"}},{"$f":"G157*0.5","v":{"v":46,"d":"46.0000"}},{"$f":"H157*0.2","v":{"v":20,"d":"20.0000"}},{"$f":"I157*0.1","v":{"v":9.9,"d":"9.9000"}},{"$f":"SUM(J157:M157)*0.7","v":{"v":67.0625925925926,"d":"67.0626"}},{"v":0,"d":"0.0000"},{"v":0,"d":"0.0000"},{"v":0,"d":"0.0000"},{"$f":"N157+O157+P157-Q157","v":{"v":67.0625925925926,"d":"67.0626"}},{"$f":"R157*0.15","v":{"v":10.0593888888889,"d":"10.0594"}},{"v":74.4166666666667,"d":"74.4167"},{"v":0,"d":"0.0000"},{"$f":"IF(U157>0,T157*0.9+U157*0.1,T157)","v":{"v":74.4166666666667,"d":"74.4167"}},{"v":0,"d":"0.0000"},{"$f":"V157*0.85+W157","v":{"v":63.2541666666667,"d":"63.2542"}},{"$f":"0.7*X157","v":{"v":44.2779166666667,"d":"44.2779"}},{"$f":"VLOOKUP(D157,体测成绩!B$2:C$273,2,FALSE)","v":{"v":65.8,"d":"65.8000"}},{"$f":"VLOOKUP(D157,体育锻炼成绩!A$2:B$182,2,FALSE)","v":"0.00"},{"$f":"0.8*Z157","v":{"v":52.64,"d":"52.6400"}},{"$f":"AA157*0.2","v":{"v":0,"d":"0.0000"}},{"$f":"SUM(AB157:AC157)*0.7","v":{"v":36.848,"d":"36.8480"}},{"v":0,"d":"0.0000"},{"$f":"AD157+AE157","v":{"v":36.848,"d":"36.8480"}},{"$f":"AF157*0.05","v":1.8424},{"$f":"VLOOKUP(D157,美育!B$2:F$182,5,FALSE)","v":{"v":0,"d":"0.0000"}},{"$f":"VLOOKUP(D157,美育!B$2:E$182,4,FALSE)","v":{"v":0,"d":"0.0000"}},{"$f":"AH157+AI157","v":{"v":0,"d":"0.0000"}},{"$f":"AJ157*0.05","v":{"v":0,"d":"0.0000"}},{"$f":"VLOOKUP(D157,劳育基础分!B$3:AF$182,31,FALSE)","v":{"v":20,"d":"20.0000"}},{"v":0,"d":"0.0000"},{"$f":"AL157+AM157","v":{"v":20,"d":"20.0000"}},{"$f":"AN157*0.05","v":{"v":1,"d":"1.0000"}},{"$f":"S157+Y157+AG157+AK157+AO157","v":{"v":57.1797055555556,"d":"57.1797"}},{"$f":"VLOOKUP(D157,必修课优良率!A$1:B$173,2,FALSE)","v":"52.38%"},{"$f":"VLOOKUP(D157,四级成绩!B$2:C$178,2,FALSE)","v":492},{"$f":"VLOOKUP(D157,必修课优良率!A$1:D$173,4,FALSE)","v":"否"}]
[155,110,2024010516,"彭好运","化工类24-2班",{"$f":"VLOOKUP(D158,互评分!C$2:F$181,4,FALSE)","v":{"v":96.6785714285714,"d":"96.6786"}},{"v":90,"d":"90.0000"},{"$f":"VLOOKUP(D158,互评分!C$2:F$181,3,FALSE)","v":{"v":98.3333333333333,"d":"98.3333"}},{"$f":"VLOOKUP(D158,互评分!C$2:F$181,2,FALSE)","v":{"v":90,"d":"90.0000"}},{"$f":"F158*0.2","v":{"v":19.3357142857143,"d":"19.3357"}},{"$f":"G158*0.5","v":{"v":45,"d":"45.0000"}},{"$f":"H158*0.2","v":{"v":19.6666666666667,"d":"19.6667"}},{"$f":"I158*0.1","v":{"v":9,"d":"9.0000"}},{"$f":"SUM(J158:M158)*0.7","v":{"v":65.1016666666667,"d":"65.1017"}},{"v":0,"d":"0.0000"},{"v":0,"d":"0.0000"},{"v":1,"d":"1.0000"},{"$f":"N158+O158+P158-Q158","v":{"v":64.1016666666667,"d":"64.1017"}},{"$f":"R158*0.15","v":{"v":9.61525,"d":"9.6153"}},75.1454,{"v":0,"d":"0.0000"},75.1454,{"v":0,"d":"0.0000"},{"$f":"V158*0.85+W158","v":{"v":63.87359,"d":"63.8736"}},{"$f":"0.7*X158","v":{"v":44.711513,"d":"44.7115"}},{"$f":"VLOOKUP(D158,体测成绩!B$2:C$273,2,FALSE)","v":{"v":60,"d":"60.0000"}},{"v":60,"d":"60.0000"},{"$f":"0.8*Z158","v":{"v":48,"d":"48.0000"}},{"$f":"AA158*0.2","v":{"v":12,"d":"12.0000"}},{"$f":"SUM(AB158:AC158)*0.7","v":{"v":42,"d":"42.0000"}},{"v":0,"d":"0.0000"},{"$f":"AD158+AE158","v":{"v":42,"d":"42.0000"}},{"$f":"AF158*0.05","v":{"v":2.1,"d":"2.1000"}},{"$f":"VLOOKUP(D158,美育!B$2:F$182,5,FALSE)","v":{"v":0,"d":"0.0000"}},{"$f":"VLOOKUP(D158,美育!B$2:E$182,4,FALSE)","v":{"v":0,"d":"0.0000"}},{"$f":"AH158+AI158","v":{"v":0,"d":"0.0000"}},{"$f":"AJ158*0.05","v":{"v":0,"d":"0.0000"}},{"$f":"VLOOKUP(D158,劳育基础分!B$3:AF$182,31,FALSE)","v":{"v":11,"d":"11.0000"}},{"v":1,"d":"1.0000"},{"$f":"AL158+AM158","v":{"v":12,"d":"12.0000"}},{"$f":"AN158*0.05","v":{"v":0.6,"d":"0.6000"}},{"$f":"S158+Y158+AG158+AK158+AO158","v":{"v":57.026763,"d":"57.0268"}},{"v":0.3809,"d":"38.0900%"},{"$f":"VLOOKUP(D158,四级成绩!B$2:C$178,2,FALSE)","v":{"$error":"#N/A"}},"否"]
[156,138,"2024010586","余若瑜",{"$f":"VLOOKUP(D159,美育!B$2:E$182,2,FALSE)","v":"化工类24-5班"},{"$f":"VLOOKUP(D159,互评分!C$2:F$181,4,FALSE)","v":{"v":99.8518518518518,"d":"99.8519"}},{"$f":"VLOOKUP(D159,辅导员加分!B$2:C$176,2,FALSE)","v":{"v":90,"d":"90.0000"}},{"$f":"VLOOKUP(D159,互评分!C$2:F$181,3,FALSE)","v":{"v":100,"d":"100.0000"}},{"$f":"VLOOKUP(D159,互评分!C$2:F$181,2,FALSE)","v":{"v":88,"d":"88.0000"}},{"$f":"F159*0.2","v":{"v":19.9703703703704,"d":"19.9704"}},{"$f":"G159*0.5","v":{"v":45,"d":"45.0000"}},{"$f":"H159*0.2","v":{"v":20,"d":"20.0000"}},{"$f":"I159*0.1","v":{"v":8.8,"d":"8.8000"}},{"$f":"SUM(J159:M159)*0.7","v":{"v":65.6392592592592,"d":"65.6393"}},{"$f":"VLOOKUP(D159,学生干部加分!A$1:C$140,3,FALSE)","v":{"v":3.5,"d":"3.5000"}},{"v":0,"d":"0.0000"},{"v":0,"d":"0.0000"},{"$f":"N159+O159+P159-Q159","v":{"v":69.1392592592592,"d":"69.1393"}},{"$f":"R159*0.15","v":{"v":10.3708888888889,"d":"10.3709"}},{"v":72.6071428571429,"d":"72.6071"},{"v":0,"d":"0.0000"},{"$f":"IF(U159>0,T159*0.9+U159*0.1,T159)","v":{"v":72.6071428571429,"d":"72.6071"}},{"v":0,"d":"0.0000"},{"$f":"V159*0.85+W159","v":{"v":61.7160714285715,"d":"61.7161"}},{"$f":"0.7*X159","v":{"v":43.20125,"d":"43.2013"}},{"$f":"VLOOKUP(D159,体测成绩!B$2:C$273,2,FALSE)","v":{"v":71.7,"d":"71.7000"}},{"$f":"VLOOKUP(D159,体育锻炼成绩!A$2:B$182,2,FALSE)","v":{"v":0,"d":"0.0000"}},{"$f":"0.8*Z159","v":{"v":57.36,"d":"57.3600"}},{"$f":"AA159*0.2","v":{"v":0,"d":"0.0000"}},{"$f":"SUM(AB159:AC159)*0.7","v":{"v":40.152,"d":"40.1520"}},{"v":0,"d":"0.0000"},{"$f":"AD159+AE159","v":{"v":40.152,"d":"40.1520"}},{"$f":"AF159*0.05","v":2.0076},{"$f":"VLOOKUP(D159,美育!B$2:F$182,5,FALSE)","v":{"v":0,"d":"0.0000"}},{"$f":"VLOOKUP(D159,美育!B$2:E$182,4,FALSE)","v":{"v":0,"d":"0.0000"}},{"$f":"AH159+AI159","v":{"v":0,"d":"0.0000"}},{"$f":"AJ159*0.05","v":{"v":0,"d":"0.0000"}},{"$f":"VLOOKUP(D159,劳育基础分!B$3:AF$182,31,FALSE)","v":{"v":26.5,"d":"26.5000"}},{"v":0,"d":"0.0000"},{"$f":"AL159+AM159","v":{"v":26.5,"d":"26.5000"}},{"$f":"AN159*0.05","v":{"v":1.325,"d":"1.3250"}},{"$f":"S159+Y159+AG159+AK159+AO159","v":{"v":56.9047388888889,"d":"56.9047"}},{"$f":"VLOOKUP(D159,必修课优良率!A$1:B$173,2,FALSE)","v":"38.10%"},{"$f":"VLOOKUP(D159,四级成绩!B$2:C$178,2,FALSE)","v":621},{"$f":"VLOOKUP(D159,必修课优良率!A$1:D$173,4,FALSE)","v":"是"}]
[157,159,"2024010556","张煊",{"$f":"VLOOKUP(D160,美育!B$2:E$182,2,FALSE)","v":"化工类24-4班"},{"$f":"VLOOKUP(D160,互评分!C$2:F$181,4,FALSE)","v":97.6429},{"$f":"VLOOKUP(D160,辅导员加分!B$2:C$176,2,FALSE)","v":{"v":92,"d":"92.0000"}},{"$f":"VLOOKUP(D160,互评分!C$2:F$181,3,FALSE)","v":{"v":98.42857,"d":"98.4286"}},{"$f":"VLOOKUP(D160,互评分!C$2:F$181,2,FALSE)","v":{"v":100,"d":"100.0000"}},{"$f":"F160*0.2","v":{"v":19.52858,"d":"19.5286"}},{"$f":"G160*0.5","v":{"v":46,"d":"46.0000"}},{"$f":"H160*0.2","v":{"v":19.685714,"d":"19.6857"}},{"$f":"I160*0.1","v":{"v":10,"d":"10.0000"}},{"$f":"SUM(J160:M160)*0.7","v":{"v":66.6500058,"d":"66.6500"}},{"$f":"VLOOKUP(D160,学生干部加分!A$1:C$140,3,FALSE)","v":{"v":4,"d":"4.0000"}},{"v":0,"d":"0.0000"},{"v":0,"d":"0.0000"},{"$f":"N160+O160+P160-Q160","v":{"v":70.6500058,"d":"70.6500"}},{"$f":"R160*0.15","v":{"v":10.59750087,"d":"10.5975"}},{"$f":"VLOOKUP(D160,[2]必修课成绩!C$59:BO$82,65,FALSE)","v":{"v":68.4512195121951,"d":"68.4512"}},{"$f":"VLOOKUP(D160,[2]选修课成绩!C$60:BI$83,59,FALSE)","v":{"v":87.5,"d":"87.5000"}},{"$f":"IF(U160>0,T160*0.9+U160*0.1,T160)","v":{"v":70.3560975609756,"d":"70.3561"}},{"v":0,"d":"0.0000"},{"$f":"V160*0.85+W160","v":{"v":59.8026829268292,"d":"59.8027"}},{"$f":"0.7*X160","v":{"v":41.8618780487805,"d":"41.8619"}},{"$f":"VLOOKUP(D160,体测成绩!B$2:C$273,2,FALSE)","v":{"v":76.4,"d":"76.4000"}},{"$f":"VLOOKUP(D160,体育锻炼成绩!A$2:B$182,2,FALSE)","v":"100.00"},{"$f":"0.8*Z160","v":{"v":61.12,"d":"61.1200"}},{"$f":"AA160*0.2","v":{"v":20,"d":"20.0000"}},{"$f":"SUM(AB160:AC160)*0.7","v":{"v":56.784,"d":"56.7840"}},{"$f":"VLOOKUP(D160,体育加分汇总!A$1:C$79,3,FALSE)","v":{"v":0,"d":"0.0000"}},{"$f":"AD160+AE160","v":{"v":56.784,"d":"56.7840"}},{"$f":"AF160*0.05","v":2.8392},{"$f":"VLOOKUP(D160,美育!B$2:F$182,5,FALSE)","v":{"v":5,"d":"5.0000"}},{"$f":"VLOOKUP(D160,美育!B$2:E$182,4,FALSE)","v":{"v":0,"d":"0.0000"}},{"$f":"AH160+AI160","v":{"v":5,"d":"5.0000"}},{"$f":"AJ160*0.05","v":{"v":0.25,"d":"0.2500"}},{"$f":"VLOOKUP(D160,劳育基础分!B$3:AF$182,31,FALSE)","v":{"v":24,"d":"24.0000"}},{"$f":"VLOOKUP(D160,劳育加分!A$3:I$34,9,FALSE)","v":{"v":1,"d":"1.0000"}},{"$f":"AL160+AM160","v":{"v":25,"d":"25.0000"}},{"$f":"AN160*0.05","v":{"v":1.25,"d":"1.2500"}},{"$f":"S160+Y160+AG160+AK160+AO160","v":{"v":56.7985789187805,"d":"56.7986"}},{"$f":"VLOOKUP(D160,必修课优良率!A$1:B$173,2,FALSE)","v":"47.62%"},{"$f":"VLOOKUP(D160,四级成绩!B$2:C$178,2,FALSE)","v":518},{"$f":"VLOOKUP(D160,必修课优良率!A$1:D$173,4,FALSE)","v":"是"}]
[158,120,2024010546,"马铭远",{"$f":"VLOOKUP(D161,美育!B$2:E$182,2,FALSE)","v":"化工类24-3班"},{"$f":"VLOOKUP(D161,互评分!C$2:F$181,4,FALSE)","v":{"v":98.7142857142857,"d":"98.7143"}},{"$f":"VLOOKUP(D161,辅导员加分!B$2:C$176,2,FALSE)","v":{"v":92,"d":"92.0000"}},{"$f":"VLOOKUP(D161,互评分!C$2:F$181,3,FALSE)","v":{"v":100,"d":"100.0000"}},{"$f":"VLOOKUP(D161,互评分!C$2:F$181,2,FALSE)","v":{"v":99,"d":"99.0000"}},{"$f":"F161*0.2","v":{"v":19.7428571428571,"d":"19.7429"}},{"$f":"G161*0.5","v":{"v":46,"d":"46.0000"}},{"$f":"H161*0.2","v":{"v":20,"d":"20.0000"}},{"$f":"I161*0.1","v":{"v":9.9,"d":"9.9000"}},{"$f":"SUM(J161:M161)*0.7","v":{"v":66.95,"d":"66.9500"}},{"v":0,"d":"0.0000"},{"v":0,"d":"0.0000"},{"v":0,"d":"0.0000"},{"$f":"N161+O161+P161-Q161","v":{"v":66.95,"d":"66.9500"}},{"$f":"R161*0.15","v":10.0425},{"$f":"VLOOKUP(D161,[1]必修课成绩!C$71:AE$100,29,FALSE)","v":{"v":74.4078947368421,"d":"74.4079"}},{"$f":"VLOOKUP(D161,[1]选修课成绩!C$72:AC$101,27,FALSE)","v":{"v":71.8,"d":"71.8000"}},{"$f":"IF(U161>0,T161*0.9+U161*0.1,T161)","v":{"v":74.1471052631579,"d":"74.1471"}},{"v":0,"d":"0.0000"},{"$f":"V161*0.85+W161","v":{"v":63.0250394736842,"d":"63.0250"}},{"$f":"0.7*X161","v":{"v":44.1175276315789,"d":"44.1175"}},{"$f":"VLOOKUP(D161,体测成绩!B$2:C$273,2,FALSE)","v":{"v":22,"d":"22.0000"}},{"$f":"VLOOKUP(D161,体育锻炼成绩!A$2:B$182,2,FALSE)","v":{"v":100,"d":"100.0000"}},{"$f":"0.8*Z161","v":{"v":17.6,"d":"17.6000"}},{"$f":"AA161*0.2","v":{"v":20,"d":"20.0000"}},{"$f":"SUM(AB161:AC161)*0.7","v":{"v":26.32,"d":"26.3200"}},{"v":0,"d":"0.0000"},{"$f":"AD161+AE161","v":{"v":26.32,"d":"26.3200"}},{"$f":"AF161*0.05","v":{"v":1.316,"d":"1.3160"}},{"$f":"VLOOKUP(D161,美育!B$2:F$182,5,FALSE)","v":{"v":0,"d":"0.0000"}},{"$f":"VLOOKUP(D161,美育!B$2:E$182,4,FALSE)","v":{"v":0,"d":"0.0000"}},{"$f":"AH161+AI161","v":{"v":0,"d":"0.0000"}},{"$f":"AJ161*0.05","v":{"v":0,"d":"0.0000"}},{"$f":"VLOOKUP(D161,劳育基础分!B$3:AF$182,31,FALSE)","v":{"v":24,"d":"24.0000"}},{"v":0,"d":"0.0000"},{"$f":"AL161+AM161","v":{"v":24,"d":"24.0000"}},{"$f":"AN161*0.05","v":{"v":1.2,"d":"1.2000"}},{"$f":"S161+Y161+AG161+AK161+AO161","v":{"v":56.6760276315789,"d":"56.6760"}},{"$f":"VLOOKUP(D161,必修课优良率!A$1:B$173,2,FALSE)","v":"31.58%"},{"$f":"VLOOKUP(D161,四级成绩!B$2:C$178,2,FALSE)","v":570},{"$f":"VLOOKUP(D161,必修课优良率!A$1:D$173,4,FALSE)","v":"否"}]
[159,166,"2024010467","韦程栋",{"$f":"VLOOKUP(D162,美育!B$2:E$182,2,FALSE)","v":"化工类24-1班"},{"$f":"VLOOKUP(D162,互评分!C$2:F$181,4,FALSE)","v":{"v":98.92592593,"d":"98.9259"}},{"$f":"VLOOKUP(D162,辅导员加分!B$2:C$176,2,FALSE)","v":{"v":94,"d":"94.0000"}},{"$f":"VLOOKUP(D162,互评分!C$2:F$181,3,FALSE)","v":{"v":100,"d":"100.0000"}},{"$f":"VLOOKUP(D162,互评分!C$2:F$181,2,FALSE)","v":{"v":90,"d":"90.0000"}},{"$f":"F162*0.2","v":{"v":19.785185186,"d":"19.7852"}},{"$f":"G162*0.5","v":{"v":47,"d":"47.0000"}},{"$f":"H162*0.2","v":{"v":20,"d":"20.0000"}},{"$f":"I162*0.1","v":{"v":9,"d":"9.0000"}},{"$f":"SUM(J162:M162)*0.7","v":{"v":67.0496296302,"d":"67.0496"}},{"$f":"VLOOKUP(D162,学生干部加分!A$1:C$140,3,FALSE)","v":{"v":4,"d":"4.0000"}},{"v":0,"d":"0.0000"},{"v":0,"d":"0.0000"},{"$f":"N162+O162+P162-Q162","v":{"v":71.0496296302,"d":"71.0496"}},{"$f":"R162*0.15","v":{"v":10.65744444453,"d":"10.6574"}},{"$f":"VLOOKUP(D162,[2]必修课成绩!C$59:BO$82,65,FALSE)","v":{"v":66.2682926829268,"d":"66.2683"}},{"$f":"VLOOKUP(D162,[2]选修课成绩!C$60:BI$83,59,FALSE)","v":{"v":86,"d":"86.0000"}},{"$f":"IF(U162>0,T162*0.9+U162*0.1,T162)","v":{"v":68.2414634146341,"d":"68.2415"}},{"v":0,"d":"0.0000"},{"$f":"V162*0.85+W162","v":{"v":58.005243902439,"d":"58.0052"}},{"$f":"0.7*X162","v":{"v":40.6036707317073,"d":"40.6037"}},{"$f":"VLOOKUP(D162,体测成绩!B$2:C$273,2,FALSE)","v":{"v":72.1,"d":"72.1000"}},{"$f":"VLOOKUP(D162,体育锻炼成绩!A$2:B$182,2,FALSE)","v":"0.00"},{"$f":"0.8*Z162","v":{"v":57.68,"d":"57.6800"}},{"$f":"AA162*0.2","v":{"v":0,"d":"0.0000"}},{"$f":"SUM(AB162:AC162)*0.7","v":{"v":40.376,"d":"40.3760"}},{"$f":"VLOOKUP(D162,体育加分汇总!A$1:C$79,3,FALSE)","v":{"v":12,"d":"12.0000"}},{"$f":"AD162+AE162","v":{"v":52.376,"d":"52.3760"}},{"$f":"AF162*0.05","v":2.6188},{"$f":"VLOOKUP(D162,美育!B$2:F$182,5,FALSE)","v":{"v":0,"d":"0.0000"}},{"$f":"VLOOKUP(D162,美育!B$2:E$182,4,FALSE)","v":{"v":0,"d":"0.0000"}},{"$f":"AH162+AI162","v":{"v":0,"d":"0.0000"}},{"$f":"AJ162*0.05","v":{"v":0,"d":"0.0000"}},{"$f":"VLOOKUP(D162,劳育基础分!B$3:AF$182,31,FALSE)","v":{"v":40,"d":"40.0000"}},{"v":0,"d":"0.0000"},{"$f":"AL162+AM162","v":{"v":40,"d":"40.0000"}},{"$f":"AN162*0.05","v":{"v":2,"d":"2.0000"}},{"$f":"S162+Y162+AG162+AK162+AO162","v":{"v":55.8799151762373,"d":"55.8799"}},{"$f":"VLOOKUP(D162,必修课优良率!A$1:B$173,2,FALSE)","v":"38.10%"},{"$f":"VLOOKUP(D162,四级成绩!B$2:C$178,2,FALSE)","v":381},{"$f":"VLOOKUP(D162,必修课优良率!A$1:D$173,4,FALSE)","v":"是"}]
[160,149,2024010564,"孙筠翔",{"$f":"VLOOKUP(D163,美育!B$2:E$182,2,FALSE)","v":"化工类24-4班"},{"$f":"VLOOKUP(D163,互评分!C$2:F$181,4,FALSE)","v":{"v":96.64286,"d":"96.6429"}},{"$f":"VLOOKUP(D163,辅导员加分!B$2:C$176,2,FALSE)","v":{"v":92,"d":"92.0000"}},{"$f":"VLOOKUP(D163,互评分!C$2:F$181,3,FALSE)","v":{"v":95.71429,"d":"95.7143"}},{"$f":"VLOOKUP(D163,互评分!C$2:F$181,2,FALSE)","v":{"v":100,"d":"100.0000"}},{"$f":"F163*0.2","v":{"v":19.328572,"d":"19.3286"}},{"$f":"G163*0.5","v":{"v":46,"d":"46.0000"}},{"$f":"H163*0.2","v":{"v":19.142858,"d":"19.1429"}},{"$f":"I163*0.1","v":{"v":10,"d":"10.0000"}},{"$f":"SUM(J163:M163)*0.7","v":{"v":66.130001,"d":"66.1300"}},{"v":0,"d":"0.0000"},{"v":0,"d":"0.0000"},{"v":0,"d":"0.0000"},{"$f":"N163+O163+P163-Q163","v":{"v":66.130001,"d":"66.1300"}},{"$f":"R163*0.15","v":{"v":9.91950015,"d":"9.9195"}},{"$f":"VLOOKUP(D163,[1]必修课成绩!C$71:AE$100,29,FALSE)","v":{"v":71.2,"d":"71.2000"}},{"$f":"VLOOKUP(D163,[1]选修课成绩!C$72:AC$101,27,FALSE)","v":{"v":0,"d":"0.0000"}},{"$f":"IF(U163>0,T163*0.9+U163*0.1,T163)","v":{"v":71.2,"d":"71.2000"}},{"v":0,"d":"0.0000"},{"$f":"V163*0.85+W163","v":{"v":60.52,"d":"60.5200"}},{"$f":"0.7*X163","v":{"v":42.364,"d":"42.3640"}},{"$f":"VLOOKUP(D163,体测成绩!B$2:C$273,2,FALSE)","v":{"v":61.1,"d":"61.1000"}},{"$f":"VLOOKUP(D163,体育锻炼成绩!A$2:B$182,2,FALSE)","v":{"v":100,"d":"100.0000"}},{"$f":"0.8*Z163","v":{"v":48.88,"d":"48.8800"}},{"$f":"AA163*0.2","v":{"v":20,"d":"20.0000"}},{"$f":"SUM(AB163:AC163)*0.7","v":{"v":48.216,"d":"48.2160"}},{"v":0,"d":"0.0000"},{"$f":"AD163+AE163","v":{"v":48.216,"d":"48.2160"}},{"$f":"AF163*0.05","v":2.4108},{"$f":"VLOOKUP(D163,美育!B$2:F$182,5,FALSE)","v":{"v":0,"d":"0.0000"}},{"$f":"VLOOKUP(D163,美育!B$2:E$182,4,FALSE)","v":{"v":0,"d":"0.0000"}},{"$f":"AH163+AI163","v":{"v":0,"d":"0.0000"}},{"$f":"AJ163*0.05","v":{"v":0,"d":"0.0000"}},{"$f":"VLOOKUP(D163,劳育基础分!B$3:AF$182,31,FALSE)","v":{"v":20,"d":"20.0000"}},{"v":0,"d":"0.0000"},{"$f":"AL163+AM163","v":{"v":20,"d":"20.0000"}},{"$f":"AN163*0.05","v":{"v":1,"d":"1.0000"}},{"$f":"S163+Y163+AG163+AK163+AO163","v":{"v":55.69430015,"d":"55.6943"}},{"$f":"VLOOKUP(D163,必修课优良率!A$1:B$173,2,FALSE)","v":"42.86%"},{"$f":"VLOOKUP(D163,四级成绩!B$2:C$178,2,FALSE)","v":353},{"$f":"VLOOKUP(D163,必修课优良率!A$1:D$173,4,FALSE)","v":"是"}]
[161,152,2024010565,"李瑞杰",{"$f":"VLOOKUP(D164,美育!B$2:E$182,2,FALSE)","v":"化工类24-4班"},{"$f":"VLOOKUP(D164,互评分!C$2:F$181,4,FALSE)","v":{"v":96.71429,"d":"96.7143"}},{"$f":"VLOOKUP(D164,辅导员加分!B$2:C$176,2,FALSE)","v":{"v":92,"d":"92.0000"}},{"$f":"VLOOKUP(D164,互评分!C$2:F$181,3,FALSE)","v":{"v":95.71429,"d":"95.7143"}},{"$f":"VLOOKUP(D164,互评分!C$2:F$181,2,FALSE)","v":{"v":100,"d":"100.0000"}},{"$f":"F164*0.2","v":{"v":19.342858,"d":"19.3429"}},{"$f":"G164*0.5","v":{"v":46,"d":"46.0000"}},{"$f":"H164*0.2","v":{"v":19.142858,"d":"19.1429"}},{"$f":"I164*0.1","v":{"v":10,"d":"10.0000"}},{"$f":"SUM(J164:M164)*0.7","v":{"v":66.1400012,"d":"66.1400"}},{"v":0,"d":"0.0000"},{"v":0,"d":"0.0000"},{"v":0,"d":"0.0000"},{"$f":"N164+O164+P164-Q164","v":{"v":66.1400012,"d":"66.1400"}},{"$f":"R164*0.15","v":{"v":9.92100018,"d":"9.9210"}},{"$f":"VLOOKUP(D164,[1]必修课成绩!C$71:AE$100,29,FALSE)","v":{"v":70.65,"d":"70.6500"}},{"$f":"VLOOKUP(D164,[1]选修课成绩!C$72:AC$101,27,FALSE)","v":{"v":0,"d":"0.0000"}},{"$f":"IF(U164>0,T164*0.9+U164*0.1,T164)","v":{"v":70.65,"d":"70.6500"}},{"v":0,"d":"0.0000"},{"$f":"V164*0.85+W164","v":60.0525},{"$f":"0.7*X164","v":{"v":42.03675,"d":"42.0368"}},{"$f":"VLOOKUP(D164,体测成绩!B$2:C$273,2,FALSE)","v":{"v":59.8,"d":"59.8000"}},{"$f":"VLOOKUP(D164,体育锻炼成绩!A$2:B$182,2,FALSE)","v":{"v":100,"d":"100.0000"}},{"$f":"0.8*Z164","v":{"v":47.84,"d":"47.8400"}},{"$f":"AA164*0.2","v":{"v":20,"d":"20.0000"}},{"$f":"SUM(AB164:AC164)*0.7","v":{"v":47.488,"d":"47.4880"}},{"v":0,"d":"0.0000"},{"$f":"AD164+AE164","v":{"v":47.488,"d":"47.4880"}},{"$f":"AF164*0.05","v":2.3744},{"$f":"VLOOKUP(D164,美育!B$2:F$182,5,FALSE)","v":{"v":0,"d":"0.0000"}},{"$f":"VLOOKUP(D164,美育!B$2:E$182,4,FALSE)","v":{"v":0,"d":"0.0000"}},{"$f":"AH164+AI164","v":{"v":0,"d":"0.0000"}},{"$f":"AJ164*0.05","v":{"v":0,"d":"0.0000"}},{"$f":"VLOOKUP(D164,劳育基础分!B$3:AF$182,31,FALSE)","v":{"v":20,"d":"20.0000"}},{"v":0,"d":"0.0000"},{"$f":"AL164+AM164","v":{"v":20,"d":"20.0000"}},{"$f":"AN164*0.05","v":{"v":1,"d":"1.0000"}},{"$f":"S164+Y164+AG164+AK164+AO164","v":{"v":55.33215018,"d":"55.3322"}},{"$f":"VLOOKUP(D164,必修课优良率!A$1:B$173,2,FALSE)","v":"23.81%"},{"$f":"VLOOKUP(D164,四级成绩!B$2:C$178,2,FALSE)","v":448},{"$f":"VLOOKUP(D164,必修课优良率!A$1:D$173,4,FALSE)","v":"是"}]
[162,167,"2024010501","成杰文",{"$f":"VLOOKUP(D165,美育!B$2:E$182,2,FALSE)","v":"化工类24-2班"},{"$f":"VLOOKUP(D165,互评分!C$2:F$181,4,FALSE)","v":{"v":96.3571428571429,"d":"96.3571"}},{"$f":"VLOOKUP(D165,辅导员加分!B$2:C$176,2,FALSE)","v":{"v":90,"d":"90.0000"}},{"$f":"VLOOKUP(D165,互评分!C$2:F$181,3,FALSE)","v":{"v":97.5,"d":"97.5000"}},{"$f":"VLOOKUP(D165,互评分!C$2:F$181,2,FALSE)","v":{"v":92,"d":"92.0000"}},{"$f":"F165*0.2","v":{"v":19.2714285714286,"d":"19.2714"}},{"$f":"G165*0.5","v":{"v":45,"d":"45.0000"}},{"$f":"H165*0.2","v":{"v":19.5,"d":"19.5000"}},{"$f":"I165*0.1","v":{"v":9.2,"d":"9.2000"}},{"$f":"SUM(J165:M165)*0.7","v":{"v":65.08,"d":"65.0800"}},{"v":0,"d":"0.0000"},{"v":0,"d":"0.0000"},{"v":0,"d":"0.0000"},{"$f":"N165+O165+P165-Q165","v":{"v":65.08,"d":"65.0800"}},{"$f":"R165*0.15","v":{"v":9.762,"d":"9.7620"}},{"v":65.8414634146341,"d":"65.8415"},{"v":0,"d":"0.0000"},{"$f":"IF(U165>0,T165*0.9+U165*0.1,T165)","v":{"v":65.8414634146341,"d":"65.8415"}},{"v":0,"d":"0.0000"},{"$f":"V165*0.85+W165","v":{"v":55.965243902439,"d":"55.9652"}},{"$f":"0.7*X165","v":{"v":39.1756707317073,"d":"39.1757"}},{"$f":"VLOOKUP(D165,体测成绩!B$2:C$273,2,FALSE)","v":{"v":76.6,"d":"76.6000"}},{"$f":"VLOOKUP(D165,体育锻炼成绩!A$2:B$182,2,FALSE)","v":"100.00"},{"$f":"0.8*Z165","v":{"v":61.28,"d":"61.2800"}},{"$f":"AA165*0.2","v":{"v":20,"d":"20.0000"}},{"$f":"SUM(AB165:AC165)*0.7","v":{"v":56.896,"d":"56.8960"}},{"$f":"VLOOKUP(D165,体育加分汇总!A$1:C$79,3,FALSE)","v":{"v":9,"d":"9.0000"}},{"$f":"AD165+AE165","v":{"v":65.896,"d":"65.8960"}},{"$f":"AF165*0.05","v":3.2948},{"$f":"VLOOKUP(D165,美育!B$2:F$182,5,FALSE)","v":{"v":20,"d":"20.0000"}},{"$f":"VLOOKUP(D165,美育!B$2:E$182,4,FALSE)","v":{"v":0,"d":"0.0000"}},{"$f":"AH165+AI165","v":{"v":20,"d":"20.0000"}},{"$f":"AJ165*0.05","v":{"v":1,"d":"1.0000"}},{"$f":"VLOOKUP(D165,劳育基础分!B$3:AF$182,31,FALSE)","v":{"v":40,"d":"40.0000"}},{"v":0,"d":"0.0000"},{"$f":"AL165+AM165","v":{"v":40,"d":"40.0000"}},{"$f":"AN165*0.05","v":{"v":2,"d":"2.0000"}},{"$f":"S165+Y165+AG165+AK165+AO165","v":{"v":55.2324707317073,"d":"55.2325"}},{"$f":"VLOOKUP(D165,必修课优良率!A$1:B$173,2,FALSE)","v":"52.38%"},{"$f":"VLOOKUP(D165,四级成绩!B$2:C$178,2,FALSE)","v":400},{"$f":"VLOOKUP(D165,必修课优良率!A$1:D$173,4,FALSE)","v":"是"}]
[163,162,2024010563,"刘迪",{"$f":"VLOOKUP(D166,美育!B$2:E$182,2,FALSE)","v":"化工类24-4班"},{"$f":"VLOOKUP(D166,互评分!C$2:F$181,4,FALSE)","v":96.3214},{"$f":"VLOOKUP(D166,辅导员加分!B$2:C$176,2,FALSE)","v":{"v":92,"d":"92.0000"}},{"$f":"VLOOKUP(D166,互评分!C$2:F$181,3,FALSE)","v":{"v":95.71429,"d":"95.7143"}},{"$f":"VLOOKUP(D166,互评分!C$2:F$181,2,FALSE)","v":{"v":100,"d":"100.0000"}},{"$f":"F166*0.2","v":{"v":19.26428,"d":"19.2643"}},{"$f":"G166*0.5","v":{"v":46,"d":"46.0000"}},{"$f":"H166*0.2","v":{"v":19.142858,"d":"19.1429"}},{"$f":"I166*0.1","v":{"v":10,"d":"10.0000"}},{"$f":"SUM(J166:M166)*0.7","v":{"v":66.0849966,"d":"66.0850"}},{"$f":"VLOOKUP(D166,学生干部加分!A$1:C$140,3,FALSE)","v":{"v":6,"d":"6.0000"}},{"v":0,"d":"0.0000"},{"v":0,"d":"0.0000"},{"$f":"N166+O166+P166-Q166","v":{"v":72.0849966,"d":"72.0850"}},{"$f":"R166*0.15","v":{"v":10.81274949,"d":"10.8127"}},{"$f":"VLOOKUP(D166,[1]必修课成绩!C$71:AE$100,29,FALSE)","v":67.2125},{"$f":"VLOOKUP(D166,[1]选修课成绩!C$72:AC$101,27,FALSE)","v":{"v":0,"d":"0.0000"}},{"$f":"IF(U166>0,T166*0.9+U166*0.1,T166)","v":67.2125},{"v":0,"d":"0.0000"},{"$f":"V166*0.85+W166","v":{"v":57.130625,"d":"57.1306"}},{"$f":"0.7*X166","v":{"v":39.9914375,"d":"39.9914"}},{"$f":"VLOOKUP(D166,体测成绩!B$2:C$273,2,FALSE)","v":{"v":69.4,"d":"69.4000"}},{"$f":"VLOOKUP(D166,体育锻炼成绩!A$2:B$182,2,FALSE)","v":"100.00"},{"$f":"0.8*Z166","v":{"v":55.52,"d":"55.5200"}},{"$f":"AA166*0.2","v":{"v":20,"d":"20.0000"}},{"$f":"SUM(AB166:AC166)*0.7","v":{"v":52.864,"d":"52.8640"}},{"$f":"VLOOKUP(D166,体育加分汇总!A$1:C$79,3,FALSE)","v":{"v":1,"d":"1.0000"}},{"$f":"AD166+AE166","v":{"v":53.864,"d":"53.8640"}},{"$f":"AF166*0.05","v":2.6932},{"$f":"VLOOKUP(D166,美育!B$2:F$182,5,FALSE)","v":{"v":3,"d":"3.0000"}},{"$f":"VLOOKUP(D166,美育!B$2:E$182,4,FALSE)","v":{"v":0,"d":"0.0000"}},{"$f":"AH166+AI166","v":{"v":3,"d":"3.0000"}},{"$f":"AJ166*0.05","v":{"v":0.15,"d":"0.1500"}},{"$f":"VLOOKUP(D166,劳育基础分!B$3:AF$182,31,FALSE)","v":{"v":24,"d":"24.0000"}},{"v":0,"d":"0.0000"},{"$f":"AL166+AM166","v":{"v":24,"d":"24.0000"}},{"$f":"AN166*0.05","v":{"v":1.2,"d":"1.2000"}},{"$f":"S166+Y166+AG166+AK166+AO166","v":{"v":54.84738699,"d":"54.8474"}},{"$f":"VLOOKUP(D166,必修课优良率!A$1:B$173,2,FALSE)","v":"52.38%"},{"$f":"VLOOKUP(D166,四级成绩!B$2:C$178,2,FALSE)","v":322},{"$f":"VLOOKUP(D166,必修课优良率!A$1:D$173,4,FALSE)","v":"是"}]
[164,168,"2024010533","蒋金鹏",{"$f":"VLOOKUP(D167,美育!B$2:E$182,2,FALSE)","v":"化工类24-3班"},{"$f":"VLOOKUP(D167,互评分!C$2:F$181,4,FALSE)","v":{"v":99.1111111111111,"d":"99.1111"}},{"$f":"VLOOKUP(D167,辅导员加分!B$2:C$176,2,FALSE)","v":{"v":92,"d":"92.0000"}},{"$f":"VLOOKUP(D167,互评分!C$2:F$181,3,FALSE)","v":{"v":100,"d":"100.0000"}},{"$f":"VLOOKUP(D167,互评分!C$2:F$181,2,FALSE)","v":{"v":99,"d":"99.0000"}},{"$f":"F167*0.2","v":{"v":19.8222222222222,"d":"19.8222"}},{"$f":"G167*0.5","v":{"v":46,"d":"46.0000"}},{"$f":"H167*0.2","v":{"v":20,"d":"20.0000"}},{"$f":"I167*0.1","v":{"v":9.9,"d":"9.9000"}},{"$f":"SUM(J167:M167)*0.7","v":{"v":67.0055555555556,"d":"67.0056"}},{"$f":"VLOOKUP(D167,学生干部加分!A$1:C$140,3,FALSE)","v":{"v":3,"d":"3.0000"}},{"v":0,"d":"0.0000"},{"v":0,"d":"0.0000"},{"$f":"N167+O167+P167-Q167","v":{"v":70.0055555555556,"d":"70.0056"}},{"$f":"R167*0.15","v":{"v":10.5008333333333,"d":"10.5008"}},{"$f":"VLOOKUP(D167,[2]必修课成绩!C$59:BO$82,65,FALSE)","v":{"v":65.7926829268293,"d":"65.7927"}},{"$f":"VLOOKUP(D167,[2]选修课成绩!C$60:BI$83,59,FALSE)","v":{"v":0,"d":"0.0000"}},{"$f":"IF(U167>0,T167*0.9+U167*0.1,T167)","v":{"v":65.7926829268293,"d":"65.7927"}},{"v":0,"d":"0.0000"},{"$f":"V167*0.85+W167","v":{"v":55.9237804878049,"d":"55.9238"}},{"$f":"0.7*X167","v":{"v":39.1466463414634,"d":"39.1466"}},{"$f":"VLOOKUP(D167,体测成绩!B$2:C$273,2,FALSE)","v":{"v":71.2,"d":"71.2000"}},{"$f":"VLOOKUP(D167,体育锻炼成绩!A$2:B$182,2,FALSE)","v":"100.00"},{"$f":"0.8*Z167","v":{"v":56.96,"d":"56.9600"}},{"$f":"AA167*0.2","v":{"v":20,"d":"20.0000"}},{"$f":"SUM(AB167:AC167)*0.7","v":{"v":53.872,"d":"53.8720"}},{"v":0,"d":"0.0000"},{"$f":"AD167+AE167","v":{"v":53.872,"d":"53.8720"}},{"$f":"AF167*0.05","v":2.6936},{"$f":"VLOOKUP(D167,美育!B$2:F$182,5,FALSE)","v":{"v":25,"d":"25.0000"}},{"$f":"VLOOKUP(D167,美育!B$2:E$182,4,FALSE)","v":{"v":0,"d":"0.0000"}},{"$f":"AH167+AI167","v":{"v":25,"d":"25.0000"}},{"$f":"AJ167*0.05","v":{"v":1.25,"d":"1.2500"}},{"$f":"VLOOKUP(D167,劳育基础分!B$3:AF$182,31,FALSE)","v":{"v":24,"d":"24.0000"}},{"v":0,"d":"0.0000"},{"$f":"AL167+AM167","v":{"v":24,"d":"24.0000"}},{"$f":"AN167*0.05","v":{"v":1.2,"d":"1.2000"}},{"$f":"S167+Y167+AG167+AK167+AO167","v":{"v":54.7910796747968,"d":"54.7911"}},{"$f":"VLOOKUP(D167,必修课优良率!A$1:B$173,2,FALSE)","v":"52.38%"},{"$f":"VLOOKUP(D167,四级成绩!B$2:C$178,2,FALSE)","v":395},{"$f":"VLOOKUP(D167,必修课优良率!A$1:D$173,4,FALSE)","v":"是"}]
[165,171,"2024010526","阿优拉·沙帕尔别克",{"$f":"VLOOKUP(D168,美育!B$2:E$182,2,FALSE)","v":"化工类24-3班"},{"$f":"VLOOKUP(D168,互评分!C$2:F$181,4,FALSE)","v":{"v":99.1111111111111,"d":"99.1111"}},{"$f":"VLOOKUP(D168,辅导员加分!B$2:C$176,2,FALSE)","v":{"v":92,"d":"92.0000"}},{"$f":"VLOOKUP(D168,互评分!C$2:F$181,3,FALSE)","v":{"v":100,"d":"100.0000"}},{"$f":"VLOOKUP(D168,互评分!C$2:F$181,2,FALSE)","v":{"v":99,"d":"99.0000"}},{"$f":"F168*0.2","v":{"v":19.8222222222222,"d":"19.8222"}},{"$f":"G168*0.5","v":{"v":46,"d":"46.0000"}},{"$f":"H168*0.2","v":{"v":20,"d":"20.0000"}},{"$f":"I168*0.1","v":{"v":9.9,"d":"9.9000"}},{"$f":"SUM(J168:M168)*0.7","v":{"v":67.0055555555556,"d":"67.0056"}},{"$f":"VLOOKUP(D168,学生干部加分!A$1:C$140,3,FALSE)","v":{"v":2,"d":"2.0000"}},{"v":0,"d":"0.0000"},{"v":0,"d":"0.0000"},{"$f":"N168+O168+P168-Q168","v":{"v":69.0055555555556,"d":"69.0056"}},{"$f":"R168*0.15","v":{"v":10.3508333333333,"d":"10.3508"}},{"v":64.1341463414634,"d":"64.1341"},{"v":90.5,"d":"90.5000"},{"$f":"IF(U168>0,T168*0.9+U168*0.1,T168)","v":{"v":66.7707317073171,"d":"66.7707"}},{"v":0,"d":"0.0000"},{"$f":"V168*0.85+W168","v":{"v":56.7551219512195,"d":"56.7551"}},{"$f":"0.7*X168","v":{"v":39.7285853658537,"d":"39.7286"}},{"$f":"VLOOKUP(D168,体测成绩!B$2:C$273,2,FALSE)","v":{"v":65.8,"d":"65.8000"}},{"$f":"VLOOKUP(D168,体育锻炼成绩!A$2:B$182,2,FALSE)","v":"100.00"},{"$f":"0.8*Z168","v":{"v":52.64,"d":"52.6400"}},{"$f":"AA168*0.2","v":{"v":20,"d":"20.0000"}},{"$f":"SUM(AB168:AC168)*0.7","v":{"v":50.848,"d":"50.8480"}},{"v":0,"d":"0.0000"},{"$f":"AD168+AE168","v":{"v":50.848,"d":"50.8480"}},{"$f":"AF168*0.05","v":2.5424},{"$f":"VLOOKUP(D168,美育!B$2:F$182,5,FALSE)","v":{"v":0,"d":"0.0000"}},{"$f":"VLOOKUP(D168,美育!B$2:E$182,4,FALSE)","v":{"v":0,"d":"0.0000"}},{"$f":"AH168+AI168","v":{"v":0,"d":"0.0000"}},{"$f":"AJ168*0.05","v":{"v":0,"d":"0.0000"}},{"$f":"VLOOKUP(D168,劳育基础分!B$3:AF$182,31,FALSE)","v":{"v":40,"d":"40.0000"}},{"v":0,"d":"0.0000"},{"$f":"AL168+AM168","v":{"v":40,"d":"40.0000"}},{"$f":"AN168*0.05","v":{"v":2,"d":"2.0000"}},{"$f":"S168+Y168+AG168+AK168+AO168","v":{"v":54.621818699187,"d":"54.6218"}},{"$f":"VLOOKUP(D168,必修课优良率!A$1:B$173,2,FALSE)","v":"57.14%"},{"$f":"VLOOKUP(D168,四级成绩!B$2:C$178,2,FALSE)","v":380},{"$f":"VLOOKUP(D168,必修课优良率!A$1:D$173,4,FALSE)","v":"是"}]
[166,161,2024010540,"王嘉博",{"$f":"VLOOKUP(D169,美育!B$2:E$182,2,FALSE)","v":"化工类24-3班"},{"$f":"VLOOKUP(D169,互评分!C$2:F$181,4,FALSE)","v":{"v":98.7142857142857,"d":"98.7143"}},{"$f":"VLOOKUP(D169,辅导员加分!B$2:C$176,2,FALSE)","v":{"v":92,"d":"92.0000"}},{"$f":"VLOOKUP(D169,互评分!C$2:F$181,3,FALSE)","v":{"v":100,"d":"100.0000"}},{"$f":"VLOOKUP(D169,互评分!C$2:F$181,2,FALSE)","v":{"v":99,"d":"99.0000"}},{"$f":"F169*0.2","v":{"v":19.7428571428571,"d":"19.7429"}},{"$f":"G169*0.5","v":{"v":46,"d":"46.0000"}},{"$f":"H169*0.2","v":{"v":20,"d":"20.0000"}},{"$f":"I169*0.1","v":{"v":9.9,"d":"9.9000"}},{"$f":"SUM(J169:M169)*0.7","v":{"v":66.95,"d":"66.9500"}},{"v":0,"d":"0.0000"},{"v":0,"d":"0.0000"},{"v":0,"d":"0.0000"},{"$f":"N169+O169+P169-Q169","v":{"v":66.95,"d":"66.9500"}},{"$f":"R169*0.15","v":10.0425},{"$f":"VLOOKUP(D169,[1]必修课成绩!C$71:AE$100,29,FALSE)","v":67.6875},{"$f":"VLOOKUP(D169,[1]选修课成绩!C$72:AC$101,27,FALSE)","v":{"v":0,"d":"0.0000"}},{"$f":"IF(U169>0,T169*0.9+U169*0.1,T169)","v":67.6875},{"v":0,"d":"0.0000"},{"$f":"V169*0.85+W169","v":{"v":57.534375,"d":"57.5344"}},{"$f":"0.7*X169","v":{"v":40.2740625,"d":"40.2741"}},{"$f":"VLOOKUP(D169,体测成绩!B$2:C$273,2,FALSE)","v":{"v":63,"d":"63.0000"}},{"$f":"VLOOKUP(D169,体育锻炼成绩!A$2:B$182,2,FALSE)","v":"100.00"},{"$f":"0.8*Z169","v":{"v":50.4,"d":"50.4000"}},{"$f":"AA169*0.2","v":{"v":20,"d":"20.0000"}},{"$f":"SUM(AB169:AC169)*0.7","v":{"v":49.28,"d":"49.2800"}},{"v":0,"d":"0.0000"},{"$f":"AD169+AE169","v":{"v":49.28,"d":"49.2800"}},{"$f":"AF169*0.05","v":{"v":2.464,"d":"2.4640"}},{"$f":"VLOOKUP(D169,美育!B$2:F$182,5,FALSE)","v":{"v":8,"d":"8.0000"}},{"$f":"VLOOKUP(D169,美育!B$2:E$182,4,FALSE)","v":{"v":0,"d":"0.0000"}},{"$f":"AH169+AI169","v":{"v":8,"d":"8.0000"}},{"$f":"AJ169*0.05","v":{"v":0.4,"d":"0.4000"}},{"$f":"VLOOKUP(D169,劳育基础分!B$3:AF$182,31,FALSE)","v":{"v":25,"d":"25.0000"}},{"v":0,"d":"0.0000"},{"$f":"AL169+AM169","v":{"v":25,"d":"25.0000"}},{"$f":"AN169*0.05","v":{"v":1.25,"d":"1.2500"}},{"$f":"S169+Y169+AG169+AK169+AO169","v":{"v":54.4305625,"d":"54.4306"}},{"$f":"VLOOKUP(D169,必修课优良率!A$1:B$173,2,FALSE)","v":"28.57%"},{"$f":"VLOOKUP(D169,四级成绩!B$2:C$178,2,FALSE)","v":415},{"$f":"VLOOKUP(D169,必修课优良率!A$1:D$173,4,FALSE)","v":"是"}]
[167,163,"2024010558","李宇轩",{"$f":"VLOOKUP(D170,美育!B$2:E$182,2,FALSE)","v":"化工类24-4班"},{"$f":"VLOOKUP(D170,互评分!C$2:F$181,4,FALSE)","v":{"v":95.85714,"d":"95.8571"}},{"$f":"VLOOKUP(D170,辅导员加分!B$2:C$176,2,FALSE)","v":{"v":92,"d":"92.0000"}},{"$f":"VLOOKUP(D170,互评分!C$2:F$181,3,FALSE)","v":{"v":95.57143,"d":"95.5714"}},{"$f":"VLOOKUP(D170,互评分!C$2:F$181,2,FALSE)","v":{"v":100,"d":"100.0000"}},{"$f":"F170*0.2","v":{"v":19.171428,"d":"19.1714"}},{"$f":"G170*0.5","v":{"v":46,"d":"46.0000"}},{"$f":"H170*0.2","v":{"v":19.114286,"d":"19.1143"}},{"$f":"I170*0.1","v":{"v":10,"d":"10.0000"}},{"$f":"SUM(J170:M170)*0.7","v":{"v":65.9999998,"d":"66.0000"}},{"v":0,"d":"0.0000"},{"v":0,"d":"0.0000"},{"v":0,"d":"0.0000"},{"$f":"N170+O170+P170-Q170","v":{"v":65.9999998,"d":"66.0000"}},{"$f":"R170*0.15","v":{"v":9.89999997,"d":"9.9000"}},{"$f":"VLOOKUP(D170,[2]必修课成绩!C$59:BO$82,65,FALSE)","v":{"v":66.8048780487805,"d":"66.8049"}},{"$f":"VLOOKUP(D170,[2]选修课成绩!C$60:BI$83,59,FALSE)","v":{"v":0,"d":"0.0000"}},{"$f":"IF(U170>0,T170*0.9+U170*0.1,T170)","v":{"v":66.8048780487805,"d":"66.8049"}},{"v":0,"d":"0.0000"},{"$f":"V170*0.85+W170","v":{"v":56.7841463414634,"d":"56.7841"}},{"$f":"0.7*X170","v":{"v":39.7489024390244,"d":"39.7489"}},{"$f":"VLOOKUP(D170,体测成绩!B$2:C$273,2,FALSE)","v":{"v":60,"d":"60.0000"}},{"$f":"VLOOKUP(D170,体育锻炼成绩!A$2:B$182,2,FALSE)","v":"100.00"},{"$f":"0.8*Z170","v":{"v":48,"d":"48.0000"}},{"$f":"AA170*0.2","v":{"v":20,"d":"20.0000"}},{"$f":"SUM(AB170:AC170)*0.7","v":{"v":47.6,"d":"47.6000"}},{"v":0,"d":"0.0000"},{"$f":"AD170+AE170","v":{"v":47.6,"d":"47.6000"}},{"$f":"AF170*0.05","v":{"v":2.38,"d":"2.3800"}},{"$f":"VLOOKUP(D170,美育!B$2:F$182,5,FALSE)","v":{"v":25,"d":"25.0000"}},{"$f":"VLOOKUP(D170,美育!B$2:E$182,4,FALSE)","v":{"v":0,"d":"0.0000"}},{"$f":"AH170+AI170","v":{"v":25,"d":"25.0000"}},{"$f":"AJ170*0.05","v":{"v":1.25,"d":"1.2500"}},{"$f":"VLOOKUP(D170,劳育基础分!B$3:AF$182,31,FALSE)","v":{"v":20,"d":"20.0000"}},{"v":0,"d":"0.0000"},{"$f":"AL170+AM170","v":{"v":20,"d":"20.0000"}},{"$f":"AN170*0.05","v":{"v":1,"d":"1.0000"}},{"$f":"S170+Y170+AG170+AK170+AO170","v":{"v":54.2789024090244,"d":"54.2789"}},{"$f":"VLOOKUP(D170,必修课优良率!A$1:B$173,2,FALSE)","v":"42.86%"},{"$f":"VLOOKUP(D170,四级成绩!B$2:C$178,2,FALSE)","v":453},{"$f":"VLOOKUP(D170,必修课优良率!A$1:D$173,4,FALSE)","v":"是"}]
[168,169,"2024010529","孟煜杰",{"$f":"VLOOKUP(D171,美育!B$2:E$182,2,FALSE)","v":"化工类24-3班"},{"$f":"VLOOKUP(D171,互评分!C$2:F$181,4,FALSE)","v":{"v":96.0357142857143,"d":"96.0357"}},{"$f":"VLOOKUP(D171,辅导员加分!B$2:C$176,2,FALSE)","v":{"v":90,"d":"90.0000"}},{"$f":"VLOOKUP(D171,互评分!C$2:F$181,3,FALSE)","v":{"v":100,"d":"100.0000"}},{"$f":"VLOOKUP(D171,互评分!C$2:F$181,2,FALSE)","v":{"v":96,"d":"96.0000"}},{"$f":"F171*0.2","v":{"v":19.2071428571429,"d":"19.2071"}},{"$f":"G171*0.5","v":{"v":45,"d":"45.0000"}},{"$f":"H171*0.2","v":{"v":20,"d":"20.0000"}},{"$f":"I171*0.1","v":{"v":9.6,"d":"9.6000"}},{"$f":"SUM(J171:M171)*0.7","v":{"v":65.665,"d":"65.6650"}},{"$f":"VLOOKUP(D171,学生干部加分!A$1:C$140,3,FALSE)","v":{"v":5.5,"d":"5.5000"}},{"v":0,"d":"0.0000"},{"v":0,"d":"0.0000"},{"$f":"N171+O171+P171-Q171","v":{"v":71.165,"d":"71.1650"}},{"$f":"R171*0.15","v":{"v":10.67475,"d":"10.6748"}},{"$f":"VLOOKUP(D171,[2]必修课成绩!C$59:BO$82,65,FALSE)","v":{"v":65.0853658536585,"d":"65.0854"}},{"$f":"VLOOKUP(D171,[2]选修课成绩!C$60:BI$83,59,FALSE)","v":{"v":0,"d":"0.0000"}},{"$f":"IF(U171>0,T171*0.9+U171*0.1,T171)","v":{"v":65.0853658536585,"d":"65.0854"}},{"v":0,"d":"0.0000"},{"$f":"V171*0.85+W171","v":{"v":55.3225609756097,"d":"55.3226"}},{"$f":"0.7*X171","v":{"v":38.7257926829268,"d":"38.7258"}},{"$f":"VLOOKUP(D171,体测成绩!B$2:C$273,2,FALSE)","v":{"v":63.6,"d":"63.6000"}},{"$f":"VLOOKUP(D171,体育锻炼成绩!A$2:B$182,2,FALSE)","v":"0.00"},{"$f":"0.8*Z171","v":{"v":50.88,"d":"50.8800"}},{"$f":"AA171*0.2","v":{"v":0,"d":"0.0000"}},{"$f":"SUM(AB171:AC171)*0.7","v":{"v":35.616,"d":"35.6160"}},{"$f":"VLOOKUP(D171,体育加分汇总!A$1:C$79,3,FALSE)","v":{"v":1,"d":"1.0000"}},{"$f":"AD171+AE171","v":{"v":36.616,"d":"36.6160"}},{"$f":"AF171*0.05","v":1.8308},{"$f":"VLOOKUP(D171,美育!B$2:F$182,5,FALSE)","v":{"v":35,"d":"35.0000"}},{"$f":"VLOOKUP(D171,美育!B$2:E$182,4,FALSE)","v":{"v":0,"d":"0.0000"}},{"$f":"AH171+AI171","v":{"v":35,"d":"35.0000"}},{"$f":"AJ171*0.05","v":{"v":1.75,"d":"1.7500"}},{"$f":"VLOOKUP(D171,劳育基础分!B$3:AF$182,31,FALSE)","v":{"v":24,"d":"24.0000"}},{"v":0,"d":"0.0000"},{"$f":"AL171+AM171","v":{"v":24,"d":"24.0000"}},{"$f":"AN171*0.05","v":{"v":1.2,"d":"1.2000"}},{"$f":"S171+Y171+AG171+AK171+AO171","v":{"v":54.1813426829268,"d":"54.1813"}},{"$f":"VLOOKUP(D171,必修课优良率!A$1:B$173,2,FALSE)","v":"61.90%"},{"$f":"VLOOKUP(D171,四级成绩!B$2:C$178,2,FALSE)","v":424},{"$f":"VLOOKUP(D171,必修课优良率!A$1:D$173,4,FALSE)","v":"是"}]
[169,153,"2024010474","吴赛扬",{"$f":"VLOOKUP(D172,美育!B$2:E$182,2,FALSE)","v":"化工类24-1班"},{"$f":"VLOOKUP(D172,互评分!C$2:F$181,4,FALSE)","v":{"v":97.44444444,"d":"97.4444"}},{"$f":"VLOOKUP(D172,辅导员加分!B$2:C$176,2,FALSE)","v":{"v":92,"d":"92.0000"}},{"$f":"VLOOKUP(D172,互评分!C$2:F$181,3,FALSE)","v":{"v":99.6666666666667,"d":"99.6667"}},{"$f":"VLOOKUP(D172,互评分!C$2:F$181,2,FALSE)","v":{"v":90,"d":"90.0000"}},{"$f":"F172*0.2","v":{"v":19.488888888,"d":"19.4889"}},{"$f":"G172*0.5","v":{"v":46,"d":"46.0000"}},{"$f":"H172*0.2","v":{"v":19.9333333333333,"d":"19.9333"}},{"$f":"I172*0.1","v":{"v":9,"d":"9.0000"}},{"$f":"SUM(J172:M172)*0.7","v":{"v":66.0955555549333,"d":"66.0956"}},{"v":0,"d":"0.0000"},{"v":0,"d":"0.0000"},{"v":0,"d":"0.0000"},{"$f":"N172+O172+P172-Q172","v":{"v":66.0955555549333,"d":"66.0956"}},{"$f":"R172*0.15","v":{"v":9.91433333324,"d":"9.9143"}},{"v":69.4933333333333,"d":"69.4933"},{"v":60,"d":"60.0000"},{"$f":"IF(U172>0,T172*0.9+U172*0.1,T172)","v":{"v":68.544,"d":"68.5440"}},{"v":0,"d":"0.0000"},{"$f":"V172*0.85+W172","v":58.2624},{"$f":"0.7*X172","v":{"v":40.78368,"d":"40.7837"}},{"$f":"VLOOKUP(D172,体测成绩!B$2:C$273,2,FALSE)","v":{"v":34.7,"d":"34.7000"}},{"$f":"VLOOKUP(D172,体育锻炼成绩!A$2:B$182,2,FALSE)","v":{"v":100,"d":"100.0000"}},{"$f":"0.8*Z172","v":{"v":27.76,"d":"27.7600"}},{"$f":"AA172*0.2","v":{"v":20,"d":"20.0000"}},{"$f":"SUM(AB172:AC172)*0.7","v":{"v":33.432,"d":"33.4320"}},{"v":0,"d":"0.0000"},{"$f":"AD172+AE172","v":{"v":33.432,"d":"33.4320"}},{"$f":"AF172*0.05","v":1.6716},{"$f":"VLOOKUP(D172,美育!B$2:F$182,5,FALSE)","v":{"v":0,"d":"0.0000"}},{"$f":"VLOOKUP(D172,美育!B$2:E$182,4,FALSE)","v":{"v":0,"d":"0.0000"}},{"$f":"AH172+AI172","v":{"v":0,"d":"0.0000"}},{"$f":"AJ172*0.05","v":{"v":0,"d":"0.0000"}},{"$f":"VLOOKUP(D172,劳育基础分!B$3:AF$182,31,FALSE)","v":{"v":28,"d":"28.0000"}},{"v":0,"d":"0.0000"},{"$f":"AL172+AM172","v":{"v":28,"d":"28.0000"}},{"$f":"AN172*0.05","v":{"v":1.4,"d":"1.4000"}},{"$f":"S172+Y172+AG172+AK172+AO172","v":{"v":53.76961333324,"d":"53.7696"}},{"$f":"VLOOKUP(D172,必修课优良率!A$1:B$173,2,FALSE)","v":"21.05%"},0,{"$f":"VLOOKUP(D172,必修课优良率!A$1:D$173,4,FALSE)","v":"是"}]
[170,170,"2024010496","董叶帆",{"$f":"VLOOKUP(D173,美育!B$2:E$182,2,FALSE)","v":"化工类24-2班"},{"$f":"VLOOKUP(D173,互评分!C$2:F$181,4,FALSE)","v":{"v":96.6785714285714,"d":"96.6786"}},{"$f":"VLOOKUP(D173,辅导员加分!B$2:C$176,2,FALSE)","v":{"v":90,"d":"90.0000"}},{"$f":"VLOOKUP(D173,互评分!C$2:F$181,3,FALSE)","v":{"v":97.1666666666667,"d":"97.1667"}},{"$f":"VLOOKUP(D173,互评分!C$2:F$181,2,FALSE)","v":{"v":90,"d":"90.0000"}},{"$f":"F173*0.2","v":{"v":19.3357142857143,"d":"19.3357"}},{"$f":"G173*0.5","v":{"v":45,"d":"45.0000"}},{"$f":"H173*0.2","v":{"v":19.4333333333333,"d":"19.4333"}},{"$f":"I173*0.1","v":{"v":9,"d":"9.0000"}},{"$f":"SUM(J173:M173)*0.7","v":{"v":64.9383333333333,"d":"64.9383"}},{"$f":"VLOOKUP(D173,学生干部加分!A$1:C$140,3,FALSE)","v":{"v":3.5,"d":"3.5000"}},{"v":0,"d":"0.0000"},{"v":0,"d":"0.0000"},{"$f":"N173+O173+P173-Q173","v":{"v":68.4383333333333,"d":"68.4383"}},{"$f":"R173*0.15","v":{"v":10.26575,"d":"10.2658"}},{"v":64.9024390243902,"d":"64.9024"},{"v":66.25,"d":"66.2500"},{"$f":"IF(U173>0,T173*0.9+U173*0.1,T173)","v":{"v":65.0371951219512,"d":"65.0372"}},{"v":0,"d":"0.0000"},{"$f":"V173*0.85+W173","v":{"v":55.2816158536585,"d":"55.2816"}},{"$f":"0.7*X173","v":{"v":38.697131097561,"d":"38.6971"}},{"$f":"VLOOKUP(D173,体测成绩!B$2:C$273,2,FALSE)","v":{"v":67.6,"d":"67.6000"}},{"$f":"VLOOKUP(D173,体育锻炼成绩!A$2:B$182,2,FALSE)","v":"100.00"},{"$f":"0.8*Z173","v":{"v":54.08,"d":"54.0800"}},{"$f":"AA173*0.2","v":{"v":20,"d":"20.0000"}},{"$f":"SUM(AB173:AC173)*0.7","v":{"v":51.856,"d":"51.8560"}},{"v":0,"d":"0.0000"},{"$f":"AD173+AE173","v":{"v":51.856,"d":"51.8560"}},{"$f":"AF173*0.05","v":2.5928},{"$f":"VLOOKUP(D173,美育!B$2:F$182,5,FALSE)","v":{"v":15,"d":"15.0000"}},{"$f":"VLOOKUP(D173,美育!B$2:E$182,4,FALSE)","v":{"v":0,"d":"0.0000"}},{"$f":"AH173+AI173","v":{"v":15,"d":"15.0000"}},{"$f":"AJ173*0.05","v":{"v":0.75,"d":"0.7500"}},{"$f":"VLOOKUP(D173,劳育基础分!B$3:AF$182,31,FALSE)","v":{"v":22.5,"d":"22.5000"}},{"v":0,"d":"0.0000"},{"$f":"AL173+AM173","v":{"v":22.5,"d":"22.5000"}},{"$f":"AN173*0.05","v":{"v":1.125,"d":"1.1250"}},{"$f":"S173+Y173+AG173+AK173+AO173","v":{"v":53.4306810975609,"d":"53.4307"}},{"$f":"VLOOKUP(D173,必修课优良率!A$1:B$173,2,FALSE)","v":"33.33%"},{"$f":"VLOOKUP(D173,四级成绩!B$2:C$178,2,FALSE)","v":449},{"$f":"VLOOKUP(D173,必修课优良率!A$1:D$173,4,FALSE)","v":"是"}]
[171,172,"2024010569","吕小川",{"$f":"VLOOKUP(D174,美育!B$2:E$182,2,FALSE)","v":"化工类24-4班"},{"$f":"VLOOKUP(D174,互评分!C$2:F$181,4,FALSE)","v":{"v":96.78571,"d":"96.7857"}},{"$f":"VLOOKUP(D174,辅导员加分!B$2:C$176,2,FALSE)","v":{"v":92,"d":"92.0000"}},{"$f":"VLOOKUP(D174,互评分!C$2:F$181,3,FALSE)","v":{"v":95.57143,"d":"95.5714"}},{"$f":"VLOOKUP(D174,互评分!C$2:F$181,2,FALSE)","v":{"v":100,"d":"100.0000"}},{"$f":"F174*0.2","v":{"v":19.357142,"d":"19.3571"}},{"$f":"G174*0.5","v":{"v":46,"d":"46.0000"}},{"$f":"H174*0.2","v":{"v":19.114286,"d":"19.1143"}},{"$f":"I174*0.1","v":{"v":10,"d":"10.0000"}},{"$f":"SUM(J174:M174)*0.7","v":{"v":66.1299996,"d":"66.1300"}},{"$f":"VLOOKUP(D174,学生干部加分!A$1:C$140,3,FALSE)","v":{"v":7,"d":"7.0000"}},{"v":0,"d":"0.0000"},{"v":0,"d":"0.0000"},{"$f":"N174+O174+P174-Q174","v":{"v":73.1299996,"d":"73.1300"}},{"$f":"R174*0.15","v":{"v":10.96949994,"d":"10.9695"}},{"$f":"VLOOKUP(D174,[2]必修课成绩!C$59:BO$82,65,FALSE)","v":{"v":64.0121951219512,"d":"64.0122"}},{"$f":"VLOOKUP(D174,[2]选修课成绩!C$60:BI$83,59,FALSE)","v":{"v":75,"d":"75.0000"}},{"$f":"IF(U174>0,T174*0.9+U174*0.1,T174)","v":{"v":65.1109756097561,"d":"65.1110"}},{"v":0,"d":"0.0000"},{"$f":"V174*0.85+W174","v":{"v":55.3443292682927,"d":"55.3443"}},{"$f":"0.7*X174","v":{"v":38.7410304878049,"d":"38.7410"}},{"$f":"VLOOKUP(D174,体测成绩!B$2:C$273,2,FALSE)","v":{"v":54.2,"d":"54.2000"}},{"$f":"VLOOKUP(D174,体育锻炼成绩!A$2:B$182,2,FALSE)","v":"0.00"},{"$f":"0.8*Z174","v":{"v":43.36,"d":"43.3600"}},{"$f":"AA174*0.2","v":{"v":0,"d":"0.0000"}},{"$f":"SUM(AB174:AC174)*0.7","v":{"v":30.352,"d":"30.3520"}},{"v":0,"d":"0.0000"},{"$f":"AD174+AE174","v":{"v":30.352,"d":"30.3520"}},{"$f":"AF174*0.05","v":1.5176},{"$f":"VLOOKUP(D174,美育!B$2:F$182,5,FALSE)","v":{"v":8,"d":"8.0000"}},{"$f":"VLOOKUP(D174,美育!B$2:E$182,4,FALSE)","v":{"v":0,"d":"0.0000"}},{"$f":"AH174+AI174","v":{"v":8,"d":"8.0000"}},{"$f":"AJ174*0.05","v":{"v":0.4,"d":"0.4000"}},{"$f":"VLOOKUP(D174,劳育基础分!B$3:AF$182,31,FALSE)","v":{"v":28,"d":"28.0000"}},{"v":0,"d":"0.0000"},{"$f":"AL174+AM174","v":{"v":28,"d":"28.0000"}},{"$f":"AN174*0.05","v":{"v":1.4,"d":"1.4000"}},{"$f":"S174+Y174+AG174+AK174+AO174","v":{"v":53.0281304278049,"d":"53.0281"}},{"$f":"VLOOKUP(D174,必修课优良率!A$1:B$173,2,FALSE)","v":"23.81%"},{"$f":"VLOOKUP(D174,四级成绩!B$2:C$178,2,FALSE)","v":388},{"$f":"VLOOKUP(D174,必修课优良率!A$1:D$173,4,FALSE)","v":"是"}]
[172,175,"2024010634","李昌泽",{"$f":"VLOOKUP(D175,美育!B$2:E$182,2,FALSE)","v":"化工类24-6班"},{"$f":"VLOOKUP(D175,互评分!C$2:F$181,4,FALSE)","v":{"v":97.6923076923077,"d":"97.6923"}},{"$f":"VLOOKUP(D175,辅导员加分!B$2:C$176,2,FALSE)","v":{"v":92,"d":"92.0000"}},{"$f":"VLOOKUP(D175,互评分!C$2:F$181,3,FALSE)","v":{"v":100,"d":"100.0000"}},{"$f":"VLOOKUP(D175,互评分!C$2:F$181,2,FALSE)","v":{"v":100,"d":"100.0000"}},{"$f":"F175*0.2","v":{"v":19.5384615384615,"d":"19.5385"}},{"$f":"G175*0.5","v":{"v":46,"d":"46.0000"}},{"$f":"H175*0.2","v":{"v":20,"d":"20.0000"}},{"$f":"I175*0.1","v":{"v":10,"d":"10.0000"}},{"$f":"SUM(J175:M175)*0.7","v":{"v":66.8769230769231,"d":"66.8769"}},{"$f":"VLOOKUP(D175,学生干部加分!A$1:C$140,3,FALSE)","v":{"v":7,"d":"7.0000"}},{"v":0,"d":"0.0000"},{"v":0,"d":"0.0000"},{"$f":"N175+O175+P175-Q175","v":{"v":73.8769230769231,"d":"73.8769"}},{"$f":"R175*0.15","v":{"v":11.0815384615385,"d":"11.0815"}},{"v":62.2439024390244,"d":"62.2439"},{"v":0,"d":"0.0000"},{"$f":"IF(U175>0,T175*0.9+U175*0.1,T175)","v":{"v":62.2439024390244,"d":"62.2439"}},{"v":0,"d":"0.0000"},{"$f":"V175*0.85+W175","v":{"v":52.9073170731707,"d":"52.9073"}},{"$f":"0.7*X175","v":{"v":37.0351219512195,"d":"37.0351"}},{"$f":"VLOOKUP(D175,体测成绩!B$2:C$273,2,FALSE)","v":{"v":70,"d":"70.0000"}},{"$f":"VLOOKUP(D175,体育锻炼成绩!A$2:B$182,2,FALSE)","v":"100.00"},{"$f":"0.8*Z175","v":{"v":56,"d":"56.0000"}},{"$f":"AA175*0.2","v":{"v":20,"d":"20.0000"}},{"$f":"SUM(AB175:AC175)*0.7","v":{"v":53.2,"d":"53.2000"}},{"v":0,"d":"0.0000"},{"$f":"AD175+AE175","v":{"v":53.2,"d":"53.2000"}},{"$f":"AF175*0.05","v":{"v":2.66,"d":"2.6600"}},{"$f":"VLOOKUP(D175,美育!B$2:F$182,5,FALSE)","v":{"v":20,"d":"20.0000"}},{"$f":"VLOOKUP(D175,美育!B$2:E$182,4,FALSE)","v":{"v":0,"d":"0.0000"}},{"$f":"AH175+AI175","v":{"v":20,"d":"20.0000"}},{"$f":"AJ175*0.05","v":{"v":1,"d":"1.0000"}},{"$f":"VLOOKUP(D175,劳育基础分!B$3:AF$182,31,FALSE)","v":{"v":20,"d":"20.0000"}},{"v":0,"d":"0.0000"},{"$f":"AL175+AM175","v":{"v":20,"d":"20.0000"}},{"$f":"AN175*0.05","v":{"v":1,"d":"1.0000"}},{"$f":"S175+Y175+AG175+AK175+AO175","v":{"v":52.776660412758,"d":"52.7767"}},{"$f":"VLOOKUP(D175,必修课优良率!A$1:B$173,2,FALSE)","v":"38.10%"},{"$f":"VLOOKUP(D175,四级成绩!B$2:C$178,2,FALSE)","v":359},{"$f":"VLOOKUP(D175,必修课优良率!A$1:D$173,4,FALSE)","v":"是"}]
[173,165,"2024010568","张川宁",{"$f":"VLOOKUP(D176,美育!B$2:E$182,2,FALSE)","v":"化工类24-4班"},{"$f":"VLOOKUP(D176,互评分!C$2:F$181,4,FALSE)","v":{"v":97,"d":"97.0000"}},{"$f":"VLOOKUP(D176,辅导员加分!B$2:C$176,2,FALSE)","v":{"v":90,"d":"90.0000"}},{"$f":"VLOOKUP(D176,互评分!C$2:F$181,3,FALSE)","v":{"v":95.57143,"d":"95.5714"}},{"$f":"VLOOKUP(D176,互评分!C$2:F$181,2,FALSE)","v":{"v":100,"d":"100.0000"}},{"$f":"F176*0.2","v":{"v":19.4,"d":"19.4000"}},{"$f":"G176*0.5","v":{"v":45,"d":"45.0000"}},{"$f":"H176*0.2","v":{"v":19.114286,"d":"19.1143"}},{"$f":"I176*0.1","v":{"v":10,"d":"10.0000"}},{"$f":"SUM(J176:M176)*0.7","v":{"v":65.4600002,"d":"65.4600"}},{"v":0,"d":"0.0000"},{"v":0,"d":"0.0000"},{"v":0,"d":"0.0000"},{"$f":"N176+O176+P176-Q176","v":{"v":65.4600002,"d":"65.4600"}},{"$f":"R176*0.15","v":{"v":9.81900003,"d":"9.8190"}},{"$f":"VLOOKUP(D176,[2]必修课成绩!C$59:BO$82,65,FALSE)","v":{"v":66.3048780487805,"d":"66.3049"}},{"$f":"VLOOKUP(D176,[2]选修课成绩!C$60:BI$83,59,FALSE)","v":{"v":72.5,"d":"72.5000"}},{"$f":"IF(U176>0,T176*0.9+U176*0.1,T176)","v":{"v":66.9243902439025,"d":"66.9244"}},{"v":0,"d":"0.0000"},{"$f":"V176*0.85+W176","v":{"v":56.8857317073171,"d":"56.8857"}},{"$f":"0.7*X176","v":{"v":39.820012195122,"d":"39.8200"}},{"$f":"VLOOKUP(D176,体测成绩!B$2:C$273,2,FALSE)","v":{"v":52.4,"d":"52.4000"}},{"$f":"VLOOKUP(D176,体育锻炼成绩!A$2:B$182,2,FALSE)","v":"0.00"},{"$f":"0.8*Z176","v":{"v":41.92,"d":"41.9200"}},{"$f":"AA176*0.2","v":{"v":0,"d":"0.0000"}},{"$f":"SUM(AB176:AC176)*0.7","v":{"v":29.344,"d":"29.3440"}},{"v":0,"d":"0.0000"},{"$f":"AD176+AE176","v":{"v":29.344,"d":"29.3440"}},{"$f":"AF176*0.05","v":1.4672},{"$f":"VLOOKUP(D176,美育!B$2:F$182,5,FALSE)","v":{"v":3,"d":"3.0000"}},{"$f":"VLOOKUP(D176,美育!B$2:E$182,4,FALSE)","v":{"v":0,"d":"0.0000"}},{"$f":"AH176+AI176","v":{"v":3,"d":"3.0000"}},{"$f":"AJ176*0.05","v":{"v":0.15,"d":"0.1500"}},{"$f":"VLOOKUP(D176,劳育基础分!B$3:AF$182,31,FALSE)","v":{"v":20,"d":"20.0000"}},{"v":0,"d":"0.0000"},{"$f":"AL176+AM176","v":{"v":20,"d":"20.0000"}},{"$f":"AN176*0.05","v":{"v":1,"d":"1.0000"}},{"$f":"S176+Y176+AG176+AK176+AO176","v":{"v":52.256212225122,"d":"52.2562"}},{"$f":"VLOOKUP(D176,必修课优良率!A$1:B$173,2,FALSE)","v":"42.86%"},{"$f":"VLOOKUP(D176,四级成绩!B$2:C$178,2,FALSE)","v":382},{"$f":"VLOOKUP(D176,必修课优良率!A$1:D$173,4,FALSE)","v":"是"}]
[174,177,"2024010506","姚泓宇",{"$f":"VLOOKUP(D177,美育!B$2:E$182,2,FALSE)","v":"化工类24-2班"},{"$f":"VLOOKUP(D177,互评分!C$2:F$181,4,FALSE)","v":{"v":96.25,"d":"96.2500"}},{"$f":"VLOOKUP(D177,辅导员加分!B$2:C$176,2,FALSE)","v":{"v":90,"d":"90.0000"}},{"$f":"VLOOKUP(D177,互评分!C$2:F$181,3,FALSE)","v":{"v":97.5,"d":"97.5000"}},{"$f":"VLOOKUP(D177,互评分!C$2:F$181,2,FALSE)","v":{"v":90,"d":"90.0000"}},{"$f":"F177*0.2","v":{"v":19.25,"d":"19.2500"}},{"$f":"G177*0.5","v":{"v":45,"d":"45.0000"}},{"$f":"H177*0.2","v":{"v":19.5,"d":"19.5000"}},{"$f":"I177*0.1","v":{"v":9,"d":"9.0000"}},{"$f":"SUM(J177:M177)*0.7","v":{"v":64.925,"d":"64.9250"}},{"$f":"VLOOKUP(D177,学生干部加分!A$1:C$140,3,FALSE)","v":{"v":3.9,"d":"3.9000"}},{"v":0,"d":"0.0000"},{"v":0,"d":"0.0000"},{"$f":"N177+O177+P177-Q177","v":{"v":68.825,"d":"68.8250"}},{"$f":"R177*0.15","v":{"v":10.32375,"d":"10.3238"}},{"$f":"VLOOKUP(D177,[2]必修课成绩!C$59:BO$82,65,FALSE)","v":{"v":59.2,"d":"59.2000"}},{"$f":"VLOOKUP(D177,[2]选修课成绩!C$60:BI$83,59,FALSE)","v":{"v":0,"d":"0.0000"}},{"$f":"IF(U177>0,T177*0.9+U177*0.1,T177)","v":{"v":59.2,"d":"59.2000"}},{"v":0,"d":"0.0000"},{"$f":"V177*0.85+W177","v":{"v":50.32,"d":"50.3200"}},{"$f":"0.7*X177","v":{"v":35.224,"d":"35.2240"}},{"$f":"VLOOKUP(D177,体测成绩!B$2:C$273,2,FALSE)","v":{"v":77.4,"d":"77.4000"}},{"$f":"VLOOKUP(D177,体育锻炼成绩!A$2:B$182,2,FALSE)","v":"100.00"},{"$f":"0.8*Z177","v":{"v":61.92,"d":"61.9200"}},{"$f":"AA177*0.2","v":{"v":20,"d":"20.0000"}},{"$f":"SUM(AB177:AC177)*0.7","v":{"v":57.344,"d":"57.3440"}},{"v":0,"d":"0.0000"},{"$f":"AD177+AE177","v":{"v":57.344,"d":"57.3440"}},{"$f":"AF177*0.05","v":2.8672},{"$f":"VLOOKUP(D177,美育!B$2:F$182,5,FALSE)","v":{"v":25,"d":"25.0000"}},{"$f":"VLOOKUP(D177,美育!B$2:E$182,4,FALSE)","v":{"v":0,"d":"0.0000"}},{"$f":"AH177+AI177","v":{"v":25,"d":"25.0000"}},{"$f":"AJ177*0.05","v":{"v":1.25,"d":"1.2500"}},{"$f":"VLOOKUP(D177,劳育基础分!B$3:AF$182,31,FALSE)","v":{"v":42,"d":"42.0000"}},{"v":0,"d":"0.0000"},{"$f":"AL177+AM177","v":{"v":42,"d":"42.0000"}},{"$f":"AN177*0.05","v":{"v":2.1,"d":"2.1000"}},{"$f":"S177+Y177+AG177+AK177+AO177","v":{"v":51.76495,"d":"51.7650"}},{"$f":"VLOOKUP(D177,必修课优良率!A$1:B$173,2,FALSE)","v":"40.00%"},{"$f":"VLOOKUP(D177,四级成绩!B$2:C$178,2,FALSE)","v":365},{"$f":"VLOOKUP(D177,必修课优良率!A$1:D$173,4,FALSE)","v":"是"}]
[175,173,"2024010518","史欣谊",{"$f":"VLOOKUP(D178,美育!B$2:E$182,2,FALSE)","v":"化工类24-3班"},{"$f":"VLOOKUP(D178,互评分!C$2:F$181,4,FALSE)","v":{"v":99.0740740740741,"d":"99.0741"}},{"$f":"VLOOKUP(D178,辅导员加分!B$2:C$176,2,FALSE)","v":{"v":90,"d":"90.0000"}},{"$f":"VLOOKUP(D178,互评分!C$2:F$181,3,FALSE)","v":{"v":100,"d":"100.0000"}},{"$f":"VLOOKUP(D178,互评分!C$2:F$181,2,FALSE)","v":{"v":99,"d":"99.0000"}},{"$f":"F178*0.2","v":{"v":19.8148148148148,"d":"19.8148"}},{"$f":"G178*0.5","v":{"v":45,"d":"45.0000"}},{"$f":"H178*0.2","v":{"v":20,"d":"20.0000"}},{"$f":"I178*0.1","v":{"v":9.9,"d":"9.9000"}},{"$f":"SUM(J178:M178)*0.7","v":{"v":66.3003703703704,"d":"66.3004"}},{"$f":"VLOOKUP(D178,学生干部加分!A$1:C$140,3,FALSE)","v":{"v":4,"d":"4.0000"}},{"v":0,"d":"0.0000"},{"v":0,"d":"0.0000"},{"$f":"N178+O178+P178-Q178","v":{"v":70.3003703703704,"d":"70.3004"}},{"$f":"R178*0.15","v":{"v":10.5450555555556,"d":"10.5451"}},{"v":63.7142857142857,"d":"63.7143"},{"v":57.75,"d":"57.7500"},{"$f":"IF(U178>0,T178*0.9+U178*0.1,T178)","v":{"v":63.1178571428571,"d":"63.1179"}},{"v":0,"d":"0.0000"},{"$f":"V178*0.85+W178","v":{"v":53.6501785714286,"d":"53.6502"}},{"$f":"0.7*X178","v":{"v":37.555125,"d":"37.5551"}},{"$f":"VLOOKUP(D178,体测成绩!B$2:C$273,2,FALSE)","v":{"v":74,"d":"74.0000"}},{"$f":"VLOOKUP(D178,体育锻炼成绩!A$2:B$182,2,FALSE)","v":"0.00"},{"$f":"0.8*Z178","v":{"v":59.2,"d":"59.2000"}},{"$f":"AA178*0.2","v":{"v":0,"d":"0.0000"}},{"$f":"SUM(AB178:AC178)*0.7","v":{"v":41.44,"d":"41.4400"}},{"v":0,"d":"0.0000"},{"$f":"AD178+AE178","v":{"v":41.44,"d":"41.4400"}},{"$f":"AF178*0.05","v":{"v":2.072,"d":"2.0720"}},{"$f":"VLOOKUP(D178,美育!B$2:F$182,5,FALSE)","v":{"v":0,"d":"0.0000"}},{"$f":"VLOOKUP(D178,美育!B$2:E$182,4,FALSE)","v":{"v":0,"d":"0.0000"}},{"$f":"AH178+AI178","v":{"v":0,"d":"0.0000"}},{"$f":"AJ178*0.05","v":{"v":0,"d":"0.0000"}},{"$f":"VLOOKUP(D178,劳育基础分!B$3:AF$182,31,FALSE)","v":{"v":29,"d":"29.0000"}},{"v":0,"d":"0.0000"},{"$f":"AL178+AM178","v":{"v":29,"d":"29.0000"}},{"$f":"AN178*0.05","v":{"v":1.45,"d":"1.4500"}},{"$f":"S178+Y178+AG178+AK178+AO178","v":{"v":51.6221805555556,"d":"51.6222"}},{"$f":"VLOOKUP(D178,必修课优良率!A$1:B$173,2,FALSE)","v":"38.10%"},{"$f":"VLOOKUP(D178,四级成绩!B$2:C$178,2,FALSE)","v":502},{"$f":"VLOOKUP(D178,必修课优良率!A$1:D$173,4,FALSE)","v":"是"}]
[176,174,"2024010541","王家成",{"$f":"VLOOKUP(D179,美育!B$2:E$182,2,FALSE)","v":"化工类24-3班"},{"$f":"VLOOKUP(D179,互评分!C$2:F$181,4,FALSE)","v":{"v":98.3571428571429,"d":"98.3571"}},{"$f":"VLOOKUP(D179,辅导员加分!B$2:C$176,2,FALSE)","v":{"v":92,"d":"92.0000"}},{"$f":"VLOOKUP(D179,互评分!C$2:F$181,3,FALSE)","v":{"v":100,"d":"100.0000"}},{"$f":"VLOOKUP(D179,互评分!C$2:F$181,2,FALSE)","v":{"v":98,"d":"98.0000"}},{"$f":"F179*0.2","v":{"v":19.6714285714286,"d":"19.6714"}},{"$f":"G179*0.5","v":{"v":46,"d":"46.0000"}},{"$f":"H179*0.2","v":{"v":20,"d":"20.0000"}},{"$f":"I179*0.1","v":{"v":9.8,"d":"9.8000"}},{"$f":"SUM(J179:M179)*0.7","v":{"v":66.83,"d":"66.8300"}},{"$f":"VLOOKUP(D179,学生干部加分!A$1:C$140,3,FALSE)","v":{"v":2,"d":"2.0000"}},{"v":0,"d":"0.0000"},{"v":0,"d":"0.0000"},{"$f":"N179+O179+P179-Q179","v":{"v":68.83,"d":"68.8300"}},{"$f":"R179*0.15","v":10.3245},{"v":62.4024390243902,"d":"62.4024"},{"v":0,"d":"0.0000"},{"$f":"IF(U179>0,T179*0.9+U179*0.1,T179)","v":{"v":62.4024390243902,"d":"62.4024"}},{"v":0,"d":"0.0000"},{"$f":"V179*0.85+W179","v":{"v":53.0420731707317,"d":"53.0421"}},{"$f":"0.7*X179","v":{"v":37.1294512195122,"d":"37.1295"}},{"$f":"VLOOKUP(D179,体测成绩!B$2:C$273,2,FALSE)","v":{"v":63,"d":"63.0000"}},{"$f":"VLOOKUP(D179,体育锻炼成绩!A$2:B$182,2,FALSE)","v":"50.00"},{"$f":"0.8*Z179","v":{"v":50.4,"d":"50.4000"}},{"$f":"AA179*0.2","v":{"v":10,"d":"10.0000"}},{"$f":"SUM(AB179:AC179)*0.7","v":{"v":42.28,"d":"42.2800"}},{"$f":"VLOOKUP(D179,体育加分汇总!A$1:C$79,3,FALSE)","v":{"v":8,"d":"8.0000"}},{"$f":"AD179+AE179","v":{"v":50.28,"d":"50.2800"}},{"$f":"AF179*0.05","v":{"v":2.514,"d":"2.5140"}},{"$f":"VLOOKUP(D179,美育!B$2:F$182,5,FALSE)","v":{"v":0,"d":"0.0000"}},{"$f":"VLOOKUP(D179,美育!B$2:E$182,4,FALSE)","v":{"v":0,"d":"0.0000"}},{"$f":"AH179+AI179","v":{"v":0,"d":"0.0000"}},{"$f":"AJ179*0.05","v":{"v":0,"d":"0.0000"}},{"$f":"VLOOKUP(D179,劳育基础分!B$3:AF$182,31,FALSE)","v":{"v":29,"d":"29.0000"}},{"v":0,"d":"0.0000"},{"$f":"AL179+AM179","v":{"v":29,"d":"29.0000"}},{"$f":"AN179*0.05","v":{"v":1.45,"d":"1.4500"}},{"$f":"S179+Y179+AG179+AK179+AO179","v":{"v":51.4179512195122,"d":"51.4180"}},{"$f":"VLOOKUP(D179,必修课优良率!A$1:B$173,2,FALSE)","v":"38.10%"},{"$f":"VLOOKUP(D179,四级成绩!B$2:C$178,2,FALSE)","v":"479"},{"$f":"VLOOKUP(D179,必修课优良率!A$1:D$173,4,FALSE)","v":"是"}]
[177,178,"2023010381","宋佳滢",{"$f":"VLOOKUP(D180,美育!B$2:E$182,2,FALSE)","v":"化工类24-2班"},{"$f":"VLOOKUP(D180,互评分!C$2:F$181,4,FALSE)","v":{"v":94.9310344827586,"d":"94.9310"}},{"$f":"VLOOKUP(D180,辅导员加分!B$2:C$176,2,FALSE)","v":{"v":90,"d":"90.0000"}},{"$f":"VLOOKUP(D180,互评分!C$2:F$181,3,FALSE)","v":{"v":98.3333333333333,"d":"98.3333"}},{"$f":"VLOOKUP(D180,互评分!C$2:F$181,2,FALSE)","v":{"v":90,"d":"90.0000"}},{"$f":"F180*0.2","v":{"v":18.9862068965517,"d":"18.9862"}},{"$f":"G180*0.5","v":{"v":45,"d":"45.0000"}},{"$f":"H180*0.2","v":{"v":19.6666666666667,"d":"19.6667"}},{"$f":"I180*0.1","v":{"v":9,"d":"9.0000"}},{"$f":"SUM(J180:M180)*0.7","v":{"v":64.8570114942529,"d":"64.8570"}},{"v":0,"d":"0.0000"},{"v":0,"d":"0.0000"},{"v":0,"d":"0.0000"},{"$f":"N180+O180+P180-Q180","v":{"v":64.8570114942529,"d":"64.8570"}},{"$f":"R180*0.15","v":{"v":9.72855172413793,"d":"9.7286"}},{"v":56.85,"d":"56.8500"},{"v":0,"d":"0.0000"},{"$f":"IF(U180>0,T180*0.9+U180*0.1,T180)","v":{"v":56.85,"d":"56.8500"}},{"v":0,"d":"0.0000"},{"$f":"V180*0.85+W180","v":48.3225},{"$f":"0.7*X180","v":{"v":33.82575,"d":"33.8258"}},{"$f":"VLOOKUP(D180,体测成绩!B$2:C$273,2,FALSE)","v":{"v":60,"d":"60.0000"}},{"$f":"VLOOKUP(D180,体育锻炼成绩!A$2:B$182,2,FALSE)","v":"0.00"},{"$f":"0.8*Z180","v":{"v":48,"d":"48.0000"}},{"$f":"AA180*0.2","v":{"v":0,"d":"0.0000"}},{"$f":"SUM(AB180:AC180)*0.7","v":{"v":33.6,"d":"33.6000"}},{"v":0,"d":"0.0000"},{"$f":"AD180+AE180","v":{"v":33.6,"d":"33.6000"}},{"$f":"AF180*0.05","v":{"v":1.68,"d":"1.6800"}},{"$f":"VLOOKUP(D180,美育!B$2:F$182,5,FALSE)","v":{"v":20,"d":"20.0000"}},{"$f":"VLOOKUP(D180,美育!B$2:E$182,4,FALSE)","v":{"v":0,"d":"0.0000"}},{"$f":"AH180+AI180","v":{"v":20,"d":"20.0000"}},{"$f":"AJ180*0.05","v":{"v":1,"d":"1.0000"}},{"v":0,"d":"0.0000"},{"v":0,"d":"0.0000"},{"$f":"AL180+AM180","v":{"v":0,"d":"0.0000"}},{"$f":"AN180*0.05","v":{"v":0,"d":"0.0000"}},{"$f":"S180+Y180+AG180+AK180+AO180","v":{"v":46.2343017241379,"d":"46.2343"}},{"$f":"VLOOKUP(D180,必修课优良率!A$1:B$173,2,FALSE)","v":"40.00%"},{"$f":"VLOOKUP(D180,四级成绩!B$2:C$178,2,FALSE)","v":505},{"$f":"VLOOKUP(D180,必修课优良率!A$1:D$173,4,FALSE)","v":"是"}]
[178,176,"2024010512","桑恒健",{"$f":"VLOOKUP(D181,美育!B$2:E$182,2,FALSE)","v":"化工类24-2班"},{"$f":"VLOOKUP(D181,互评分!C$2:F$181,4,FALSE)","v":{"v":96.6428571428571,"d":"96.6429"}},{"$f":"VLOOKUP(D181,辅导员加分!B$2:C$176,2,FALSE)","v":{"v":90,"d":"90.0000"}},{"$f":"VLOOKUP(D181,互评分!C$2:F$181,3,FALSE)","v":{"v":99,"d":"99.0000"}},{"$f":"VLOOKUP(D181,互评分!C$2:F$181,2,FALSE)","v":{"v":94,"d":"94.0000"}},{"$f":"F181*0.2","v":{"v":19.3285714285714,"d":"19.3286"}},{"$f":"G181*0.5","v":{"v":45,"d":"45.0000"}},{"$f":"H181*0.2","v":{"v":19.8,"d":"19.8000"}},{"$f":"I181*0.1","v":{"v":9.4,"d":"9.4000"}},{"$f":"SUM(J181:M181)*0.7","v":{"v":65.47,"d":"65.4700"}},{"$f":"VLOOKUP(D181,学生干部加分!A$1:C$140,3,FALSE)","v":{"v":4,"d":"4.0000"}},{"v":0,"d":"0.0000"},{"v":0,"d":"0.0000"},{"$f":"N181+O181+P181-Q181","v":{"v":69.47,"d":"69.4700"}},{"$f":"R181*0.15","v":10.4205},{"$f":"VLOOKUP(D181,[2]必修课成绩!C$59:BO$82,65,FALSE)","v":{"v":60.3513513513514,"d":"60.3514"}},{"$f":"VLOOKUP(D181,[2]选修课成绩!C$60:BI$83,59,FALSE)","v":{"v":25,"d":"25.0000"}},{"$f":"IF(U181>0,T181*0.9+U181*0.1,T181)","v":{"v":56.8162162162163,"d":"56.8162"}},{"v":0,"d":"0.0000"},{"$f":"V181*0.85+W181","v":{"v":48.2937837837838,"d":"48.2938"}},{"$f":"0.7*X181","v":{"v":33.8056486486487,"d":"33.8056"}},{"$f":"VLOOKUP(D181,体测成绩!B$2:C$273,2,FALSE)","v":{"v":30.3,"d":"30.3000"}},{"$f":"VLOOKUP(D181,体育锻炼成绩!A$2:B$182,2,FALSE)","v":"0.00"},{"$f":"0.8*Z181","v":{"v":24.24,"d":"24.2400"}},{"$f":"AA181*0.2","v":{"v":0,"d":"0.0000"}},{"$f":"SUM(AB181:AC181)*0.7","v":{"v":16.968,"d":"16.9680"}},{"v":0,"d":"0.0000"},{"$f":"AD181+AE181","v":{"v":16.968,"d":"16.9680"}},{"$f":"AF181*0.05","v":0.8484},{"$f":"VLOOKUP(D181,美育!B$2:F$182,5,FALSE)","v":{"v":0,"d":"0.0000"}},{"$f":"VLOOKUP(D181,美育!B$2:E$182,4,FALSE)","v":{"v":0,"d":"0.0000"}},{"$f":"AH181+AI181","v":{"v":0,"d":"0.0000"}},{"$f":"AJ181*0.05","v":{"v":0,"d":"0.0000"}},{"$f":"VLOOKUP(D181,劳育基础分!B$3:AF$182,31,FALSE)","v":{"v":20,"d":"20.0000"}},{"v":0,"d":"0.0000"},{"$f":"AL181+AM181","v":{"v":20,"d":"20.0000"}},{"$f":"AN181*0.05","v":{"v":1,"d":"1.0000"}},{"$f":"S181+Y181+AG181+AK181+AO181","v":{"v":46.0745486486487,"d":"46.0745"}},{"$f":"VLOOKUP(D181,必修课优良率!A$1:B$173,2,FALSE)","v":"36.84%"},0,{"$f":"VLOOKUP(D181,必修课优良率!A$1:D$173,4,FALSE)","v":"是"}]
[179,179,2024010587,"海米提·麦买提","化工类24-5班",{"$f":"VLOOKUP(D182,互评分!C$2:F$181,4,FALSE)","v":{"v":99.4444444444444,"d":"99.4444"}},{"v":90,"d":"90.0000"},{"$f":"VLOOKUP(D182,互评分!C$2:F$181,3,FALSE)","v":{"v":99.8571428571429,"d":"99.8571"}},{"$f":"VLOOKUP(D182,互评分!C$2:F$181,2,FALSE)","v":{"v":85,"d":"85.0000"}},{"$f":"F182*0.2","v":{"v":19.8888888888889,"d":"19.8889"}},{"$f":"G182*0.5","v":{"v":45,"d":"45.0000"}},{"$f":"H182*0.2","v":{"v":19.9714285714286,"d":"19.9714"}},{"$f":"I182*0.1","v":{"v":8.5,"d":"8.5000"}},{"$f":"SUM(J182:M182)*0.7","v":{"v":65.3522222222222,"d":"65.3522"}},{"$f":"VLOOKUP(D182,学生干部加分!A$1:C$140,3,FALSE)","v":{"v":7,"d":"7.0000"}},{"v":0,"d":"0.0000"},{"v":3,"d":"3.0000"},{"$f":"N182+O182+P182-Q182","v":{"v":69.3522222222222,"d":"69.3522"}},{"$f":"R182*0.15","v":{"v":10.4028333333333,"d":"10.4028"}},{"v":46.8395061728395,"d":"46.8395"},{"v":0,"d":"0.0000"},{"v":46.8395061728395,"d":"46.8395"},{"v":0,"d":"0.0000"},{"$f":"V182*0.85+W182","v":{"v":39.8135802469136,"d":"39.8136"}},{"$f":"0.7*X182","v":{"v":27.8695061728395,"d":"27.8695"}},{"$f":"VLOOKUP(D182,体测成绩!B$2:C$273,2,FALSE)","v":{"v":63.5,"d":"63.5000"}},{"$f":"VLOOKUP(D182,体育锻炼成绩!A$2:B$182,2,FALSE)","v":{"v":0,"d":"0.0000"}},{"$f":"0.8*Z182","v":{"v":50.8,"d":"50.8000"}},{"$f":"AA182*0.2","v":{"v":0,"d":"0.0000"}},{"$f":"SUM(AB182:AC182)*0.7","v":{"v":35.56,"d":"35.5600"}},{"v":0,"d":"0.0000"},{"$f":"AD182+AE182","v":{"v":35.56,"d":"35.5600"}},{"$f":"AF182*0.05","v":{"v":1.778,"d":"1.7780"}},{"$f":"VLOOKUP(D182,美育!B$2:F$182,5,FALSE)","v":{"v":0,"d":"0.0000"}},{"$f":"VLOOKUP(D182,美育!B$2:E$182,4,FALSE)","v":{"v":0,"d":"0.0000"}},{"$f":"AH182+AI182","v":{"v":0,"d":"0.0000"}},{"$f":"AJ182*0.05","v":{"v":0,"d":"0.0000"}},{"$f":"VLOOKUP(D182,劳育基础分!B$3:AF$182,31,FALSE)","v":{"v":20,"d":"20.0000"}},{"v":3,"d":"3.0000"},{"$f":"AL182+AM182","v":{"v":23,"d":"23.0000"}},{"$f":"AN182*0.05","v":{"v":1.15,"d":"1.1500"}},{"$f":"S182+Y182+AG182+AK182+AO182","v":{"v":41.2003395061728,"d":"41.2003"}},{"v":0.1578,"d":"15.7800%"},0,"是"]

{"sheet":"四级成绩","index":1,"n_rows":178,"n_cols":3,"rows_kept":178}
["学号","姓名","成绩"]
["2024010458","施朝阳",546]
["2024010459","靳铭超",529]
["2024010464","胡婷",452]
["2024010467","韦程栋",381]
["2024010469","何俊希",489]
["2024010488","郭圣元",419]
["2024010490","聂玲琳",521]
["2024010494","姜明明",539]
["2024010506","姚泓宇",365]
["2024010512","桑恒健","未报考"]
["2024010529","孟煜杰",424]
["2024010533","蒋金鹏",395]
["2024010551","王珏",557]
["2024010553","尤雅",492]
["2024010554","葛敏","未报考"]
["2024010555","苏晴",545]
["2024010556","张煊",518]
["2024010558","李宇轩",453]
["2024010559","郑翔鸿",462]
["2024010560","葸旺","未报考"]
["2024010568","张川宁",382]
["2024010569","吕小川",388]
["2024010575","寇笑源",508]
["2024010482","方泽",435]
["2024010507","赵佳富",472]
["2024010509","孙铭徽",466]
["2024010510","钟家豪",426]
["2024010511","吕程",502]
["2024010513","朱健健",481]
["2024010525","何佳",561]
["2024010526","阿优拉·沙帕尔别克",380]
["2024010547","董宇昕",483]
["2024010548","赵淑荣",441]
["2024010549","冯苗鸽",517]
["2024010550","梁金玉",583]
["2024010552","胡语轩",548]
["2024010577","孔梓涵",616]
["2024010579","刘芮",501]
["2024010582","刘文清",540]
["2024010584","刘玲嘉",533]
["2024010585","吴佳妮",540]
["2024010590","杨航维",607]
["2024010591","黄皓仑",515]
["2024010592","罗晓珍",380]
["2024010593","康铭坤",388]
["2024010594","王志龙",495]
["2024010595","王二壮",477]
["2024010596","王爽",424]
["2024010598","张子木",443]
["2024010599","林方宇",576]
["2024010601","李毅恒",524]
["2024010604","刘俊超",510]
["2024010630","周子晨","没考"]
[]
[2024010607,"杨睿",535]
[2024010600,"王思远",478]
[2024010609,"王晓娜",515]
[2024010620,"杨磊",474]
[null,"刘迪",322]
[null,"高瑞苹",337]
[null,"佟安冉",343]
[null,"孙筠翔",353]
[null,"黄贤君",378]
[null,"王超卓",415]
[null,"王嘉博",415]
[null,"杨胤泽",416]
[null,"马秋阳",427]
[null,"徐旋",428]
[null,"闫乙昕",438]
[null,"蒋卓达",446]
[null,"李瑞杰",448]
[null,"洪瑞",476]
[null,"林锐",480]
[null,"吴淑金",481]
[null,"李俊豪",487]
[null,"冯子洋",490]
[null,"张家诚",499]
[null,"谢子翔",505]
[null,"侯星辰",506]
[null,"陈永利",509]
[null,"王泽轩",518]
[null,"姜柏彤",522]
[null,"赵梓伯",526]
[null,"温晓阳",526]
[null,"张蕊",528]
[null,"卢力瑛",533]
[null,"张玉杨",548]
[null,"马铭远",570]
[null,"袁翊淼",577]
[null,"刘紫杭",486]
[null,"郭泓岐",514]
[null,"成杰文",400]
[null,"葛亿盛",519]
[null,"郝美超",523]
[null,"任俊玮",484]
[null,"宋佳滢",505]
[null,"董叶帆",449]
[null,"李政阳",451]
[null,"方文正",521]
[null,"刘子炜",445]
[null,"彭一航",542]
[null,"柯二文",539]
[null,"李昌泽",359]
[null,"李宇春",384]
[null,"李鑫涛",361]
[null,"肖港权",524]
[null,"郝雪普",585]
[null,"侯垚",605]
[null,"杨州",439]
[null,"王诚毅",524]
[null,"杨清朋",570]
[null,"王南南",515]
[null,"刘韬",586]
[null,"杨修齐",515]
[null,"任务",545]
[null,"韩子路",505]
[null,"孙立夫",417]
[null,"吕佳琳",484]
[null,"刘钢彬",477]
[null,"刘诗雨",477]
[null,"彭天佑",425]
[null,"王睦钧",485]
[null,"洪培彬",451]
[null,"路倢利",517]
[null,"余若瑜",621]
[null,"黄大原",497]
[null,"赵毅轩",611]
[null,"龚贝",442]
[null,"李志聪",497]
[null,"热依汉古丽·加帕",0]
[null,"杜向栋",451]
[null,"郭北辰",484]
[null,"赵倩瑶",445]
[null,"吕秋桦",409]
[null,"仇雨乐",492]
[null,"杨悦",454]
[null,"陈启骏",576]
[null,"艾芯蕊",540]
[null,"水源",507]
[null,"谯佳伟",455]
[null,"陆游",404]
[null,"潘兴顺",0]
[null,"王崇南",412]
[null,"陈萍洋",0]
[null,"胡启红",534]
[null,"田慧慧",647]
[null,"苗思蕊",495]
[null,"史欣谊",502]
[null,"谢文博","449"]
[null,"邱子恒","445"]
[null,"王韬哲","572"]
[null,"赵晶晶","465"]
[null,"孙愷辰","496"]
[null,"任熙嘉","461"]
[null,"罗锦洪","493"]
[null,"刘恬宁","579"]
[null,"张钰涵","525"]
[null,"李博航","430"]
[null,"贾金鑫","460"]
[null,"吴赛扬","没考"]
[null,"王笑睿","457"]
[null,"王家成","479"]
[null,"刘春硕","553"]
[null,"马永龙","375"]
[null,"李坤明","398"]
[null,"孔德烨","497"]
[null,"董家慧","486"]
[null,"王路寒","442"]
[null,"李耀初","471"]
[null,"宋梦博","433"]
[null,"严翊中","496"]
[null,"赵延奇","未报考"]
[null,"陈晨","444"]
[null,"杨子惠","475"]
[null,"杨恒","439"]
[null,"陈朕","456"]
[null,"吴俊","533"]

{"sheet":"体测成绩","index":2,"n_rows":273,"n_cols":4,"rows_kept":273}
["学籍号","姓名","总分","等级"]
["2024010457","胡紫涵",72.1,"及格"]
["2024010458","施朝阳",64.3,"及格"]
["2024010459","靳铭超",79.3,"及格"]
["2024010460","袁翊淼",67.2,"及格"]
["2024010461","卢力瑛",80.4,"良好"]
["2024010462","佟安冉",64.7,"及格"]
["2024010463","杨子惠",78.2,"及格"]
["2024010464","胡婷",80.4,"良好"]
["2024010465","郝美超",60,"及格"]
["2024010466","王南南",60,"免测"]
["2024010467","韦程栋",72.1,"及格"]
["2024010468","王诚毅",64.5,"及格"]
["2024010469","何俊希",60,"及格"]
["2024010470","陈韵轩",55.6,"不及格"]
["2024010471","王路寒",60,"及格"]
["2024010472","赵延奇",56.5,"不及格"]
["2024010473","李博航",75.5,"及格"]
["2024010474","吴赛扬",34.7,"不及格"]
["2024010475","葛亿盛",87.8,"良好"]
["2024010476","杨修齐",72.7,"及格"]
["2024010477","李俊义",76.2,"及格"]
["2024010478","杨州",67.6,"及格"]
["2024010479","刘韬",70.5,"及格"]
["2024010480","谢煜轩",71.2,"及格"]
["2024010481","任熙嘉",75.6,"及格"]
["2024010482","方泽",73.3,"及格"]
["2024010483","杨清朋",60.9,"及格"]
["2024010484","任俊玮",78.6,"及格"]
["2024010485","马永龙",75.7,"及格"]
["2024010486","彭一航",60,"及格"]
["2023010381","宋佳滢",60,"免测"]
["2024010487","杨悦",76.7,"及格"]
["2024010488","郭圣元",60,"及格"]
["2024010489","赵倩瑶",64.1,"及格"]
["2024010490","聂玲琳",68.1,"及格"]
["2024010491","田慧慧",81,"良好"]
["2024010492","吕莎莎",80.9,"良好"]
["2024010493","苗思蕊",67.9,"及格"]
["2024010494","姜明明",60,"及格"]
["2024010495","韩子路",66.2,"及格"]
["2024010496","董叶帆",67.6,"及格"]
["2024010497","赵晶晶",81.3,"良好"]
["2024010498","杨胤泽",75.8,"及格"]
["2024010499","李耀初",75.4,"及格"]
["2024010500","黄大原",67.4,"及格"]
["2024010501","成杰文",76.6,"及格"]
["2024010502","谯佳伟",80.6,"良好"]
["2024010503","孙立夫",52.6,"不及格"]
["2024010504","陈启骏",73.5,"及格"]
["2024010505","李志聪",58.5,"不及格"]
["2024010506","姚泓宇",77.4,"及格"]
["2024010507","赵佳富",58,"不及格"]
["2024010508","谢文博",69,"及格"]
["2024010509","孙铭徽",69,"及格"]
["2024010510","钟家豪",60,"免测"]
["2024010511","吕程",60,"及格"]
["2024010512","桑恒健",30.3,"不及格"]
["2024010513","朱健健",60,"及格"]
["2024010514","蒋卓达",66.8,"及格"]
["2024010515","刘起睿",67.7,"及格"]
["2024010516","彭好运",60,"免测"]
["2024010517","洪瑞",80.7,"良好"]
["2024010518","史欣谊",74,"及格"]
["2024010519","赵梓伯",66.8,"及格"]
["2024010520","刘诗雨",76.1,"及格"]
["2024010521","张蕊",74.6,"及格"]
["2024010522","艾芯蕊",72.6,"及格"]
["2024010523","胡启红",64.3,"及格"]
["2024010524","吕秋桦",36.6,"不及格"]
["2024010525","何佳",81.2,"良好"]
["2024010526","阿优拉·沙帕尔别克",65.8,"及格"]
["2024010527","叶霖",88.5,"良好"]
["2024010528","黄贤君",71.4,"及格"]
["2024010529","孟煜杰",63.6,"及格"]
["2024010530","仇雨乐",65.8,"及格"]
["2024010531","王崇南",74.1,"及格"]
["2024010532","陈萍洋",60,"及格"]
["2024010533","蒋金鹏",71.2,"及格"]
["2024010534","李俊豪",64.2,"及格"]
["2024010535","侯星辰",80.9,"良好"]
["2024010536","郭北辰",72.6,"及格"]
["2024010537","龚贝",69.5,"及格"]
["2024010538","王超卓",75.6,"及格"]
["2024010539","赵毅轩",67.3,"及格"]
["2024010540","王嘉博",63,"及格"]
["2024010541","王家成",63,"及格"]
["2024010542","谢子翔",71.6,"及格"]
["2024010543","张家诚",71,"及格"]
["2024010544","陈永利",68.8,"及格"]
["2024010545","徐旋",76.3,"及格"]
["2024010546","马铭远",22,"不及格"]
["2024010547","董宇昕",80.8,"良好"]
["2024010548","赵淑荣",55.7,"不及格"]
["2024010549","冯苗鸽",81.6,"良好"]
["2024010550","梁金玉",69.5,"及格"]
["2024010551","王珏",63.9,"及格"]
["2024010552","胡语轩",70,"及格"]
["2024010553","尤雅",75,"及格"]
["2024010554","葛敏",72.2,"及格"]
["2024010555","苏晴",78.1,"及格"]
["2024010556","张煊",76.4,"及格"]
["2024010557","李政阳",71,"及格"]
["2024010558","李宇轩",60,"及格"]
["2024010559","郑翔鸿",60,"及格"]
["2024010560","葸旺",67.9,"及格"]
["2024010561","刘子炜",84,"良好"]
["2024010562","冯子洋",74.4,"及格"]
["2024010563","刘迪",69.4,"及格"]
["2024010564","孙筠翔",61.1,"及格"]
["2024010565","李瑞杰",59.8,"不及格"]
["2024010566","王泽轩",73.5,"及格"]
["2024010567","张玉杨",88.9,"良好"]
["2024010568","张川宁",52.4,"不及格"]
["2024010569","吕小川",54.2,"不及格"]
["2024010570","罗锦洪",82.8,"良好"]
["2024010571","李坤明",76.8,"及格"]
["2024010572","邱子恒",60,"免测"]
["2024010573","王韬哲",73.7,"及格"]
["2024010574","孙愷辰",51.5,"不及格"]
["2024010575","寇笑源",80.4,"良好"]
["2024010576","徐桢",68.7,"及格"]
["2024010577","孔梓涵",80.8,"良好"]
["2024010578","张钰涵",75.6,"及格"]
["2024010579","刘芮",66.3,"及格"]
["2024010580","刘春硕",72.1,"及格"]
["2024010581","董家慧",77.4,"及格"]
["2024010582","刘文清",74.2,"及格"]
["2024010583","路倢利",79.2,"及格"]
["2024010584","刘玲嘉",88.8,"良好"]
["2024010585","吴佳妮",83.4,"良好"]
["2024010586","余若瑜",71.7,"及格"]
["2024010587","海米提·麦买提",63.5,"及格"]
["2024010588","陈晨",80.3,"良好"]
["2024010589","水源",65.8,"及格"]
["2024010590","杨航维",72,"及格"]
["2024010591","黄皓仑",61.2,"及格"]
["2024010592","罗晓珍",86.2,"良好"]
["2024010593","康铭坤",61.7,"及格"]
["2024010594","王志龙",70,"及格"]
["2024010595","王二壮",72.3,"及格"]
["2024010596","王爽",87.4,"良好"]
["2024010597","潘兴顺",73.7,"及格"]
["2024010598","张子木",63.6,"及格"]
["2024010599","林方宇",67.7,"及格"]
["2024010600","王思远",72.4,"及格"]
["2024010601","李毅恒",68,"及格"]
["2024010602","洪培彬",59.8,"不及格"]
["2024010603","彭天佑",69.2,"及格"]
["2024010604","刘俊超",60,"免测"]
["2024010605","杜向栋",60,"免测"]
["2024010606","王睦钧",80.3,"良好"]
["2024010607","杨睿",80.9,"良好"]
["2024010608","温晓阳",78.5,"及格"]
["2024010609","王晓娜",69.4,"及格"]
["2024010610","姜柏彤",76.4,"及格"]
["2024010611","高瑞苹",77.1,"及格"]
["2024010612","马秋阳",80.2,"良好"]
["2024010613","吴淑金",81.2,"良好"]
["2024010614","闫乙昕",73.5,"及格"]
["2024010615","刘钢彬",91.2,"优秀"]
["2024010616","吕佳琳",70.5,"及格"]
["2024010617","严翊中",65.4,"及格"]
["2024010618","肖港权",69.3,"及格"]
["2024010619","孔德烨",71.2,"及格"]
["2024010620","杨磊",77.8,"及格"]
["2024010621","侯垚",62.9,"及格"]
["2024010622","李宇春",75,"及格"]
["2024010623","郝雪普",65.4,"及格"]
["2024010624","任务",69.4,"及格"]
["2024010625","方文正",60,"免测"]
["2024010626","李鑫涛",67.2,"及格"]
["2024010627","王笑睿",60.7,"及格"]
["2024010628","柯二文",73.9,"及格"]
["2024010629","杨恒",68.3,"及格"]
["2024010630","周子晨",67.1,"及格"]
["2024010631","宋梦博",83.2,"良好"]
["2024010632","贾金鑫",73.9,"及格"]
["2024010633","陈朕",65.7,"及格"]
["2024010634","李昌泽",70,"及格"]
["2024010635","吴俊",58.6,"不及格"]
["2024010636","蔡晓燚",64.7,"及格"]
["2023010584","钱起",81.5,"良好"]
["2024010367","王岚颖",72.5,"及格"]
["2024010368","卢雨阳",60,"及格"]
["2024010369","杜思睿",0,"不及格"]
["2024010370","姜霁芸",77,"及格"]
["2024010371","更藏拉毛",75.6,"及格"]
["2024010372","马艳珍",73.4,"及格"]
["2024010373","董世媛",80.5,"良好"]
["2024010374","谷恒熙",64.3,"及格"]
["2024010375","刘昊昕",64.1,"及格"]
["2024010376","强巴央金",74.1,"及格"]
["2024010377","王逸轩",83.6,"良好"]
["2024010378","韩熠",64.8,"及格"]
["2024010379","马昊",94.8,"优秀"]
["2024010380","王桂城",60,"及格"]
["2024010381","沈绯阳",82,"良好"]
["2024010382","曾小铜",71.7,"及格"]
["2024010383","李宝善",81,"良好"]
["2024010384","宋国豪",48.2,"不及格"]
["2024010385","王喆",0,"不及格"]
["2024010386","苏律",45.5,"不及格"]
["2024010387","巴金洛桑曲扎",68.6,"及格"]
["2024010388","卫承烨",75.6,"及格"]
["2024010389","邓晨阳",74,"及格"]
["2024010390","唐京",90.8,"优秀"]
["2024010391","卢嘉宸",64,"及格"]
["2024010392","刘锟",96,"优秀"]
["2024010393","吴誉轩",60,"免测"]
["2024010394","王艺豪",0,"不及格"]
["2024010395","刘学淦",10,"不及格"]
["2024010396","杨本金",69,"及格"]
["2024010397","鲁奕筠",81,"良好"]
["2024010398","向艾熙",66.6,"及格"]
["2024010399","张艺芊",81.9,"良好"]
["2024010400","次仁吉",80.3,"良好"]
["2024010401","于晓云",78,"及格"]
["2024010402","苏比伊努尔·库尔班",43.4,"不及格"]
["2024010403","范荣鹚",83.8,"良好"]
["2024010404","刘璠硕",80.7,"良好"]
["2024010405","杜靖怡",79.6,"及格"]
["2024010406","丁梓艺",70.7,"及格"]
["2024010407","白昊东",28,"不及格"]
["2024010408","程锦涛",39.1,"不及格"]
["2024010409","黄弈超",66.7,"及格"]
["2024010410","益西旺久",65.3,"及格"]
["2024010411","李鸿宇",85.4,"良好"]
["2024010412","金振阳",65.2,"及格"]
["2024010413","田兆雄",65,"及格"]
["2024010414","吕行",69,"及格"]
["2024010415","曾陈",48.5,"不及格"]
["2024010416","张东源",60,"及格"]
["2024010417","韩北辰",73.8,"及格"]
["2024010418","刘宸鳞",58.4,"不及格"]
["2024010419","余丞杰",65.1,"及格"]
["2024010420","沙子健",79.2,"及格"]
["2024010421","石培博",20.4,"不及格"]
["2024010422","杨金昊",62,"及格"]
["2024010423","陈贤彬",76.5,"及格"]
["2024010424","钱章强",74.4,"及格"]
["2024010425","冯彦傲",63.6,"及格"]
["2024010426","王呈祥",62.4,"及格"]
["2024010427","次仁央宗",66,"及格"]
["2024010428","王宇轩",92.9,"优秀"]
["2024010429","彭慧婷",80.7,"良好"]
["2024010430","吴妍",72.2,"及格"]
["2024010431","赵嘉琪",73.6,"及格"]
["2024010432","刘恬宁",85,"良好"]
["2024010433","陈欣如",69.5,"及格"]
["2024010434","袁可纯",60,"及格"]
["2024010435","丁佳怡",78.2,"及格"]
["2024010436","马欢欢",79.8,"及格"]
["2024010437","张熙公",30,"不及格"]
["2024010438","黄子浩",53.6,"不及格"]
["2024010439","黄子航",71.9,"及格"]
["2024010440","谢文城",75.5,"及格"]
["2024010441","张少博",59.3,"不及格"]
["2024010442","杨毅",81.1,"良好"]
["2024010443","刘嘉宝",60,"及格"]
["2024010444","杨明明",82.5,"良好"]
["2024010445","刘宇腾",61.3,"及格"]
["2024010446","海明杰",66,"及格"]
["2024010447","田旭伦",67.4,"及格"]
["2024010448","冯俊杰",77.6,"及格"]
["2024010449","任宇辕",64.6,"及格"]
["2024010450","马斌",64,"及格"]
["2024010451","彭俊杰",69.3,"及格"]
["2024010452","王成旭",78.6,"及格"]
["2024010453","陆游",79,"及格"]
["2024010454","吴晨涛",69.6,"及格"]
["2024010455","普尼",69.9,"及格"]
["2024010456","刘欣",60,"免测"]

{"sheet":"辅导员加分","index":3,"n_rows":176,"n_cols":3,"rows_kept":176}
["学号","姓名","辅导员打分"]
["2024010482","方泽",93]
["2024010507","赵佳富",90]
["2024010509","孙铭徽",92]
["2024010510","钟家豪",90]
["2024010511","吕程",90]
["2024010513","朱健健",92]
["2024010525","何佳",95]
["2024010526","阿优拉·沙帕尔别克",92]
["2024010547","董宇昕",92]
["2024010548","赵淑荣",92]
["2024010549","冯苗鸽",92]
["2024010550","梁金玉",97]
["2024010552","胡语轩",94]
["2024010577","孔梓涵",93]
["2024010579","刘芮",91]
["2024010582","刘文清",94]
["2024010584","刘玲嘉",96]
["2024010585","吴佳妮",92]
["2024010590","杨航维",94]
["2024010591","黄皓仑",92]
["2024010592","罗晓珍",90]
["2024010593","康铭坤",94]
["2024010594","王志龙",90]
["2024010595","王二壮",92]
["2024010596","王爽",90]
["2024010598","张子木",92]
["2024010599","林方宇",92]
["2024010601","李毅恒",92]
["2024010604","刘俊超",92]
["2024010630","周子晨",94]
[2024010607,"杨睿",94]
[2024010600,"王思远",94]
[2024010609,"王晓娜",92]
[2024010620,"杨磊",92]
["2023010381","宋佳滢",90]
["2024010465","郝美超",94]
["2024010466","王南南",92]
["2024010468","王诚毅",92]
["2024010475","葛亿盛",96]
["2024010476","杨修齐",92]
["2024010477","李俊义",92]
["2024010478","杨州",92]
["2024010479","刘韬",92]
["2024010480","谢煜轩",94]
["2024010483","杨清朋",90]
["2024010484","任俊玮",92]
["2024010486","彭一航",92]
["2024010495","韩子路",94]
["2024010496","董叶帆",90]
["2024010501","成杰文",90]
["2024010503","孙立夫",90]
["2024010557","李政阳",94]
["2024010561","刘子炜",92]
["2024010615","刘钢彬",92]
["2024010616","吕佳琳",92]
["2024010618","肖港权",92]
["2024010621","侯垚",92]
["2024010622","李宇春",92]
["2024010623","郝雪普",92]
["2024010624","任务",92]
["2024010625","方文正",94]
["2024010626","李鑫涛",92]
["2024010628","柯二文",92]
["2024010634","李昌泽",92]
[null,"徐桢",92]
[null,"陈韵轩",92]
[2024010460,"袁翊淼",94]
[2024010461,"卢力瑛",94]
[2024010462,"佟安冉",92]
[2024010498,"杨胤泽",94]
[2024010514,"蒋卓达",92]
[2024010517,"洪瑞",92]
[2024010519,"赵梓伯",90]
[2024010521,"张蕊",94]
[2024010528,"黄贤君",94]
[2024010534,"李俊豪",92]
[2024010535,"侯星辰",92]
[2024010538,"王超卓",92]
[2024010540,"王嘉博",92]
[2024010542,"谢子翔",92]
[2024010543,"张家诚",92]
[2024010544,"陈永利",90]
[2024010545,"徐旋",92]
[2024010546,"马铭远",92]
[2024010562,"冯子洋",90]
[2024010563,"刘迪",92]
[2024010564,"孙筠翔",92]
[2024010565,"李瑞杰",92]
[2024010566,"王泽轩",90]
[2024010567,"张玉杨",92]
[2024010608,"温晓阳",94]
[2024010610,"姜柏彤",94]
[2024010611,"高瑞苹",94]
[2024010612,"马秋阳",92]
[2024010613,"吴淑金",90]
[2024010614,"闫乙昕",94]
["2024010458","施朝阳",96]
["2024010459","靳铭超",96]
["2024010464","胡婷",92]
["2024010467","韦程栋",94]
["2024010469","何俊希",94]
["2024010488","郭圣元",92]
["2024010490","聂玲琳",92]
["2024010494","姜明明",92]
["2024010506","姚泓宇",90]
["2024010512","桑恒健",90]
["2024010529","孟煜杰",90]
["2024010533","蒋金鹏",92]
["2024010551","王珏",92]
["2024010553","尤雅",94]
["2024010554","葛敏",90]
["2024010555","苏晴",92]
["2024010556","张煊",92]
["2024010558","李宇轩",92]
["2024010559","郑翔鸿",92]
["2024010560","葸旺",92]
["2024010568","张川宁",90]
["2024010569","吕小川",92]
["2024010575","寇笑源",94]
["2024010463","杨子惠",92]
["2024010471","王路寒",92]
["2024010472","赵延奇",90]
["2024010473","李博航",92]
["2024010474","吴赛扬",92]
["2024010481","任熙嘉",94]
["2024010485","马永龙",92]
["2024010497","赵晶晶",95]
["2024010499","李耀初",94]
["2024010508","谢文博",94]
["2024010541","王家成",92]
["2024010570","罗锦洪",90]
["2024010571","李坤明",92]
["2024010572","邱子恒",94]
["2024010573","王韬哲",92]
["2024010574","孙愷辰",94]
["2024010578","张钰涵",94]
["2024010580","刘春硕",94]
["2024010581","董家慧",94]
["2024010588","陈晨",94]
["2024010617","严翊中",92]
["2024010619","孔德烨",92]
["2024010627","王笑睿",92]
["2024010629","杨恒",92]
["2024010631","宋梦博",92]
["2024010632","贾金鑫",92]
["2024010633","陈朕",92]
["2024010635","吴俊",90]
["2024010487","杨悦",92]
["2024010489","赵倩瑶",90]
["2024010491","田慧慧",92]
["2024010493","苗思蕊",94]
["2024010500","黄大原",92]
["2024010502","谯佳伟",90]
["2024010504","陈启骏",92]
["2024010505","李志聪",94]
["2024010518","史欣谊",90]
["2024010520","刘诗雨",96]
["2024010522","艾芯蕊",92]
["2024010523","胡启红",94]
["2024010524","吕秋桦",92]
["2024010530","仇雨乐",92]
["2024010531","王崇南",90]
["2024010532","陈萍洋",92]
["2024010536","郭北辰",94]
["2024010537","龚贝",92]
["2024010539","赵毅轩",92]
["2024010583","路倢利",94]
["2024010586","余若瑜",90]
["2024010589","水源",92]
["2024010597","潘兴顺",90]
["2024010602","洪培彬",90]
["2024010603","彭天佑",92]
["2024010605","杜向栋",90]
["2024010606","王睦钧",94]
[2024010527,"叶霖",94]

{"sheet":"学生干部加分细则","index":4,"n_rows":221,"n_cols":8,"rows_kept":221}
["姓名","学号","职务名称","考核结果","任职开始时间（格式：yyyy-mm-dd）","任职结束时间（格式：yyyy-mm-dd）","申请分值","德育加分"]
["施朝阳",{"$f":"VLOOKUP(A2,[4]Sheet3!B$1:C$169,2,0)","v":2024010458},"招生大使团",null,"2024.09.01","2025.07.15",2]
["施朝阳",{"$f":"VLOOKUP(A3,[4]Sheet3!B$1:C$169,2,0)","v":2024010458},"青年社团发展指导中心",null,"2024.09.01","2025.07.15",6]
["靳铭超",{"$f":"VLOOKUP(A4,[4]Sheet3!B$1:C$169,2,0)","v":2024010459},"2024届化院青协成员",null,"2024.09.01","2025.07.15",4]
["靳铭超",{"$f":"VLOOKUP(A5,[4]Sheet3!B$1:C$169,2,0)","v":2024010459},"院学生会",null,"2024.09.01","2025.07.15",1.75]
["袁翊淼",{"$f":"VLOOKUP(A6,[4]Sheet3!B$1:C$169,2,0)","v":2024010460},"青年社团发展指导中心",null,"2024.09.01","2025.07.15",5]
["卢力瑛",{"$f":"VLOOKUP(A7,[4]Sheet3!B$1:C$169,2,0)","v":2024010461},"2024届化院青协成员",null,"2024.09.01","2025.07.15",4]
["卢力瑛",{"$f":"VLOOKUP(A8,[4]Sheet3!B$1:C$169,2,0)","v":2024010461},"青年志愿服务指导中心",null,"2024.09.01","2025.07.15",1.5]
["胡婷",{"$f":"VLOOKUP(A9,[4]Sheet3!B$1:C$169,2,0)","v":2024010464},"校团委宣传部",null,"2024.09.01","2025.07.15",6]
["胡婷",{"$f":"VLOOKUP(A10,[4]Sheet3!B$1:C$169,2,0)","v":2024010464},"生活委员",null,"2024.09.01","2025.07.15",2]
["郝美超",{"$f":"VLOOKUP(A11,[4]Sheet3!B$1:C$169,2,0)","v":2024010465},"青年文化发展中心合唱团",null,"2024.09.01","2025.07.15",5.5]
["郝美超",{"$f":"VLOOKUP(A12,[4]Sheet3!B$1:C$169,2,0)","v":2024010465},"院学生会",null,"2024.09.01","2025.07.15",2]
["王南南",{"$f":"VLOOKUP(A13,[4]Sheet3!B$1:C$169,2,0)","v":2024010466},"2024届化院青协成员",null,"2024.09.01","2025.07.15",2]
["王南南",{"$f":"VLOOKUP(A14,[4]Sheet3!B$1:C$169,2,0)","v":2024010466},"校团委办公室",null,"2024.09.01","2025.07.15",6]
["韦程栋",{"$f":"VLOOKUP(A15,[4]Sheet3!B$1:C$169,2,0)","v":2024010467},"2024-2025年“化成天下”工作室部委",null,"2024.09.01","2025.07.15",4]
["王诚毅",{"$f":"VLOOKUP(A16,[4]Sheet3!B$1:C$169,2,0)","v":2024010468},"英语演讲与辩论协会",null,"2024.09.01","2025.07.15",4]
["王诚毅",{"$f":"VLOOKUP(A17,[4]Sheet3!B$1:C$169,2,0)","v":2024010468},"心理委员",null,"2024.09.01","2025.07.15",2]
["何俊希",{"$f":"VLOOKUP(A18,[4]Sheet3!B$1:C$169,2,0)","v":2024010469},"化工学院2025学生会",null,"2024.09.01","2025.07.15",3.5]
["陈韵轩",2024010470,"2024届化院青协成员",null,"2024.09.01","2025.07.15",4]
["王路寒",{"$f":"VLOOKUP(A20,[4]Sheet3!B$1:C$169,2,0)","v":2024010471},"乒乓球爱好者协会",null,"2024.09.01","2025.07.15",2]
["李博航",{"$f":"VLOOKUP(A21,[4]Sheet3!B$1:C$169,2,0)","v":2024010473},"篮球协会学生骨干",null,"2024.09.01","2025.07.15",2]
["葛亿盛",{"$f":"VLOOKUP(A22,[4]Sheet3!B$1:C$169,2,0)","v":2024010475},"青年实践创新中心",null,"2024.09.01","2025.07.15",6]
["葛亿盛",{"$f":"VLOOKUP(A23,[4]Sheet3!B$1:C$169,2,0)","v":2024010475},"学习委员",null,"2024.09.01","2025.07.15",2]
["杨修齐",{"$f":"VLOOKUP(A24,[4]Sheet3!B$1:C$169,2,0)","v":2024010476},"青年成长服务中心",null,"2024.09.01","2025.07.15",6]
["李俊义",2024010477,"学生自我管理委员会（勤工助学中心）",null,"2024.09.01","2025.07.15",1]
["李俊义",2024010477,"组织委员",null,"2024.09.01","2025.07.15",4]
["杨州",{"$f":"VLOOKUP(A27,[4]Sheet3!B$1:C$169,2,0)","v":2024010478},"化工学院2025学生会",null,"2024.09.01","2025.07.15",1.75]
["杨州",{"$f":"VLOOKUP(A28,[4]Sheet3!B$1:C$169,2,0)","v":2024010478},"青年文化发展中心合唱团",null,"2024.09.01","2025.07.15",5.5]
["刘韬",{"$f":"VLOOKUP(A29,[4]Sheet3!B$1:C$169,2,0)","v":2024010479},"院学生会",null,"2024.09.01","2025.07.15",4]
["谢煜轩",{"$f":"VLOOKUP(A30,[4]Sheet3!B$1:C$169,2,0)","v":2024010480},"青年文化发展中心宣传部",null,"2024.09.01","2025.07.15",6]
["谢煜轩",{"$f":"VLOOKUP(A31,[4]Sheet3!B$1:C$169,2,0)","v":2024010480},"团支书",null,"2024.09.01","2025.07.15",3]
["任熙嘉",{"$f":"VLOOKUP(A32,[4]Sheet3!B$1:C$169,2,0)","v":2024010481},"2024-2025年“化成天下”工作室部委",null,"2024.09.01","2025.07.15",2]
["任熙嘉",{"$f":"VLOOKUP(A33,[4]Sheet3!B$1:C$169,2,0)","v":2024010481},"班长",null,"2024.09.01","2025.07.15",6]
["方泽",{"$f":"VLOOKUP(A34,[4]Sheet3!B$1:C$169,2,0)","v":2024010482},"院学生会",null,"2024.09.01","2025.07.15",2]
["方泽",{"$f":"VLOOKUP(A35,[4]Sheet3!B$1:C$169,2,0)","v":2024010482},"宣传委员",null,"2024.09.01","2025.07.15",4]
["杨清朋",{"$f":"VLOOKUP(A36,[4]Sheet3!B$1:C$169,2,0)","v":2024010483},"2024-2025年“化成天下”工作室部委",null,"2024.09.01","2025.07.15",4]
["杨清朋",{"$f":"VLOOKUP(A37,[4]Sheet3!B$1:C$169,2,0)","v":2024010483},"化工学院2025学生会",null,"2024.09.01","2025.07.15",1.75]
["任俊玮",{"$f":"VLOOKUP(A38,[4]Sheet3!B$1:C$169,2,0)","v":2024010484},"招生大使团",null,"2024.09.01","2025.07.15",2]
["任俊玮",{"$f":"VLOOKUP(A39,[4]Sheet3!B$1:C$169,2,0)","v":2024010484},"青年志愿服务指导中心",null,"2024.09.01","2025.07.15",6]
["马永龙",{"$f":"VLOOKUP(A40,[4]Sheet3!B$1:C$169,2,0)","v":2024010485},"国旗仪仗队",null,"2024.09.01","2025.07.15",2]
["马永龙",{"$f":"VLOOKUP(A41,[4]Sheet3!B$1:C$169,2,0)","v":2024010485},"2024届化院青协成员",null,"2024.09.01","2025.07.15",4]
["彭一航",{"$f":"VLOOKUP(A42,[4]Sheet3!B$1:C$169,2,0)","v":2024010486},"化工学院2025学生会",null,"2024.09.01","2025.07.15",3.5]
["杨悦",{"$f":"VLOOKUP(A43,[4]Sheet3!B$1:C$169,2,0)","v":2024010487},"2024-2025年“化成天下”工作室部委",null,"2024.09.01","2025.07.15",4]
["郭圣元",{"$f":"VLOOKUP(A44,[4]Sheet3!B$1:C$169,2,0)","v":2024010488},"院学生会",null,"2024.09.01","2025.07.15",4]
["赵倩瑶",{"$f":"VLOOKUP(A45,[4]Sheet3!B$1:C$169,2,0)","v":2024010489},"2024-2025年“化成天下”工作室部委",null,"2024.09.01","2025.07.15",2]
["赵倩瑶",{"$f":"VLOOKUP(A46,[4]Sheet3!B$1:C$169,2,0)","v":2024010489},"青年文化发展中心合唱团",null,"2024.09.01","2025.07.15",10]
["聂玲琳",{"$f":"VLOOKUP(A47,[4]Sheet3!B$1:C$169,2,0)","v":2024010490},"2024-2025年“化成天下”工作室部委",null,"2024.09.01","2025.07.15",2]
["聂玲琳",{"$f":"VLOOKUP(A48,[4]Sheet3!B$1:C$169,2,0)","v":2024010490},"2024届化院青协成员",null,"2024.09.01","2025.07.15",4]
["吕莎莎",{"$f":"VLOOKUP(A49,[4]Sheet3!B$1:C$169,2,0)","v":2024010492},"2024-2025年“化成天下”工作室部委",null,"2024.09.01","2025.07.15",2]
["吕莎莎",{"$f":"VLOOKUP(A50,[4]Sheet3!B$1:C$169,2,0)","v":2024010492},"青年成长服务中心",null,"2024.09.01","2025.07.15",6]
["苗思蕊",{"$f":"VLOOKUP(A51,[4]Sheet3!B$1:C$169,2,0)","v":2024010493},"青年文化发展中心合唱团",null,"2024.09.01","2025.07.15",3]
["苗思蕊",{"$f":"VLOOKUP(A52,[4]Sheet3!B$1:C$169,2,0)","v":2024010493},"班长",null,"2024.09.01","2025.07.15",6]
["姜明明",{"$f":"VLOOKUP(A53,[4]Sheet3!B$1:C$169,2,0)","v":2024010494},"2024-2025年“化成天下”工作室部委",null,"2024.09.01","2025.07.15",2]
["姜明明",{"$f":"VLOOKUP(A54,[4]Sheet3!B$1:C$169,2,0)","v":2024010494},"青年志愿服务指导中心",null,"2024.09.01","2025.07.15",6]
["韩子路",{"$f":"VLOOKUP(A55,[4]Sheet3!B$1:C$169,2,0)","v":2024010495},"青年文化发展中心街舞团",null,"2024.09.01","2025.07.15",2]
["韩子路",{"$f":"VLOOKUP(A56,[4]Sheet3!B$1:C$169,2,0)","v":2024010495},"宣传委员",null,"2024.09.01","2025.07.15",4]
["董叶帆",{"$f":"VLOOKUP(A57,[4]Sheet3!B$1:C$169,2,0)","v":2024010496},"化工学院2025学生会",null,"2024.09.01","2025.07.15",3.5]
["赵晶晶",{"$f":"VLOOKUP(A58,[4]Sheet3!B$1:C$169,2,0)","v":2024010497},"化工学院2025学生会",null,"2024.09.01","2025.07.15",2]
["赵晶晶",{"$f":"VLOOKUP(A59,[4]Sheet3!B$1:C$169,2,0)","v":2024010497},"副班长",null,"2024.09.01","2025.07.15",4]
["李耀初",{"$f":"VLOOKUP(A60,[4]Sheet3!B$1:C$169,2,0)","v":2024010499},"迎风跑团",null,"2024.09.01","2025.07.15",1]
["李耀初",{"$f":"VLOOKUP(A61,[4]Sheet3!B$1:C$169,2,0)","v":2024010499},"文体委员",null,"2024.09.01","2025.07.15",4]
["黄大原",{"$f":"VLOOKUP(A62,[4]Sheet3!B$1:C$169,2,0)","v":2024010500},"2024-2025年“化成天下”工作室部委",null,"2024.09.01","2025.07.15",1.75]
["黄大原",{"$f":"VLOOKUP(A63,[4]Sheet3!B$1:C$169,2,0)","v":2024010500},"青年志愿服务指导中心",null,"2024.09.01","2025.07.15",6]
["谯佳伟",{"$f":"VLOOKUP(A64,[4]Sheet3!B$1:C$169,2,0)","v":2024010502},"组织委员",null,"2024.09.01","2025.07.15",4]
["李志聪",{"$f":"VLOOKUP(A65,[4]Sheet3!B$1:C$169,2,0)","v":2024010505},"青年志愿服务指导中心",null,"2024.09.01","2025.07.15",6]
["李志聪",{"$f":"VLOOKUP(A66,[4]Sheet3!B$1:C$169,2,0)","v":2024010505},"学习委员",null,"2024.09.01","2025.07.15",2]
["姚泓宇",{"$f":"VLOOKUP(A67,[4]Sheet3!B$1:C$169,2,0)","v":2024010506},"2024-2025年“化成天下”工作室部委",null,"2024.09.01","2025.07.15",3.9]
["赵佳富",{"$f":"VLOOKUP(A68,[4]Sheet3!B$1:C$169,2,0)","v":2024010507},"2024-2025年“化成天下”工作室部委",null,"2024.09.01","2025.07.15",4]
["谢文博",{"$f":"VLOOKUP(A69,[4]Sheet3!B$1:C$169,2,0)","v":2024010508},"团支书",null,"2024.09.01","2025.07.15",6]
["吕程",{"$f":"VLOOKUP(A70,[4]Sheet3!B$1:C$169,2,0)","v":2024010511},"2024-2025年“化成天下”工作室部委",null,"2024.09.01","2025.07.15",4]
["桑恒健",2024010512,"心理委员",null,"2024.09.01","2025.07.15",4]
["蒋卓达",{"$f":"VLOOKUP(A72,[4]Sheet3!B$1:C$169,2,0)","v":2024010514},"院学生会",null,"2024.09.01","2025.07.15",3.5]
["洪瑞",2024010517,"学生自我管理委员会（勤工助学中心）",null,"2024.09.01","2025.07.15",2]
["洪瑞",2024010517,"创新创业协会",null,"2024.09.01","2025.07.15",0.5]
["史欣谊",{"$f":"VLOOKUP(A75,[4]Sheet3!B$1:C$169,2,0)","v":2024010518},"2024届化院青协成员",null,"2024.09.01","2025.07.15",4]
["赵梓伯",{"$f":"VLOOKUP(A76,[4]Sheet3!B$1:C$169,2,0)","v":2024010519},"新能源低碳减排协会",null,"2024.09.01","2025.07.15",4]
["赵梓伯",{"$f":"VLOOKUP(A77,[4]Sheet3!B$1:C$169,2,0)","v":2024010519},"科普协会",null,"2024.09.01","2025.07.15",1]
["刘诗雨",{"$f":"VLOOKUP(A78,[4]Sheet3!B$1:C$169,2,0)","v":2024010520},"中国石油大学（北京）礼仪协会",null,"2024.09.01","2025.07.15",1]
["刘诗雨",{"$f":"VLOOKUP(A79,[4]Sheet3!B$1:C$169,2,0)","v":2024010520},"班长",null,"2024.09.01","2025.07.15",6]
["张蕊",{"$f":"VLOOKUP(A80,[4]Sheet3!B$1:C$169,2,0)","v":2024010521},"英语演讲与辩论协会",null,"2024.09.01","2025.07.15",2]
["张蕊",{"$f":"VLOOKUP(A81,[4]Sheet3!B$1:C$169,2,0)","v":2024010521},"团支书",null,"2024.09.01","2025.07.15",6]
["艾芯蕊",{"$f":"VLOOKUP(A82,[4]Sheet3!B$1:C$169,2,0)","v":2024010522},"天行箭宗",null,"2024.09.01","2025.07.15",1]
["艾芯蕊",{"$f":"VLOOKUP(A83,[4]Sheet3!B$1:C$169,2,0)","v":2024010522},"心理委员",null,"2024.09.01","2025.07.15",4]
["胡启红",{"$f":"VLOOKUP(A84,[4]Sheet3!B$1:C$169,2,0)","v":2024010523},"校团委宣传部",null,"2024.09.01","2025.07.15",6]
["胡启红",{"$f":"VLOOKUP(A85,[4]Sheet3!B$1:C$169,2,0)","v":2024010523},"生活委员",null,"2024.09.01","2025.07.15",2]
["吕秋桦",{"$f":"VLOOKUP(A86,[4]Sheet3!B$1:C$169,2,0)","v":2024010524},"2024-2025年“化成天下”工作室部委",null,"2024.09.01","2025.07.15",4]
["何佳",{"$f":"VLOOKUP(A87,[4]Sheet3!B$1:C$169,2,0)","v":2024010525},"青年实践创新中心",null,"2024.09.01","2025.07.15",6]
["何佳",{"$f":"VLOOKUP(A88,[4]Sheet3!B$1:C$169,2,0)","v":2024010525},"院学生会",null,"2024.09.01","2025.07.15",2]
["阿优拉·沙帕尔别克",{"$f":"VLOOKUP(A89,[4]Sheet3!B$1:C$169,2,0)","v":2024010526},"心灵阳光协会",null,"2024.09.01","2025.07.15",2]
["叶霖",{"$f":"VLOOKUP(A90,[4]Sheet3!B$1:C$169,2,0)","v":2024010527},"院学生会",null,"2024.09.01","2025.07.15",3]
["黄贤君",{"$f":"VLOOKUP(A91,[4]Sheet3!B$1:C$169,2,0)","v":2024010528},"2024-2025年“化成天下”工作室部委",null,"2024.09.01","2025.07.15",1.75]
["黄贤君",{"$f":"VLOOKUP(A92,[4]Sheet3!B$1:C$169,2,0)","v":2024010528},"文体委员",null,"2024.09.01","2025.07.15",4]
["孟煜杰",{"$f":"VLOOKUP(A93,[4]Sheet3!B$1:C$169,2,0)","v":2024010529},"化工学院2025学生会",null,"2024.09.01","2025.07.15",1.5]
["孟煜杰",{"$f":"VLOOKUP(A94,[4]Sheet3!B$1:C$169,2,0)","v":2024010529},"组织委员",null,"2024.09.01","2025.07.15",4]
["蒋金鹏",{"$f":"VLOOKUP(A95,[4]Sheet3!B$1:C$169,2,0)","v":2024010533},"院学生会",null,"2024.09.01","2025.07.15",3]
["侯星辰",{"$f":"VLOOKUP(A96,[4]Sheet3!B$1:C$169,2,0)","v":2024010535},"国际文化交流大使团",null,"2024.09.01","2025.07.15",4]
["候星辰",2024010535,"化工学院2025学生会",null,"2024.09.01","2025.07.15",2]
["郭北辰",2024010536,"2024届化院青协成员",null,"2024.09.01","2025.07.15",4]
["王超卓",{"$f":"VLOOKUP(A99,[4]Sheet3!B$1:C$169,2,0)","v":2024010538},"2024届化院青协成员",null,"2024.09.01","2025.07.15",4]
["赵毅轩",{"$f":"VLOOKUP(A100,[4]Sheet3!B$1:C$169,2,0)","v":2024010539},"英语演讲与辩论协会",null,"2024.09.01","2025.07.15",4]
["赵毅轩",{"$f":"VLOOKUP(A101,[4]Sheet3!B$1:C$169,2,0)","v":2024010539},"副班长",null,"2024.09.01","2025.07.15",2]
["王家成",{"$f":"VLOOKUP(A102,[4]Sheet3!B$1:C$169,2,0)","v":2024010541},"足球协会",null,"2024.09.01","2025.07.15",2]
["张家诚",{"$f":"VLOOKUP(A103,[4]Sheet3!B$1:C$169,2,0)","v":2024010543},"招生大使团",null,"2024.09.01","2025.07.15",2]
["张家诚",{"$f":"VLOOKUP(A104,[4]Sheet3!B$1:C$169,2,0)","v":2024010543},"2024-2025年“化成天下”工作室部委",null,"2024.09.01","2025.07.15",4]
["陈永利",{"$f":"VLOOKUP(A105,[4]Sheet3!B$1:C$169,2,0)","v":2024010544},"2024-2025年“化成天下”工作室部委",null,"2024.09.01","2025.07.15",3.5]
["董宇昕",{"$f":"VLOOKUP(A106,[4]Sheet3!B$1:C$169,2,0)","v":2024010547},"心灵阳光协会",null,"2024.09.01","2025.07.15",2]
["冯苗鸽",{"$f":"VLOOKUP(A107,[4]Sheet3!B$1:C$169,2,0)","v":2024010549},"化工学院2025学生会",null,"2024.09.01","2025.07.15",1.5]
["冯苗鸽",{"$f":"VLOOKUP(A108,[4]Sheet3!B$1:C$169,2,0)","v":2024010549},"青年实践创新中心",null,"2024.09.01","2025.07.15",6]
["梁金玉",{"$f":"VLOOKUP(A109,[4]Sheet3!B$1:C$169,2,0)","v":2024010550},"青年实践创新中心",null,"2024.09.01","2025.07.15",6]
["梁金玉",{"$f":"VLOOKUP(A110,[4]Sheet3!B$1:C$169,2,0)","v":2024010550},"团支书",null,"2024.09.01","2025.07.15",2]
["王珏",{"$f":"VLOOKUP(A111,[4]Sheet3!B$1:C$169,2,0)","v":2024010551},"学生自我管理委员会（勤工助学中心）",null,"2024.09.01","2025.07.15",2]
["胡语轩",{"$f":"VLOOKUP(A112,[4]Sheet3!B$1:C$169,2,0)","v":2024010552},"2024届化院青协成员",null,"2024.09.01","2025.07.15",4]
["尤雅",{"$f":"VLOOKUP(A113,[4]Sheet3!B$1:C$169,2,0)","v":2024010553},"青年文化发展中心管弦乐团",null,"2024.09.01","2025.07.15",5]
["尤雅",{"$f":"VLOOKUP(A114,[4]Sheet3!B$1:C$169,2,0)","v":2024010553},"院学生会",null,"2024.09.01","2025.07.15",4]
["苏晴",{"$f":"VLOOKUP(A115,[4]Sheet3!B$1:C$169,2,0)","v":2024010555},"2024届化院青协成员",null,"2024.09.01","2025.07.15",4]
["张煊",{"$f":"VLOOKUP(A116,[4]Sheet3!B$1:C$169,2,0)","v":2024010556},"2024届化院青协成员",null,"2024.09.01","2025.07.15",4]
["李政阳",{"$f":"VLOOKUP(A117,[4]Sheet3!B$1:C$169,2,0)","v":2024010557},"班长",null,"2024.09.01","2025.07.15",6]
["葸旺",{"$f":"VLOOKUP(A118,[4]Sheet3!B$1:C$169,2,0)","v":2024010560},"2024-2025年“化成天下”工作室部委",null,"2024.09.01","2025.07.15",2]
["葸旺",{"$f":"VLOOKUP(A119,[4]Sheet3!B$1:C$169,2,0)","v":2024010560},"宣传委员",null,"2024.09.01","2025.07.15",4]
["刘子炜",{"$f":"VLOOKUP(A120,[4]Sheet3!B$1:C$169,2,0)","v":2024010561},"飞扬毽绳协会",null,"2024.09.01","2025.07.15",1]
["刘子炜",{"$f":"VLOOKUP(A121,[4]Sheet3!B$1:C$169,2,0)","v":2024010561},"化工学院2025学生会",null,"2024.09.01","2025.07.15",3.5]
["冯子洋",{"$f":"VLOOKUP(A122,[4]Sheet3!B$1:C$169,2,0)","v":2024010562},"2024届化院青协成员",null,"2024.09.01","2025.07.15",4]
["刘迪",2024010563,"2024届化院青协成员",null,"2024.09.01","2025.07.15",2]
["刘迪",2024010563,"文体委员",null,"2024.09.01","2025.07.15",4]
["张玉杨",{"$f":"VLOOKUP(A125,[4]Sheet3!B$1:C$169,2,0)","v":2024010567},"2024届化院青协成员",null,"2024.09.01","2025.07.15",4]
["吕小川",{"$f":"VLOOKUP(A126,[4]Sheet3!B$1:C$169,2,0)","v":2024010569},"青年文化发展中心京剧团",null,"2024.09.01","2025.07.15",5]
["吕小川",{"$f":"VLOOKUP(A127,[4]Sheet3!B$1:C$169,2,0)","v":2024010569},"心理委员",null,"2024.09.01","2025.07.15",2]
["邱子恒",{"$f":"VLOOKUP(A128,[4]Sheet3!B$1:C$169,2,0)","v":2024010572},"学习委员",null,"2024.09.01","2025.07.15",4]
["王韬哲",{"$f":"VLOOKUP(A129,[4]Sheet3!B$1:C$169,2,0)","v":2024010573},"化工学院2025学生会",null,"2024.09.01","2025.07.15",1.75]
["王韬哲",{"$f":"VLOOKUP(A130,[4]Sheet3!B$1:C$169,2,0)","v":2024010573},"组织委员",null,"2024.09.01","2025.07.15",2]
["孙愷辰",{"$f":"VLOOKUP(A131,[4]Sheet3!B$1:C$169,2,0)","v":2024010574},"青年成长服务中心",null,"2024.09.01","2025.07.15",5]
["寇笑源",{"$f":"VLOOKUP(A132,[4]Sheet3!B$1:C$169,2,0)","v":2024010575},"2024届化院青协成员",null,"2024.09.01","2025.07.15",2]
["寇笑源",{"$f":"VLOOKUP(A133,[4]Sheet3!B$1:C$169,2,0)","v":2024010575},"生活委员",null,"2024.09.01","2025.07.15",4]
["徐桢",{"$f":"VLOOKUP(A134,[4]Sheet3!B$1:C$169,2,0)","v":2024010576},"乒乓球爱好者协会",null,"2024.09.01","2025.07.15",2]
["孔梓涵",{"$f":"VLOOKUP(A135,[4]Sheet3!B$1:C$169,2,0)","v":2024010577},"青年志愿服务指导中心",null,"2024.09.01","2025.07.15",2]
["孔梓涵",{"$f":"VLOOKUP(A136,[4]Sheet3!B$1:C$169,2,0)","v":2024010577},"院学生会",null,"2024.09.01","2025.07.15",4]
["张钰涵",{"$f":"VLOOKUP(A137,[4]Sheet3!B$1:C$169,2,0)","v":2024010578},"青年文化发展中心中国舞团",null,"2024.09.01","2025.07.15",2]
["张钰涵",{"$f":"VLOOKUP(A138,[4]Sheet3!B$1:C$169,2,0)","v":2024010578},"青年成长服务中心",null,"2024.09.01","2025.07.15",5]
["刘芮",{"$f":"VLOOKUP(A139,[4]Sheet3!B$1:C$169,2,0)","v":2024010579},"2024-2025年“化成天下”工作室部委",null,"2024.09.01","2025.07.15",2]
["刘芮",{"$f":"VLOOKUP(A140,[4]Sheet3!B$1:C$169,2,0)","v":2024010579},"青年志愿服务指导中心",null,"2024.09.01","2025.07.15",5]
["刘春硕",{"$f":"VLOOKUP(A141,[4]Sheet3!B$1:C$169,2,0)","v":2024010580},"2024-2025年“化成天下”工作室部委",null,"2024.09.01","2025.07.15",2]
["刘春硕",{"$f":"VLOOKUP(A142,[4]Sheet3!B$1:C$169,2,0)","v":2024010580},"宣传委员",null,"2024.09.01","2025.07.15",4]
["董家慧",{"$f":"VLOOKUP(A143,[4]Sheet3!B$1:C$169,2,0)","v":2024010581},"化工学院2025学生会",null,"2024.09.01","2025.07.15",2]
["董家慧",{"$f":"VLOOKUP(A144,[4]Sheet3!B$1:C$169,2,0)","v":2024010581},"青年志愿服务指导中心",null,"2024.09.01","2025.07.15",4]
["刘文清",{"$f":"VLOOKUP(A145,[4]Sheet3!B$1:C$169,2,0)","v":2024010582},"2024-2025年“化成天下”工作室部委",null,"2024.09.01","2025.07.15",2]
["刘文清",{"$f":"VLOOKUP(A146,[4]Sheet3!B$1:C$169,2,0)","v":2024010582},"青年志愿服务指导中心",null,"2024.09.01","2025.07.15",5]
["路倢利",{"$f":"VLOOKUP(A147,[4]Sheet3!B$1:C$169,2,0)","v":2024010583},"化工学院2025学生会",null,"2024.09.01","2025.07.15",4]
["路倢利",{"$f":"VLOOKUP(A148,[4]Sheet3!B$1:C$169,2,0)","v":2024010583},"团支书",null,"2024.09.01","2025.07.15",6]
["刘玲嘉",{"$f":"VLOOKUP(A149,[4]Sheet3!B$1:C$169,2,0)","v":2024010584},"青年志愿服务指导中心",null,"2024.09.01","2025.07.15",3]
["刘玲嘉",{"$f":"VLOOKUP(A150,[4]Sheet3!B$1:C$169,2,0)","v":2024010584},"班长",null,"2024.09.01","2025.07.15",6]
["吴佳妮",{"$f":"VLOOKUP(A151,[4]Sheet3!B$1:C$169,2,0)","v":2024010585},"2024届化院青协成员",null,"2024.09.01","2025.07.15",4]
["余若瑜",{"$f":"VLOOKUP(A152,[4]Sheet3!B$1:C$169,2,0)","v":2024010586},"2024-2025年“化成天下”工作室部委",null,"2024.09.01","2025.07.15",3.5]
["海米提·麦买提",{"$f":"VLOOKUP(A153,[4]Sheet3!B$1:C$169,2,0)","v":2024010587},"青年文化发展中心中国舞团",null,"2024.09.01","2025.07.15",5]
["海米提·麦买提",{"$f":"VLOOKUP(A154,[4]Sheet3!B$1:C$169,2,0)","v":2024010587},"2024-2025年“化成天下”工作室部委",null,"2024.09.01","2025.07.15",2]
["陈晨",{"$f":"VLOOKUP(A155,[4]Sheet3!B$1:C$169,2,0)","v":2024010588},"化工学院2025学生会",null,"2024.09.01","2025.07.15",3.5]
["水源",{"$f":"VLOOKUP(A156,[4]Sheet3!B$1:C$169,2,0)","v":2024010589},"青年志愿服务指导中心",null,"2024.09.01","2025.07.15",3]
["杨航维",{"$f":"VLOOKUP(A157,[4]Sheet3!B$1:C$169,2,0)","v":2024010590},"青年成长服务中心",null,"2024.09.01","2025.07.15",5]
["杨航维",{"$f":"VLOOKUP(A158,[4]Sheet3!B$1:C$169,2,0)","v":2024010590},"心理委员",null,"2024.09.01","2025.07.15",2]
["黄皓仑",{"$f":"VLOOKUP(A159,[4]Sheet3!B$1:C$169,2,0)","v":2024010591},"化工学院2025学生会",null,"2024.09.01","2025.07.15",2]
["黄皓仑",{"$f":"VLOOKUP(A160,[4]Sheet3!B$1:C$169,2,0)","v":2024010591},"生活委员",null,"2024.09.01","2025.07.15",4]
["罗晓珍",{"$f":"VLOOKUP(A161,[4]Sheet3!B$1:C$169,2,0)","v":2024010592},"学生自我管理委员会（勤工助学中心）",null,"2024.09.01","2025.07.15",1]
["罗晓珍",{"$f":"VLOOKUP(A162,[4]Sheet3!B$1:C$169,2,0)","v":2024010592},"2024届化院青协成员",null,"2024.09.01","2025.07.15",4]
["康铭坤",{"$f":"VLOOKUP(A163,[4]Sheet3!B$1:C$169,2,0)","v":2024010593},"2024届化院青协成员",null,"2024.09.01","2025.07.15",2]
["康铭坤",{"$f":"VLOOKUP(A164,[4]Sheet3!B$1:C$169,2,0)","v":2024010593},"化工学院2025学生会",null,"2024.09.01","2025.07.15",4]
["王志龙",{"$f":"VLOOKUP(A165,[4]Sheet3!B$1:C$169,2,0)","v":2024010594},"学生自我管理委员会（勤工助学中心）",null,"2024.09.01","2025.07.15",2]
["王二壮",{"$f":"VLOOKUP(A166,[4]Sheet3!B$1:C$169,2,0)","v":2024010595},"青年志愿服务指导中心",null,"2024.09.01","2025.07.15",6]
["王二壮",{"$f":"VLOOKUP(A167,[4]Sheet3!B$1:C$169,2,0)","v":2024010595},"组织委员",null,"2024.09.01","2025.07.15",2]
["林方宇",{"$f":"VLOOKUP(A168,[4]Sheet3!B$1:C$169,2,0)","v":2024010599},"国际文化交流大使团",null,"2024.09.01","2025.07.15",2]
["林方宇",{"$f":"VLOOKUP(A169,[4]Sheet3!B$1:C$169,2,0)","v":2024010599},"青年志愿服务指导中心",null,"2024.09.01","2025.07.15",4]
["李毅恒",{"$f":"VLOOKUP(A170,[4]Sheet3!B$1:C$169,2,0)","v":2024010601},"青年志愿服务指导中心",null,"2024.09.01","2025.07.15",4]
["洪培彬",{"$f":"VLOOKUP(A171,[4]Sheet3!B$1:C$169,2,0)","v":2024010602},"校史宣讲团",null,"2024.09.01","2025.07.15",2]
["彭天佑",{"$f":"VLOOKUP(A172,[4]Sheet3!B$1:C$169,2,0)","v":2024010603},"国旗仪仗队",null,"2024.09.01","2025.07.15",4]
["刘俊超",2024010604,"招生大使团",null,"2024.09.01","2025.07.15",2]
["刘俊超",2024010604,"百草园书社",null,"2024.09.01","2025.07.15",4]
["杜向栋",{"$f":"VLOOKUP(A175,[4]Sheet3!B$1:C$169,2,0)","v":2024010605},"化工学院2025学生会",null,"2024.09.01","2025.07.15",2]
["杜向栋",{"$f":"VLOOKUP(A176,[4]Sheet3!B$1:C$169,2,0)","v":2024010605},"青年成长服务中心",null,"2024.09.01","2025.07.15",6]
["王睦钧",{"$f":"VLOOKUP(A177,[4]Sheet3!B$1:C$169,2,0)","v":2024010606},"化工学院2025学生会",null,"2024.09.01","2025.07.15",4]
["杨睿",{"$f":"VLOOKUP(A178,[4]Sheet3!B$1:C$169,2,0)","v":2024010607},"2024届化院青协成员",null,"2024.09.01","2025.07.15",2]
["杨睿",{"$f":"VLOOKUP(A179,[4]Sheet3!B$1:C$169,2,0)","v":2024010607},"团支书",null,"2024.09.01","2025.07.15",6]
["温晓阳",{"$f":"VLOOKUP(A180,[4]Sheet3!B$1:C$169,2,0)","v":2024010608},"青年文创管理中心",null,"2024.09.01","2025.07.15",6]
["温晓阳",{"$f":"VLOOKUP(A181,[4]Sheet3!B$1:C$169,2,0)","v":2024010608},"院学生会",null,"2024.09.01","2025.07.15",2]
["姜柏彤",{"$f":"VLOOKUP(A182,[4]Sheet3!B$1:C$169,2,0)","v":2024010610},"2024-2025年“化成天下”工作室部委",null,"2024.09.01","2025.07.15",2]
["姜柏彤",{"$f":"VLOOKUP(A183,[4]Sheet3!B$1:C$169,2,0)","v":2024010610},"青年文化发展中心话剧团",null,"2024.09.01","2025.07.15",6]
["高瑞苹",{"$f":"VLOOKUP(A184,[4]Sheet3!B$1:C$169,2,0)","v":2024010611},"2024届化院青协成员",null,"2024.09.01","2025.07.15",2]
["高瑞苹",{"$f":"VLOOKUP(A185,[4]Sheet3!B$1:C$169,2,0)","v":2024010611},"组织委员",null,"2024.09.01","2025.07.15",4]
["马秋阳",{"$f":"VLOOKUP(A186,[4]Sheet3!B$1:C$169,2,0)","v":2024010612},"学生自我管理委员会（勤工助学中心）",null,"2024.09.01","2025.07.15",2]
["吴淑金",{"$f":"VLOOKUP(A187,[4]Sheet3!B$1:C$169,2,0)","v":2024010613},"桑格美术社",null,"2024.09.01","2025.07.15",2]
["吴淑金",{"$f":"VLOOKUP(A188,[4]Sheet3!B$1:C$169,2,0)","v":2024010613},"校团委宣传部",null,"2024.09.01","2025.07.15",6]
["闫乙昕",{"$f":"VLOOKUP(A189,[4]Sheet3!B$1:C$169,2,0)","v":2024010614},"院学生会",null,"2024.09.01","2025.07.15",2]
["闫乙昕",{"$f":"VLOOKUP(A190,[4]Sheet3!B$1:C$169,2,0)","v":2024010614},"宣传委员",null,"2024.09.01","2025.07.15",4]
["刘钢彬",{"$f":"VLOOKUP(A191,[4]Sheet3!B$1:C$169,2,0)","v":2024010615},"2024-2025年“化成天下”工作室部委",null,"2024.09.01","2025.07.15",2]
["刘钢彬",{"$f":"VLOOKUP(A192,[4]Sheet3!B$1:C$169,2,0)","v":2024010615},"2024届化院青协成员",null,"2024.09.01","2025.07.15",4]
["吕佳琳",{"$f":"VLOOKUP(A193,[4]Sheet3!B$1:C$169,2,0)","v":2024010616},"化工学院2025学生会",null,"2024.09.01","2025.07.15",2]
["吕佳琳",{"$f":"VLOOKUP(A194,[4]Sheet3!B$1:C$169,2,0)","v":2024010616},"学习委员",null,"2024.09.01","2025.07.15",4]
["严翊中",{"$f":"VLOOKUP(A195,[4]Sheet3!B$1:C$169,2,0)","v":2024010617},"青年文化发展中心管弦乐团",null,"2024.09.01","2025.07.15",2]
["严翊中",{"$f":"VLOOKUP(A196,[4]Sheet3!B$1:C$169,2,0)","v":2024010617},"青年实践创新中心",null,"2024.09.01","2025.07.15",6]
["杨磊",{"$f":"VLOOKUP(A197,[4]Sheet3!B$1:C$169,2,0)","v":2024010620},"化工学院2025学生会",null,"2024.09.01","2025.07.15",3.5]
["李宇春",{"$f":"VLOOKUP(A198,[4]Sheet3!B$1:C$169,2,0)","v":2024010622},"2024-2025年“化成天下”工作室部委",null,"2024.09.01","2025.07.15",4]
["郝雪普",{"$f":"VLOOKUP(A199,[4]Sheet3!B$1:C$169,2,0)","v":2024010623},"国旗仪仗队",null,"2024.09.01","2025.07.15",2]
["郝雪普",{"$f":"VLOOKUP(A200,[4]Sheet3!B$1:C$169,2,0)","v":2024010623},"生活委员",null,"2024.09.01","2025.07.15",4]
["方文正",{"$f":"VLOOKUP(A201,[4]Sheet3!B$1:C$169,2,0)","v":2024010625},"2024届化院青协成员",null,"2024.09.01","2025.07.15",2]
["方文正",{"$f":"VLOOKUP(A202,[4]Sheet3!B$1:C$169,2,0)","v":2024010625},"院学生会",null,"2024.09.01","2025.07.15",4]
["李鑫涛",{"$f":"VLOOKUP(A203,[4]Sheet3!B$1:C$169,2,0)","v":2024010626},"2024届化院青协成员",null,"2024.09.01","2025.07.15",2]
["李鑫涛",{"$f":"VLOOKUP(A204,[4]Sheet3!B$1:C$169,2,0)","v":2024010626},"化工学院2025学生会",null,"2024.09.01","2025.07.15",4]
["王笑睿",{"$f":"VLOOKUP(A205,[4]Sheet3!B$1:C$169,2,0)","v":2024010627},"英语协会",null,"2024.09.01","2025.07.15",4]
["王笑睿",{"$f":"VLOOKUP(A206,[4]Sheet3!B$1:C$169,2,0)","v":2024010627},"2024-2025年“化成天下”工作室部委",null,"2024.09.01","2025.07.15",3.8]
["柯二文",{"$f":"VLOOKUP(A207,[4]Sheet3!B$1:C$169,2,0)","v":2024010628},"化工学院2025学生会",null,"2024.09.01","2025.07.15",4]
["杨恒",{"$f":"VLOOKUP(A208,[4]Sheet3!B$1:C$169,2,0)","v":2024010629},"2024届化院青协成员",null,"2024.09.01","2025.07.15",4]
["周子晨",2024010630,"院学生会",null,"2024.09.01","2025.07.15",2]
["周子晨",2024010630,"班长",null,"2024.09.01","2025.07.15",6]
["宋梦博",{"$f":"VLOOKUP(A211,[4]Sheet3!B$1:C$169,2,0)","v":2024010631},"大学生记者团",null,"2024.09.01","2025.07.15",1]
["宋梦博",{"$f":"VLOOKUP(A212,[4]Sheet3!B$1:C$169,2,0)","v":2024010631},"副班长",null,"2024.09.01","2025.07.15",4]
["贾金鑫",{"$f":"VLOOKUP(A213,[4]Sheet3!B$1:C$169,2,0)","v":2024010632},"青年成长服务中心",null,"2024.09.01","2025.07.15",5]
["贾金鑫",{"$f":"VLOOKUP(A214,[4]Sheet3!B$1:C$169,2,0)","v":2024010632},"宣传委员",null,"2024.09.01","2025.07.15",2]
["李昌泽",{"$f":"VLOOKUP(A215,[4]Sheet3!B$1:C$169,2,0)","v":2024010634},"青年成长服务中心",null,"2024.09.01","2025.07.15",5]
["李昌泽",{"$f":"VLOOKUP(A216,[4]Sheet3!B$1:C$169,2,0)","v":2024010634},"文体委员",null,"2024.09.01","2025.07.15",2]
["吴俊",{"$f":"VLOOKUP(A217,[4]Sheet3!B$1:C$169,2,0)","v":2024010635},"2024-2025年“化成天下”工作室部委",null,"2024.09.01","2025.07.15",4]
["吴剑",2024310364,"国际文化交流大使团",null,"2024.09.01","2025.07.15",4]
["杜靖怡","2024010405","2024-2025年“化成天下”工作室部委",null,"2024.09.01","2025.07.15",4]
["王思远",2024010600,"校团委办公室部委",null,"2024.09.01","2025.07.15",3]
["刘起睿",{"$nulls":5},4]

{"sheet":"学生干部加分","index":5,"n_rows":140,"n_cols":3,"rows_kept":140}
["姓名","职务","加分"]
["阿优拉·沙帕尔别克",null,2]
["艾芯蕊",null,5]
["陈晨",null,3.5]
["陈永利",null,3.5]
["陈韵轩",null,4]
["董家慧",null,6]
["董叶帆",null,3.5]
["董宇昕",null,2]
["杜靖怡",null,4]
["杜向栋",null,8]
["方文正",null,6]
["方泽",null,6]
["冯苗鸽",null,7.5]
["冯子洋",null,4]
["高瑞苹",null,6]
["葛亿盛",null,8]
["郭北辰",null,4]
["郭圣元",null,4]
["海米提·麦买提",null,7]
["韩子路",null,6]
["郝美超",null,7.5]
["郝雪普",null,6]
["何佳",null,8]
["何俊希",null,3.5]
["洪培彬",null,2]
["洪瑞",null,2.5]
["侯星辰",null,6]
["胡启红",null,8]
["胡婷",null,8]
["胡语轩",null,4]
["黄大原",null,7.75]
["黄皓仑",null,6]
["黄贤君",null,5.75]
["贾金鑫",null,7]
["姜柏彤",null,8]
["姜明明",null,8]
["蒋金鹏",null,3]
["蒋卓达",null,3.5]
["靳铭超",null,5.75]
["康铭坤",null,6]
["柯二文",null,4]
["孔梓涵",null,6]
["寇笑源",null,6]
["李博航",null,2]
["李昌泽",null,7]
["李俊义",null,5]
["李鑫涛",null,6]
["李耀初",null,5]
["李毅恒",null,4]
["李宇春",null,4]
["李政阳",null,6]
["李志聪",null,8]
["梁金玉",null,8]
["林方宇",null,6]
["刘春硕",null,6]
["刘迪",null,6]
["刘钢彬",null,6]
["刘俊超",null,6]
["刘玲嘉",null,9]
["刘芮",null,7]
["刘诗雨",null,7]
["刘韬",null,4]
["刘文清",null,7]
["刘子炜",null,4.5]
["卢力瑛",null,5.5]
["路倢利",null,10]
["罗晓珍",null,5]
["吕程",null,4]
["吕佳琳",null,6]
["吕秋桦",null,4]
["吕莎莎",null,8]
["吕小川",null,7]
["马秋阳",null,2]
["马永龙",null,6]
["孟煜杰",null,5.5]
["苗思蕊",null,9]
["聂玲琳",null,6]
["彭天佑",null,4]
["彭一航",null,3.5]
["谯佳伟",null,4]
["邱子恒",null,4]
["任俊玮",null,8]
["任熙嘉",null,8]
["桑恒健",null,4]
["施朝阳",null,8]
["史欣谊",null,4]
["水源",null,3]
["宋梦博",null,5]
["苏晴",null,4]
["孙愷辰",null,5]
["王超卓",null,4]
["王诚毅",null,6]
["王二壮",null,8]
["王家成",null,2]
["王珏",null,2]
["王路寒",null,2]
["王睦钧",null,4]
["王南南",null,8]
["王韬哲",null,3.75]
["王笑睿",null,7.8]
["王志龙",null,2]
["韦程栋",null,4]
["温晓阳",null,8]
["吴佳妮",null,4]
["吴剑",null,4]
["吴俊",null,4]
["吴淑金",null,8]
["葸旺",null,6]
["谢文博",null,6]
["谢煜轩",null,9]
["徐桢",null,2]
["闫乙昕",null,6]
["严翊中",null,8]
["杨航维",null,7]
["杨恒",null,4]
["杨磊",null,3.5]
["杨清朋",null,5.75]
["杨睿",null,9]
["杨修齐",null,6]
["杨悦",null,4]
["杨州",null,7.25]
["姚泓宇",null,3.9]
["叶霖",null,3]
["尤雅",null,9]
["余若瑜",null,3.5]
["袁翊淼",null,5]
["张家诚",null,6]
["张蕊",null,8]
["张煊",null,4]
["张玉杨",null,4]
["张钰涵",null,7]
["赵佳富",null,4]
["赵晶晶",null,6]
["赵倩瑶",null,12]
["赵毅轩",null,6]
["赵梓伯",null,5]
["周子晨",null,8]
["王思远",null,3]
["刘起睿",null,4]

{"sheet":"智育加分","index":6,"n_rows":133,"n_cols":12,"rows_kept":133}
["序号","学号","姓名","竞赛名称","主办单位","竞赛级别","获奖等级","是否为团队项目","若为团队竞赛，填写团队成员；若为个人竞赛，则无需填写","竞赛等级","加分(辅导员填写)","折合后分数（辅导员填写）"]
[9,2024010547,"董宇昕","“挑战杯”全国大学生课外学术科技作品竞赛","共青团北京市委员会、北京市教育委员会、北京市科学技术协会、北京市学生联合主办会","省部级","三等奖","是","何佳、谢煜轩、杨睿、刘玲嘉、王超卓、方泽、董宇昕","A级",{"v":4,"d":"4.0000"},{"v":3,"d":"3.0000"}]
[28,2024010547,"董宇昕","北京市化学实验大赛","中国石油大学（北京）化学爱好者协会","校级","三等奖","否",null,{"$f":"VLOOKUP(D3,[3]Sheet2!A$1:B$288,2,FALSE)","v":"C级"},{"v":2,"d":"2.0000"},{"v":1,"d":"1.0000"}]
[null,null,"董宇昕 汇总",{"$nulls":8},{"$f":"SUBTOTAL(9,L2:L3)","v":{"v":4,"d":"4.0000"}}]
[54,2024010605,"杜向栋","全国大学生物理实验竞赛","中国石油大学（北京）","校级","三等奖","是","康铭坤（队长）、杜向栋、刘俊超、黄皓仑、王志龙","B级",{"v":2,"d":"2.0000"},{"v":2,"d":"2.0000"}]
[80,2024010605,"杜向栋","中国国际大学生创新大赛","全国大学生创新大赛","省部级","三等奖","是","吴晶宇（队长） 王关超 霍嘉宇,徐宁慧,管行,杜向栋,冯书琴,刘孟阳,吴万锦,田斯羽,李宗泽,霍智勋,王泊涵,严翊中,温晓阳",{"$f":"VLOOKUP(D6,[3]Sheet2!A$1:B$288,2,FALSE)","v":"A级"},{"v":4,"d":"4.0000"},{"v":3,"d":"3.0000"}]
[null,null,"杜向栋 汇总",{"$nulls":8},{"$f":"SUBTOTAL(9,L5:L6)","v":{"v":5,"d":"5.0000"}}]
[33,2024010625,"方文正","北京市化学实验大赛","中国石油大学（北京）化学爱好者协会","校级","一等奖","否",null,"C级",{"v":4,"d":"4.0000"},{"v":2,"d":"2.0000"}]
[null,null,"方文正 汇总",{"$nulls":8},{"$f":"SUBTOTAL(9,L8)","v":{"v":2,"d":"2.0000"}}]
[10,2024010482,"方泽","“挑战杯”全国大学生课外学术科技作品竞赛","共青团北京市委员会、北京市教育委员会、北京市科学技术协会、北京市学生联合主办会","省部级","三等奖","是","何佳、谢煜轩、杨睿、刘玲嘉、王超卓、方泽、董宇昕","A级",{"v":4,"d":"4.0000"},{"v":3,"d":"3.0000"}]
[29,2024010482,"方泽","北京市化学实验大赛","中国石油大学（北京）化学爱好者协会","校级","二等奖","否",null,{"$f":"VLOOKUP(D11,[3]Sheet2!A$1:B$288,2,FALSE)","v":"C级"},{"v":3,"d":"3.0000"},{"v":1.5,"d":"1.5000"}]
[null,null,"方泽 汇总",{"$nulls":8},{"$f":"SUBTOTAL(9,L10:L11)","v":{"v":4.5,"d":"4.5000"}}]
[57,2024010448,"冯俊杰","全国大学生英语竞赛","高等学校大学外语教学指导委员会","校级","三等奖","否",null,{"$f":"VLOOKUP(D13,[3]Sheet2!A$1:B$288,2,FALSE)","v":"C级"},{"v":2,"d":"2.0000"},{"v":1,"d":"1.0000"}]
[null,null,"冯俊杰 汇总",{"$nulls":8},{"$f":"SUBTOTAL(9,L13)","v":{"v":1,"d":"1.0000"}}]
[11,2024010525,"何佳","“挑战杯”全国大学生课外学术科技作品竞赛","共青团北京市委员会、北京市教育委员会、北京市科学技术协会、北京市学生联合主办会","省部级","三等奖","是","何佳、谢煜轩、杨睿、刘玲嘉、王超卓、方泽、董宇昕","A级",{"v":4,"d":"4.0000"},{"v":4,"d":"4.0000"}]
[30,2024010525,"何佳","北京市化学实验大赛","中国石油大学（北京）化学爱好者协会","校级","一等奖","否",null,{"$f":"VLOOKUP(D16,[3]Sheet2!A$1:B$288,2,FALSE)","v":"C级"},{"v":4,"d":"4.0000"},{"v":2,"d":"2.0000"}]
[39,2024010525,"何佳","华教杯全国大学生数学竞赛","华教杯全国大学生数学竞赛组委会、吉林省科技教育学会、山东北斗教育研究院","省部级","二等奖","否",null,{"$f":"VLOOKUP(D17,[3]Sheet2!A$1:B$288,2,FALSE)","v":"D级"},{"v":6,"d":"6.0000"},{"v":1.8,"d":"1.8000"}]
[null,null,"何佳 汇总",{"$nulls":8},{"$f":"SUBTOTAL(9,L15:L17)","v":{"v":7.8,"d":"7.8000"}}]
[27,2024010469,"何俊希","北京市大学生节能节水低碳减排社会实践和科技竞赛","北京教育委员会","省部级","优秀奖","是","何俊希，赵延奇，陈韵轩，彭一航","B级",{"v":3,"d":"3.0000"},{"v":1.5,"d":"1.5000"}]
[null,null,"何俊希 汇总",{"$nulls":8},{"$f":"SUBTOTAL(9,L19)","v":{"v":1.5,"d":"1.5000"}}]
[47,2024010602,"洪培彬","全国大学生物理实验竞赛","中国石油大学（北京）","校级","二等奖","是","刘玲嘉 路倢利 王睦钧 杨航维",{"$f":"VLOOKUP(D21,[3]Sheet2!A$1:B$288,2,FALSE)","v":"B级"},{"v":3,"d":"3.0000"},{"v":1.5,"d":"1.5000"}]
[null,null,"洪培彬 汇总",{"$nulls":8},{"$f":"SUBTOTAL(9,L21)","v":{"v":1.5,"d":"1.5000"}}]
[37,2024010464,"胡婷","大学生校园安全科普竞赛","中国灾害防御协会科普教育培训分会","国家级","特等奖","否",null,{"$f":"VLOOKUP(D23,[3]Sheet2!A$1:B$288,2,FALSE)","v":"D级"},{"v":12,"d":"12.0000"},{"v":3.6,"d":"3.6000"}]
[null,null,"胡婷 汇总",{"$nulls":8},{"$f":"SUBTOTAL(9,L23)","v":{"v":3.6,"d":"3.6000"}}]
[12,2024010500,"黄大原","“挑战杯”全国大学生课外学术科技作品竞赛","中国石油大学（北京）","校级","三等奖","是","黄大原 刘鑫磊 何柏霖 赵宣博 侯梦然 罗芷妍 冯壮 张芷萌","A级",{"v":2,"d":"2.0000"},{"v":1.5,"d":"1.5000"}]
[null,null,"黄大原 汇总",{"$nulls":8},{"$f":"SUBTOTAL(9,L25)","v":{"v":1.5,"d":"1.5000"}}]
[21,2024010514,"蒋卓达","“挑战杯”全国大学生课外学术科技作品竞赛","中国石油大学（北京）","校级","三等奖","是","喻治坤（队长）、乔琳舒、马梓宸、杨轶涵、邱绮慧、张帅、桑松涛、蒋卓达","A级",{"v":2,"d":"2.0000"},{"v":1.5,"d":"1.5000"}]
[null,null,"蒋卓达 汇总",{"$nulls":8},{"$f":"SUBTOTAL(9,L27)","v":{"v":1.5,"d":"1.5000"}}]
[23,2024010593,"康铭坤","2025年第一节“石创杯”大学生创新创业大赛","创新创业教育学院","校级","三等奖","是","王芳芸、周子晨、张博远、黄睿、吴芷璇、黄允恩、陈凯炫、姜泽坤、冯家乐、杨瑞柯、康铭坤、刘梦瑶、顾清清、孙悦成","B级",{"v":2,"d":"2.0000"},{"v":1,"d":"1.0000"}]
[45,2024010593,"康铭坤","全国大学生物理实验比赛","中国石油大学（北京）物理协会","校级","三等奖","是","康铭坤、杜向栋、刘俊超、黄皓仑、王志龙","B级",{"v":2,"d":"2.0000"},{"v":2,"d":"2.0000"}]
[72,2024010593,"康铭坤","中国国际大学生创新大赛","北京市教育委员会","省部级","三等奖","是","王芳芸、周子晨、张博远、黄睿、吴芷璇、黄允恩、陈凯炫、姜泽坤、冯家乐、杨瑞柯、康铭坤、刘梦瑶、顾清清、孙悦成",{"$f":"VLOOKUP(D31,[3]Sheet2!A$1:B$288,2,FALSE)","v":"A级"},{"v":4,"d":"4.0000"},{"v":3,"d":"3.0000"}]
[null,null,"康铭坤 汇总",{"$nulls":8},{"$f":"SUBTOTAL(9,L29:L31)","v":{"v":6,"d":"6.0000"}}]
[58,2024010628,"柯二文","全国大学生英语竞赛","中国石油大学(北京)","校级","三等奖","否",null,{"$f":"VLOOKUP(D33,[3]Sheet2!A$1:B$288,2,FALSE)","v":"C级"},{"v":2,"d":"2.0000"},{"v":1,"d":"1.0000"}]
[null,null,"柯二文 汇总",{"$nulls":8},{"$f":"SUBTOTAL(9,L33)","v":{"v":1,"d":"1.0000"}}]
[6,2024010626,"李鑫涛","“京彩大创”北京大学生创新创业大赛","北京市教育委员会","省部级","二等奖","是","谭语诗（队长），邬月圆，向日葵，冯梦乐，李鑫涛，陈玥","B级",{"v":6,"d":"6.0000"},{"v":3,"d":"3.0000"}]
[34,2024010626,"李鑫涛","北京市化学实验大赛","中国石油大学（北京）化学爱好者协会","校级","三等奖","否",null,"C级",{"v":3,"d":"3.0000"},{"v":1.5,"d":"1.5000"}]
[43,2024010626,"李鑫涛","全国大学生节能减排社会实践与科技竞赛","教育部高等教育司","省部级","三等奖","是","谭语诗，邬月圆，向日葵，冯梦乐，李鑫涛，陈玥，张艺",{"$f":"VLOOKUP(D37,[3]Sheet2!A$1:B$288,2,FALSE)","v":"B级"},{"v":4,"d":"4.0000"},{"v":2,"d":"2.0000"}]
[44,2024010626,"李鑫涛","全国大学生节能减排社会实践与科技竞赛","北京市教育委员会   北京市人力资源与社会保障局   北京市发展和改革委员会","省部级","二等奖","是","谭语诗（队长），邬月圆，向日葵，冯梦乐，李鑫涛，陈玥，张艺","B级",{"v":6,"d":"6.0000"},{"v":3,"d":"3.0000"}]
[73,2024020626,"李鑫涛","中国国际大学生创新大赛","教育部","省部级","三等奖","是","谭语诗，邬月圆，向日葵，冯梦乐，李鑫涛，陈玥",{"$f":"VLOOKUP(D39,[3]Sheet2!A$1:B$288,2,FALSE)","v":"A级"},{"v":4,"d":"4.0000"},{"v":3,"d":"3.0000"}]
[81,2024010626,"李鑫涛","中国国际大学生创新大赛","教育部、中华人民共和国国家发展和改革委员会","省部级","三等奖","是","谭语诗（队长），邬月圆，向日葵，冯梦乐，李鑫涛，陈玥","A级",{"v":4,"d":"4.0000"},{"v":3,"d":"3.0000"}]
[null,null,"李鑫涛 汇总",{"$nulls":8},{"$f":"SUBTOTAL(9,L35:L40)","v":{"v":15.5,"d":"15.5000"}}]
[2,2024010550,"梁金玉","“BETT杯”全国大学生英语词汇大赛","中国城市商业网点建设管理联合会国际商务交流与外语研究分会","国家级","二等奖","否",null,{"$f":"VLOOKUP(D42,[3]Sheet2!A$1:B$288,2,FALSE)","v":"D级"},{"v":10,"d":"10.0000"},{"v":3,"d":"3.0000"}]
[null,null,"梁金玉 汇总",{"$nulls":8},{"$f":"SUBTOTAL(9,L42)","v":{"v":3,"d":"3.0000"}}]
[3,2024010599,"林方宇","“BETT杯”全国大学生英语词汇大赛","中国城市商业网点建设管理联合会国际商务交流与外语研究分会","国家级","二等奖","否",null,{"$f":"VLOOKUP(D44,[3]Sheet2!A$1:B$288,2,FALSE)","v":"D级"},{"v":10,"d":"10.0000"},{"v":3,"d":"3.0000"}]
[31,2024010599,"林方宇","北京市化学实验大赛","中国石油大学（北京）化学爱好者协会","校级","三等奖","否",null,{"$f":"VLOOKUP(D45,[3]Sheet2!A$1:B$288,2,FALSE)","v":"C级"},{"v":2,"d":"2.0000"},{"v":1,"d":"1.0000"}]
[61,2024010599,"林方宇","全国大学生英语竞赛","     全国高等师范院校外语教学与研究协作组","国家级","三等奖","否",null,{"$f":"VLOOKUP(D46,[3]Sheet2!A$1:B$288,2,FALSE)","v":"C级"},{"v":8,"d":"8.0000"},{"v":4,"d":"4.0000"}]
[82,2024010599,"林方宇","中外传播杯全国大学生英语翻译大赛","中国外文局亚太传播中心（人民中国杂志社、中国报道杂志社）","国家级","三等奖","否",null,{"$f":"VLOOKUP(D47,[3]Sheet2!A$1:B$288,2,FALSE)","v":"D级"},{"v":8,"d":"8.0000"},{"v":2.4,"d":"2.4000"}]
[null,null,"林方宇 汇总",{"$nulls":8},{"$f":"SUBTOTAL(9,L44:L47)","v":{"v":10.4,"d":"10.4000"}}]
[13,2024010584,"刘玲嘉","“挑战杯”全国大学生课外学术科技作品竞赛","共青团北京市委员会、北京市教育委员会、北京市科学技术协会、北京市学生联合主办会","省部级","三等奖","是","何佳（队长）、谢煜轩、杨睿、刘玲嘉、王超卓、方泽、董宇昕","A级",{"v":4,"d":"4.0000"},{"v":3,"d":"3.0000"}]
[53,2024010584,"刘玲嘉","全国大学生物理实验竞赛","中国石油大学（北京）","校级","二等奖","是","刘玲嘉（队长）、杨航维、路倢利、王睦钧、洪培彬","B级",{"v":3,"d":"3.0000"},{"v":2,"d":"2.0000"}]
[null,null,"刘玲嘉 汇总",{"$nulls":8},{"$f":"SUBTOTAL(9,L49:L50)","v":{"v":5,"d":"5.0000"}}]
[4,2024010582,"刘文清","“BETT杯”全国大学生英语词汇大赛","中国城市商业网点建设管理联合会国际商务交流与外语研究分会","国家级","二等奖","否",null,{"$f":"VLOOKUP(D52,[3]Sheet2!A$1:B$288,2,FALSE)","v":"D级"},{"v":10,"d":"10.0000"},{"v":3,"d":"3.0000"}]
[24,2024010582,"刘文清","2025年第一届“石创杯”大学生创新创业大赛","创新创业教育学院","校级","三等奖","是","王东雯蓄（队长）、张云起、张芷萌、刘佳琛、李佳瑞、朱诣涵、胡文财、刘文清、李傲冰、付明洋、高鑫、徐正、刘通、杜启飞、王军皓","B级",{"v":2,"d":"2.0000"},{"v":1,"d":"1.0000"}]
[64,2024010582,"刘文清","全国大学生英语作文大赛","     高等学校大学外语教学研究会、全国高等师范院校外语教学与研究协作组","省部级","三等奖","否",null,{"$f":"VLOOKUP(D54,[3]Sheet2!A$1:B$288,2,FALSE)","v":"D级"},{"v":4,"d":"4.0000"},{"v":1.2,"d":"1.2000"}]
[65,2024010582,"刘文清","全国大学生语言文字能力大赛","中国语文报刊协会读写教学分会、全国大学生语言文字能力大赛组委会","省部级","三等奖","否",null,"B级",{"v":4,"d":"4.0000"},{"v":4,"d":"4.0000"}]
[74,2024010582,"刘文清","中国国际大学生创新大赛","北京市教育委员会","省部级","三等奖","是","王东雯蓄（队长）、杜启飞、李傲冰、付明洋、何怡瑾、刘文清、高鑫、朱诣涵、刘佳琛、李佳瑞、张芷萌、徐正、薛颖珊、周少杰、修智远",{"$f":"VLOOKUP(D56,[3]Sheet2!A$1:B$288,2,FALSE)","v":"A级"},{"v":4,"d":"4.0000"},{"v":3,"d":"3.0000"}]
[null,null,"刘文清 汇总",{"$nulls":8},{"$f":"SUBTOTAL(9,L52:L56)","v":{"v":12.2,"d":"12.2000"}}]
[40,2024010561,"刘子炜","华教杯全国大学生数学竞赛","华教杯全国大学生数学竞赛组委会","校级","优秀奖","否",null,"D级",{"v":1,"d":"1.0000"},{"v":0.3,"d":"0.3000"}]
[null,null,"刘子炜 汇总",{"$nulls":8},{"$f":"SUBTOTAL(9,L58)","v":{"v":0.3,"d":"0.3000"}}]
[48,2024010583,"路倢利","全国大学生物理实验竞赛","中国石油大学（北京）","校级","二等奖","是","刘玲嘉(队长) 王睦钧  洪培彬 杨航维 路倢利","C级",{"v":3,"d":"3.0000"},{"v":0.75,"d":"0.7500"}]
[null,null,"路倢利 汇总",{"$nulls":8},{"$f":"SUBTOTAL(9,L60)","v":{"v":0.75,"d":"0.7500"}}]
[71,2024010572,"邱子恒","中国大学生Chem-E-Car竞赛","中国化工学会 美国化工学会 天津大学","国家级","二等奖","是","康胜 ，王佳琪 ，邱子恒 ，张艺 ，刘翔 ，王德民 ，李佳俊，陈佳佳，鲁璟奕，沈飞扬，邵科元，张磊",{"$f":"VLOOKUP(D62,[3]Sheet2!A$1:B$288,2,FALSE)","v":"C级"},{"v":10,"d":"10.0000"},{"v":2.5,"d":"2.5000"}]
[null,null,"邱子恒 汇总",{"$nulls":8},{"$f":"SUBTOTAL(9,L62)","v":{"v":2.5,"d":"2.5000"}}]
[14,2024010481,"任熙嘉","“挑战杯”全国大学生课外学术科技作品竞赛","共青团北京市委员会、北京市教育委员会、北京市科学技术协会、北京市学生联合主办会","省部级","特等奖"," 是","白雪、任熙嘉、张月月、何浩杰、黄家惟、贾子琨、王鹏","A级",{"v":8,"d":"8.0000"},{"v":6,"d":"6.0000"}]
[null,null,"任熙嘉 汇总",{"$nulls":8},{"$f":"SUBTOTAL(9,L64)","v":{"v":6,"d":"6.0000"}}]
[59,2024010458,"施朝阳","全国大学生英语竞赛","全国高等师范院校外语教学与研究协作组","国家级","二等奖","否",null,{"$f":"VLOOKUP(D66,[3]Sheet2!A$1:B$288,2,FALSE)","v":"C级"},{"v":10,"d":"10.0000"},{"v":5,"d":"5.0000"}]
[68,2024010458,"施朝阳","外研社全国大学生英语系列赛-①英语演讲、②英语辩论、③英语写作、④英语阅读","中国石油大学（北京）","校级","三等奖","否",null,"B级",{"v":2,"d":"2.0000"},{"v":2,"d":"2.0000"}]
[84,2024010458,"施朝阳","外研社全国大学生英语系列赛-①英语演讲、②英语辩论、③英语写作、④英语阅读","中国石油大学（北京）","校级","三等奖","否",null,"B级",{"v":2,"d":"2.0000"},{"v":2,"d":"2.0000"}]
[null,null,"施朝阳 汇总",{"$nulls":8},{"$f":"SUBTOTAL(9,L66:L68)","v":{"v":9,"d":"9.0000"}}]
[15,2024010538,"王超卓","“挑战杯”全国大学生课外学术科技作品竞赛","共青团北京市委员会、北京市教育委员会、北京市科学技术协会、北京市学生联合主办会","省部级","三等奖","是","何佳（队长）谢煜轩，杨睿，刘玲嘉，王超卓，方泽，董宇昕","A级",{"v":4,"d":"4.0000"},{"v":3,"d":"3.0000"}]
[null,null,"王超卓 汇总",{"$nulls":8},{"$f":"SUBTOTAL(9,L70)","v":{"v":3,"d":"3.0000"}}]
[49,2024010606,"王睦钧","全国大学生物理实验竞赛","中国石油大学（北京）","校级","二等奖","是","刘玲嘉 路倢利 王睦钧 洪培彬 杨航维",{"$f":"VLOOKUP(D72,[3]Sheet2!A$1:B$288,2,FALSE)","v":"B级"},{"v":3,"d":"3.0000"},{"v":1.5,"d":"1.5000"}]
[null,null,"王睦钧 汇总",{"$nulls":8},{"$f":"SUBTOTAL(9,L72)","v":{"v":1.5,"d":"1.5000"}}]
[16,2024010466,"王南南","“挑战杯”全国大学生课外学术科技作品竞赛","共青团北京市委员会、北京市教育委员会、北京市科学技术协会、北京市学生联合主办会","省部级","三等奖","是","马子豪 王沛文 胡世泽 苗家乐 王南南 白晟东 刘思彤 刘青澈 李芷希","A级",{"v":4,"d":"4.0000"},{"v":3,"d":"3.0000"}]
[null,null,"王南南 汇总",{"$nulls":8},{"$f":"SUBTOTAL(9,L74)","v":{"v":3,"d":"3.0000"}}]
[102,2024010573,"王韬哲","全国大学生英语作文大赛","高等学校大学外语教学研究会  全国高等师范院校外语教学与研究协作组","省部级","二等奖","否",null,"D级",{"v":6,"d":"6.0000"},{"v":1.8,"d":"1.8000"}]
[null,null,"王韬哲 汇总",{"$nulls":8},{"$f":"SUBTOTAL(9,L76)","v":{"v":1.8,"d":"1.8000"}}]
[1,2024010627,"王笑睿"," “京彩大创”北京大学生创新创业大赛"," 北京市教育委员会"," 省部级","三等奖","是","王笑睿（队长）、严翊中、杨恒、武美茹、陈颢文、宋佳澄、王雪茹、付锦依、段盈君、仝泰旻","B级",{"v":4,"d":"4.0000"},2.6667]
[50,2024010627,"王笑睿","全国大学生物理实验竞赛","中国石油大学（北京）","校级","二等奖","是","严翊中（队长） 王笑睿 吴俊 宋佳澄 刘钢彬",{"$f":"VLOOKUP(D79,[3]Sheet2!A$1:B$288,2,FALSE)","v":"B级"},{"v":3,"d":"3.0000"},{"v":1.5,"d":"1.5000"}]
[null,null,"王笑睿 汇总",{"$nulls":8},{"$f":"SUBTOTAL(9,L78:L79)","v":4.1667}]
[75,2024010608,"温晓阳","中国国际大学生创新大赛","北京市教育委员会","省部级","三等奖","是","吴晶宇（队长）、王关超、霍嘉宇、徐宁慧、管行、杜向栋、冯书琴、刘孟阳、吴万锦、田斯羽、李宗泽、霍智勋、王泊涵、严翊中、温晓阳",{"$f":"VLOOKUP(D81,[3]Sheet2!A$1:B$288,2,FALSE)","v":"A级"},{"v":4,"d":"4.0000"},{"v":3,"d":"3.0000"}]
[null,null,"温晓阳 汇总",{"$nulls":8},{"$f":"SUBTOTAL(9,L81)","v":{"v":3,"d":"3.0000"}}]
[51,2024010635,"吴俊","全国大学生物理实验竞赛","中国石油大学（北京）","校级","二等奖","是",null,{"$f":"VLOOKUP(D83,[3]Sheet2!A$1:B$288,2,FALSE)","v":"B级"},{"v":3,"d":"3.0000"},{"v":1.5,"d":"1.5000"}]
[null,null,"吴俊 汇总",{"$nulls":8},{"$f":"SUBTOTAL(9,L83)","v":{"v":1.5,"d":"1.5000"}}]
[17,2024010480,"谢煜轩","“挑战杯”全国大学生课外学术科技作品竞赛","共青团北京市委员会、北京市教育委员会、北京市科学技术协会、北京市学生联合主办会","省部级","三等奖","是","谢煜轩 何佳 杨睿 王超卓 方泽 刘玲嘉 董宇昕","A级",{"v":4,"d":"4.0000"},{"v":3,"d":"3.0000"}]
[null,null,"谢煜轩 汇总",{"$nulls":8},{"$f":"SUBTOTAL(9,L85)","v":{"v":3,"d":"3.0000"}}]
[55,2024010576,"徐桢","全国大学生物理实验竞赛","中国石油大学（北京）","校级","一等奖","是","张梓媛（队长），赵祺豪，朱洲程，徐桢","B级",{"v":4,"d":"4.0000"},{"v":4,"d":"4.0000"}]
[null,null,"徐桢 汇总",{"$nulls":8},{"$f":"SUBTOTAL(9,L87)","v":{"v":4,"d":"4.0000"}}]
[76,2024010614,"闫乙昕","中国国际大学生创新大赛","北京市教育委员会","省部级","二等奖","是","孙艺柯（队长），杨涛，张涵寓，闫乙昕",{"$f":"VLOOKUP(D89,[3]Sheet2!A$1:B$288,2,FALSE)","v":"A级"},{"v":6,"d":"6.0000"},{"v":4.5,"d":"4.5000"}]
[null,null,"闫乙昕 汇总",{"$nulls":8},{"$f":"SUBTOTAL(9,L89)","v":{"v":4.5,"d":"4.5000"}}]
[7,2024010617,"严翊中","“京彩大创”北京大学生创新创业大赛","北京市教育委员会","省部级","三等奖","是","王笑睿（队长）、严翊中、杨恒、武美茹、陈颢文、宋佳澄、王雪茹、付锦依、段盈君、仝泰旻","B级",{"v":4,"d":"4.0000"},{"v":2,"d":"2.0000"}]
[8,2024010617,"严翊中","“京彩大创”北京大学生创新创业大赛","北京市教育委员会","省部级","二等奖","是","刘思甜（队长）、吴万锦、严翊中、蔡月伦、熊子成、吴家强、冯雪嬉、杨贺然、孟海娜、胡晨雨","B级",{"v":6,"d":"6.0000"},{"v":3,"d":"3.0000"}]
[26,2024010617,"严翊中","CATICS英语词汇赛","CaTICs组织委员会","国家级","一等奖","否",null,{"$f":"VLOOKUP(D93,[3]Sheet2!A$1:B$288,2,FALSE)","v":"D级"},{"v":12,"d":"12.0000"},{"v":3.6,"d":"3.6000"}]
[36,2024010617,"严翊中","创青春中国青年碳中和创新创业大赛","全国创青春碳中和创新大赛组委会","省部级","二等奖","是","冉佳豪（队长） 吴万锦 袁紫嫣 郜淼 陈晨 刘思甜 严翊中 孟海娜 毛启赫 王泊涵",{"$f":"VLOOKUP(D94,[3]Sheet2!A$1:B$288,2,FALSE)","v":"B级"},{"v":6,"d":"6.0000"},{"v":3,"d":"3.0000"}]
[52,2024010617,"严翊中","全国大学生物理实验竞赛","中国石油大学（北京）","校级","二等奖","是","严翊中（队长） 王笑睿 吴俊 宋佳澄 刘钢彬",{"$f":"VLOOKUP(D95,[3]Sheet2!A$1:B$288,2,FALSE)","v":"B级"},{"v":3,"d":"3.0000"},{"v":2,"d":"2.0000"}]
[66,2024010617,"严翊中","全国大学生职业规划大赛","中国石油大学（北京）","校级","三等奖","否",null,{"$f":"VLOOKUP(D96,[3]Sheet2!A$1:B$288,2,FALSE)","v":"B级"},{"v":2,"d":"2.0000"},{"v":2,"d":"2.0000"}]
[77,2024010617,"严翊中","中国国际大学生创新大赛","北京市教育委员会","省部级","三等奖","是","吴晶宇（队长）、王关超、霍嘉宇、徐宁慧、管行、杜向栋、冯书琴、刘孟阳、吴万锦、田斯羽、李宗泽、霍智勋、王泊涵、严翊中、温晓阳",{"$f":"VLOOKUP(D97,[3]Sheet2!A$1:B$288,2,FALSE)","v":"A级"},{"v":4,"d":"4.0000"},{"v":3,"d":"3.0000"}]
[null,null,"严翊中 汇总",{"$nulls":8},{"$f":"SUBTOTAL(9,L91:L97)","v":{"v":18.6,"d":"18.6000"}}]
[5,2024010590,"杨航维","“BETT杯”全国大学生英语词汇大赛","中国城市商业网点建设管理联合会国际商务交流与外语研究分会","国家级","一等奖","否",null,{"$f":"VLOOKUP(D99,[3]Sheet2!A$1:B$288,2,FALSE)","v":"D级"},{"v":12,"d":"12.0000"},{"v":3.6,"d":"3.6000"}]
[32,2024010590,"杨航维","北京市化学实验大赛","中国石油大学（北京）化学爱好者协会","校级","一等奖","否",null,{"$f":"VLOOKUP(D100,[3]Sheet2!A$1:B$288,2,FALSE)","v":"C级"},{"v":4,"d":"4.0000"},{"v":2,"d":"2.0000"}]
[38,2024010590,"杨航维","第五届全国高校商务翻译（英语）能力挑战赛","中国对外贸易经济合作企业协会国际商务与语言服务工作委员会","国家级","三等奖","否",null,"D级",{"v":8,"d":"8.0000"},{"v":2.4,"d":"2.4000"}]
[46,2024010590,"杨航维","全国大学生物理实验比赛","全国高等学校实验物理教学研究会，全国大学生物理实验竞赛组织委员会","校级","二等奖","是","刘玲嘉、杨航维、路倢利、王睦钧、洪培彬","B级",{"v":3,"d":"3.0000"},{"v":3,"d":"3.0000"}]
[56,2024010590,"杨航维","全国大学生英语翻译能力竞赛汉译英","中国外文局亚太传播中心（人民中国杂志社、中国报道杂志社）","国家级","三等奖","否",null,{"$f":"VLOOKUP(D103,[3]Sheet2!A$1:B$288,2,FALSE)","v":"D级"},{"v":8,"d":"8.0000"},{"v":2.4,"d":"2.4000"}]
[62,2024010590,"杨航维","全国大学生英语竞赛","     全国高等师范院校外语教学与研究协作组","校级","三等奖","否",null,{"$f":"VLOOKUP(D104,[3]Sheet2!A$1:B$288,2,FALSE)","v":"C级"},{"v":2,"d":"2.0000"},{"v":1,"d":"1.0000"}]
[83,2024010590,"杨航维","中外传播杯全国大学生英语翻译大赛","中国外文局亚太传播中心（人民中国杂志社、中国报道杂志社）","国家级","一等奖","否",null,{"$f":"VLOOKUP(D105,[3]Sheet2!A$1:B$288,2,FALSE)","v":"D级"},{"v":12,"d":"12.0000"},{"v":3.6,"d":"3.6000"}]
[98,2024010590,"杨航维","全国高校创新英语挑战活动英语词汇赛","全国高校创新英语挑战赛组委会 《海外英语》杂志","国家级","一等奖","否",null,"D级",{"v":12,"d":"12.0000"},{"v":3.6,"d":"3.6000"}]
[101,2024010590,"杨航维","“中外传播杯”全国大学生英语语法大赛","中国外文局亚太传播中心（人民中国杂志社、中国报道杂志社）","国家级","二等奖","否",null,"D级",{"v":10,"d":"10.0000"},{"v":3,"d":"3.0000"}]
[null,null,"杨航维 汇总",{"$nulls":8},{"$f":"SUBTOTAL(9,L99:L107)","v":{"v":24.6,"d":"24.6000"}}]
[41,2024010629,"杨恒","京彩大创 北京大学生创新创业大赛"," 北京市教育委员会","省部级","三等奖","是","京智创易团队","B级",{"v":4,"d":"4.0000"},{"v":2,"d":"2.0000"}]
[null,null,"杨恒 汇总",{"$nulls":8},{"$f":"SUBTOTAL(9,L109)","v":{"v":2,"d":"2.0000"}}]
[20,2024010607,"杨睿","“挑战杯”全国大学生课外学术科技作品竞赛","共青团北京市委员会、北京市教育委员会、北京市科学技术协会、北京市学生联合主办会","省部级","三等奖","是","何佳（队长）、谢煜轩、杨睿、刘玲嘉、王超卓、方泽、董宇昕","A级",{"v":4,"d":"4.0000"},{"v":3,"d":"3.0000"}]
[null,null,"杨睿 汇总",{"$nulls":8},{"$f":"SUBTOTAL(9,L111)","v":{"v":3,"d":"3.0000"}}]
[67,2024010527,"叶霖","挑战杯”全国大学生课外学术科技作品竞赛","共青团北京市委员会、北京市教育委员会、北京市科学技术协会、北京市学生联合主办会","省部级","二等奖","是","强紫萌（队长）黄家惟 韩潇 任家萱 王晶茹 王天行 乔弈桥 程梦格 刘烨 叶霖","A级",{"v":4,"d":"4.0000"},{"v":3,"d":"3.0000"}]
[null,null,"叶霖 汇总",{"$nulls":8},{"$f":"SUBTOTAL(9,L113)","v":{"v":3,"d":"3.0000"}}]
[90,2024010460,"袁翊淼","北京市化学实验竞赛","中国石油大学（北京）化学爱好者协会","校级","三等奖","否",null,"C级",{"v":2,"d":"2.0000"},{"v":1,"d":"1.0000"}]
[69,2024010460,"袁翊淼","外研社全国大学生英语系列赛-①英语演讲、②英语辩论、③英语写作、④英语阅读","中国石油大学（北京）","校级","三等奖","否",null,"B级",{"v":3,"d":"3.0000"},{"v":3,"d":"3.0000"}]
[70,2024010460,"袁翊淼","外研社全国大学生英语系列赛-①英语演讲、②英语辩论、③英语写作、④英语阅读","中国石油大学（北京）","校级","三等奖","否",null,"B级",{"v":3,"d":"3.0000"},{"v":3,"d":"3.0000"}]
[null,null,"袁翊淼 汇总",{"$nulls":8},{"$f":"SUBTOTAL(9,L115:L117)","v":{"v":7,"d":"7.0000"}}]
[42,2024010578,"张钰涵","全国大学生电子商务“创新、创意及创业”挑战赛","教育部高校电子商务类专业教学指导委员会","国家级","三等奖","是","张梓媛 王宇诠 陆沈欣 王关超 李启航",{"$f":"VLOOKUP(D119,[3]Sheet2!A$1:B$288,2,FALSE)","v":"B级"},{"v":8,"d":"8.0000"},{"v":4,"d":"4.0000"}]
[63,2024010578,"张钰涵","全国大学生英语竞赛","高等学校大学外语教学研究会","国家级","三等奖","否",null,{"$f":"VLOOKUP(D120,[3]Sheet2!A$1:B$288,2,FALSE)","v":"C级"},{"v":8,"d":"8.0000"},{"v":4,"d":"4.0000"}]
[null,null,"张钰涵 汇总",{"$nulls":8},{"$f":"SUBTOTAL(9,L119:L120)","v":{"v":8,"d":"8.0000"}}]
[60,2024010539,"赵毅轩","全国大学生英语竞赛","全国高等师范院校外语教学与研究协作组","国家级","二等奖","否",null,{"$f":"VLOOKUP(D122,[3]Sheet2!A$1:B$288,2,FALSE)","v":"C级"},{"v":10,"d":"10.0000"},{"v":5,"d":"5.0000"}]
[null,null,"赵毅轩 汇总",{"$nulls":8},{"$f":"SUBTOTAL(9,L122)","v":{"v":5,"d":"5.0000"}}]
[18,2024010519,"赵梓伯","“挑战杯”全国大学生课外学术科技作品竞赛","共青团北京市委员会、北京市教育委员会、北京市科学技术协会、北京市学生联合主办会","省部级","二等奖","是","薛紫（队长），薛颖珊，纪贺严，赵梓伯，任江珊，吴凯翔，曹圲茗湙，徐晨曦，江欣妍，KIMAKA PAMBOU RINEL ROLYSNA","A级",{"v":4,"d":"4.0000"},{"v":3,"d":"3.0000"}]
[22,2024010519,"赵梓伯","“招行杯”第十八届全国大学生节能减排社会实践与科技竞赛","东北石油大学","国家级","三等奖","是","纪贺严（队长）、赵梓伯、朱婧怡、任江珊、杨颜如、江欣妍","B级",{"v":8,"d":"8.0000"},{"v":4,"d":"4.0000"}]
[35,2024010519,"赵梓伯","创青春中国青年碳中和创新创业大赛","共青团中央中国青年创业就业基金会联合中国石油天然气集团、中国石油化工集团、中国海洋石油集团及中国石油大学（北京）","国家级","二等奖","是","薛颖珊（队长）、张天保、赵 一凡、王萍、韩雯乐、纪贺严、赵梓伯、江欣妍、么甲赛、任江珊",{"$f":"VLOOKUP(D126,[3]Sheet2!A$1:B$288,2,FALSE)","v":"B级"},{"v":10,"d":"10.0000"},{"v":5,"d":"5.0000"}]
[78,2024010519,"赵梓伯","中国国际大学生创新大赛","北京市教育委员会","省部级","三等奖","是","薛颖珊（队长），纪贺严,赵梓伯,曹圲茗湙,徐晨曦,任江珊,朱婧怡,江欣妍, 吴凯翔,杜启飞,谭蕊,赵一凡,张天保,周少杰,王东雯蓄",{"$f":"VLOOKUP(D127,[3]Sheet2!A$1:B$288,2,FALSE)","v":"A级"},{"v":4,"d":"4.0000"},{"v":3,"d":"3.0000"}]
[null,null,"赵梓伯 汇总",{"$nulls":8},{"$f":"SUBTOTAL(9,L124:L127)","v":{"v":15,"d":"15.0000"}}]
[19,2024010630,"周子晨","“挑战杯”全国大学生课外学术科技作品竞赛","校团委","校级","二等奖","是","周子晨、梁珂、张博远、黄睿、黄允恩、杨瑞柯、陈凯炫、姜泽坤","A级",{"v":3,"d":"3.0000"},{"v":2.25,"d":"2.2500"}]
[25,2024010630,"周子晨","2025年第一届“石创杯”大学生创新创业大赛","创新创业教育学院","校级","三等奖","是","王芳芸、周子晨、张博远、黄睿、吴芷璇、黄允恩、陈凯炫、姜泽坤、冯家乐、杨瑞柯、康铭坤、刘梦瑶、顾清清、孙悦成","B级",{"v":2,"d":"2.0000"},{"v":1,"d":"1.0000"}]
[79,2024010630,"周子晨","中国国际大学生创新大赛","北京市教育委员会","省部级","三等奖","是","王芳芸、周子晨、张博远、黄睿、吴芷璇、黄允恩、陈凯炫、姜泽坤、冯家乐、杨瑞柯、康铭坤、刘梦瑶、顾清清、孙悦成",{"$f":"VLOOKUP(D131,[3]Sheet2!A$1:B$288,2,FALSE)","v":"A级"},{"v":4,"d":"4.0000"},{"v":3,"d":"3.0000"}]
[null,null,"周子晨 汇总",{"$nulls":8},{"$f":"SUBTOTAL(9,L129:L131)","v":{"v":6.25,"d":"6.2500"}}]
[null,null,"总计",{"$nulls":8},{"$f":"SUBTOTAL(9,L2:L131)","v":227.4667}]

{"sheet":"智育加分汇总","index":7,"n_rows":44,"n_cols":3,"rows_kept":44}
["竞赛名称","主办单位"]
["董宇昕",4,{"$f":"IF(B2>=15,15,B2)","v":4}]
["杜向栋",5,{"$f":"IF(B3>=15,15,B3)","v":5}]
["方文正",2,2]
["方泽",4.5,4.5]
["冯俊杰",1,1]
["何佳",7.8,7.8]
["何俊希",1.5,1.5]
["洪培彬",1.5,1.5]
["胡婷",3.6,3.6]
["黄大原",1.5,1.5]
["蒋卓达",1.5,1.5]
["康铭坤",6,6]
["柯二文",1,1]
["李鑫涛",15.5,15]
["梁金玉",3,3]
["林方宇",10.4,10.4]
["刘玲嘉",5,5]
["刘文清",12.2,12.2]
["刘子炜",0.3,0.3]
["路倢利",0.75,0.75]
["邱子恒",2.5,2.5]
["任熙嘉",6,6]
["施朝阳",9,9]
["王超卓",3,3]
["王睦钧",1.5,1.5]
["王南南",3,3]
["王韬哲",1.8,1.8]
["王笑睿",4.1667,4.1667]
["温晓阳",3,3]
["吴俊",1.5,1.5]
["谢煜轩",3,3]
["徐桢",4,4]
["闫乙昕",4.5,4.5]
["严翊中",18.6,15]
["杨航维",24.6,15]
["杨恒",2,2]
["杨睿",3,3]
["叶霖",3,3]
["袁翊淼",7,7]
["张钰涵",8,8]
["赵毅轩",5,5]
["赵梓伯",15,15]
["周子晨",6.25,6.25]

{"sheet":"体育锻炼成绩","index":8,"n_rows":182,"n_cols":2,"rows_kept":182}
["姓名","申请分值（减分需带上负号）"]
["王家成","50.00"]
["任俊玮","100.00"]
["谢煜轩","100.00"]
["周子晨","100.00"]
["水源","100.00"]
["刘起睿","100.00"]
["王二壮","100.00"]
["侯垚","100.00"]
["王晓娜","100.00"]
["王笑睿","100.00"]
["赵延奇","100.00"]
["李俊义","100.00"]
["杨恒","100.00"]
["杨航维","100.00"]
["严翊中","100.00"]
["张钰涵","100.00"]
["林方宇","100.00"]
["赵梓伯","100.00"]
["康铭坤","100.00"]
["施朝阳","100.00"]
["任熙嘉","100.00"]
["袁翊淼","100.00"]
["郝美超","100.00"]
["刘玲嘉","100.00"]
["方泽","100.00"]
["卢力瑛","100.00"]
["温晓阳","100.00"]
["董宇昕","100.00"]
["尤雅","100.00"]
["杜向栋","100.00"]
["闫乙昕","100.00"]
["李鑫涛","100.00"]
["胡婷","100.00"]
["苗思蕊","100.00"]
["刘文清","100.00"]
["杨睿","100.00"]
["赵毅轩","100.00"]
["董家慧","100.00"]
["方文正","100.00"]
["王韬哲","100.00"]
["刘春硕","100.00"]
["高瑞苹","100.00"]
["吕佳琳","100.00"]
["郝雪普","100.00"]
["刘诗雨","100.00"]
["杨州","100.00"]
["赵晶晶","100.00"]
["苏晴","100.00"]
["孔德烨","100.00"]
["黄大原","100.00"]
["杨悦","100.00"]
["邱子恒","100.00"]
["柯二文","100.00"]
["罗晓珍","100.00"]
["吴佳妮","100.00"]
["佟安冉","100.00"]
["张蕊","100.00"]
["李志聪","100.00"]
["洪瑞","100.00"]
["王睦钧","100.00"]
["梁金玉","100.00"]
["吴俊","100.00"]
["陈晨","100.00"]
["马永龙","100.00"]
["郭圣元","100.00"]
["朱健健","100.00"]
["黄贤君","100.00"]
["靳铭超","100.00"]
["叶霖","100.00"]
["孙立夫","100.00"]
["吕程","100.00"]
["王爽","100.00"]
["马秋阳","100.00"]
["李毅恒","100.00"]
["杨清朋","100.00"]
["陈启骏","100.00"]
["钟家豪","100.00"]
["张家诚","100.00"]
["胡语轩","100.00"]
["李政阳","100.00"]
["张子木","100.00"]
["杨磊","100.00"]
["宋梦博","100.00"]
["陈永利","100.00"]
["孔梓涵","100.00"]
["杨修齐","100.00"]
["刘韬","100.00"]
["谯佳伟","100.00"]
["姚泓宇","100.00"]
["谢文博","100.00"]
["蒋卓达","100.00"]
["蒋金鹏","100.00"]
["谢子翔","100.00"]
["王珏","100.00"]
["李宇轩","100.00"]
["王崇南","100.00"]
["刘钢彬","100.00"]
["彭一航","100.00"]
["姜明明","100.00"]
["成杰文","100.00"]
["寇笑源","100.00"]
["徐桢","100.00"]
["潘兴顺","100.00"]
["彭天佑","100.00"]
["姜柏彤","100.00"]
["李昌泽","100.00"]
["黄皓仑","100.00"]
["王思远","100.00"]
["吴淑金","100.00"]
["陈朕","100.00"]
["董叶帆","100.00"]
["孙铭徽","100.00"]
["陈萍洋","100.00"]
["孙愷辰","100.00"]
["路倢利","100.00"]
["徐旋","100.00"]
["任务","100.00"]
["王诚毅","100.00"]
["王嘉博","100.00"]
["李坤明","100.00"]
["聂玲琳","100.00"]
["李耀初","100.00"]
["赵佳富","100.00"]
["侯星辰","100.00"]
["龚贝","100.00"]
["赵淑荣","100.00"]
["张煊","100.00"]
["刘俊超","100.00"]
["葛亿盛","100.00"]
["冯子洋","100.00"]
["刘迪","100.00"]
["杨子惠","100.00"]
["王南南","100.00"]
["李博航","100.00"]
["杨胤泽","100.00"]
["艾芯蕊","100.00"]
["阿优拉·沙帕尔别克","100.00"]
["冯苗鸽","100.00"]
["葸旺","100.00"]
["刘子炜","100.00"]
["王泽轩","100.00"]
["肖港权","100.00"]
["李宇春","100.00"]
["王志龙",100]
["孟煜杰","0.00"]
["宋佳滢","0.00"]
["郑翔鸿",100]
["吕小川","0.00"]
["洪培彬","0.00"]
["李俊豪",100]
["张玉杨",100]
["张川宁","0.00"]
["韦程栋","0.00"]
["吴赛扬",100]
["胡紫涵","0.00"]
["赵倩瑶","0.00"]
["田慧慧","0.00"]
["吕莎莎","0.00"]
["桑恒健","0.00"]
["彭好运","0.00"]
["史欣谊","0.00"]
["胡启红",100]
["吕秋桦","0.00"]
["仇雨乐","0.00"]
["郭北辰",{"v":0,"d":"0.00"}]
["王超卓",100]
["马铭远",100]
["葛敏","0.00"]
["孙筠翔",100]
["李瑞杰",100]
["罗锦洪",0]
["余若瑜",0]
["海米提·麦买提",0]
["蔡晓燚",0]
["何佳",100]
["刘芮",100]
["贾金鑫",100]
["何俊希",100]
["陈韵轩",100]
["王路寒",100]
["韩子路",100]

{"sheet":"体育加分","index":9,"n_rows":272,"n_cols":9,"rows_kept":272}
["序号","学号","姓名","班级","运动项目","等级","排名","赋分"]
[null,null,"总计",{"$nulls":4},{"$f":"SUBTOTAL(9,H4:H272)","v":607}]
[null,null,"艾芯蕊 汇总",{"$nulls":4},{"$f":"SUBTOTAL(9,H4:H8)","v":15}]
[1,2024010522,"艾芯蕊","能化24-2班","乒乓球新生杯双打","校级","第二名",8]
[2,2024010522,"艾芯蕊","能化24-2班","女子足球5v5","校级","第四名",6]
[3,2024010522,"艾芯蕊",null,"2024年趣味运动会","院级","参与",1]
[4,2024010522,"艾芯蕊","能化24-2班","石油杯篮球联赛记录台培训","校级","参与",0]
[5,2024010522,"艾芯蕊","能化24-2班","化学工程与环境学院新生趣味运动会毛毛虫竞速","校级","第一名",0]
[null,null,"陈晨 汇总",{"$nulls":4},{"$f":"SUBTOTAL(9,H10:H15)","v":32}]
[6,2024010588,"陈晨","能化24-1班","秋季新生运动会男子4×100接力","校级","第二名",8]
[7,2024010588,"陈晨","能化24-1班","春季运动会狮子竞速","校级","第二名",8]
[8,2024010588,"陈晨","能化24-1班","春季学生运动会有轨电车","校级","第三名",6]
[9,2024010588,"陈晨","能化24-1班","春季运动会男子4×100接力","校级","第三名",6]
[10,2024010588,"陈晨","能化24-1班","秋季新生运动会男子100米","校级","第八名",2]
[11,2024010588,"陈晨","能化24-1班","春季运动会男子100米","校级","第八名",2]
[null,null,"陈永利 汇总",{"$nulls":4},{"$f":"SUBTOTAL(9,H17)","v":4}]
[12,2024010544,"陈永利","化工24-3班","2025石油杯毽绳决赛","校级","第六名",4]
[null,null,"成杰文 汇总",{"$nulls":4},{"$f":"SUBTOTAL(9,H19:H20)","v":9}]
[13,2024010501,"成杰文","化工24-2班","2024年新生杯","校级","第一名",8]
[14,2024010501,"成杰文","化工24-2班","2025石油杯足球赛","校级","参与",1]
[null,null,"董家慧 汇总",{"$nulls":4},{"$f":"SUBTOTAL(9,H22:H29)","v":48}]
[15,2024010581,"董家慧","能化24-1班","“石油杯”毽绳决赛1分钟10人同步跳","校级","第一名",8]
[16,202010581,"董家慧","能化24-1班","“石油杯”毽绳决赛3人30秒双绳交叉互摇竞速跳","校级","第二名",8]
[17,2024010581,"董家慧","能化24-1班","“石油杯”毽绳决赛3分钟8字集体长绳","校级","第一名",8]
[18,2024010581,"董家慧","能化24-1班","春季学生运动会跳高","校级","第三名",6]
[19,2024010581,"董家慧","能化24-1班","“石油杯”毽绳决赛30秒交叉间隔跳","校级","第三名",6]
[20,2024010581,"董家慧","能化24-1班","春季学生运动会有轨电车","校级","第三名",6]
[21,2024010581,"董家慧","能化24-1班","春季学生运动会4*100接力","校级","第六名",4]
[22,2024010581,"董家慧","能化24-1班","春季学生运动会100米栏","校级","第七名",2]
[null,null,"方泽 汇总",{"$nulls":4},{"$f":"SUBTOTAL(9,H31:H33)","v":9}]
[23,2024010482,"方泽","化工24-1班","2024级秋季运动会彩虹飞舞","校级","第二名",8]
[24,2024010482,"方泽","化工24-1班","新生杯排球联赛","校级","参与",1]
[25,2024010482,"方泽","化工24-1班","化工学院24级新生跳绳比赛","校级","参与",0]
[null,null,"高瑞苹 汇总",{"$nulls":4},{"$f":"SUBTOTAL(9,H35:H36)","v":14}]
[26,2024010622,"高瑞苹","化工24-3班","2025石油杯排球赛","校级","第一名",8]
[27,2024010622,"高瑞苹","化工24-3班","2024新生杯排球赛","校级","第三名",6]
[null,null,"葛亿盛 汇总",{"$nulls":4},{"$f":"SUBTOTAL(9,H38)","v":8}]
[28,2024010475,"葛亿盛","化工24-2班","彩虹飞舞","校级","第二名",8]
[null,null,"韩子路 汇总",{"$nulls":4},{"$f":"SUBTOTAL(9,H40)","v":0}]
[29,2024010495,"韩子路","化工24-2班","化学工程与环境学院新手趣味运动会","院级","院级",0]
[null,null,"郝美超 汇总",{"$nulls":4},{"$f":"SUBTOTAL(9,H42)","v":8}]
[30,2024010465,"郝美超","化工24-2班","校秋季运动会彩虹飞舞","校级","一等奖",8]
[null,null,"郝雪普 汇总",{"$nulls":4},{"$f":"SUBTOTAL(9,H44)","v":0}]
[31,2024010623,"郝雪普","化工24-2班","2024年度“沐光晨跑个人比赛”","校级","一等奖",0]
[null,null,"何佳 汇总",{"$nulls":4},{"$f":"SUBTOTAL(9,H46:H49)","v":9}]
[32,2024010525,"何佳","化工24-1班","2024级秋季运动会彩虹飞舞","校级","第二名",8]
[33,2024010525,"何佳","化工24-1班","2024年趣味运动会旋风跑","校级","参与",1]
[34,2024010525,"何佳","化工24-1班","化工学院24级新生跳绳比赛","校级","参与",0]
[35,2024010525,"何佳","化工24-1班","初步探索轮滑运动的魅力","校级","参与",0]
[null,null,"洪瑞 汇总",{"$nulls":4},{"$f":"SUBTOTAL(9,H51:H56)","v":17}]
[36,2024010517,"洪瑞","化工24-3班","2024年中国石油大学（北京）秋季学生运动会4＊400接力女子组","校级","第二名",8]
[37,2024010517,"洪瑞","化工24-3班","2024年中国石油大学（北京秋季学生运动会）400米女子组","校级","第六名",4]
[38,2024010517,"洪瑞","化工24-3班","2025年中国石油大学（北京）春季学生运动会4＊100接力女子组","校级","第六名",4]
[39,2024010517,"洪瑞","化工24–3班","2024年趣味运动会","院级","参与",1]
[40,2024010517,"洪瑞","化工24–3班","化工学院24级新生跳绳比赛","校级","参与",0]
[41,2024010517,"洪瑞","化工24–3班","化工学院飞盘嘉年华活动","校级","参与",0]
[null,null,"侯星辰 汇总",{"$nulls":4},{"$f":"SUBTOTAL(9,H58:H60)","v":8}]
[42,2024010535,"侯星辰","化工24-3班","2024年新生杯篮球赛","校级","第二名",8]
[43,2024010535,"侯星辰","化工24-3","冬季拔河比赛","院级","第二名",0]
[44,2024010535,"侯星辰","化工24-3班","化学工程与环境学院新生趣味运动会毛毛虫竞速","院级","第一名",0]
[null,null,"侯垚 汇总",{"$nulls":4},{"$f":"SUBTOTAL(9,H62)","v":0}]
[45,2024010621,"侯垚","化工24-2班","化学工程与环境学院新生趣味运动会","院级","二等奖",0]
[null,null,"胡启红 汇总",{"$nulls":4},{"$f":"SUBTOTAL(9,H64)","v":0}]
[46,2024010523,"胡启红","能化24-2班","石油杯篮球联赛记录台培训","校级","参与",0]
[null,null,"胡婷 汇总",{"$nulls":4},{"$f":"SUBTOTAL(9,H66:H69)","v":7}]
[47,2024010464,"胡婷","化工24-4班","2024年校秋季运动会彩虹飞舞项目","校级","二等奖",6]
[48,2024010464,"胡婷","化工24-4班","2024年秋季运动会仰卧起坐精英赛","校级","参与",1]
[49,2024010464,"胡婷","化工24-4班","校一二·九运动—拔河比赛","院级","参与",0]
[50,2024010464,"胡婷","化工24-4班","“跳跃青春·绳舞斑斓”跳绳比赛","校级","参与",0]
[null,null,"黄大原 汇总",{"$nulls":4},{"$f":"SUBTOTAL(9,H71)","v":0}]
[51,2024010500,"黄大原","能化24-2","化工学院24级新生跳绳比赛","校级","参与",0]
[null,null,"黄贤君 汇总",{"$nulls":4},{"$f":"SUBTOTAL(9,H73:H77)","v":10}]
[52,2024010528,"黄贤君","化工24-3","新生篮球杯","校级","第二名",8]
[53,2024010528,"黄贤君","化工24-3","冬季拔河比赛","院级","第二名",0]
[54,2024010528,"黄贤君","化工24-3","新生排球联赛","校级","参与",1]
[55,2024010528,"黄贤君","化工24-3","2024年趣味运动会","校级","参与",1]
[56,2024010528,"黄贤君","化工24-3","化学工程与环境学院新生趣味运动会毛毛虫竞速","院级","第一名",0]
[null,null,"靳铭超 汇总",{"$nulls":4},{"$f":"SUBTOTAL(9,H79)","v":8}]
[57,2024010459,"靳铭超","化工24-4班","趣味运动会新生女子组彩虹飞舞","校级","二等奖",8]
[null,null,"康铭坤 汇总",{"$nulls":4},{"$f":"SUBTOTAL(9,H81:H84)","v":22}]
[58,2024010593,"康铭坤","化工24-1班","“石油杯”毽绳决赛3分钟8字长绳","校级","第一名",8]
[59,2024010593,"康铭坤","化工24-1班","2024级秋季运动会跳大绳","校级","第一名",8]
[60,2024010593,"康铭坤","化工24-1班","2025年中国石油大学北京春季运动会有轨电车","校级","第三名",6]
[61,2024010593,"康铭坤","化工24-1班","2024“沐光晨跑”","校级","一等奖",0]
[null,null,"孔梓涵 汇总",{"$nulls":4},{"$f":"SUBTOTAL(9,H86:H90)","v":28}]
[62,2024010577,"孔梓涵","化工24-1班","“石油杯”毽绳决赛一分钟十人同步跳","校级","第一名",8]
[63,2024010577,"孔梓涵","化工24-1班","“石油杯”毽绳决赛3分钟8字长绳","校级","第一名",8]
[64,2024010577,"孔梓涵","化工24-1班","2025年中国石油大学北京春季运动会有轨电车","校级","第三名",6]
[65,2024010577,"孔梓涵","化工24-1班","2025年中国石油大学北京春季运动会女子4*100接力","校级","第六名",4]
[66,2024010577,"孔梓涵","化工24-1班","2024年中国石油大学北京春季运动会女子跳高","校级","第八名",2]
[null,null,"李俊义 汇总",{"$nulls":4},{"$f":"SUBTOTAL(9,H92)","v":1}]
[67,2024010477,"李俊义","化工24-2","2025年中国石油大学春季运动会毛毛虫比赛","校级","参与",1]
[null,null,"李耀初 汇总",{"$nulls":4},{"$f":"SUBTOTAL(9,H94:H96)","v":27}]
[68,2024010499,"李耀初","能化24-1班","首都高等学校第十二届校园铁人三项赛-轮滑三项单项接力","省级","第三名",15]
[69,2024010499,"李耀初","能化24-1班","秋季新生运动会800米","校级","第四名",6]
[70,2024010499,"李耀初","能化24-1班","秋季新生运动会3000米","校级","第三名",6]
[null,null,"李宇春 汇总",{"$nulls":4},{"$f":"SUBTOTAL(9,H98)","v":0}]
[71,2024010622,"李宇春","化工24-2班","趣味运动会","院级","第一",0]
[null,null,"梁金玉 汇总",{"$nulls":4},{"$f":"SUBTOTAL(9,H100)","v":0}]
[72,2024010550,"梁金玉","化工24-4","2024沐光晨跑","校级","一等奖",0]
[null,null,"刘春硕 汇总",{"$nulls":4},{"$f":"SUBTOTAL(9,H102:H104)","v":20}]
[73,2024010580,"刘春硕","能化24-1班","“石油杯”毽绳决赛3人30秒双绳交叉互摇竞速跳","校级","第二名",8]
[74,2024010580,"刘春硕","能化24-1班","春季运动会男女混合颠球","校级","第四名",6]
[75,2024010580,"刘春硕","能化24-1班","春季学生会有轨电车","校级","第三名",6]
[null,null,"刘迪 汇总",{"$nulls":4},{"$f":"SUBTOTAL(9,H106)","v":1}]
[76,2024010563,"刘迪","化工24-3","2025年中国石油大学春季运动会毛毛虫比赛","校级","参与",1]
[null,null,"刘玲嘉 汇总",{"$nulls":4},{"$f":"SUBTOTAL(9,H108:H111)","v":8}]
[77,2024010584,"刘玲嘉","化工24-1班","2024年中国石油大学（北京）秋季运动会女子4*400接力","校级","第二名",8]
[78,2024010584,"刘玲嘉","化工24-1班","2024年中国石油大学（北京）学生体质健康竞赛800米跑","校级","第一名",0]
[79,2024010584,"刘玲嘉","化工24-1班","2024年中国石油大学（北京）学生体质健康竞赛女子组","校级","第二名",0]
[80,2024010584,"刘玲嘉","化工24-1班","2024年度“沐光晨跑团体比赛”","校级","一等奖",0]
[null,null,"刘芮 汇总",{"$nulls":4},{"$f":"SUBTOTAL(9,H113:H117)","v":4}]
[81,2024010579,"刘芮","化工24-1","2025年中国石油大学春季运动会毛毛虫比赛","校级","参与",1]
[82,2024010579,"刘芮","化工24-1","2025年中国石油大学春季运动会男女混合颠球比赛","校级","参与",1]
[83,2024010579,"刘芮","化工24-1","2025年中国石油大学春季运动会跳大绳比赛","校级","参与",1]
[84,2024010579,"刘芮","化工24-1","2024年中国石油大学秋季运动会女子200米","校级","参与",1]
[85,2024010579,"刘芮","化工24-1","2024沐光晨跑团体比赛","校级","一等奖",0]
[null,null,"刘诗雨 汇总",{"$nulls":4},{"$f":"SUBTOTAL(9,H119:H124)","v":1}]
[86,2024010520,"刘诗雨","能化24-2班","冬季拔河比赛","院级","第二名",0]
[87,2024010520,"刘诗雨","能化24-2班","2024年趣味运动会","校级","参与",1]
[88,2024010520,"刘诗雨","能化24-2班","石油杯篮球联赛记录台培训","校级","参与",0]
[89,2024010520,"刘诗雨","能化24-2班","化学工程与环境学院新生趣味运动会毛毛虫竞速","院级","第一名",0]
[90,2024010520,"刘诗雨","能化24-2班","化工学院飞盘嘉年华活动","校级","第一名",0]
[91,2024010520,"刘诗雨","化工24-3班","化工学院24级新生跳绳比赛","校级","参与",0]
[null,null,"刘文清 汇总",{"$nulls":4},{"$f":"SUBTOTAL(9,H126:H129)","v":2}]
[92,2024010582,"刘文清","化工24-1班","2025春季校运动会仰卧起坐接力","校级","参与",1]
[93,2024010582,"刘文清","化工24-1班","2024趣味运动会袋鼠跳","校级","参与",1]
[94,2024010582,"刘文清","化工24-1班","2024“沐光晨跑”","校级","二等奖",0]
[95,2025010582,"刘文清","化工24-1班","2024年度“沐光晨跑团体比赛”","校级","一等奖",0]
[null,null,"刘子炜 汇总",{"$nulls":4},{"$f":"SUBTOTAL(9,H131:H135)","v":24}]
[96,2024010561,"刘子炜","化工24-2班","中国石油大学（北京）石油杯毽绳一分钟十人同步跳","校级","一等奖",8]
[97,2024010561,"刘子炜","化工24-2","中国石油大学（北京）石油杯毽绳决赛男子三人三十秒交互","校级","第一名",8]
[98,2024010561,"刘子炜","化工24-2","中国石油大学（北京）石油杯毽绳决赛三分钟八字集体长绳","校级","第一名",8]
[99,2024010561,"刘子炜","化工24-2","2024年度沐光晨跑个人比赛","校级","一等奖",0]
[100,2024010561,"刘子炜","化工24-2","2024年度沐光晨跑团体比赛","校级","二等奖",0]
[null,null,"罗锦洪 汇总",{"$nulls":4},{"$f":"SUBTOTAL(9,H137)","v":1}]
[101,2024010570,"罗锦洪","能化24-1班","春季运动会男子1500米","校级","参与",1]
[null,null,"罗晓珍 汇总",{"$nulls":4},{"$f":"SUBTOTAL(9,H139)","v":6}]
[102,2024010592,"罗晓珍","化工24-1班","中国石油大学新生杯篮球赛","校级","季军",6]
[null,null,"吕佳琳 汇总",{"$nulls":4},{"$f":"SUBTOTAL(9,H141:H142)","v":8}]
[103,2024010616,"吕佳琳","化工24-2班","秋季运动会女子双人单摇","校级","一等奖",8]
[104,2024010616,"吕佳琳","化工24-2班","化工学院秋季趣味运动会女子双人单摇","院级","一等奖",0]
[null,null,"吕秋桦 汇总",{"$nulls":4},{"$f":"SUBTOTAL(9,H144:H145)","v":0}]
[105,2024010524,"吕秋桦","能化24-2班","冬季拔河比赛","院级","第二名",0]
[106,2024010524,"吕秋桦","能化24-2班","化工学院飞盘嘉年华活动","校级","第一名",0]
[null,null,"马秋阳 汇总",{"$nulls":4},{"$f":"SUBTOTAL(9,H147)","v":8}]
[107,2024010612,"马秋阳","化工24-3班","2024年石油大学（北京)秋季学生运动会女子双人单摇项目","校级","第一名",8]
[null,null,"马永龙 汇总",{"$nulls":4},{"$f":"SUBTOTAL(9,H149)","v":8}]
[108,2024010485,"马永龙","能化24-1","趣味运动会彩虹飞舞","校级","第二名",8]
[null,null,"孟煜杰 汇总",{"$nulls":4},{"$f":"SUBTOTAL(9,H151:H154)","v":1}]
[109,2024010529,"孟煜杰","化工24-4班","新生杯排球联赛","校级","参与",1]
[110,2024010529,"孟煜杰","化工24-4班","化学工程与环境学院春日趣味运动会","院级","未得奖",0]
[111,2024010529,"孟煜杰","化工24-4班","化工学院飞盘嘉年华活动","院级","未得奖",0]
[112,2024010529,"孟煜杰","化工24-4班","冬季拔河比赛","院级","未得奖",0]
[null,null,"谯佳伟 汇总",{"$nulls":4},{"$f":"SUBTOTAL(9,H156)","v":0}]
[113,2024010502,"谯佳伟","能化24-2班","冬季拔河比赛","院级","参与",0]
[null,null,"任俊玮 汇总",{"$nulls":4},{"$f":"SUBTOTAL(9,H158)","v":6}]
[114,2024010484,"任俊玮","化工24-2班","彩虹飞舞","校级","二等奖",6]
[null,null,"任熙嘉 汇总",{"$nulls":4},{"$f":"SUBTOTAL(9,H160)","v":8}]
[115,2024090481,"任熙嘉","能化24-1班","2024级秋季运动会彩虹飞舞","校级","第二名",8]
[null,null,"水源 汇总",{"$nulls":4},{"$f":"SUBTOTAL(9,H162:H163)","v":2}]
[116,2024010589,"水源","能化24-2班","2024秋季运动会","校级","参与",1]
[117,2024010589,"水源","能化24-2班","2025春季运动会","校级","参与",1]
[null,null,"苏晴 汇总",{"$nulls":4},{"$f":"SUBTOTAL(9,H165:H167)","v":9}]
[118,2024010555,"苏晴","化工24-4","2024校级运动会","校级","参与",1]
[119,2024010555,"苏晴","化工24-4班","新生趣味运动会团体跳大绳","校级","一等奖",8]
[120,2024010555,"苏晴","化工24-4","2024沐光晨跑团体比赛","校级","二等奖",0]
[null,null,"王诚毅 汇总",{"$nulls":4},{"$f":"SUBTOTAL(9,H169:H170)","v":6}]
[121,2024010468,"王诚毅","化工24-2班","2024年趣味运动会","校级","二等奖",6]
[122,2024010468,"王诚毅","化工24-2班","化学工程与环境学院新生趣味运动会","院级","一等奖",0]
[null,null,"王二壮 汇总",{"$nulls":4},{"$f":"SUBTOTAL(9,H172)","v":6}]
[123,2024010595,"王二壮","化工24-1班","2025年中国石油大学北京春季运动会有轨电车","校级","第三名",6]
[null,null,"王家成 汇总",{"$nulls":4},{"$f":"SUBTOTAL(9,H174)","v":8}]
[124,2024010541,"王家成","能化24-1班","“新生杯”男子足球竞赛","校级","第一名",8]
[null,null,"王珏 汇总",{"$nulls":4},{"$f":"SUBTOTAL(9,H176:H177)","v":0}]
[125,2024010551,"王珏","化工24-4班","化学工程与环境学院青春律动 ·活力全开”阳光体育竞一等奖","院级","一等奖",0]
[126,2024010551,"王珏","化工24-4","沐光晨跑团体","校级","二等奖",0]
[null,null,"王睦钧 汇总",{"$nulls":4},{"$f":"SUBTOTAL(9,H179:H181)","v":11}]
[127,2024010606,"王睦钧","能化24-2班","新生运动会跳大绳","校级","第一名",8]
[128,2024010606,"王睦钧","能化24-2班","2025春季运动会引体向上接力","校级","第七名",2]
[129,2024010606,"王睦钧","能化24-2班","2025春季运动会跳大绳","校级","参与",1]
[null,null,"王南南 汇总",{"$nulls":4},{"$f":"SUBTOTAL(9,H183)","v":8}]
[130,2024010466,"王南南","化工24-2班","2024年趣味运动会","校级","一等奖",8]
[null,null,"王爽 汇总",{"$nulls":4},{"$f":"SUBTOTAL(9,H185:H186)","v":0}]
[131,2024010596,"王爽","化工24-1班","以体强心|先行者—心理健康校园行","校级","一等奖",0]
[132,2024010596,"王爽","化工24-1班","2024“沐光晨跑”","校级","一等奖",0]
[null,null,"王思远 汇总",{"$nulls":4},{"$f":"SUBTOTAL(9,H188:H192)","v":13}]
[133,2024010600,"王思远","信管24-1班","中国石油大学北京新生杯足球赛","校级","冠军",8]
[134,2024010600,"王思远","信管24-1班","2025足球石油杯","校级","第五",4]
[135,2024010600,"王思远","信管24-1班","2024年趣味运动会","校级","参与",1]
[136,2024010600,"王思远","信管24-1班","学生体质健康竞赛","校级","参与",0]
[137,2024010600,"王思远","信管24-1班","2024沐光晨跑团体比赛","校级","一等奖",0]
[null,null,"王韬哲 汇总",{"$nulls":4},{"$f":"SUBTOTAL(9,H194:H196)","v":11}]
[138,2024010573,"王韬哲","能化24-1班","秋季新生运动会男子4×100接力","校级","第二名",8]
[139,2024010573,"王韬哲","能化24-1班","秋季新生运动会200米","校级","第七名",2]
[140,2024010573,"王韬哲","能化24-1","春季运动会","校级","参与",1,"，"]
[null,null,"王笑睿 汇总",{"$nulls":4},{"$f":"SUBTOTAL(9,H198)","v":0}]
[141,2024010627,"王笑睿","能化24-1班","冬季拔河比赛","院级","参与",0]
[null,null,"韦程栋 汇总",{"$nulls":4},{"$f":"SUBTOTAL(9,H200:H201)","v":12}]
[142,2024010467,"韦程栋","化工24-4班","2024年新生杯足球赛","校级","第一名",8]
[143,2024010467,"韦程栋","化工24-4班","2025石油杯足球赛","校级","第五名",4]
[null,null,"温晓阳 汇总",{"$nulls":4},{"$f":"SUBTOTAL(9,H203:H204)","v":1}]
[144,2024010608,"温晓阳","化工24-3班","2024年中国石油大学（北京）秋季学生运动会旋风跑","校级","参与",1]
[145,2024010608,"温晓阳","化工24-3班","2024年度沐光晨跑团体比赛","校级","三等奖",0]
[null,null,"吴佳妮 汇总",{"$nulls":4},{"$f":"SUBTOTAL(9,H206:H209)","v":13}]
[146,2024010585,"吴佳妮","化工24-1班","2024级秋季运动会跳大绳","校级","第一名",8]
[147,2024010585,"吴佳妮","化工24-1班","“石油杯”毽绳决赛女子30秒速度单摇","校级","第五名",4]
[148,2024010585,"吴佳妮","化工24-1","2025春季运动会跳大绳","校级","参与",1]
[149,2024010585,"吴佳妮","化工24-1","2024沐光晨跑团体比赛","校级","一等奖",0]
[null,null,"谢煜轩 汇总",{"$nulls":4},{"$f":"SUBTOTAL(9,H211)","v":8}]
[150,2024010480,"谢煜轩","化工24-2班","中国石油大学（北京）运动会彩虹飞舞","校级","一等奖",8]
[null,null,"谢子翔 汇总",{"$nulls":4},{"$f":"SUBTOTAL(9,H213)","v":0}]
[151,2024010542,"谢子翔","化工24-3","冬季拔河比赛","院级","第二名",0]
[null,null,"徐旋 汇总",{"$nulls":4},{"$f":"SUBTOTAL(9,H215:H216)","v":4}]
[153,2024010545,"徐旋","化工24-3班","冬季拔河比赛","院级","第二名",0]
[154,2024010545,"徐旋","化工24-3班","2025石油杯毽绳决赛","校级","第六名",4]
[null,null,"闫乙昕 汇总",{"$nulls":4},{"$f":"SUBTOTAL(9,H218)","v":0}]
[155,2024010614,"闫乙昕","化工24-3班","2024年度沐光晨跑团体比赛","校级","三等奖",0]
[null,null,"严翊中 汇总",{"$nulls":4},{"$f":"SUBTOTAL(9,H220:H222)","v":8}]
[156,2024010617,"严翊中","能化24-1班","石油杯 新生篮球联赛","校级","季军",6]
[157,2024010617,"严翊中","能化24-1班","秋季运动会铅球","校级","参与",1]
[158,2024010617,"严翊中","能化24-1班","2024多巴胺篮球赛","校级","参与",1]
[null,null,"杨航维 汇总",{"$nulls":4},{"$f":"SUBTOTAL(9,H224:H225)","v":1}]
[159,2024010590,"杨航维","化工24-1班","“石油杯”毽绳比赛","校级","参与",1]
[160,2024010590,"杨航维","化工24-1班","2024“沐光晨跑”","校级","二等奖",0]
[null,null,"杨磊 汇总",{"$nulls":4},{"$f":"SUBTOTAL(9,H227:H228)","v":14}]
[161,2024010620,"杨磊","机器人24-1班","2024年中国石油大学秋季运动会男子4*100米接力","校级","第二名",8]
[162,2024010620,"杨磊","机器人24-1班","2024年中国石油大学新生杯男子篮球","校级","第三名",6]
[null,null,"杨睿 汇总",{"$nulls":4},{"$f":"SUBTOTAL(9,H230)","v":1}]
[163,2024010607,"杨睿","储运24-3班","2024年中国石油大学（北京）秋季学生运动会旋风跑","校级","参与",1]
[null,null,"杨修齐 汇总",{"$nulls":4},{"$f":"SUBTOTAL(9,H232:H233)","v":2}]
[164,2024010476,"杨修齐","化工24-2班","2025春季运动会","校级","参与",1]
[165,2024010476,"杨修齐","化工24-2班","2024秋季运动会","校级","参与",1]
[null,null,"杨悦 汇总",{"$nulls":4},{"$f":"SUBTOTAL(9,H235)","v":8}]
[166,2024010487,"杨悦","能化24-2班","2024校秋季运动会彩虹飞舞","校级","第二名",8]
[null,null,"杨州 汇总",{"$nulls":4},{"$f":"SUBTOTAL(9,H237:H238)","v":9}]
[167,2024010478,"杨州","化工24-2班","趣味运动会彩虹飞舞","校级","第二名",8]
[168,2024010478,"杨州","化工24-2班","2025年中国石油大学春季运动会毛毛虫比赛","校级","参与",1]
[null,null,"叶霖 汇总",{"$nulls":4},{"$f":"SUBTOTAL(9,H240:H242)","v":9}]
[169,2024010527,"叶霖","计算机24-1班","2024中国石油大学（北京）新生杯篮球联赛男子组","校级","第二名",8]
[170,2024010527,"叶霖","计算机24-1班","2024年趣味运动会","校级","参与",1]
[171,2024010527,"叶霖","计算机24-1班","化学工程与环境学院新生趣味运动会毛毛虫竞速","院级","第一名",0]
[null,null,"尤雅 汇总",{"$nulls":4},{"$f":"SUBTOTAL(9,H244:H246)","v":9}]
[172,2024010553,"尤雅","化工24-4班","2024新生趣味运动会","校级","一等奖",8]
[173,2024010553,"尤雅","化工24-4","24秋季运动会","校级","参与",1]
[174,2024010553,"尤雅","化工24-4","2024沐光晨跑团体","校级","二等奖",0]
[null,null,"张家诚 汇总",{"$nulls":4},{"$f":"SUBTOTAL(9,H248:H249)","v":4}]
[175,2024010543,"张家诚","化工24-3","冬季拔河比赛","院级","第二名",0]
[176,2024010543,"张家诚","化工24-3班","2025石油杯毽绳决赛","校级","第六名",4]
[null,null,"张蕊 汇总",{"$nulls":4},{"$f":"SUBTOTAL(9,H251)","v":4}]
[177,2024010521,"张蕊","化工24-3班","2025石油杯毽绳决赛","校级","第六名",4]
[null,null,"张煊 汇总",{"$nulls":4},{"$f":"SUBTOTAL(9,H253)","v":0}]
[178,2024010556,"张煊","化工24-4班","化学工程与环境学院青春律动 ·活力全开”阳光体育竞一等奖","院级","一等奖",0]
[null,null,"张钰涵 汇总",{"$nulls":4},{"$f":"SUBTOTAL(9,H255:H259)","v":10}]
[179,2024010578,"张钰涵","能化24-1班","春季学生会有轨电车","校级","第三名",6]
[180,2024010578,"张钰涵","能化24-1班","春季学生运动会100米栏","校级","第八名",2]
[181,2024010578,"张钰涵","能化24-1班","2024秋季校运动会袋鼠跳","校级","参与",1]
[182,2024010578,"张钰涵","能化24-1班","2025春季校运动会仰卧起坐接力","校级","参与",1]
[183,2024010578,"张钰涵","能化24-1","2024沐光晨跑团体比赛","校级","一等奖",0]
[null,null,"赵晶晶 汇总",{"$nulls":4},{"$f":"SUBTOTAL(9,H261)","v":0}]
[184,2024010497,"赵晶晶","能化24-1班","冬季拔河比赛","院级","第四名",0]
[null,null,"赵梓伯 汇总",{"$nulls":4},{"$f":"SUBTOTAL(9,H263:H267)","v":4}]
[185,2024010519,"赵梓伯","化工24-3","冬季拔河比赛","院级","第二名",0]
[186,2024010519,"赵梓伯","化工24-3班","2025石油杯毽绳决赛","校级","第六名",4]
[187,2024010519,"赵梓伯","化工24-3","石油杯篮球联赛记录台培训","校级","参与",0]
[188,2024010519,"赵梓伯","化工24-3","“多巴胺计划.储力强身”5.4km校园马拉松挑战赛","校级","参与",0]
[189,2024010519,"赵梓伯","化工24-3","第2期“风华启航”—化工学院体能提升计划","校级","参与",0]
[null,null,"路倢利 汇总",{"$nulls":4},{"$f":"SUBTOTAL(9,H269:H270)","v":14}]
[190,2024010583,"路倢利","能化24-2班","新生杯排球联赛","校级","第三名",6]
[191,2024010583,"路倢利","能化24-2班","2024年秋季运动会","校级","第一名",8]
[null,null,"杨清朋 汇总",{"$nulls":4},{"$f":"SUBTOTAL(9,H272)","v":8}]
[192,2024010483,"杨清朋",null,"2024秋季运动会彩虹飞舞","校级","第二名",8]

{"sheet":"体育加分汇总","index":10,"n_rows":79,"n_cols":3,"rows_kept":79}
["艾芯蕊",15,{"$f":"IF(B1>20,20,B1)","v":15}]
["陈晨",32,{"$f":"IF(B2>20,20,B2)","v":20}]
["陈永利",4,4]
["成杰文",9,9]
["董家慧",48,20]
["方泽",9,9]
["高瑞苹",14,14]
["葛亿盛",8,8]
["韩子路",0,0]
["郝美超",8,8]
["郝雪普",0,0]
["何佳",9,9]
["洪瑞",17,17]
["侯星辰",8,8]
["侯垚",0,0]
["胡启红",0,0]
["胡婷",7,7]
["黄大原",0,0]
["黄贤君",10,10]
["靳铭超",8,8]
["康铭坤",22,20]
["孔梓涵",28,20]
["李俊义",1,1]
["李耀初",27,27]
["李宇春",0,0]
["梁金玉",0,0]
["刘春硕",20,20]
["刘迪",1,1]
["刘玲嘉",8,8]
["刘芮",4,4]
["刘诗雨",1,1]
["刘文清",2,2]
["刘子炜",24,20]
["罗锦洪",1,{"$f":"IF(B34>20,20,B34)","v":1}]
["罗晓珍",6,6]
["吕佳琳",8,8]
["吕秋桦",0,0]
["马秋阳",8,8]
["马永龙",8,8]
["孟煜杰",1,1]
["谯佳伟",0,0]
["任俊玮",6,6]
["任熙嘉",8,8]
["水源",2,2]
["苏晴",9,9]
["王诚毅",6,6]
["王二壮",6,6]
["王家成",8,8]
["王珏",0,0]
["王睦钧",11,11]
["王南南",8,8]
["王爽",0,0]
["王思远",13,13]
["王韬哲",11,11]
["王笑睿",0,0]
["韦程栋",12,12]
["温晓阳",1,1]
["吴佳妮",13,13]
["谢煜轩",8,8]
["谢子翔",0,0]
["徐旋",4,4]
["闫乙昕",0,0]
["严翊中",8,8]
["杨航维",1,1]
["杨磊",14,14]
["杨睿",1,1]
["杨修齐",2,2]
["杨悦",8,8]
["杨州",9,9]
["叶霖",9,9]
["尤雅",9,9]
["张家诚",4,4]
["张蕊",4,4]
["张煊",0,0]
["张钰涵",10,10]
["赵晶晶",0,0]
["赵梓伯",4,4]
["路倢利",14,14]
["杨清朋",8,8]

{"sheet":"德育加分","index":11,"n_rows":18,"n_cols":11,"rows_kept":18}
["序号","学号","姓名","班级","竞赛名称","主办单位","竞赛级别","获奖等级","是否为团队项目","若为团队竞赛，填写团队成员；若为个人竞赛，则无需填写","加分(辅导员填写)"]
[1,2024010625,"方文正","化工24-2班","“师者如光，微以致远”征文比赛","中国石油大学（北京）","校级","三等奖","否",null,2]
[2,2024010480,"谢煜轩","化工24-2班","无偿献血","校医院",{"$nulls":4},5]
[3,2024010479,"刘韬","化工24-2班","无偿献血","校医院",{"$nulls":4},5]
[4,2024010484,"任俊玮","化工24-2班","无偿献血","校医院",{"$nulls":4},5]
[5,2024010503,"孙立夫","化工24-2班","无偿献血","校医院",{"$nulls":4},5]
[6,2024010480,"谢煜轩","化工24-2","第四届微团课大赛","校团委","校级","院级特等奖","否",null,1]
[7,2024010480,"谢煜轩","化工24-2","心向暖阳，歌声传锋 班级合唱颂雷锋","化工学院","院级","二等奖",null,null,0]
[8,2024010465,"郝美超","化工24-2版","心向暖阳，歌声传锋 班级合唱颂雷锋","化工学院","院级","二等奖",null,null,0]
[9,2024010475,"葛亿盛","化工24-2","无偿献血","校医院",{"$nulls":4},5]
[10,2024010475,"葛亿盛","化工24-2","心向暖阳，歌声传锋 | 班级合唱颂雷锋活动","化工学院","校级","二等奖","是",null,0]
[11,2024010617,"严翊中","能化24-1","北京市大学生诚信辩论赛","北京市教育委员会 北京市信用协会","省部级","三等奖","是",null,6]
[12,2024010481,"任熙嘉","能化24-1","“师者如光，微以致远”征文比赛","中国石油大学（北京）","校级","三等奖","否",null,2]
[13,2024010464,"胡婷","化工24-4班","2024年“青春的笔触，实践的故事”主题征文","中国石油大学（北京）","校级","三等奖","否",null,2]
[14,2024010525,"何佳","化工24-1","无偿献血全血200cc",{"$nulls":3},"否",null,5]
[15,2024010483,"杨清朋",null,"“师者如光，微以致远”征文比赛","中国石油大学（北京）","校级","三等奖","否",null,2]
[null,null,"艾芯蕊",null,"“油论纵横 石辩春秋”辩论赛","中国石油大学（北京）","校级","一等奖","是",null,8]
[null,null,"胡启红",null,"“油论纵横 石辩春秋”辩论赛","中国石油大学（北京）","校级","一等奖","是",null,8]

{"sheet":"美育","index":12,"n_rows":182,"n_cols":6,"rows_kept":182}
["学号","学生",null,"文化艺术活动(100%)","美育加分(100%)"]
[2024010590,"杨航维","化工类24-5班",36,0,{"$f":"IF(D2>70,70,D2)","v":36}]
[2024010617,"严翊中","化工类24-6班",95,4,{"$f":"IF(D3>70,70,D3)","v":70}]
[2024010578,"张钰涵","化工类24-5班",113,0,70]
[2024010599,"林方宇","化工类24-5班",64,0,64]
[2024010519,"赵梓伯","化工类24-3班",28,0,28]
[2024010525,"何佳","化工类24-3班",80,0,70]
[2024010593,"康铭坤","化工类24-5班",83,2,70]
[2024010458,"施朝阳","化工类24-1班",43,8,43]
[2024010480,"谢煜轩","化工类24-1班",85,0,70]
[2024010464,"胡婷","化工类24-1班",81,4,70]
[2024010481,"任熙嘉","化工类24-1班",45,4,45]
[2024010465,"郝美超","化工类24-1班",121,10,70]
[2024010553,"尤雅","化工类24-4班",114,19,70]
[2024010460,"袁翊淼","化工类24-1班",30,0,30]
[2024010584,"刘玲嘉","化工类24-5班",89,4,70]
[2024010482,"方泽","化工类24-1班",51,4,51]
[2024010608,"温晓阳","化工类24-6班",70,4,70]
[2024010461,"卢力瑛","化工类24-1班",113,0,70]
[2024010605,"杜向栋","化工类24-5班",40,2,40]
[2024010547,"董宇昕","化工类24-4班",55,0,55]
[2024010614,"闫乙昕","化工类24-6班",40,4,40]
[2024010493,"苗思蕊","化工类24-2班",75,10,70]
[2024010626,"李鑫涛","化工类24-6班",10,0,10]
[2024010582,"刘文清","化工类24-5班",93,0,70]
[2024010484,"任俊玮","化工类24-1班",50,0,50]
[2024010607,"杨睿","化工类24-6班",43,4,43]
[2024010623,"郝雪普","化工类24-6班",81,0,70]
[2024010466,"王南南","化工类24-1班",80,0,70]
[2024010513,"朱健健","化工类24-2班",75,0,70]
[2024010539,"赵毅轩","化工类24-3班",5,0,5]
[2024010581,"董家慧","化工类24-5班",73,0,70]
[2024010625,"方文正","化工类24-6班",45,0,45]
[2024010573,"王韬哲","化工类24-4班",43,0,43]
[2024010580,"刘春硕","化工类24-5班",68,0,{"$f":"IF(D35>70,70,D35)","v":68}]
[2024010611,"高瑞苹","化工类24-6班",68,0,68]
[2024010616,"吕佳琳","化工类24-6班",68,0,68]
[2024010459,"靳铭超","化工类24-1班",63,4,63]
[2024010520,"刘诗雨","化工类24-3班",63,0,63]
[2024010630,"周子晨","化工类24-6班",5,0,5]
[2024010478,"杨州","化工类24-1班",60,0,60]
[2024010497,"赵晶晶","化工类24-2班",60,0,60]
[2024010555,"苏晴","化工类24-4班",60,0,60]
[2024010619,"孔德烨","化工类24-6班",60,0,60]
[2024010500,"黄大原","化工类24-2班",40,0,40]
[2024010524,"吕秋桦","化工类24-3班",70,0,70]
[2024010487,"杨悦","化工类24-2班",55,0,55]
[2024010490,"聂玲琳","化工类24-2班",55,0,55]
[2024010495,"韩子路","化工类24-2班",55,0,55]
[2024010521,"张蕊","化工类24-3班",55,0,55]
[2024010572,"邱子恒","化工类24-4班",18,0,18]
[2024010588,"陈晨","化工类24-5班",51,2,51]
[2024010462,"佟安冉","化工类24-1班",48,4,48]
[2024010589,"水源","化工类24-5班",38,0,38]
[2024010628,"柯二文","化工类24-6班",38,0,38]
[2024010592,"罗晓珍","化工类24-5班",51,0,51]
[2024010585,"吴佳妮","化工类24-5班",50,0,50]
[2024010515,"刘起睿","化工类24-2班",35,0,35]
[2024010535,"侯星辰","化工类24-3班",45,0,45]
[2024010606,"王睦钧","化工类24-5班",43,2,43]
[2024010595,"王二壮","化工类24-5班",30,0,30]
[2024010505,"李志聪","化工类24-2班",43,0,43]
[2024010517,"洪瑞","化工类24-3班",43,0,43]
[2024010550,"梁金玉","化工类24-4班",25,0,25]
[2024010635,"吴俊","化工类24-6班",0,0,0]
[2024010485,"马永龙","化工类24-1班",40,0,40]
[2024010488,"郭圣元","化工类24-2班",40,0,{"$f":"IF(D67>70,70,D67)","v":40}]
[2024010528,"黄贤君","化工类24-3班",40,0,40]
[2024010552,"胡语轩","化工类24-4班",40,0,40]
[2024010620,"杨磊","化工类24-6班",40,0,40]
[2024010594,"王志龙","化工类24-5班",53,0,53]
[2024010527,"叶霖","化工类24-3班",38,0,38]
[2024010579,"刘芮","化工类24-5班",48,2,48]
[2024010503,"孙立夫","化工类24-2班",35,0,35]
[2024010508,"谢文博","化工类24-2班",35,0,35]
[2024010511,"吕程","化工类24-2班",35,0,35]
[2024010549,"冯苗鸽","化工类24-4班",35,0,35]
[2024010596,"王爽","化工类24-5班",35,0,35]
[2024010612,"马秋阳","化工类24-6班",35,0,35]
[2024010483,"杨清朋","化工类24-1班",30,4,30]
[2024010510,"钟家豪","化工类24-2班",34,0,34]
[2024010621,"侯垚","化工类24-6班",20,0,20]
[2024010601,"李毅恒","化工类24-5班",32,0,32]
[2024010609,"王晓娜","化工类24-6班",18,0,18]
[2024010504,"陈启骏","化工类24-2班",30,0,30]
[2024010543,"张家诚","化工类24-3班",18,0,18]
[2024010557,"李政阳","化工类24-4班",30,0,30]
[2024010577,"孔梓涵","化工类24-5班",28,2,28]
[2024010598,"张子木","化工类24-5班",30,0,30]
[2024010631,"宋梦博","化工类24-6班",30,0,30]
[2024010544,"陈永利","化工类24-3班",28,0,28]
[2024010469,"何俊希","化工类24-1班",0,6,0]
[2024010523,"胡启红","化工类24-3班",40,0,40]
[2024010538,"王超卓","化工类24-3班",40,0,40]
[2024010476,"杨修齐","化工类24-1班",25,0,25]
[2024010479,"刘韬","化工类24-1班",25,0,25]
[2024010502,"谯佳伟","化工类24-2班",25,0,25]
[2024010506,"姚泓宇","化工类24-2班",25,0,25]
[2024010514,"蒋卓达","化工类24-2班",25,0,{"$f":"IF(D99>70,70,D99)","v":25}]
[2024010533,"蒋金鹏","化工类24-3班",25,0,25]
[2024010542,"谢子翔","化工类24-3班",25,0,25]
[2024010551,"王珏","化工类24-4班",25,0,25]
[2024010558,"李宇轩","化工类24-4班",25,0,25]
[2024010613,"吴淑金","化工类24-6班",18,6,18]
[2024010531,"王崇南","化工类24-3班",23,0,23]
[2024010615,"刘钢彬","化工类24-6班",23,0,23]
[2024010627,"王笑睿","化工类24-6班",9,0,9]
[2024010529,"孟煜杰","化工类24-3班",35,0,35]
[2024010486,"彭一航","化工类24-1班",20,0,20]
[2024010494,"姜明明","化工类24-2班",20,0,20]
[2024010501,"成杰文","化工类24-2班",20,0,20]
[2024010575,"寇笑源","化工类24-4班",20,0,20]
[2024010576,"徐桢","化工类24-4班",20,0,20]
[2024010597,"潘兴顺","化工类24-5班",20,0,20]
[2024010603,"彭天佑","化工类24-5班",20,0,20]
[2024010610,"姜柏彤","化工类24-6班",20,0,20]
[2024010634,"李昌泽","化工类24-6班",20,0,20]
[2024010591,"黄皓仑","化工类24-5班",18,0,18]
[2024010600,"王思远","化工类24-5班",18,0,18]
[2024010633,"陈朕","化工类24-6班",18,0,18]
[2024010632,"贾金鑫","化工类24-6班",31,0,31]
[2024010496,"董叶帆","化工类24-2班",15,0,15]
[2024010509,"孙铭徽","化工类24-2班",15,0,15]
[2024010532,"陈萍洋","化工类24-3班",15,0,15]
[2024010574,"孙愷辰","化工类24-4班",15,0,15]
[2024010622,"李宇春","化工类24-6班",15,0,15]
[2024010472,"赵延奇","化工类24-1班",0,0,0]
[2024010477,"李俊义","化工类24-1班",25,0,25]
[2024010629,"杨恒","化工类24-6班",0,0,0]
[2024010583,"路倢利","化工类24-5班",70,2,70]
[2024010545,"徐旋","化工类24-3班",10,0,{"$f":"IF(D131>70,70,D131)","v":10}]
[2024010624,"任务","化工类24-6班",10,0,10]
[2024010468,"王诚毅","化工类24-1班",8,0,8]
[2024010540,"王嘉博","化工类24-3班",8,0,8]
[2024010571,"李坤明","化工类24-4班",8,0,8]
[2023010381,"宋佳滢","化工类24-2班",20,0,20]
[2024010499,"李耀初","化工类24-2班",5,0,5]
[2024010507,"赵佳富","化工类24-2班",5,0,5]
[2024010537,"龚贝","化工类24-3班",5,0,5]
[2024010548,"赵淑荣","化工类24-4班",5,0,5]
[2024010556,"张煊","化工类24-4班",5,0,5]
[2024010604,"刘俊超","化工类24-5班",5,0,5]
[2024010475,"葛亿盛","化工类24-1班",46,0,46]
[2024010562,"冯子洋","化工类24-4班",3,0,3]
[2024010563,"刘迪","化工类24-4班",3,0,3]
[2024010559,"郑翔鸿","化工类24-4班",15,0,15]
[2024010463,"杨子惠","化工类24-1班",30,0,30]
[2024010473,"李博航","化工类24-1班",0,0,0]
[2024010498,"杨胤泽","化工类24-2班",25,0,25]
[2024010522,"艾芯蕊","化工类24-3班",45,0,45]
[2024010526,"阿优拉·沙帕尔别克","化工类24-3班",0,0,0]
[2024010560,"葸旺","化工类24-4班",30,0,30]
[2024010561,"刘子炜","化工类24-4班",0,0,0]
[2024010566,"王泽轩","化工类24-4班",0,0,0]
[2024010618,"肖港权","化工类24-6班",0,0,0]
[2024010470,"陈韵轩","化工类24-1班",10,0,10]
[2024010569,"吕小川","化工类24-4班",8,0,8]
[2024010602,"洪培彬","化工类24-5班",8,0,8]
[2024010541,"王家成","化工类24-3班",0,0,0]
[2024010534,"李俊豪","化工类24-3班",6,0,6]
[2024010567,"张玉杨","化工类24-4班",5,0,5]
[2024010568,"张川宁","化工类24-4班",3,0,3]
[2024010467,"韦程栋","化工类24-1班",0,0,{"$f":"IF(D163>70,70,D163)","v":0}]
[2024010471,"王路寒","化工类24-1班",0,0,0]
[2024010474,"吴赛扬","化工类24-1班",0,0,0]
[2024010457,"胡紫涵","化工类24-1班",0,0,0]
[2024010489,"赵倩瑶","化工类24-2班",0,0,0]
[2024010491,"田慧慧","化工类24-2班",0,0,0]
[2024010492,"吕莎莎","化工类24-2班",0,0,0]
[2024010512,"桑恒健","化工类24-2班",0,0,0]
[2024010516,"彭好运","化工类24-2班",0,0,0]
[2024010518,"史欣谊","化工类24-3班",0,0,0]
[2024010530,"仇雨乐","化工类24-3班",0,0,0]
[2024010536,"郭北辰","化工类24-3班",0,0,0]
[2024010546,"马铭远","化工类24-3班",0,0,0]
[2024010554,"葛敏","化工类24-4班",0,0,0]
[2024010564,"孙筠翔","化工类24-4班",0,0,0]
[2024010565,"李瑞杰","化工类24-4班",0,0,0]
[2024010570,"罗锦洪","化工类24-4班",0,0,0]
[2024010586,"余若瑜","化工类24-5班",0,0,0]
[2024010587,"海米提·麦买提","化工类24-5班",0,0,0]
[2024010636,"蔡晓燚","化工类24-6班",0,0,0]

{"sheet":"劳育基础分","index":13,"n_rows":182,"n_cols":32,"rows_kept":182,"merged":[[0,3,0,5],[0,6,0,14],[0,15,0,23],[0,24,0,30]]}
[{"$nulls":3},"勤工俭学",null,null,"劳育报告讲座",{"$nulls":8},"学院劳动教育基地",{"$nulls":8},"劳动实践",{"$nulls":6},"劳动总分"]
["序号","姓名","学号","勤工助学","时长/h","赋分","项目一","赋分","项目二","赋分","项目三","赋分","项目四","赋分","合计","项目一","时长/h","项目二","时长/h","项目三","时长/h","项目四","时长/h","合计","志愿时长","赋分","宿舍卫生维护","赋分","社会实践","赋分","汇总","合计"]
[1,"胡紫涵",2024010457,null,null,{"$f":"IF(E3>20,20,E3)","v":0},{"$nulls":8},{"$f":"H3+J3+L3+N3","v":0},{"$nulls":8},{"$f":"Q3+S3+U3+W3","v":0},{"v":18.5,"d":"18.50"},{"$f":"IF(Y3>20,20,Y3)","v":18.5},"无扣分",10,"已参与",10,{"$f":"Z3+AB3+AD3","v":38.5},{"$f":"F3+O3+X3+AE3","v":38.5}]
[2,"施朝阳",2024010458,null,null,{"$f":"IF(E4>20,20,E4)","v":0},{"$nulls":8},{"$f":"H4+J4+L4+N4","v":0},{"$nulls":8},{"$f":"Q4+S4+U4+W4","v":0},{"v":177,"d":"177.00"},{"$f":"IF(Y4>20,20,Y4)","v":20},"无扣分",10,"已参与",10,{"$f":"Z4+AB4+AD4","v":40},{"$f":"F4+O4+X4+AE4","v":40}]
[3,"靳铭超",2024010459,"勤工俭学",6,{"$f":"IF(E5>20,20,E5)","v":6},{"$nulls":8},0,"化工学院举办劳动教育",1,{"$nulls":6},1,{"v":113,"d":"113.00"},20,"无扣分",10,"已参与",10,40,47]
[4,"袁翊淼",2024010460,null,null,{"$f":"IF(E6>20,20,E6)","v":0},{"$nulls":8},0,{"$nulls":8},0,{"v":269.5,"d":"269.50"},20,"无扣分",10,"已参与",10,40,40]
[5,"卢力瑛",2024010461,"4月勤工助学",17,{"$f":"IF(E7>20,20,E7)","v":17},{"$nulls":8},0,{"$nulls":8},0,{"v":73.5,"d":"73.50"},20,"无扣分",10,"已参与",10,40,57]
[6,"佟安冉",2024010462,null,null,{"$f":"IF(E8>20,20,E8)","v":0},{"$nulls":8},0,{"$nulls":8},0,{"v":60,"d":"60.00"},20,"无扣分",10,"已参与",10,40,40]
[7,"杨子惠",2024010463,null,null,0,{"$nulls":8},0,{"$nulls":8},0,{"v":15,"d":"15.00"},15,"无扣分",10,"已参与",10,35,35]
[8,"胡婷",2024010464,null,null,0,{"$nulls":8},0,{"$nulls":8},0,{"v":133.5,"d":"133.50"},20,"无扣分",10,"已参与",10,40,40]
[9,"郝美超",2024010465,null,null,0,{"$nulls":8},0,{"$nulls":8},0,{"v":99.5,"d":"99.50"},20,"无扣分",10,"已参与",10,40,40]
[10,"王南南",2024010466,null,null,0,{"$nulls":8},0,{"$nulls":8},0,{"v":87.5,"d":"87.50"},20,"无扣分",10,"已参与",10,40,40]
[11,"韦程栋",2024010467,null,null,0,{"$nulls":8},0,{"$nulls":8},0,{"v":135.5,"d":"135.50"},20,"无扣分",10,"已参与",10,40,40]
[12,"王诚毅",2024010468,null,null,0,{"$nulls":8},0,"3月8日劳动教育基地",2,{"$nulls":6},2,{"v":12,"d":"12.00"},12,"无扣分",10,"已参与",10,32,34]
[13,"何俊希",2024010469,null,null,0,{"$nulls":8},0,"3月8日劳动教育基地",2,"3月16日劳动教育基地",2,{"$nulls":4},4,{"v":24.5,"d":"24.50"},20,"无扣分",10,"已参与",10,40,44]
[14,"王路寒",2024010471,null,null,0,{"$nulls":8},0,"3月8日劳动教育基地",2,"3月16日劳动教育基地",2,{"$nulls":4},4,{"v":4,"d":"4.00"},4,"无扣分",10,"已参与",10,24,28]
[15,"赵延奇",2024010472,null,null,0,{"$nulls":8},0,"3月8日劳动教育基地",2,"3月16日劳动教育基地",2,{"$nulls":4},4,{"v":12,"d":"12.00"},12,"无扣分",10,"已参与",10,32,36]
[16,"李博航",2024010473,null,null,0,{"$nulls":8},0,"3月8日劳动教育基地",2,{"$nulls":6},2,{"v":4,"d":"4.00"},4,"无扣分",10,"已参与",10,24,26]
[17,"吴赛扬",2024010474,null,null,0,{"$nulls":8},0,"3月8日劳动教育基地",2,"3月16日劳动教育基地",2,{"$nulls":4},4,{"v":4,"d":"4.00"},4,"无扣分",10,"已参与",10,24,28]
[18,"葛亿盛",2024010475,null,null,0,{"$nulls":8},0,"3月8日劳动教育基地",2,{"$nulls":6},2,{"v":65,"d":"65.00"},20,"无扣分",10,"已参与",10,40,42]
[19,"杨修齐",2024010476,null,null,0,{"$nulls":8},0,"3月8日劳动教育基地",2,{"$nulls":6},2,{"v":23,"d":"23.00"},20,"无扣分",10,"已参与",10,40,42]
[20,"李俊义",2024010477,"勤工助学",115,20,{"$nulls":8},0,"3月8日劳动教育基地",2,{"$nulls":6},2,{"v":21,"d":"21.00"},20,"无扣分",10,"已参与",10,40,62]
[21,"杨州",2024010478,null,null,{"$f":"IF(E23>20,20,E23)","v":0},{"$nulls":8},0,"3月8日劳动教育基地",2,{"$nulls":6},2,{"v":7,"d":"7.00"},7,"无扣分",10,"已参与",10,27,29]
[22,"刘韬",2024010479,null,null,0,{"$nulls":8},0,"3月8日劳动教育基地",2,{"$nulls":6},2,{"v":20,"d":"20.00"},20,"无扣分",10,"已参与",10,40,42]
[23,"谢煜轩",2024010480,null,null,0,{"$nulls":8},0,"3月8日劳动教育基地",2,{"$nulls":6},2,{"v":198,"d":"198.00"},20,"无扣分",10,"已参与",10,40,42]
[24,"任熙嘉",2024010481,null,null,0,{"$nulls":8},0,"3月8日劳动教育基地",2,{"$nulls":6},2,{"v":130,"d":"130.00"},20,"无扣分",10,"已参与",10,40,42]
[25,"方泽",2024010482,"勤工俭学",2,2,{"$nulls":8},0,{"$nulls":8},0,{"v":112,"d":"112.00"},20,"无扣分",10,"已参与",10,40,42]
[26,"杨清朋",2024010483,null,null,0,{"$nulls":8},0,"3月8日劳动教育基地",2,{"$nulls":6},2,{"v":27.5,"d":"27.50"},20,"无扣分",10,"已参与",10,40,42]
[27,"任俊玮",2024010484,null,null,0,{"$nulls":8},0,"3月8日劳动教育基地",2,{"$nulls":6},2,{"v":122.5,"d":"122.50"},20,"无扣分",10,"已参与",10,40,42]
[28,"马永龙",2024010485,null,null,0,{"$nulls":8},0,{"$nulls":8},0,{"v":13,"d":"13.00"},13,"无扣分",10,"已参与",10,33,33]
[29,"彭一航",2024010486,null,null,0,{"$nulls":8},0,{"$nulls":8},0,{"v":19.5,"d":"19.50"},19.5,"无扣分",10,"已参与",10,39.5,39.5]
[30,"杨悦",2024010487,null,null,0,{"$nulls":8},0,{"$nulls":8},0,{"v":120.5,"d":"120.50"},20,"无扣分",10,"已参与",10,40,40]
[31,"郭圣元",2024010488,null,null,0,{"$nulls":8},0,{"$nulls":8},0,{"v":48.5,"d":"48.50"},20,"无扣分",10,"已参与",10,40,40]
[32,"赵倩瑶",2024010489,null,null,0,{"$nulls":8},0,{"$nulls":8},0,{"v":9,"d":"9.00"},9,"无扣分",10,"已参与",10,29,29]
[33,"聂玲琳",2024010490,null,null,0,{"$nulls":8},0,"3月8日劳动教育基地",2,{"$nulls":6},2,{"v":91,"d":"91.00"},20,"无扣分",10,"已参与",10,40,42]
[34,"田慧慧",2024010491,null,null,0,{"$nulls":8},{"$f":"H36+J36+L36+N36","v":0},{"$nulls":8},{"$f":"Q36+S36+U36+W36","v":0},{"v":70.5,"d":"70.50"},{"$f":"IF(Y36>20,20,Y36)","v":20},"无扣分",10,"已参与",10,{"$f":"Z36+AB36+AD36","v":40},{"$f":"F36+O36+X36+AE36","v":40}]
[35,"苗思蕊",2024010493,null,null,0,{"$nulls":8},0,{"$nulls":8},0,{"v":89.5,"d":"89.50"},20,"无扣分",10,"已参与",10,40,40]
[36,"姜明明",2024010494,null,null,0,{"$nulls":8},0,"3月8日劳动教育基地",2,{"$nulls":6},2,{"v":196,"d":"196.00"},20,"无扣分",10,"已参与",10,40,42]
[37,"韩子路",2024010495,null,null,0,{"$nulls":8},0,{"$nulls":8},0,{"v":108,"d":"108.00"},20,"无扣分",10,"已参与",10,40,40]
[38,"董叶帆",2024010496,null,null,0,{"$nulls":8},0,{"$nulls":8},0,{"v":2.5,"d":"2.50"},2.5,"无扣分",10,"已参与",10,22.5,22.5]
[39,"赵晶晶",2024010497,null,null,0,{"$nulls":8},0,{"$nulls":8},0,{"v":57.5,"d":"57.50"},20,"无扣分",10,"已参与",10,40,40]
[40,"杨胤泽",2024010498,null,null,0,{"$nulls":8},0,{"$nulls":8},0,{"v":9.5,"d":"9.50"},9.5,"无扣分",10,"已参与",10,29.5,29.5]
[41,"李耀初",2024010499,null,null,0,{"$nulls":8},0,{"$nulls":8},0,{"v":47,"d":"47.00"},20,"无扣分",10,"已参与",10,40,40]
[42,"黄大原",2024010500,null,null,0,{"$nulls":8},0,{"$nulls":8},0,{"v":65.5,"d":"65.50"},20,"无扣分",10,"已参与",10,40,40]
[43,"成杰文",2024010501,null,null,0,{"$nulls":8},0,{"$nulls":8},0,{"v":45,"d":"45.00"},20,"无扣分",10,"已参与",10,40,40]
[44,"谯佳伟",2024010502,null,null,0,{"$nulls":8},0,null,null,"3月16日劳动教育基地",2,{"$nulls":4},2,{"v":38,"d":"38.00"},20,"无扣分",10,"已参与",10,40,42]
[45,"孙立夫",2024010503,null,null,0,{"$nulls":8},0,"3月8日劳动教育基地",2,"3月16日劳动教育基地",2,{"$nulls":4},4,{"v":46.5,"d":"46.50"},20,"无扣分",10,"已参与",10,40,44]
[46,"陈启骏",2024010504,null,null,0,{"$nulls":8},0,{"$nulls":8},0,{"v":5.5,"d":"5.50"},5.5,"无扣分",10,"已参与",10,25.5,25.5]
[47,"李志聪",2024010505,null,null,0,{"$nulls":8},0,"3月8日劳动教育基地",2,"3月16日劳动教育基地",2,{"$nulls":4},4,{"v":110.5,"d":"110.50"},20,"无扣分",10,"已参与",10,40,44]
[48,"姚泓宇",2024010506,null,null,0,{"$nulls":8},0,"3月8日劳动教育基地",2,{"$nulls":6},2,{"v":36.5,"d":"36.50"},20,"无扣分",10,"已参与",10,40,42]
[49,"赵佳富",2024010507,null,null,0,{"$nulls":8},0,{"$nulls":8},0,{"v":7,"d":"7.00"},7,"无扣分",10,"已参与",10,27,27]
[50,"谢文博",2024010508,null,null,0,{"$nulls":8},0,"3月8日劳动教育基地",2,"3月16日劳动教育基地",2,{"$nulls":4},4,{"v":68,"d":"68.00"},20,"无扣分",10,"已参与",10,40,44]
[51,"孙铭徽",2024010509,null,null,0,{"$nulls":8},0,{"$nulls":8},0,{"v":22.5,"d":"22.50"},20,"无扣分",10,"已参与",10,40,40]
[52,"钟家豪",2024010510,null,null,0,{"$nulls":8},0,"化工学院劳动基地除草翻地活动",1.5,{"$nulls":6},1.5,{"v":52,"d":"52.00"},20,"无扣分",10,"已参与",10,40,41.5]
[53,"吕程",2024010511,null,null,{"$f":"IF(E55>20,20,E55)","v":0},{"$nulls":8},0,"化工学院劳动基地除草翻地活动",1.5,{"$nulls":6},1.5,{"v":52.5,"d":"52.50"},20,"无扣分",10,"已参与",10,40,41.5]
[54,"桑恒健",2024010512,null,null,0,{"$nulls":8},0,{"$nulls":8},0,{"v":0,"d":"0.00"},0,"无扣分",10,"已参与",10,20,20]
[55,"朱健健",2024010513,null,null,0,{"$nulls":8},0,{"$nulls":8},0,{"v":19,"d":"19.00"},19,"无扣分",10,"已参与",10,39,39]
[56,"蒋卓达",2024010514,null,null,0,{"$nulls":8},0,{"$nulls":8},0,{"v":146.5,"d":"146.50"},20,"无扣分",10,"已参与",10,40,40]
[57,"洪瑞",2024010517,null,null,0,{"$nulls":8},0,{"$nulls":8},0,{"v":10,"d":"10.00"},10,"无扣分",10,"已参与",10,30,30]
[58,"史欣谊",2024010518,null,null,0,{"$nulls":8},0,{"$nulls":8},0,{"v":9,"d":"9.00"},9,"无扣分",10,"已参与",10,29,29]
[59,"赵梓伯",2024010519,null,null,0,{"$nulls":8},0,{"$nulls":8},0,{"v":129,"d":"129.00"},20,"无扣分",10,"已参与",10,40,40]
[60,"刘诗雨",2024010520,null,null,0,{"$nulls":8},0,"3月8日劳动教育基地",2,{"$nulls":6},2,{"v":40,"d":"40.00"},20,"无扣分",10,"已参与",10,40,42]
[61,"张蕊",2024010521,"勤工助学",10,10,{"$nulls":8},0,"3月8日劳动教育基地",2,{"$nulls":6},2,{"v":107,"d":"107.00"},20,"无扣分",10,"已参与",10,40,52]
[62,"艾芯蕊",2024010522,null,null,0,{"$nulls":8},0,{"$nulls":8},0,{"v":38,"d":"38.00"},20,"无扣分",10,"已参与",10,40,40]
[63,"胡启红",2024010523,null,null,0,{"$nulls":8},0,{"$nulls":8},0,{"v":42.5,"d":"42.50"},20,"无扣分",10,"已参与",10,40,40]
[64,"吕秋桦",2024010524,null,null,0,{"$nulls":8},0,{"$nulls":8},0,{"v":11,"d":"11.00"},11,"无扣分",10,"已参与",10,31,31]
[65,"何佳",2024010525,"勤工俭学",2,2,{"$nulls":8},0,{"$nulls":8},0,{"v":119,"d":"119.00"},20,"无扣分",10,"已参与",10,40,42]
[66,"阿优拉·沙帕尔别克",2024010526,null,null,0,{"$nulls":8},{"$f":"H68+J68+L68+N68","v":0},{"$nulls":8},{"$f":"Q68+S68+U68+W68","v":0},{"v":23,"d":"23.00"},{"$f":"IF(Y68>20,20,Y68)","v":20},"无扣分",10,"已参与",10,{"$f":"Z68+AB68+AD68","v":40},{"$f":"F68+O68+X68+AE68","v":40}]
[67,"黄贤君",2024010528,null,null,0,{"$nulls":8},0,"3月8日劳动教育基地",2,{"$nulls":6},2,{"v":9,"d":"9.00"},9,"无扣分",10,"已参与",10,29,31]
[68,"孟煜杰",2024010529,null,null,0,{"$nulls":8},0,{"$nulls":8},0,{"v":4,"d":"4.00"},4,"无扣分",10,"已参与",10,24,24]
[69,"仇雨乐",2024010530,null,null,0,{"$nulls":8},0,{"$nulls":8},0,{"v":0,"d":"0.00"},0,"无扣分",10,"已参与",10,20,20]
[70,"王崇南",2024010531,null,null,0,{"$nulls":8},0,{"$nulls":8},0,{"v":4,"d":"4.00"},4,"无扣分",10,"已参与",10,24,24]
[71,"陈萍洋",2024010532,null,null,0,{"$nulls":8},0,{"$nulls":8},0,{"v":4,"d":"4.00"},4,"无扣分",10,"已参与",10,24,24]
[72,"蒋金鹏",2024010533,null,null,0,{"$nulls":8},0,{"$nulls":8},0,{"v":4,"d":"4.00"},4,"无扣分",10,"已参与",10,24,24]
[73,"李俊豪",2024010534,null,null,0,{"$nulls":8},0,{"$nulls":8},0,{"v":4,"d":"4.00"},4,"无扣分",10,"已参与",10,24,24]
[74,"侯星辰",2024010535,null,null,0,{"$nulls":8},0,{"$nulls":8},0,{"v":14,"d":"14.00"},14,"无扣分",10,"已参与",10,34,34]
[75,"郭北辰",2024010536,null,null,0,{"$nulls":8},0,"3月8日劳动教育基地",2,{"$nulls":6},2,{"v":47,"d":"47.00"},20,"无扣分",10,"已参与",10,40,42]
[76,"龚贝",2024010537,null,null,0,{"$nulls":8},0,{"$nulls":8},0,{"v":17,"d":"17.00"},17,"无扣分",10,"已参与",10,37,37]
[77,"王超卓",2024010538,null,null,0,{"$nulls":8},0,"3月8日劳动教育基地",2,{"$nulls":6},2,{"v":20.5,"d":"20.50"},20,"无扣分",10,"已参与",10,40,42]
[78,"赵毅轩",2024010539,null,null,0,{"$nulls":8},0,{"$nulls":8},0,{"v":5.5,"d":"5.50"},5.5,"无扣分",10,"已参与",10,25.5,25.5]
[79,"王嘉博",2024010540,null,null,0,{"$nulls":8},0,{"$nulls":8},0,{"v":5,"d":"5.00"},5,"无扣分",10,"已参与",10,25,25]
[80,"王家成",2024010541,null,null,0,{"$nulls":8},0,{"$nulls":8},0,{"v":9,"d":"9.00"},9,"无扣分",10,"已参与",10,29,29]
[81,"谢子翔",2024010542,null,null,0,{"$nulls":8},0,{"$nulls":8},0,{"v":60,"d":"60.00"},20,"无扣分",10,"已参与",10,40,40]
[82,"张家诚",2024010543,null,null,0,{"$nulls":8},0,{"$nulls":8},0,{"v":12,"d":"12.00"},12,"无扣分",10,"已参与",10,32,32]
[83,"陈永利",2024010544,null,null,0,{"$nulls":8},0,{"$nulls":8},0,{"v":9,"d":"9.00"},9,"无扣分",10,"已参与",10,29,29]
[84,"徐旋",2024010545,null,null,0,{"$nulls":8},0,{"$nulls":8},0,{"v":9,"d":"9.00"},9,"无扣分",10,"已参与",10,29,29]
[85,"马铭远",2024010546,null,null,{"$f":"IF(E87>20,20,E87)","v":0},{"$nulls":8},0,{"$nulls":8},0,{"v":4,"d":"4.00"},4,"无扣分",10,"已参与",10,24,24]
[86,"董宇昕",2024010547,null,null,0,{"$nulls":8},0,{"$nulls":8},0,{"v":67,"d":"67.00"},20,"无扣分",10,"已参与",10,40,40]
[87,"赵淑荣",2024010548,null,null,0,{"$nulls":8},0,{"$nulls":8},0,{"v":8,"d":"8.00"},8,"无扣分",10,"已参与",10,28,28]
[88,"冯苗鸽",2024010549,null,null,0,{"$nulls":8},0,{"$nulls":8},0,{"v":27,"d":"27.00"},20,"无扣分",10,"已参与",10,40,40]
[89,"梁金玉",2024010550,null,null,0,{"$nulls":8},0,"3月8日劳动教育基地",2,{"$nulls":6},2,{"v":33,"d":"33.00"},20,"无扣分",10,"已参与",10,40,42]
[90,"王珏",2024010551,null,null,0,{"$nulls":8},0,"3月8日劳动教育基地",2,{"$nulls":6},2,{"v":215.5,"d":"215.50"},20,"无扣分",10,"已参与",10,40,42]
[91,"胡语轩",2024010552,null,null,0,{"$nulls":8},0,{"$nulls":8},0,{"v":39.5,"d":"39.50"},20,"无扣分",10,"已参与",10,40,40]
[92,"尤雅",2024010553,null,null,0,{"$nulls":8},0,{"$nulls":8},0,{"v":107,"d":"107.00"},20,"无扣分",10,"已参与",10,40,40]
[93,"葛敏",2024010554,null,null,0,{"$nulls":8},0,{"$nulls":8},0,{"v":8,"d":"8.00"},8,"无扣分",10,"已参与",10,28,28]
[94,"苏晴",2024010555,null,null,0,{"$nulls":8},0,"化工学院举办劳动教育",1,{"$nulls":6},1,{"v":104,"d":"104.00"},20,"无扣分",10,"已参与",10,40,41]
[95,"张煊",2024010556,null,null,0,{"$nulls":8},0,"化工学院举办劳动教育",1,{"$nulls":6},1,{"v":3,"d":"3.00"},3,"无扣分",10,"已参与",10,23,24]
[96,"李政阳",2024010557,null,null,0,{"$nulls":8},0,"3月8日劳动教育基地",2,"3月16日劳动教育基地",2,{"$nulls":4},4,{"v":117,"d":"117.00"},20,"无扣分",10,"已参与",10,40,44]
[97,"李宇轩",2024010558,null,null,0,{"$nulls":8},0,{"$nulls":8},0,{"v":0,"d":"0.00"},0,"无扣分",10,"已参与",10,20,20]
[98,"郑翔鸿",2024010559,null,null,0,{"$nulls":8},{"$f":"H100+J100+L100+N100","v":0},{"$nulls":8},{"$f":"Q100+S100+U100+W100","v":0},{"v":5,"d":"5.00"},{"$f":"IF(Y100>20,20,Y100)","v":5},"无扣分",10,"已参与",10,{"$f":"Z100+AB100+AD100","v":25},{"$f":"F100+O100+X100+AE100","v":25}]
[99,"葸旺",2024010560,null,null,0,{"$nulls":8},0,{"$nulls":8},0,{"v":50,"d":"50.00"},20,"无扣分",10,"已参与",10,40,40]
[100,"刘子炜",2024010561,null,null,0,{"$nulls":8},0,{"$nulls":8},0,{"v":87.5,"d":"87.50"},20,"无扣分",10,"已参与",10,40,40]
[101,"冯子洋",2024010562,null,null,0,{"$nulls":8},0,{"$nulls":8},0,{"v":0,"d":"0.00"},0,"无扣分",10,"已参与",10,20,20]
[102,"刘迪",2024010563,null,null,0,{"$nulls":8},0,"3月8日劳动教育基地",2,"3月16日劳动教育基地",2,{"$nulls":4},4,{"v":0,"d":"0.00"},0,"无扣分",10,"已参与",10,20,24]
[103,"孙筠翔",2024010564,null,null,0,{"$nulls":8},0,{"$nulls":8},0,{"v":0,"d":"0.00"},0,"无扣分",10,"已参与",10,20,20]
[104,"李瑞杰",2024010565,null,null,0,{"$nulls":8},0,{"$nulls":8},0,null,0,"无扣分",10,"已参与",10,20,20]
[105,"王泽轩",2024010566,null,null,0,{"$nulls":8},0,{"$nulls":8},0,{"v":0,"d":"0.00"},0,"无扣分",10,"已参与",10,20,20]
[106,"张玉杨",2024010567,null,null,0,{"$nulls":8},0,"化工学院举办劳动教育",1,{"$nulls":6},1,{"v":0,"d":"0.00"},0,"无扣分",10,"已参与",10,20,21]
[107,"张川宁",2024010568,null,null,0,{"$nulls":8},0,{"$nulls":8},0,{"v":0,"d":"0.00"},0,"无扣分",10,"已参与",10,20,20]
[108,"吕小川",2024010569,null,null,0,{"$nulls":8},0,{"$nulls":8},0,{"v":8,"d":"8.00"},8,"无扣分",10,"已参与",10,28,28]
[109,"罗锦洪",2024010570,null,null,0,{"$nulls":8},0,null,null,"3月16日劳动教育基地",2,{"$nulls":4},2,{"v":8,"d":"8.00"},8,"无扣分",10,"已参与",10,28,30]
[110,"李坤明",2024010571,null,null,0,{"$nulls":8},0,{"$nulls":8},0,{"v":0,"d":"0.00"},0,"无扣分",10,"已参与",10,20,20]
[111,"邱子恒",2024010572,null,null,0,{"$nulls":8},0,{"$nulls":8},0,{"v":0,"d":"0.00"},0,"无扣分",10,"已参与",10,20,20]
[112,"王韬哲",2024010573,null,null,0,{"$nulls":8},0,{"$nulls":8},0,{"v":6,"d":"6.00"},6,"无扣分",10,"已参与",10,26,26]
[113,"孙愷辰",2024010574,null,null,0,{"$nulls":8},0,{"$nulls":8},0,{"v":8,"d":"8.00"},8,"无扣分",10,"已参与",10,28,28]
[114,"寇笑源",2024010575,null,null,0,{"$nulls":8},0,{"$nulls":8},0,{"v":77,"d":"77.00"},20,"无扣分",10,"已参与",10,40,40]
[115,"孔梓涵",2024010577,null,null,0,"【化工24-5班】学习北京大学新时代劳动理论课",2.5,{"$nulls":6},2.5,{"$nulls":8},0,{"v":18,"d":"18.00"},18,"无扣分",10,"已参与",10,38,40.5]
[116,"张钰涵",2024010578,null,null,0,"【化工24-5班】学习北京大学新时代劳动理论课",2.5,{"$nulls":6},2.5,{"$nulls":8},0,{"v":76.5,"d":"76.50"},20,"无扣分",10,"已参与",10,40,42.5]
[117,"刘芮",2024010579,null,null,{"$f":"IF(E119>20,20,E119)","v":0},"【化工24-5班】学习北京大学新时代劳动理论课",2.5,{"$nulls":6},2.5,{"$nulls":8},0,{"v":31,"d":"31.00"},20,"无扣分",10,"已参与",10,40,42.5]
[118,"刘春硕",2024010580,null,null,0,"【化工24-5班】学习北京大学新时代劳动理论课",2.5,{"$nulls":6},2.5,{"$nulls":8},0,{"v":49.5,"d":"49.50"},20,"无扣分",10,"已参与",10,40,42.5]
[119,"董家慧",2024010581,null,null,0,"【化工24-5班】学习北京大学新时代劳动理论课",2.5,{"$nulls":6},2.5,{"$nulls":8},0,{"v":36,"d":"36.00"},20,"无扣分",10,"已参与",10,40,42.5]
[120,"刘文清",2024010582,null,null,0,"【化工24-5班】学习北京大学新时代劳动理论课",2.5,{"$nulls":6},2.5,{"$nulls":8},0,{"v":90,"d":"90.00"},20,"无扣分",10,"已参与",10,40,42.5]
[121,"路倢利",2024010583,null,null,0,"【化工24-5班】学习北京大学新时代劳动理论课",2.5,{"$nulls":6},2.5,"3月8日劳动教育基地",2,{"$nulls":6},2,{"v":79.5,"d":"79.50"},20,"无扣分",10,"已参与",10,40,44.5]
[122,"刘玲嘉",2024010584,null,null,0,"【化工24-5班】学习北京大学新时代劳动理论课",2.5,{"$nulls":6},2.5,"3月8日劳动教育基地",2,{"$nulls":6},2,{"v":195.5,"d":"195.50"},20,"无扣分",10,"已参与",10,40,44.5]
[123,"吴佳妮",2024010585,null,null,0,"【化工24-5班】学习北京大学新时代劳动理论课",2.5,{"$nulls":6},2.5,"3月8日劳动教育基地",2,{"$nulls":6},2,{"v":61.5,"d":"61.50"},20,"无扣分",10,"已参与",10,40,44.5]
[124,"余若瑜",2024010586,null,null,0,"【化工24-5班】学习北京大学新时代劳动理论课",2.5,{"$nulls":6},2.5,{"$nulls":8},0,{"v":4,"d":"4.00"},4,"无扣分",10,"已参与",10,24,26.5]
[125,"海米提·麦买提",2024010587,null,null,0,{"$nulls":8},0,{"$nulls":8},0,{"v":0,"d":"0.00"},0,"无扣分",10,"已参与",10,20,20]
[126,"陈晨",2024010588,null,null,0,"【化工24-5班】学习北京大学新时代劳动理论课",2.5,{"$nulls":6},2.5,{"$nulls":8},0,{"v":43,"d":"43.00"},20,"无扣分",10,"已参与",10,40,42.5]
[127,"水源",2024010589,null,null,0,"【化工24-5班】学习北京大学新时代劳动理论课",2.5,{"$nulls":6},2.5,{"$nulls":8},0,{"v":14.5,"d":"14.50"},14.5,"无扣分",10,"已参与",10,34.5,37]
[128,"杨航维",2024010590,null,null,0,"【化工24-5班】学习北京大学新时代劳动理论课",2.5,{"$nulls":6},2.5,"化工学院劳动基地除草翻地活动",1.5,{"$nulls":6},1.5,{"v":54.5,"d":"54.50"},20,"无扣分",10,"已参与",10,40,44]
[129,"黄皓仑",2024010591,null,null,0,"【化工24-5班】学习北京大学新时代劳动理论课",2.5,{"$nulls":6},2.5,{"$nulls":8},0,{"v":44.5,"d":"44.50"},20,"无扣分",10,"已参与",10,40,42.5]
[130,"罗晓珍",2024010592,null,null,0,"【化工24-5班】学习北京大学新时代劳动理论课",2.5,{"$nulls":6},{"$f":"H132+J132+L132+N132","v":2.5},"化工学院举办劳动教育",1,{"$nulls":6},{"$f":"Q132+S132+U132+W132","v":1},{"v":68,"d":"68.00"},{"$f":"IF(Y132>20,20,Y132)","v":20},"无扣分",10,"已参与",10,{"$f":"Z132+AB132+AD132","v":40},{"$f":"F132+O132+X132+AE132","v":43.5}]
[131,"康铭坤",2024010593,null,null,0,"【化工24-5班】学习北京大学新时代劳动理论课",2.5,{"$nulls":6},2.5,"化工学院举办劳动教育",1,"3月16日劳动教育基地",2,{"$nulls":4},3,{"v":116.5,"d":"116.50"},20,"无扣分",10,"已参与",10,40,45.5]
[132,"王志龙",2024010594,null,null,0,"【化工24-5班】学习北京大学新时代劳动理论课",2.5,{"$nulls":6},2.5,{"$nulls":8},0,{"v":17.5,"d":"17.50"},17.5,"无扣分",10,"已参与",10,37.5,40]
[133,"王二壮",2024010595,null,null,0,"【化工24-5班】学习北京大学新时代劳动理论课",2.5,{"$nulls":6},2.5,"3月8日劳动教育基地",2,"3月16日劳动教育基地",2,{"$nulls":4},4,{"v":40.5,"d":"40.50"},20,"无扣分",10,"已参与",10,40,46.5]
[134,"王爽",2024010596,null,null,0,"【化工24-5班】学习北京大学新时代劳动理论课",2.5,{"$nulls":6},2.5,{"$nulls":8},0,{"v":34,"d":"34.00"},20,"无扣分",10,"已参与",10,40,42.5]
[135,"潘兴顺",2024010597,null,null,0,{"$nulls":8},0,{"$nulls":8},0,{"v":24.5,"d":"24.50"},20,"无扣分",10,"已参与",10,40,40]
[136,"张子木",2024010598,null,null,0,"【化工24-5班】学习北京大学新时代劳动理论课",2.5,{"$nulls":6},2.5,"化工学院劳动基地除草翻地活动",1.5,{"$nulls":6},1.5,{"v":25.5,"d":"25.50"},20,"无扣分",10,"已参与",10,40,44]
[137,"林方宇",2024010599,null,null,0,{"$nulls":8},0,{"$nulls":8},0,{"v":43.5,"d":"43.50"},20,"无扣分",10,"已参与",10,40,40]
[138,"李毅恒",2024010601,null,null,0,"【化工24-5班】学习北京大学新时代劳动理论课",2.5,{"$nulls":6},2.5,"化工学院劳动基地除草翻地活动",1.5,{"$nulls":6},1.5,{"v":36,"d":"36.00"},20,"无扣分",10,"已参与",10,40,44]
[139,"洪培彬",2024010602,null,null,0,"【化工24-5班】学习北京大学新时代劳动理论课",2.5,{"$nulls":6},2.5,{"$nulls":8},0,{"v":29,"d":"29.00"},20,"无扣分",10,"已参与",10,40,42.5]
[140,"彭天佑",2024010603,null,null,0,"【化工24-5班】学习北京大学新时代劳动理论课",2.5,{"$nulls":6},2.5,{"$nulls":8},0,{"v":36,"d":"36.00"},20,"无扣分",10,"已参与",10,40,42.5]
[141,"刘俊超",2024010604,null,null,0,"【化工24-5班】学习北京大学新时代劳动理论课",2.5,{"$nulls":6},2.5,{"$nulls":8},0,{"v":98.5,"d":"98.50"},20,"无扣分",10,"已参与",10,40,42.5]
[142,"杜向栋",2024010605,"勤工助学",16,16,"【化工24-5班】学习北京大学新时代劳动理论课",2.5,{"$nulls":6},2.5,"3月8日劳动教育基地",2,"3月16日劳动教育基地",2,{"$nulls":4},4,{"v":231,"d":"231.00"},20,"无扣分",10,"已参与",10,40,62.5]
[143,"王睦钧",2024010606,null,null,0,"【化工24-5班】学习北京大学新时代劳动理论课",2.5,{"$nulls":6},2.5,{"$nulls":8},0,{"v":54,"d":"54.00"},20,"无扣分",10,"已参与",10,40,42.5]
[144,"温晓阳",2024010608,"勤工俭学",10,10,{"$nulls":8},0,{"$nulls":8},0,{"v":95.5,"d":"95.50"},20,"无扣分",10,"已参与",10,40,50]
[145,"姜柏彤",2024010610,null,null,0,{"$nulls":8},0,{"$nulls":8},0,{"v":98,"d":"98.00"},20,"无扣分",10,"已参与",10,40,40]
[146,"高瑞苹",2024010611,null,null,0,{"$nulls":8},0,{"$nulls":8},0,{"v":85,"d":"85.00"},20,"无扣分",10,"已参与",10,40,40]
[147,"马秋阳",2024010612,null,null,0,{"$nulls":8},0,null,null,"3月16日劳动教育基地",2,{"$nulls":4},2,{"v":35,"d":"35.00"},20,"无扣分",10,"已参与",10,40,42]
[148,"吴淑金",2024010613,null,null,0,{"$nulls":8},0,null,null,"3月16日劳动教育基地",2,{"$nulls":4},2,{"v":20,"d":"20.00"},20,"无扣分",10,"已参与",10,40,42]
[149,"闫乙昕",2024010614,null,null,{"$f":"IF(E151>20,20,E151)","v":0},{"$nulls":8},0,{"$nulls":8},0,{"v":67,"d":"67.00"},20,"无扣分",10,"已参与",10,40,40]
[150,"刘钢彬",2024010615,null,null,0,{"$nulls":8},0,"化工学院举办劳动教育活动",1,"3月16日劳动教育基地",2,{"$nulls":4},3,{"v":54,"d":"54.00"},20,"无扣分",10,"已参与",10,40,43]
[151,"吕佳琳",2024010616,null,null,0,{"$nulls":8},0,null,null,"3月16日劳动教育基地",2,{"$nulls":4},2,{"v":109,"d":"109.00"},20,"无扣分",10,"已参与",10,40,42]
[152,"严翊中",2024010617,null,null,0,{"$nulls":8},0,{"$nulls":8},0,{"v":308,"d":"308.00"},20,"无扣分",10,"已参与",10,40,40]
[153,"肖港权",2024010618,null,null,0,{"$nulls":8},0,{"$nulls":8},0,{"v":0,"d":"0.00"},0,"无扣分",10,"已参与",10,20,20]
[154,"孔德烨",2024010619,null,null,0,{"$nulls":8},0,{"$nulls":8},0,{"v":4,"d":"4.00"},4,"无扣分",10,"已参与",10,24,24]
[155,"侯垚",2024010621,null,null,0,{"$nulls":8},0,{"$nulls":8},0,{"v":0,"d":"0.00"},0,"无扣分",10,"已参与",10,20,20]
[156,"李宇春",2024010622,null,null,0,{"$nulls":8},0,{"$nulls":8},0,{"v":0,"d":"0.00"},0,"无扣分",10,"已参与",10,20,20]
[157,"郝雪普",2024010623,null,null,0,{"$nulls":8},0,"3月8日劳动教育基地",2,{"$nulls":6},2,{"v":64,"d":"64.00"},20,"无扣分",10,"已参与",10,40,42]
[158,"任务",2024010624,null,null,0,{"$nulls":8},0,{"$nulls":8},0,{"v":15,"d":"15.00"},15,"无扣分",10,"已参与",10,35,35]
[159,"方文正",2024010625,null,null,0,{"$nulls":8},0,"化工学院举办劳动教育",1,{"$nulls":6},1,{"v":79.5,"d":"79.50"},20,"无扣分",10,"已参与",10,40,41]
[160,"李鑫涛",2024010626,null,null,0,{"$nulls":8},0,"化工学院举办劳动教育活动",1,{"$nulls":6},1,{"v":69.5,"d":"69.50"},20,"无扣分",10,"已参与",10,40,41]
[161,"王笑睿",2024010627,null,null,0,{"$nulls":8},0,{"$nulls":8},0,{"v":26,"d":"26.00"},20,"无扣分",10,"已参与",10,40,40]
[162,"柯二文",2024010628,null,null,0,{"$nulls":8},{"$f":"H164+J164+L164+N164","v":0},"3月8日劳动教育基地",2,{"$nulls":6},{"$f":"Q164+S164+U164+W164","v":2},{"v":32,"d":"32.00"},20,"无扣分",10,"已参与",10,{"$f":"Z164+AB164+AD164","v":40},{"$f":"F164+O164+X164+AE164","v":42}]
[163,"杨恒",2024010629,null,null,0,{"$nulls":8},0,"化工学院举办劳动教育",1,{"$nulls":6},1,{"v":59.5,"d":"59.50"},20,"无扣分",10,"已参与",10,40,41]
[164,"周子晨",2024010630,null,null,0,{"$nulls":8},0,"3月8日劳动教育基地",2,{"$nulls":6},2,{"v":18,"d":"18.00"},18,"无扣分",10,"已参与",10,38,40]
[165,"宋梦博",2024010631,null,null,0,{"$nulls":8},0,"3月8日劳动教育基地",2,{"$nulls":6},2,{"v":12,"d":"12.00"},12,"无扣分",10,"已参与",10,32,34]
[166,"贾金鑫",2024010632,null,null,0,{"$nulls":8},0,"化工学院劳动基地除草翻地活动",1.5,"3月8日劳动教育基地",2,{"$nulls":4},3.5,{"v":16,"d":"16.00"},16,"无扣分",10,"已参与",10,36,39.5]
[167,"陈朕",2024010633,"勤工俭学",5,5,{"$nulls":8},0,"化工学院劳动基地除草翻地活动",1.5,{"$nulls":6},1.5,{"v":28,"d":"28.00"},20,"无扣分",10,"已参与",10,40,46.5]
[168,"李昌泽",2024010634,null,null,0,{"$nulls":8},0,{"$nulls":8},0,{"v":0,"d":"0.00"},0,"无扣分",10,"已参与",10,20,20]
[169,"吴俊",2024010635,null,null,0,{"$nulls":8},0,"3月8日劳动教育基地",2,{"$nulls":6},2,{"v":0,"d":"0.00"},0,"无扣分",10,"已参与",10,20,22]
[170,"蔡晓燚",2024010636,null,null,0,{"$nulls":8},0,{"$nulls":8},0,{"v":0,"d":"0.00"},0,"无扣分",10,"已参与",10,20,20]
[171,"徐桢",2024010576,null,null,0,{"$nulls":8},0,{"$nulls":8},0,{"v":0,"d":"0.00"},0,"无扣分",10,"已参与",10,20,20]
[172,"王思远",2024010600,null,null,0,"【化工24-5班】学习北京大学新时代劳动理论课",2.5,{"$nulls":5},2.5,5,"化工学院劳动基地除草翻地活动",1.5,{"$nulls":6},1.5,{"v":144.5,"d":"144.50"},20,"无扣分",10,"已参与",10,40,46.5]
[173,"彭好运",2024010516,null,null,0,{"$nulls":8},0,{"$nulls":8},0,1,1,"无扣分",10,"未参与",0,11,11]
[174,"刘起睿",2024010515,null,null,0,{"$nulls":8},0,{"$nulls":8},0,15,15,"无扣分",10,"已参与",10,35,35]
[175,"吕莎莎",2024010492,null,null,0,{"$nulls":8},0,{"$nulls":9},90.5,20,"无扣分",10,"已参加",10,40,40]
[176,"杨磊",2024010620,null,null,0,{"$nulls":8},0,{"$nulls":8},0,23,20,"无扣分",10,"已参加",10,40,40]
[177,"杨睿",2024010607,null,null,0,{"$nulls":8},0,"化工学院劳动基地除草翻地活动",1.5,{"$nulls":6},1.5,162.5,20,"无扣分",10,"已参加",10,40,41.5]
[null,"叶霖",2024010527,null,null,0,{"$nulls":17},0,3,3,"无扣分",10,"已参加",10,23,23]
[null,"王晓娜",2024010609,null,null,0,{"$nulls":18},120,20,"无扣分",10,"已参加",10,40,40]
[null,"陈韵轩",2024010470,null,null,0,{"$nulls":18},27,20,"无扣分",10,"已参加",10,40,40]

{"sheet":"劳育加分","index":14,"n_rows":36,"n_cols":9,"rows_kept":36,"merged":[[0,1,0,3],[0,4,0,8]]}
[null,"社会实践",null,null,"培养方案外实习"]
["姓名","项目名称","获奖等级","赋分","项目","赋分","项目","赋分","总分"]
["闫乙昕","烽烟载史，青衿寻踪","校级一等奖",4,{"$nulls":4},{"$f":"D3+F3+H3","v":4}]
["严翊中","烽烟载史，青衿寻踪","校级一等奖",4,{"$nulls":4},{"$f":"D4+F4+H4","v":4}]
["康铭坤","涛声忆旧，红脉承新：追寻黄河边的红色记忆","校级三等奖",4,{"$nulls":4},4]
["李政阳","涛声忆旧，红脉承新：追寻黄河边的红色记忆","校级三等奖",4,{"$nulls":4},4]
["周子晨","涛声忆旧，红脉承新：追寻黄河边的红色记忆","校级三等奖",4,{"$nulls":4},4]
["谢文博","涛声忆旧，红脉承新：追寻黄河边的红色记忆","校级三等奖",4,{"$nulls":4},4]
["黄皓仑","涛声忆旧，红脉承新：追寻黄河边的红色记忆","校级三等奖",4,{"$nulls":4},4]
["王二壮","涛声忆旧，红脉承新：追寻黄河边的红色记忆","校级三等奖",4,{"$nulls":4},4]
["王睦钧","涛声忆旧，红脉承新：追寻黄河边的红色记忆","校级三等奖",4,{"$nulls":4},4]
["王志龙","涛声忆旧，红脉承新：追寻黄河边的红色记忆","校级三等奖",4,{"$nulls":4},4]
["葛亿盛","化源兴乡：三核赋能浙东乡村共富的乡村模式实践与推广","校级三等奖",4,"甬江实验室",1,null,null,5]
["谢煜轩","化源兴乡：三核赋能浙东乡村共富的乡村模式实践与推广","校级三等奖",4,{"$nulls":4},4]
["郝美超","化源兴乡：三核赋能浙东乡村共富的乡村模式实践与推广","校级三等奖",4,{"$nulls":4},4]
["王南南","化源兴乡：三核赋能浙东乡村共富的乡村模式实践与推广","校级三等奖",4,{"$nulls":4},4]
["任俊伟","化源兴乡：三核赋能浙东乡村共富的乡村模式实践与推广","校级三等奖",4,{"$nulls":4},4]
["赵晶晶","化源兴乡：三核赋能浙东乡村共富的乡村模式实践与推广","校级三等奖",4,{"$nulls":4},4]
["杨睿","伊金霍洛旗现代能源经济及生态文明建设专题调研","校级三等奖",4,{"$nulls":4},4]
["洪瑞","伊金霍洛旗现代能源经济及生态文明建设专题调研","校级三等奖",4,{"$nulls":4},4]
["方泽","伊金霍洛旗现代能源经济及生态文明建设专题调研","校级三等奖",4,{"$nulls":4},4]
["何佳","伊金霍洛旗现代能源经济及生态文明建设专题调研","校级三等奖",4,{"$nulls":4},4]
["蒋卓达","伊金霍洛旗现代能源经济及生态文明建设专题调研","校级三等奖",4,{"$nulls":4},4]
["王晓娜","伊金霍洛旗现代能源经济及生态文明建设专题调研","校级三等奖",4,{"$nulls":4},4]
["李政阳","伊金霍洛旗现代能源经济及生态文明建设专题调研","校级三等奖",4,{"$nulls":4},4]
["邱子恒","伊金霍洛旗现代能源经济及生态文明建设专题调研","校级三等奖",4,{"$nulls":4},4]
["彭一航","伊金霍洛旗现代能源经济及生态文明建设专题调研","校级三等奖",4,{"$nulls":4},4]
["杜向栋","伊金霍洛旗现代能源经济及生态文明建设专题调研","校级三等奖",4,{"$nulls":4},4]
["卢力瑛","赓续红色血脉，探寻能源报国之路","校级三等奖",4,"开阳县开云街道马头寨社区",1,null,null,5]
["张煊",{"$nulls":3},"新疆若森工程科技有限责任公司",1,null,null,1]
["王思远",{"$nulls":3},"共青团北京市延庆区委员会",1,"北京市延庆区交通局",1,2]
["韩子路","“望山”系列社会实践之“寻晋韵风华，筑振兴之路”","校级一等奖",4,{"$nulls":4},4]
["杨悦","水脉绿盾,共绘粤东生态蓝图：红树林湿地与水资源协同监测，助力粤东生态环境建设","校级三等奖",4,{"$nulls":4},4]
["佟安冉","新棉青链：新疆农膜绿色发展与棉秆资源化","校级二等奖",4,{"$nulls":4},4]
["张钰涵",null,"校级三等奖"]
["刘春硕",null,"校级三等奖"]

{"sheet":"必修课优良率","index":15,"n_rows":173,"n_cols":4,"rows_kept":173}
["方泽","66.67%",{"v":1,"d":"1.00"},"是"]
["赵佳富","57.14%",{"v":0,"d":"0.00"},"否"]
["孙铭徽","66.67%",{"v":0,"d":"0.00"},"否"]
["钟家豪","75.00%",{"v":1,"d":"1.00"},"是"]
["吕程","66.67%",{"v":0,"d":"0.00"},"否"]
["朱健健","85.71%",{"v":0,"d":"0.00"},"否"]
["何佳","85.71%",{"v":0,"d":"0.00"},"否"]
["阿优拉·沙帕尔别克","57.14%",{"v":3,"d":"3.00"},"是"]
["董宇昕","71.43%",{"v":0,"d":"0.00"},"否"]
["赵淑荣","47.62%",{"v":0,"d":"0.00"},"否"]
["冯苗鸽","80.95%",{"v":0,"d":"0.00"},"否"]
["梁金玉","100.00%",{"v":0,"d":"0.00"},"否"]
["胡语轩","66.67%",{"v":0,"d":"0.00"},"否"]
["孔梓涵","90.48%",{"v":0,"d":"0.00"},"否"]
["刘芮","76.19%",{"v":0,"d":"0.00"},"否"]
["刘文清","100.00%",{"v":0,"d":"0.00"},"否"]
["刘玲嘉","95.24%",{"v":0,"d":"0.00"},"否"]
["吴佳妮","100.00%",{"v":0,"d":"0.00"},"否"]
["杨航维","85.71%",{"v":0,"d":"0.00"},"否"]
["黄皓仑","57.14%",{"v":0,"d":"0.00"},"否"]
["罗晓珍","42.86%",{"v":3,"d":"3.00"},"是"]
["康铭坤","66.67%",{"v":0,"d":"0.00"},"否"]
["王志龙","47.62%",{"v":1,"d":"1.00"},"是"]
["王二壮","33.33%",{"v":0,"d":"0.00"},"否"]
["王爽","76.19%",{"v":0,"d":"0.00"},"否"]
["张子木","71.43%",{"v":0,"d":"0.00"},"否"]
["林方宇","80.95%",{"v":0,"d":"0.00"},"否"]
["李毅恒","76.19%",{"v":0,"d":"0.00"},"否"]
["刘俊超","47.37%",{"v":0,"d":"0.00"},"否"]
["周子晨","28.57%",{"v":3,"d":"3.00"},"是"]
["宋佳滢","40.00%",{"v":4,"d":"4.00"},"是"]
["郝美超","66.67%",{"v":0,"d":"0.00"},"否"]
["王南南","57.89%",{"v":1,"d":"1.00"},"是"]
["王诚毅","57.14%",{"v":0,"d":"0.00"},"否"]
["葛亿盛","71.43%",{"v":0,"d":"0.00"},"否"]
["杨修齐","80.95%",{"v":0,"d":"0.00"},"否"]
["李俊义","47.62%",{"v":1,"d":"1.00"},"是"]
["杨州","52.38%",{"v":1,"d":"1.00"},"是"]
["刘韬","100.00%",{"v":0,"d":"0.00"},"否"]
["谢煜轩","95.24%",{"v":0,"d":"0.00"},"否"]
["杨清朋","76.19%",{"v":0,"d":"0.00"},"否"]
["任俊玮","76.19%",{"v":0,"d":"0.00"},"否"]
["彭一航","71.43%",{"v":0,"d":"0.00"},"否"]
["韩子路","52.38%",{"v":1,"d":"1.00"},"是"]
["董叶帆","33.33%",{"v":4,"d":"4.00"},"是"]
["成杰文","52.38%",{"v":4,"d":"4.00"},"是"]
["孙立夫","57.14%",{"v":0,"d":"0.00"},"否"]
["李政阳","61.90%",{"v":2,"d":"2.00"},"是"]
["刘子炜","71.43%",{"v":0,"d":"0.00"},"否"]
["刘钢彬","47.62%",{"v":1,"d":"1.00"},"是"]
["吕佳琳","61.90%",{"v":1,"d":"1.00"},"是"]
["肖港权","57.14%",{"v":0,"d":"0.00"},"否"]
["侯垚","85.71%",{"v":0,"d":"0.00"},"否"]
["李宇春","57.14%",{"v":0,"d":"0.00"},"否"]
["郝雪普","95.24%",{"v":0,"d":"0.00"},"否"]
["任务","66.67%",{"v":0,"d":"0.00"},"否"]
["方文正","94.74%",{"v":0,"d":"0.00"},"否"]
["李鑫涛","71.43%",{"v":0,"d":"0.00"},"否"]
["柯二文","76.19%",{"v":0,"d":"0.00"},"否"]
["李昌泽","38.10%",{"v":3,"d":"3.00"},"是"]
["袁翊淼","85.71%",{"v":0,"d":"0.00"},"否"]
["卢力瑛","90.48%",{"v":0,"d":"0.00"},"否"]
["佟安冉","52.38%",{"v":1,"d":"1.00"},"是"]
["杨胤泽","66.67%",{"v":0,"d":"0.00"},"否"]
["蒋卓达","63.16%",{"v":1,"d":"1.00"},"是"]
["洪瑞","47.62%",{"v":0,"d":"0.00"},"否"]
["赵梓伯","66.67%",{"v":0,"d":"0.00"},"否"]
["张蕊","61.90%",{"v":0,"d":"0.00"},"否"]
["黄贤君","52.94%",{"v":0,"d":"0.00"},"否"]
["李俊豪","52.38%",{"v":3,"d":"3.00"},"是"]
["侯星辰","76.19%",{"v":0,"d":"0.00"},"否"]
["王超卓","71.43%",{"v":0,"d":"0.00"},"否"]
["王嘉博","28.57%",{"v":2,"d":"2.00"},"是"]
["谢子翔","52.38%",{"v":2,"d":"2.00"},"是"]
["张家诚","47.62%",{"v":0,"d":"0.00"},"否"]
["陈永利","76.19%",{"v":0,"d":"0.00"},"否"]
["徐旋","66.67%",{"v":1,"d":"1.00"},"是"]
["马铭远","31.58%",{"v":0,"d":"0.00"},"否"]
["冯子洋","42.86%",{"v":0,"d":"0.00"},"否"]
["刘迪","52.38%",{"v":6,"d":"6.00"},"是"]
["孙筠翔","42.86%",{"v":3,"d":"3.00"},"是"]
["李瑞杰","23.81%",{"v":2,"d":"2.00"},"是"]
["王泽轩","42.86%",{"v":0,"d":"0.00"},"否"]
["张玉杨","61.90%",{"v":0,"d":"0.00"},"否"]
["温晓阳","90.48%",{"v":0,"d":"0.00"},"否"]
["姜柏彤","61.90%",{"v":0,"d":"0.00"},"否"]
["高瑞苹","61.90%",{"v":1,"d":"1.00"},"是"]
["马秋阳","52.38%",{"v":3,"d":"3.00"},"是"]
["吴淑金","52.38%",{"v":4,"d":"4.00"},"是"]
["闫乙昕","71.43%",{"v":0,"d":"0.00"},"否"]
["杨本金","89.47%",{"v":0,"d":"0.00"},"否"]
["冯俊杰","89.47%",{"v":0,"d":"0.00"},"否"]
["施朝阳","80.95%",{"v":0,"d":"0.00"},"否"]
["靳铭超","80.95%",{"v":0,"d":"0.00"},"否"]
["胡婷","76.19%",{"v":0,"d":"0.00"},"否"]
["韦程栋","38.10%",{"v":3,"d":"3.00"},"是"]
["何俊希","61.90%",{"v":0,"d":"0.00"},"否"]
["郭圣元","57.14%",{"v":0,"d":"0.00"},"否"]
["聂玲琳","80.95%",{"v":0,"d":"0.00"},"否"]
["姜明明","57.14%",{"v":0,"d":"0.00"},"否"]
["姚泓宇","40.00%",{"v":6,"d":"6.00"},"是"]
["桑恒健","36.84%",{"v":6,"d":"6.00"},"是"]
["孟煜杰","61.90%",{"v":4,"d":"4.00"},"是"]
["蒋金鹏","52.38%",{"v":5,"d":"5.00"},"是"]
["王珏","52.38%",{"v":0,"d":"0.00"},"否"]
["尤雅","90.48%",{"v":0,"d":"0.00"},"否"]
["葛敏","52.38%",{"v":0,"d":"0.00"},"否"]
["苏晴","80.95%",{"v":0,"d":"0.00"},"否"]
["张煊","47.62%",{"v":2,"d":"2.00"},"是"]
["李宇轩","42.86%",{"v":4,"d":"4.00"},"是"]
["郑翔鸿","57.14%",{"v":0,"d":"0.00"},"否"]
["葸旺","47.62%",{"v":0,"d":"0.00"},"否"]
["张川宁","42.86%",{"v":4,"d":"4.00"},"是"]
["吕小川","23.81%",{"v":4,"d":"4.00"},"是"]
["寇笑源","42.86%",{"v":2,"d":"2.00"},"是"]
["熊奕宇","84.62%",{"v":0,"d":"0.00"},"否"]
["刘恬宁","73.68%",{"v":0,"d":"0.00"},"否"]
["杨子惠","57.14%",{"v":0,"d":"0.00"},"否"]
["王路寒","38.10%",{"v":0,"d":"0.00"},"否"]
["赵延奇","47.37%",{"v":0,"d":"0.00"},"否"]
["李博航","52.38%",{"v":0,"d":"0.00"},"否"]
["吴赛扬","21.05%",{"v":4,"d":"4.00"},"是"]
["任熙嘉","66.67%",{"v":0,"d":"0.00"},"否"]
["马永龙","47.62%",{"v":2,"d":"2.00"},"是"]
["赵晶晶","38.10%",{"v":2,"d":"2.00"},"是"]
["李耀初","57.14%",{"v":1,"d":"1.00"},"是"]
["谢文博","66.67%",{"v":0,"d":"0.00"},"否"]
["王家成","38.10%",{"v":4,"d":"4.00"},"是"]
["罗锦洪","57.14%",{"v":1,"d":"1.00"},"是"]
["李坤明","57.14%",{"v":0,"d":"0.00"},"否"]
["邱子恒","61.90%",{"v":0,"d":"0.00"},"否"]
["王韬哲","85.71%",{"v":0,"d":"0.00"},"否"]
["孙愷辰","57.14%",{"v":2,"d":"2.00"},"是"]
["张钰涵","100.00%",{"v":0,"d":"0.00"},"否"]
["刘春硕","71.43%",{"v":0,"d":"0.00"},"否"]
["董家慧","76.19%",{"v":0,"d":"0.00"},"否"]
["陈晨","71.43%",{"v":0,"d":"0.00"},"否"]
["严翊中","52.38%",{"v":1,"d":"1.00"},"是"]
["孔德烨","71.43%",{"v":0,"d":"0.00"},"否"]
["王笑睿","52.38%",{"v":0,"d":"0.00"},"否"]
["杨恒","57.14%",{"v":0,"d":"0.00"},"否"]
["宋梦博","57.14%",{"v":0,"d":"0.00"},"否"]
["贾金鑫","71.43%",{"v":0,"d":"0.00"},"否"]
["陈朕","57.14%",{"v":0,"d":"0.00"},"否"]
["吴俊","47.62%",{"v":0,"d":"0.00"},"否"]
["陆游","78.95%",{"v":0,"d":"0.00"},"否"]
["杨悦","47.62%",{"v":1,"d":"1.00"},"是"]
["赵倩瑶","47.62%",{"v":1,"d":"1.00"},"是"]
["田慧慧","85.71%",{"v":0,"d":"0.00"},"否"]
["苗思蕊","61.90%",{"v":0,"d":"0.00"},"否"]
["黄大原","57.14%",{"v":0,"d":"0.00"},"否"]
["谯佳伟","57.14%",{"v":2,"d":"2.00"},"是"]
["陈启骏","71.43%",{"v":0,"d":"0.00"},"否"]
["李志聪","85.71%",{"v":0,"d":"0.00"},"否"]
["史欣谊","38.10%",{"v":3,"d":"3.00"},"是"]
["刘诗雨","80.95%",{"v":0,"d":"0.00"},"否"]
["艾芯蕊","61.90%",{"v":1,"d":"1.00"},"是"]
["胡启红","76.19%",{"v":0,"d":"0.00"},"否"]
["吕秋桦","52.38%",{"v":2,"d":"2.00"},"是"]
["仇雨乐","52.38%",{"v":0,"d":"0.00"},"否"]
["王崇南","61.90%",{"v":0,"d":"0.00"},"否"]
["陈萍洋","47.37%",{"v":0,"d":"0.00"},"否"]
["郭北辰","52.38%",{"v":0,"d":"0.00"},"否"]
["龚贝","66.67%",{"v":1,"d":"1.00"},"是"]
["赵毅轩","52.38%",{"v":0,"d":"0.00"},"否"]
["路倢利","52.38%",{"v":0,"d":"0.00"},"否"]
["余若瑜","38.10%",{"v":3,"d":"3.00"},"是"]
["水源","71.43%",{"v":0,"d":"0.00"},"否"]
["潘兴顺","84.21%",{"v":0,"d":"0.00"},"否"]
["洪培彬","57.14%",{"v":2,"d":"2.00"},"是"]
["彭天佑","52.38%",{"v":1,"d":"1.00"},"是"]
["杜向栋","47.62%",{"v":0,"d":"0.00"},"否"]
["王睦钧","57.14%",{"v":0,"d":"0.00"},"否"]

{"sheet":"互评分","index":16,"n_rows":181,"n_cols":6,"rows_kept":181}
["序号","学号","姓名","班主任评分","班团委员会评分","同学互评"]
[1,2024010517,"洪瑞",99,100,99.0740740740741]
[2,2024010518,"史欣谊",99,100,99.0740740740741]
[3,2024010519,"赵梓伯",99,100,99.2222222222222]
[4,2024010520,"刘诗雨",100,100,99.5925925925926]
[5,2024010521,"张蕊",100,100,99.5925925925926]
[6,2024010522,"艾芯蕊",99,100,99.1481481481482]
[7,2024010523,"胡启红",99,100,99.1481481481482]
[8,2024010524,"吕秋桦",99,100,98.6428571428571]
[9,2024010525,"何佳",100,100,99.5925925925926]
[10,2024010526,"阿优拉·沙帕尔别克",99,100,99.1111111111111]
[11,2024010527,"叶霖",100,100,99.5925925925926]
[12,2024010528,"黄贤君",99,100,99.2222222222222]
[13,2024010529,"孟煜杰",96,100,96.0357142857143]
[14,2024010530,"仇雨乐",99,100,99.5185185185185]
[15,2024010531,"王崇南",99,100,99.1111111111111]
[16,2024010532,"陈萍洋",99,100,99.4814814814815]
[17,2024010533,"蒋金鹏",99,100,99.1111111111111]
[18,2024010534,"李俊豪",99,100,99.1111111111111]
[19,2024010535,"侯星辰",100,100,99.5925925925926]
[20,2024010536,"郭北辰",99,100,99.4074074074074]
[21,2024010537,"龚贝",99,100,99.1481481481482]
[22,2024010538,"王超卓",99,100,99.2962962962963]
[23,2024010539,"赵毅轩",99,100,98.75]
[24,2024010540,"王嘉博",99,100,98.7142857142857]
[25,2024010541,"王家成",98,100,98.3571428571429]
[26,2024010542,"谢子翔",99,100,98.7857142857143]
[27,2024010543,"张家诚",99,100,98.8928571428571]
[28,2024010544,"陈永利",99,100,98.8214285714286]
[29,2024010545,"徐旋",99,100,98.9642857142857]
[30,2024010246,"马铭远",99,100,98.7142857142857]
[31,2024010457,"胡紫涵",81,83.3333333333333,89.81481482]
[32,2024010458,"施朝阳",99,97.5,96.62962963]
[33,2024010459,"靳铭超",98,97.5,97.25925926]
[34,2024010460,"袁翊淼",92,96.6666666666667,95.55555556]
[35,2024010461,"卢力瑛",90,96.6666666666667,95.25925926]
[36,2024010462,"佟安冉",90,97.5,96.51851852]
[37,2024010463,"杨子惠",99,100,97]
[38,2024010464,"胡婷",98,96,96.62962963]
[39,2024010465,"郝美超",99,100,96.51851852]
[40,2024010466,"王南南",98,100,98.55555556]
[41,2024010467,"韦程栋",90,100,98.92592593]
[42,2024010468,"王诚毅",97,100,98.74074074]
[43,2024010469,"何俊希",90,99.1666666666667,97.66666667]
[44,2024010470,"陈韵轩",80,99.1666666666667,97.66666667]
[45,2024010471,"王路寒",98,99.1666666666667,98.77777778]
[46,2024010472,"赵延奇",99,100,98.40740741]
[47,2024010473,"李博航",98,100,98.74074074]
[48,2024010474,"吴赛扬",90,99.6666666666667,97.44444444]
[49,2024010475,"葛亿盛",99,100,98.55555556]
[50,2024010476,"杨修齐",99,100,98.33333333]
[51,2024010477,"李俊义",99,100,99.48148148]
[52,2024010478,"杨州",98,100,99.07407407]
[53,2024010479,"刘韬",99,100,99.11111111]
[54,2024010480,"谢煜轩",99,100,99.2962963]
[55,2024010481,"任熙嘉",99,100,99.92592593]
[56,2024010482,"方泽",90,86,93.37037037]
[57,2024010483,"杨清朋",97,100,99.2962963]
[58,2024010484,"任俊玮",99,100,99.7037037]
[59,2024010485,"马永龙",99,100,99.66666667]
[60,2024010486,"彭一航",98,100,98]
[61,2024010487,"杨悦",90,98.3333333333333,96.8928571428571]
[62,2024010488,"郭圣元",91,98.3333333333333,96.5357142857143]
[63,2024010489,"赵倩瑶",91,99.1666666666667,97.3571428571429]
[64,2024010490,"聂玲琳",90,98.5,97.6785714285714]
[65,2024010491,"田慧慧",92,99.1666666666667,97.5714285714286]
[66,2024010492,"吕莎莎",92,100,98.1428571428571]
[67,2024010493,"苗思蕊",96,98,97.0714285714286]
[68,2024010494,"姜明明",96,98.4,97.4642857142857]
[69,2024010495,"韩子路",90,99,97.4285714285714]
[70,2024010496,"董叶帆",90,97.1666666666667,96.6785714285714]
[71,2024010497,"赵晶晶",92,98.3333333333333,97.2857142857143]
[72,2024010498,"杨胤泽",90,98.3333333333333,96.4642857142857]
[73,2024010499,"李耀初",94,100,97.5714285714286]
[74,2024010500,"黄大原",96,98.3333333333333,97]
[75,2024010501,"成杰文",92,97.5,96.3571428571429]
[76,2024010502,"谯佳伟",90,99,97.0357142857143]
[77,2024010503,"孙立夫",91,100,97.4642857142857]
[78,2024010504,"陈启骏",89,99.1666666666667,96.8571428571429]
[79,2024010505,"李志聪",97,100,97.75]
[80,2024010506,"姚泓宇",90,97.5,96.25]
[81,2024010507,"赵佳富",89,96.6666666666667,97]
[82,2024010508,"谢文博",97,100,98.1071428571429]
[83,2024010509,"孙铭徽",92,98.3333333333333,96.7142857142857]
[84,2024010510,"钟家豪",94,98.3333333333333,96.6785714285714]
[85,2024010511,"吕程",90,100,97.2857142857143]
[86,2024010512,"桑恒健",94,99,96.6428571428571]
[87,2024010513,"朱健健",92,100,97.2142857142857]
[88,2024010514,"蒋卓达",89,99.1666666666667,96.4285714285714]
[89,2024010515,"刘起睿",91,100,97.25]
[90,2024010516,"彭好运",90,98.3333333333333,96.6785714285714]
[91,2023010381,"宋佳滢",90,98.3333333333333,94.9310344827586]
[92,2024010577,"孔梓涵",93,100,99.6296296296296]
[93,2024010578,"张钰涵",93,100,99.5925925925926]
[94,2024010579,"刘芮",93,100,99.6296296296296]
[95,2024010580,"刘春硕",88,100,99.6666666666667]
[96,2024010581,"董家慧",90,100,99.5925925925926]
[97,2024010582,"刘文清",95,100,99.6296296296296]
[98,2024010583,"路倢利",88,100,99.6666666666667]
[99,2024010584,"刘玲嘉",95,100,99.6666666666667]
[100,2024010585,"吴佳妮",95,100,99.6296296296296]
[101,2024010586,"余若瑜",88,100,99.8518518518518]
[102,2024010587,"海米提·麦买提",85,99.8571428571429,99.4444444444444]
[103,2024010588,"陈晨",88,100,99.6666666666667]
[104,2024010589,"水源",90,100,99.6666666666667]
[105,2024010590,"杨航维",95,100,99.6296296296296]
[106,2024010591,"黄皓仑",90,100,99.6666666666667]
[107,2024010592,"罗晓珍",85,100,99.6296296296296]
[108,2024010593,"康铭坤",90,100,99.6666666666667]
[109,2024010594,"王志龙",85,100,99.6296296296296]
[110,2024010595,"王二壮",85,100,99.8518518518518]
[111,2024010596,"王爽",93,100,99.2962962962963]
[112,2024010597,"潘兴顺",90,100,99.7037037037037]
[113,2024010598,"张子木",90,100,99.7407407407407]
[114,2024010599,"林方宇",90,100,99.6666666666667]
[115,2024010600,"王思远",90,100,99.2592592592593]
[116,2024010601,"李毅恒",88,100,99.6666666666667]
[117,2024010602,"洪培彬",85,100,99.6296296296296]
[118,2024010603,"彭天佑",85,100,99.6296296296296]
[119,2024010604,"刘俊超",88,100,99.6296296296296]
[120,2024010605,"杜向栋",90,100,99.4814814814815]
[121,2024010606,"王睦钧",85,100,99.6296296296296]
[122,2024010607,"杨睿",100,100,99.1153846153846]
[123,2024010608,"温晓阳",100,100,98.8461538461538]
[124,2024010609,"王晓娜",100,100,98.8461538461538]
[125,2024010610,"姜柏彤",100,100,98.8846153846154]
[126,2024010611,"高瑞苹",100,98.5714286,98.8846153846154]
[127,2024010612,"马秋阳",100,100,98.8846153846154]
[128,2024010613,"吴淑金",100,100,98.9615384615385]
[129,2024010614,"闫乙昕",100,100,96.9615384615385]
[130,2024010615,"刘钢彬",100,100,99.2307692307692]
[131,2024010616,"吕佳琳",100,100,97.3076923076923]
[132,2024010617,"严翊中",100,98.5714286,97.6923076923077]
[133,2024010618,"肖港权",100,100,98.4615384615385]
[134,2024010619,"孔德烨",100,100,98.4615384615385]
[135,2024010620,"杨磊",100,100,98.4615384615385]
[136,2024010621,"侯垚",100,100,98.4615384615385]
[137,2024010622,"李宇春",100,100,98.4615384615385]
[138,2024010623,"郝雪普",100,100,98.4615384615385]
[139,2024010624,"任务",100,100,98.4615384615385]
[140,2024010625,"方文正",100,100,98.8461538461538]
[141,2024010626,"李鑫涛",100,100,97.3076923076923]
[142,2024010627,"王笑睿",100,100,98.4615384615385]
[143,2024010628,"柯二文",100,100,97.6923076923077]
[144,2024010629,"杨恒",100,100,98.4615384615385]
[145,2024010630,"周子晨",100,100,98.0769230769231]
[146,2024010631,"宋梦博",100,100,96.5384615384615]
[147,2024010632,"贾金鑫",100,100,96.5384615384615]
[148,2024010633,"陈朕",100,100,98.4615384615385]
[149,2024010634,"李昌泽",100,100,97.6923076923077]
[150,2024010635,"吴俊",100,100,98.8076923076923]
[151,"2024010547","董宇昕",100,98.42857,97.6071]
[152,"2024010548","赵淑荣",100,98.42857,97.2857]
[153,"2024010549","冯苗鸽",100,98.42857,97.6429]
[154,"2024010550","梁金玉",100,98.42857,97.5357]
[155,"2024010551","王珏",100,98.42857,97.321]
[156,"2024010552","胡语轩",100,98.42857,96.6429]
[157,"2024010553","尤雅",100,97,96.286]
[158,"2024010554","葛敏",100,98.42857,96.964]
[159,"2024010555","苏晴",100,99.85714,98.2143]
[160,"2024010556","张煊",100,98.42857,97.6429]
[161,"2024010557","李政阳",100,95.57143,97.35714]
[162,"2024010558","李宇轩",100,95.57143,95.85714]
[163,"2024010559","郑翔鸿",100,95.14286,95.75]
[164,"2024010560","葸旺",100,94.28571,95.25]
[165,"2024010561","刘子炜",100,95.14286,96.28571]
[166,"2024010562","冯子洋",100,95.71429,96.64286]
[167,"2024010563","刘迪",100,95.71429,96.3214]
[168,"2024010564","孙筠翔",100,95.71429,96.64286]
[169,"2024010565","李瑞杰",100,95.71429,96.71429]
[170,"2024010566","王泽轩",100,95.71429,96.67857]
[171,"2024010567","张玉杨",100,95.71429,96.67857]
[172,"2024010568","张川宁",100,95.57143,97]
[173,"2024010569","吕小川",100,95.57143,96.78571]
[174,"2024010570","罗锦洪",100,95.57143,97.32143]
[175,"2024010571","李坤明",100,95.57143,96.75]
[176,"2024010572","邱子恒",100,96.57143,97.25]
[177,"2024010573","王韬哲",100,95.57143,97.14286]
[178,"2024010574","孙愷辰",100,95.57143,96.46429]
[179,"2024010575","寇笑源",100,95.57143,96.64286]
[180,"2024010576","徐桢",100,95.57143,96.4286]

{"sheet":"Sheet5","index":17,"n_rows":2,"n_cols":45,"rows_kept":2,"merged":[[0,0,1,0],[0,1,1,1],[0,2,1,2],[0,3,1,3],[0,4,1,4],[0,5,0,18],[0,19,0,24],[0,25,0,32],[0,33,0,36],[0,37,0,40],[0,41,1,41],[0,42,1,42],[0,43,1,43],[0,44,1,44]]}
["综测排名"," 必修课排名","学号","姓名","班级","德育成绩",{"$nulls":13},"智育成绩",{"$nulls":5},"体育成绩",{"$nulls":7},"美育成绩",{"$nulls":3},"劳育成绩",{"$nulls":3},"综合测评总分","优良率","四级成绩","是否挂科"]
[{"$nulls":5},"班级互评分","辅导员打分","班团委员打分","班主任打分","班级互评分×0.2","辅导员打分×0.5","班团委员打分*0.2","班主任打分*0.1","学生思想品德测评分值","学生干部加分","德育加分","德育扣分","德育成绩","德育成绩×0.15","必修课加权平均分","选修课加权平均分","智育成绩（必修课×0.9+选修课×0.1）","智育加分","智育成绩","智育成绩×0.70","体测成绩","锻炼成绩","体测成绩×0.8","锻炼成绩×0.2","体育锻炼成绩","体育加分","体育成绩","体育成绩×0.05","文化艺术活动","美育加分","美育成绩","美育成绩×0.05","劳动实践","劳育加分","劳育成绩","劳育成绩×0.05"]