{"text_format":"3","workbook":"xlsx","n_sheets":3,"sheets":["Sheet1","Sheet2","Sheet3"],"not_rendered":{"external_links":2,"defined_names":1},"read":"whole","date_system":"1900"}

{"sheet":"Sheet1","index":0,"n_rows":63,"n_cols":12,"rows_kept":63,"merged":[[0,0,0,11]]}
["中国石油大学（北京）工商管理学院经济类专业本科生综合测评汇总表"]
["名次","学号","姓名","德育总成绩","智育总成绩","体育成绩","必修课优良率","综合测评成绩","四级成绩","体测成绩","不及格门数","有无纪律处分"]
[1,{"$f":"[1]总成绩!A25","v":2016011725},{"$f":"[1]总成绩!B25","v":"林竞立"},{"$f":"[1]总成绩!D25","v":{"v":105.257,"d":"105.257000"}},{"$f":"[1]总成绩!C25","v":{"v":94.7770212765957,"d":"94.777021"}},{"$f":"[1]总成绩!E25","v":{"v":79.8,"d":"79.80"}},{"$f":"[1]总成绩!G25","v":{"v":0.9,"d":"90.00%"}},{"$f":"[1]总成绩!F25","v":{"v":95.375314893617,"d":"95.3753"}},"-",{"$f":"[1]总成绩!H25","v":{"v":62.5,"d":"62.50"}},"-","无"]
[2,{"$f":"[1]总成绩!A18","v":2016011717},{"$f":"[1]总成绩!B18","v":"周彬"},{"$f":"[1]总成绩!D18","v":{"v":105.655,"d":"105.655000"}},{"$f":"[1]总成绩!C18","v":{"v":93.3300943396226,"d":"93.330094"}},{"$f":"[1]总成绩!E18","v":{"v":88.2,"d":"88.20"}},{"$f":"[1]总成绩!G18","v":{"v":0.863636363636364,"d":"86.36%"}},{"$f":"[1]总成绩!F18","v":{"v":95.2820660377358,"d":"95.2821"}},{"$f":"[1]总成绩!J18","v":581},{"$f":"[1]总成绩!H18","v":{"v":77.9,"d":"77.90"}},"-","无"]
[3,{"$f":"[1]总成绩!A17","v":2016011716},{"$f":"[1]总成绩!B17","v":"赵丛雨"},{"$f":"[1]总成绩!D17","v":{"v":98.744,"d":"98.744000"}},{"$f":"[1]总成绩!C17","v":{"v":94.4574545454546,"d":"94.457455"}},{"$f":"[1]总成绩!E17","v":{"v":79.5,"d":"79.50"}},{"$f":"[1]总成绩!G17","v":{"v":0.904761904761905,"d":"90.48%"}},{"$f":"[1]总成绩!F17","v":{"v":93.8190181818182,"d":"93.8190"}},{"$f":"[1]总成绩!J17","v":579},{"$f":"[1]总成绩!H17","v":{"v":76.1,"d":"76.10"}},"-","无"]
[4,{"$f":"[1]总成绩!A22","v":2016011721},{"$f":"[1]总成绩!B22","v":"李代猛"},{"$f":"[1]总成绩!D22","v":{"v":103.058,"d":"103.058000"}},{"$f":"[1]总成绩!C22","v":{"v":86.0083857442348,"d":"86.008386"}},{"$f":"[1]总成绩!E22","v":{"v":109,"d":"109.00"}},{"$f":"[1]总成绩!G22","v":{"v":0.869565217391304,"d":"86.96%"}},{"$f":"[1]总成绩!F22","v":{"v":91.7174700209644,"d":"91.7175"}},"-",{"$f":"[1]总成绩!H22","v":{"v":92.7,"d":"92.70"}},"-","无"]
[5,{"$f":"[1]总成绩!A21","v":2016011720},{"$f":"[1]总成绩!B21","v":"冯绍一"},{"$f":"[1]总成绩!D21","v":{"v":105.38,"d":"105.380000"}},{"$f":"[1]总成绩!C21","v":{"v":89.0331428571429,"d":"89.033143"}},{"$f":"[1]总成绩!E21","v":{"v":80.1,"d":"80.10"}},{"$f":"[1]总成绩!G21","v":{"v":0.857142857142857,"d":"85.71%"}},{"$f":"[1]总成绩!F21","v":91.4092},"-",{"$f":"[1]总成绩!H21","v":{"v":65.8,"d":"65.80"}},"-","无"]
[6,{"$f":"[1]总成绩!A16","v":2016011715},{"$f":"[1]总成绩!B16","v":"赵安然"},{"$f":"[1]总成绩!D16","v":{"v":104.385,"d":"104.385000"}},{"$f":"[1]总成绩!C16","v":{"v":87.994465408805,"d":"87.994465"}},{"$f":"[1]总成绩!E16","v":{"v":86.4,"d":"86.40"}},{"$f":"[1]总成绩!G16","v":{"v":0.954545454545455,"d":"95.45%"}},{"$f":"[1]总成绩!F16","v":{"v":91.1131257861635,"d":"91.1131"}},{"$f":"[1]总成绩!J16","v":576},{"$f":"[1]总成绩!H16","v":{"v":82.5,"d":"82.50"}},"-","无"]
[7,{"$f":"[2]总成绩!A25","v":2016011690},{"$f":"[2]总成绩!B25","v":"刘文博"},{"$f":"[2]总成绩!D25","v":{"v":104.1,"d":"104.100000"}},{"$f":"[2]总成绩!C25","v":{"v":87.0520754716981,"d":"87.052075"}},{"$f":"[2]总成绩!E25","v":{"v":93.2,"d":"93.20"}},{"$f":"[2]上报规范!G27","v":{"v":0.954545454545455,"d":"95.45%"}},{"$f":"[2]上报规范!F27","v":{"v":91.0764528301887,"d":"91.0765"}},509,{"$f":"[2]上报规范!H27","v":{"v":80,"d":"80.00"}},"-","无"]
[8,{"$f":"[2]总成绩!A24","v":2016011689},{"$f":"[2]总成绩!B24","v":"刘峻宁"},{"$f":"[2]总成绩!D24","v":{"v":110.3872414,"d":"110.387241"}},{"$f":"[2]总成绩!C24","v":{"v":85.5248,"d":"85.524800"}},{"$f":"[2]总成绩!E24","v":{"v":90.3,"d":"90.30"}},{"$f":"[2]上报规范!G26","v":{"v":0.952380952380952,"d":"95.24%"}},{"$f":"[2]上报规范!F26","v":{"v":90.97480828,"d":"90.9748"}},540,{"$f":"[2]上报规范!H26","v":{"v":74,"d":"74.00"}},"-","无"]
[9,{"$f":"[1]总成绩!A11","v":2016011710},{"$f":"[1]总成绩!B11","v":"杨晓晗"},{"$f":"[1]总成绩!D11","v":{"v":103.985,"d":"103.985000"}},{"$f":"[1]总成绩!C11","v":{"v":88.4311949685535,"d":"88.431195"}},{"$f":"[1]总成绩!E11","v":{"v":81.3,"d":"81.30"}},{"$f":"[1]总成绩!G11","v":{"v":0.954545454545455,"d":"95.45%"}},{"$f":"[1]总成绩!F11","v":{"v":90.8288364779874,"d":"90.8288"}},{"$f":"[1]总成绩!J11","v":578},{"$f":"[1]总成绩!H11","v":{"v":68.4,"d":"68.40"}},"-","无"]
[10,{"$f":"[1]总成绩!A5","v":2016011703},{"$f":"[1]总成绩!B5","v":"李俊洁"},{"$f":"[1]总成绩!D5","v":{"v":112.648,"d":"112.648000"}},{"$f":"[1]总成绩!C5","v":{"v":84.8620330969267,"d":"84.862033"}},{"$f":"[1]总成绩!E5","v":{"v":87.9,"d":"87.90"}},{"$f":"[1]总成绩!G5","v":{"v":0.8,"d":"80.00%"}},{"$f":"[1]总成绩!F5","v":{"v":90.7230231678487,"d":"90.7230"}},{"$f":"[1]总成绩!J5","v":513},{"$f":"[1]总成绩!H5","v":{"v":81.8,"d":"81.80"}},"-","无"]
[11,{"$f":"[1]总成绩!A28","v":2016011728},{"$f":"[1]总成绩!B28","v":"王立顺"},{"$f":"[1]总成绩!D28","v":{"v":105.615,"d":"105.615000"}},{"$f":"[1]总成绩!C28","v":{"v":85.9696226415094,"d":"85.969623"}},{"$f":"[1]总成绩!E28","v":{"v":90.1,"d":"90.10"}},{"$f":"[1]总成绩!G28","v":{"v":1,"d":"100.00%"}},{"$f":"[1]总成绩!F28","v":{"v":90.3117358490566,"d":"90.3117"}},{"$f":"[1]总成绩!J28","v":546},{"$f":"[1]总成绩!H28","v":{"v":79,"d":"79.00"}},"-","无"]
[12,{"$f":"[2]总成绩!A12","v":2016011676},{"$f":"[2]总成绩!B12","v":"徐瑞"},{"$f":"[2]总成绩!D12","v":{"v":101.3103448,"d":"101.310345"}},{"$f":"[2]总成绩!C12","v":{"v":84.6210666666667,"d":"84.621067"}},{"$f":"[2]总成绩!E12","v":{"v":104.3,"d":"104.30"}},{"$f":"[2]上报规范!G14","v":{"v":0.904761904761905,"d":"90.48%"}},{"$f":"[2]上报规范!F14","v":{"v":89.9268156266667,"d":"89.9268"}},"-",{"$f":"[2]上报规范!H14","v":{"v":82.4,"d":"82.40"}},"-","无"]
[13,{"$f":"[1]总成绩!A4","v":2016011702},{"$f":"[1]总成绩!B4","v":"惠佳钰"},{"$f":"[1]总成绩!D4","v":{"v":106.787,"d":"106.787000"}},{"$f":"[1]总成绩!C4","v":{"v":83.5139622641509,"d":"83.513962"}},{"$f":"[1]总成绩!E4","v":{"v":98,"d":"98.00"}},{"$f":"[1]总成绩!G4","v":{"v":0.863636363636364,"d":"86.36%"}},{"$f":"[1]总成绩!F4","v":{"v":89.6171735849056,"d":"89.6172"}},{"$f":"[1]总成绩!J4","v":525},{"$f":"[1]总成绩!H4","v":{"v":84.2,"d":"84.20"}},"-","无"]
[14,{"$f":"[1]总成绩!A8","v":2016011707},{"$f":"[1]总成绩!B8","v":"尚凭"},{"$f":"[1]总成绩!D8","v":{"v":105.752,"d":"105.752000"}},{"$f":"[1]总成绩!C8","v":{"v":85.1479245283019,"d":"85.147925"}},{"$f":"[1]总成绩!E8","v":{"v":88.2,"d":"88.20"}},{"$f":"[1]总成绩!G8","v":{"v":0.909090909090909,"d":"90.91%"}},{"$f":"[1]总成绩!F8","v":{"v":89.5739471698113,"d":"89.5739"}},{"$f":"[1]总成绩!J8","v":522},{"$f":"[1]总成绩!H8","v":{"v":83.9,"d":"83.90"}},"-","无"]
[15,{"$f":"[2]总成绩!A2","v":2016011665},{"$f":"[2]总成绩!B2","v":"陈佳歆"},{"$f":"[2]总成绩!D2","v":{"v":104.7,"d":"104.700000"}},{"$f":"[2]总成绩!C2","v":{"v":85.5183018867925,"d":"85.518302"}},{"$f":"[2]总成绩!E2","v":{"v":85.5,"d":"85.50"}},{"$f":"[2]上报规范!G4","v":{"v":0.909090909090909,"d":"90.91%"}},{"$f":"[2]上报规范!F4","v":{"v":89.3528113207547,"d":"89.3528"}},467,{"$f":"[2]上报规范!H4","v":{"v":73.4,"d":"73.40"}},"-","无"]
[16,{"$f":"[2]总成绩!A8","v":2016011671},{"$f":"[2]总成绩!B8","v":"王佳豪"},{"$f":"[2]总成绩!D8","v":{"v":105.41875,"d":"105.418750"}},{"$f":"[2]总成绩!C8","v":{"v":83.4485106382979,"d":"83.448511"}},{"$f":"[2]总成绩!E8","v":{"v":94.8,"d":"94.80"}},{"$f":"[2]上报规范!G10","v":{"v":0.8,"d":"80.00%"}},{"$f":"[2]上报规范!F10","v":{"v":88.9777074468085,"d":"88.9777"}},"-",{"$f":"[2]上报规范!H10","v":{"v":82.5,"d":"82.50"}},"-","无"]
[17,{"$f":"[1]总成绩!A6","v":2016011704},{"$f":"[1]总成绩!B6","v":"李沁桐"},{"$f":"[1]总成绩!D6","v":{"v":105.787,"d":"105.787000"}},{"$f":"[1]总成绩!C6","v":{"v":84.3536,"d":"84.353600"}},{"$f":"[1]总成绩!E6","v":{"v":84.9,"d":"84.90"}},{"$f":"[1]总成绩!G6","v":{"v":0.761904761904762,"d":"76.19%"}},{"$f":"[1]总成绩!F6","v":{"v":88.69492,"d":"88.6949"}},{"$f":"[1]总成绩!J6","v":586},{"$f":"[1]总成绩!H6","v":{"v":74.7,"d":"74.70"}},"-","无"]
[18,{"$f":"[2]总成绩!A31","v":2016011696},{"$f":"[2]总成绩!B31","v":"张家玮"},{"$f":"[2]总成绩!D31","v":{"v":105,"d":"105.000000"}},{"$f":"[2]总成绩!C31","v":{"v":83.8897959183674,"d":"83.889796"}},{"$f":"[2]总成绩!E31","v":{"v":89.4,"d":"89.40"}},{"$f":"[2]上报规范!G33","v":{"v":0.85,"d":"85.00%"}},{"$f":"[2]上报规范!F33","v":{"v":88.6628571428571,"d":"88.6629"}},"-",{"v":60,"d":"60.00"},{"$f":"[2]总成绩!I31","v":1},"无"]
[19,{"$f":"[1]总成绩!A31","v":2016011731},{"$f":"[1]总成绩!B31","v":"张昊煜"},{"$f":"[1]总成绩!D31","v":{"v":105.614,"d":"105.614000"}},{"$f":"[1]总成绩!C31","v":{"v":84.278,"d":"84.278000"}},{"$f":"[1]总成绩!E31","v":{"v":84.3,"d":"84.30"}},{"$f":"[1]总成绩!G31","v":{"v":0.761904761904762,"d":"76.19%"}},{"$f":"[1]总成绩!F31","v":88.5474},"-",{"$f":"[1]总成绩!H31","v":{"v":71.7,"d":"71.70"}},"-","无"]
[20,{"$f":"[1]总成绩!A9","v":2016011708},{"$f":"[1]总成绩!B9","v":"时丹阳"},{"$f":"[1]总成绩!D9","v":{"v":105.283,"d":"105.283000"}},{"$f":"[1]总成绩!C9","v":{"v":84.7748936170213,"d":"84.774894"}},{"$f":"[1]总成绩!E9","v":{"v":80.1,"d":"80.10"}},{"$f":"[1]总成绩!G9","v":{"v":0.75,"d":"75.00%"}},{"$f":"[1]总成绩!F9","v":{"v":88.4090255319149,"d":"88.4090"}},"-",{"$f":"[1]总成绩!H9","v":{"v":76.9,"d":"76.90"}},"-","无"]
[21,{"$f":"[2]总成绩!A13","v":2016011677},{"$f":"[2]总成绩!B13","v":"袁金"},{"$f":"[2]总成绩!D13","v":{"v":104.03125,"d":"104.031250"}},{"$f":"[2]总成绩!C13","v":{"v":83.4681761006289,"d":"83.468176"}},{"$f":"[2]总成绩!E13","v":{"v":88.8,"d":"88.80"}},{"$f":"[2]上报规范!G15","v":{"v":0.909090909090909,"d":"90.91%"}},{"$f":"[2]上报规范!F15","v":{"v":88.1139732704403,"d":"88.1140"}},505,{"$f":"[2]上报规范!H15","v":{"v":85,"d":"85.00"}},"-","无"]
[22,{"$f":"[1]总成绩!A20","v":2016011719},{"$f":"[1]总成绩!B20","v":"陈岭"},{"$f":"[1]总成绩!D20","v":{"v":106.684,"d":"106.684000"}},{"$f":"[1]总成绩!C20","v":{"v":83.2480503144654,"d":"83.248050"}},{"$f":"[1]总成绩!E20","v":{"v":84.3,"d":"84.30"}},{"$f":"[1]总成绩!G20","v":{"v":0.818181818181818,"d":"81.82%"}},{"$f":"[1]总成绩!F20","v":{"v":88.0404352201258,"d":"88.0404"}},"-",{"$f":"[1]总成绩!H20","v":{"v":74.1,"d":"74.10"}},"-","无"]
[23,{"$f":"[2]总成绩!A29","v":2016011694},{"$f":"[2]总成绩!B29","v":"苏锐"},{"$f":"[2]总成绩!D29","v":{"v":104.503,"d":"104.503000"}},{"$f":"[2]总成绩!C29","v":{"v":84.4688,"d":"84.468800"}},{"$f":"[2]总成绩!E29","v":{"v":79.8,"d":"79.80"}},{"$f":"[2]上报规范!G31","v":{"v":0.80952380952381,"d":"80.95%"}},{"$f":"[2]上报规范!F31","v":{"v":88.00876,"d":"88.0088"}},"-",{"$f":"[2]上报规范!H31","v":{"v":67.2,"d":"67.20"}},"-","无"]
[24,{"$f":"[2]总成绩!A28","v":2016011693},{"$f":"[2]总成绩!B28","v":"任玉坤"},{"$f":"[2]总成绩!D28","v":{"v":104.442,"d":"104.442000"}},{"$f":"[2]总成绩!C28","v":{"v":80.8256603773585,"d":"80.825660"}},{"$f":"[2]总成绩!E28","v":{"v":104.3,"d":"104.30"}},{"$f":"[2]上报规范!G30","v":{"v":0.681818181818182,"d":"68.18%"}},{"$f":"[2]上报规范!F30","v":{"v":87.896362264151,"d":"87.8964"}},485,{"$f":"[2]上报规范!H30","v":{"v":70.9,"d":"70.90"}},"-","无"]
[25,{"$f":"[2]总成绩!A17","v":2016011681},{"$f":"[2]总成绩!B17","v":"张玮熙"},{"$f":"[2]总成绩!D17","v":105.425806},{"$f":"[2]总成绩!C17","v":{"v":83.3253333333333,"d":"83.325333"}},{"$f":"[2]总成绩!E17","v":{"v":80.1,"d":"80.10"}},{"$f":"[2]上报规范!G19","v":{"v":0.904761904761905,"d":"90.48%"}},{"$f":"[2]上报规范!F19","v":{"v":87.4228945333333,"d":"87.4229"}},"-",{"$f":"[2]上报规范!H19","v":{"v":60,"d":"60.00"}},"-","无"]
[26,{"$f":"[2]总成绩!A5","v":2016011668},{"$f":"[2]总成绩!B5","v":"何璟奕"},{"$f":"[2]总成绩!D5","v":105.393548},{"$f":"[2]总成绩!C5","v":{"v":81.7067924528302,"d":"81.706792"}},{"$f":"[2]总成绩!E5","v":{"v":86.4,"d":"86.40"}},{"$f":"[2]上报规范!G7","v":{"v":0.772727272727273,"d":"77.27%"}},{"$f":"[2]上报规范!F7","v":{"v":86.9134643169811,"d":"86.9135"}},573,{"$f":"[2]上报规范!H7","v":{"v":74.7,"d":"74.70"}},"-","无"]
[27,{"$f":"[1]总成绩!A7","v":2016011706},{"$f":"[1]总成绩!B7","v":"上官依娜"},{"$f":"[1]总成绩!D7","v":{"v":106.187,"d":"106.187000"}},{"$f":"[1]总成绩!C7","v":{"v":81.605534591195,"d":"81.605535"}},{"$f":"[1]总成绩!E7","v":{"v":85.5,"d":"85.50"}},{"$f":"[1]总成绩!G7","v":{"v":0.727272727272727,"d":"72.73%"}},{"$f":"[1]总成绩!F7","v":{"v":86.9112742138365,"d":"86.9113"}},"-",{"$f":"[1]总成绩!H7","v":{"v":78,"d":"78.00"}},"-","无"]
[28,{"$f":"[1]总成绩!A3","v":2016011701},{"$f":"[1]总成绩!B3","v":"侯明江"},{"$f":"[1]总成绩!D3","v":{"v":105.614,"d":"105.614000"}},{"$f":"[1]总成绩!C3","v":{"v":81.5656,"d":"81.565600"}},{"$f":"[1]总成绩!E3","v":{"v":86.1,"d":"86.10"}},{"$f":"[1]总成绩!G3","v":{"v":0.761904761904762,"d":"76.19%"}},{"$f":"[1]总成绩!F3","v":{"v":86.82872,"d":"86.8287"}},"-",{"$f":"[1]总成绩!H3","v":{"v":75.2,"d":"75.20"}},{"$f":"[1]总成绩!I3","v":2},"无"]
[29,{"$f":"[1]总成绩!A10","v":2016011709},{"$f":"[1]总成绩!B10","v":"唐曹艳"},{"$f":"[1]总成绩!D10","v":{"v":104.483,"d":"104.483000"}},{"$f":"[1]总成绩!C10","v":{"v":82.1009433962264,"d":"82.100943"}},{"$f":"[1]总成绩!E10","v":{"v":81.3,"d":"81.30"}},{"$f":"[1]总成绩!G10","v":{"v":0.772727272727273,"d":"77.27%"}},{"$f":"[1]总成绩!F10","v":{"v":86.4972603773585,"d":"86.4973"}},"-",{"$f":"[1]总成绩!H10","v":{"v":76.2,"d":"76.20"}},"-","无"]
[30,{"$f":"[2]总成绩!A3","v":2016011666},{"$f":"[2]总成绩!B3","v":"程锐"},{"$f":"[2]总成绩!D3","v":{"v":103.0689655,"d":"103.068966"}},{"$f":"[2]总成绩!C3","v":{"v":82.512,"d":"82.512000"}},{"$f":"[2]总成绩!E3","v":{"v":78.9,"d":"78.90"}},{"$f":"[2]上报规范!G5","v":{"v":0.666666666666667,"d":"66.67%"}},{"$f":"[2]上报规范!F5","v":{"v":86.2621931,"d":"86.2622"}},"-",{"$f":"[2]上报规范!H5","v":{"v":73.3,"d":"73.30"}},"-","无"]
[31,{"$f":"[2]总成绩!A10","v":2016011674},{"$f":"[2]总成绩!B10","v":"王月"},{"$f":"[2]总成绩!D10","v":{"v":112.1113793,"d":"112.111379"}},{"$f":"[2]总成绩!C10","v":{"v":79.1839622641509,"d":"79.183962"}},{"$f":"[2]总成绩!E10","v":{"v":84,"d":"84.00"}},{"$f":"[2]上报规范!G12","v":{"v":0.636363636363636,"d":"63.64%"}},{"$f":"[2]上报规范!F12","v":{"v":86.2510494449057,"d":"86.2510"}},"-",{"$f":"[2]上报规范!H12","v":{"v":80.4,"d":"80.40"}},"-","无"]
[32,{"$f":"[1]总成绩!A15","v":2016011714},{"$f":"[1]总成绩!B15","v":"张敏"},{"$f":"[1]总成绩!D15","v":{"v":103.744,"d":"103.744000"}},{"$f":"[1]总成绩!C15","v":{"v":81.8157232704403,"d":"81.815723"}},{"$f":"[1]总成绩!E15","v":{"v":81.9,"d":"81.90"}},{"$f":"[1]总成绩!G15","v":{"v":0.727272727272727,"d":"72.73%"}},{"$f":"[1]总成绩!F15","v":{"v":86.2098062893082,"d":"86.2098"}},"-",{"$f":"[1]总成绩!H15","v":{"v":76.1,"d":"76.10"}},"-","无"]
[33,{"$f":"[2]总成绩!A30","v":2016011695},{"$f":"[2]总成绩!B30","v":"田晟宇"},{"$f":"[2]总成绩!D30","v":{"v":104.1,"d":"104.100000"}},{"$f":"[2]总成绩!C30","v":{"v":79.7866,"d":"79.786600"}},{"$f":"[2]总成绩!E30","v":{"v":87.9,"d":"87.90"}},{"$f":"[2]上报规范!G32","v":{"v":0.714285714285714,"d":"71.43%"}},{"$f":"[2]上报规范!F32","v":{"v":85.46062,"d":"85.4606"}},"-",{"$f":"[2]上报规范!H32","v":{"v":79.2,"d":"79.20"}},"-","无"]
[34,{"$f":"[2]总成绩!A7","v":2016011670},{"$f":"[2]总成绩!B7","v":"刘慧颖"},{"$f":"[2]总成绩!D7","v":98.225806},{"$f":"[2]总成绩!C7","v":{"v":81.6327659574468,"d":"81.632766"}},{"$f":"[2]总成绩!E7","v":{"v":86.4,"d":"86.40"}},{"$f":"[2]上报规范!G9","v":{"v":0.85,"d":"85.00%"}},{"$f":"[2]上报规范!F9","v":{"v":85.4280973702128,"d":"85.4281"}},"-",{"$f":"[2]上报规范!H9","v":{"v":73.6,"d":"73.60"}},"-","无"]
[35,{"$f":"[2]总成绩!A6","v":2016011669},{"$f":"[2]总成绩!B6","v":"康娜"},{"$f":"[2]总成绩!D6","v":103.258065},{"$f":"[2]总成绩!C6","v":{"v":79.3097872340426,"d":"79.309787"}},{"$f":"[2]总成绩!E6","v":{"v":91.5,"d":"91.50"}},{"$f":"[2]上报规范!G8","v":{"v":0.7,"d":"70.00%"}},{"$f":"[2]上报规范!F8","v":{"v":85.3184640638298,"d":"85.3185"}},"-",{"$f":"[2]上报规范!H8","v":{"v":80.2,"d":"80.20"}},"-","无"]
[36,{"$f":"[1]总成绩!A24","v":2016011724},{"$f":"[1]总成绩!B24","v":"梁裕虔"},{"$f":"[1]总成绩!D24","v":{"v":111.423,"d":"111.423000"}},{"$f":"[1]总成绩!C24","v":{"v":78.0072,"d":"78.007200"}},{"$f":"[1]总成绩!E24","v":{"v":82.2,"d":"82.20"}},{"$f":"[1]总成绩!G24","v":{"v":0.571428571428571,"d":"57.14%"}},{"$f":"[1]总成绩!F24","v":{"v":85.10964,"d":"85.1096"}},"-",{"$f":"[1]总成绩!H24","v":{"v":71.4,"d":"71.40"}},{"$f":"[1]总成绩!I24","v":1},"无"]
[37,{"$f":"[2]总成绩!A14","v":2016011678},{"$f":"[2]总成绩!B14","v":"张明娇"},{"$f":"[2]总成绩!D14","v":{"v":104.81875,"d":"104.818750"}},{"$f":"[2]总成绩!C14","v":{"v":79.5941333333333,"d":"79.594133"}},{"$f":"[2]总成绩!E14","v":{"v":84,"d":"84.00"}},{"$f":"[2]上报规范!G16","v":{"v":0.666666666666667,"d":"66.67%"}},{"$f":"[2]上报规范!F16","v":{"v":85.0796433333334,"d":"85.0796"}},"-",{"$f":"[2]上报规范!H16","v":{"v":76.9,"d":"76.90"}},"-","无"]
[38,{"$f":"[2]总成绩!A18","v":2016011682},{"$f":"[2]总成绩!B18","v":"周礼萌"},{"$f":"[2]总成绩!D18","v":105.329032},{"$f":"[2]总成绩!C18","v":{"v":79.0148,"d":"79.014800"}},{"$f":"[2]总成绩!E18","v":{"v":86.1,"d":"86.10"}},{"$f":"[2]上报规范!G20","v":{"v":0.80952380952381,"d":"80.95%"}},{"$f":"[2]上报规范!F20","v":{"v":84.9861664,"d":"84.9862"}},"-",{"$f":"[2]上报规范!H20","v":{"v":72.8,"d":"72.80"}},{"$f":"[2]总成绩!I18","v":2},"无"]
[39,{"$f":"[1]总成绩!A13","v":2016011712},{"$f":"[1]总成绩!B13","v":"张嘉怡"},{"$f":"[1]总成绩!D13","v":{"v":106.648,"d":"106.648000"}},{"$f":"[1]总成绩!C13","v":{"v":79.7350943396227,"d":"79.735094"}},{"$f":"[1]总成绩!E13","v":{"v":77.1,"d":"77.10"}},{"$f":"[1]总成绩!G13","v":{"v":0.636363636363636,"d":"63.64%"}},{"$f":"[1]总成绩!F13","v":{"v":84.8541660377359,"d":"84.8542"}},"-",{"$f":"[1]总成绩!H13","v":{"v":66.1,"d":"66.10"}},"-","无"]
[40,{"$f":"[1]总成绩!A2","v":"2016011700"},{"$f":"[1]总成绩!B2","v":"高兴"},{"$f":"[1]总成绩!D2","v":{"v":104.724,"d":"104.724000"}},{"$f":"[1]总成绩!C2","v":{"v":79.4096,"d":"79.409600"}},{"$f":"[1]总成绩!E2","v":{"v":83.1,"d":"83.10"}},{"$f":"[1]总成绩!G2","v":{"v":0.666666666666667,"d":"66.67%"}},{"$f":"[1]总成绩!F2","v":{"v":84.84152,"d":"84.8415"}},{"$f":"[1]总成绩!J2","v":526},{"$f":"[1]总成绩!H2","v":{"v":75.4,"d":"75.40"}},{"$f":"[1]总成绩!I2","v":1},"无"]
[41,{"$f":"[2]总成绩!A4","v":2016011667},{"$f":"[2]总成绩!B4","v":"高佩茵"},{"$f":"[2]总成绩!D4","v":103.833333},{"$f":"[2]总成绩!C4","v":{"v":79.6612,"d":"79.661200"}},{"$f":"[2]总成绩!E4","v":{"v":82.5,"d":"82.50"}},{"$f":"[2]上报规范!G6","v":{"v":0.761904761904762,"d":"76.19%"}},{"$f":"[2]上报规范!F6","v":{"v":84.7795066,"d":"84.7795"}},"-",{"$f":"[2]上报规范!H6","v":{"v":78.4,"d":"78.40"}},{"$f":"[2]总成绩!I4","v":2},"无"]
[42,{"$f":"[2]总成绩!A9","v":2016011672},{"$f":"[2]总成绩!B9","v":"王琪"},{"$f":"[2]总成绩!D9","v":{"v":105.41875,"d":"105.418750"}},{"$f":"[2]总成绩!C9","v":{"v":77.7858156028369,"d":"77.785816"}},{"$f":"[2]总成绩!E9","v":{"v":91.2,"d":"91.20"}},{"$f":"[2]上报规范!G11","v":{"v":0.65,"d":"65.00%"}},{"$f":"[2]上报规范!F11","v":{"v":84.6538209219858,"d":"84.6538"}},"-",{"$f":"[2]上报规范!H11","v":{"v":74.1,"d":"74.10"}},{"$f":"[2]总成绩!I9","v":1},"无"]
[43,{"$f":"[2]总成绩!A16","v":2016011680},{"$f":"[2]总成绩!B16","v":"张诗琳"},{"$f":"[2]总成绩!D16","v":105.135484},{"$f":"[2]总成绩!C16","v":{"v":78.6405319148936,"d":"78.640532"}},{"$f":"[2]总成绩!E16","v":{"v":85.5,"d":"85.50"}},{"$f":"[2]上报规范!G18","v":{"v":0.75,"d":"75.00%"}},{"$f":"[2]上报规范!F18","v":{"v":84.6254691404255,"d":"84.6255"}},"-",{"$f":"[2]上报规范!H18","v":{"v":75.4,"d":"75.40"}},{"$f":"[2]总成绩!I16","v":2},"无"]
[44,{"$f":"[2]总成绩!A32","v":2016011698},{"$f":"[2]总成绩!B32","v":"张延奇"},{"$f":"[2]总成绩!D32","v":105.137931},{"$f":"[2]总成绩!C32","v":{"v":78.2848,"d":"78.284800"}},{"$f":"[2]总成绩!E32","v":{"v":87.9,"d":"87.90"}},{"$f":"[2]上报规范!G34","v":{"v":0.571428571428571,"d":"57.14%"}},{"$f":"[2]上报规范!F34","v":{"v":84.6169462,"d":"84.6169"}},577,{"$f":"[2]上报规范!H34","v":{"v":81,"d":"81.00"}},"-","无"]
[45,{"$f":"[1]总成绩!A29","v":2016011729},{"$f":"[1]总成绩!B29","v":"王林"},{"$f":"[1]总成绩!D29","v":{"v":103.414,"d":"103.414000"}},{"$f":"[1]总成绩!C29","v":{"v":80.3359748427673,"d":"80.335975"}},{"$f":"[1]总成绩!E29","v":{"v":76.2,"d":"76.20"}},{"$f":"[1]总成绩!G29","v":{"v":0.590909090909091,"d":"59.09%"}},{"$f":"[1]总成绩!F29","v":{"v":84.5379823899371,"d":"84.5380"}},"-",{"$f":"[1]总成绩!H29","v":{"v":71,"d":"71.00"}},"-","无"]
[46,{"$f":"[1]总成绩!A23","v":2016011722},{"$f":"[1]总成绩!B23","v":"李芬达"},{"$f":"[1]总成绩!D23","v":{"v":105.944,"d":"105.944000"}},{"$f":"[1]总成绩!C23","v":{"v":77.584,"d":"77.584000"}},{"$f":"[1]总成绩!E23","v":{"v":89.1,"d":"89.10"}},{"$f":"[1]总成绩!G23","v":{"v":0.476190476190476,"d":"47.62%"}},{"$f":"[1]总成绩!F23","v":84.4076},"-",{"$f":"[1]总成绩!H23","v":{"v":77.5,"d":"77.50"}},{"$f":"[1]总成绩!I23","v":1},"无"]
[47,{"$f":"[2]总成绩!A19","v":2016011683},{"$f":"[2]总成绩!B19","v":"朱姝"},{"$f":"[2]总成绩!D19","v":101.851613},{"$f":"[2]总成绩!C19","v":{"v":80.1148936170213,"d":"80.114894"}},{"$f":"[2]总成绩!E19","v":{"v":78.9,"d":"78.90"}},{"$f":"[2]上报规范!G21","v":{"v":0.7,"d":"70.00%"}},{"$f":"[2]上报规范!F21","v":{"v":84.3407481319149,"d":"84.3407"}},"-",{"$f":"[2]上报规范!H21","v":{"v":79.9,"d":"79.90"}},"-","无"]
[48,{"$f":"[1]总成绩!A30","v":2016011730},{"$f":"[1]总成绩!B30","v":"杨鹏"},{"$f":"[1]总成绩!D30","v":{"v":105.787,"d":"105.787000"}},{"$f":"[1]总成绩!C30","v":{"v":77.368,"d":"77.368000"}},{"$f":"[1]总成绩!E30","v":{"v":90,"d":"90.00"}},{"$f":"[1]总成绩!G30","v":{"v":0.714285714285714,"d":"71.43%"}},{"$f":"[1]总成绩!F30","v":{"v":84.315,"d":"84.3150"}},"-",{"$f":"[1]总成绩!H30","v":{"v":82.3,"d":"82.30"}},"-","无"]
[49,{"$f":"[1]总成绩!A14","v":2016011713},{"$f":"[1]总成绩!B14","v":"张琳楠"},{"$f":"[1]总成绩!D14","v":{"v":99,"d":"99.000000"}},{"$f":"[1]总成绩!C14","v":{"v":79.3851572327044,"d":"79.385157"}},{"$f":"[1]总成绩!E14","v":{"v":83.1,"d":"83.10"}},{"$f":"[1]总成绩!G14","v":{"v":0.681818181818182,"d":"68.18%"}},{"$f":"[1]总成绩!F14","v":{"v":83.6796100628931,"d":"83.6796"}},"-",{"$f":"[1]总成绩!H14","v":{"v":72,"d":"72.00"}},{"$f":"[1]总成绩!I14","v":1},"无"]
[50,{"$f":"[2]总成绩!A11","v":2016011675},{"$f":"[2]总成绩!B11","v":"魏嘉琪"},{"$f":"[2]总成绩!D11","v":{"v":105.2,"d":"105.200000"}},{"$f":"[2]总成绩!C11","v":{"v":76.8512,"d":"76.851200"}},{"$f":"[2]总成绩!E11","v":{"v":87.3,"d":"87.30"}},{"$f":"[2]上报规范!G13","v":{"v":0.666666666666667,"d":"66.67%"}},{"$f":"[2]上报规范!F13","v":{"v":83.56584,"d":"83.5658"}},"-",{"$f":"[2]上报规范!H13","v":{"v":79.2,"d":"79.20"}},{"$f":"[2]总成绩!I11","v":2},"无"]
[51,{"$f":"[1]总成绩!A26","v":2016011726},{"$f":"[1]总成绩!B26","v":"宋磊"},{"$f":"[1]总成绩!D26","v":{"v":104.979,"d":"104.979000"}},{"$f":"[1]总成绩!C26","v":{"v":74.2157412398922,"d":"74.215741"}},{"$f":"[1]总成绩!E26","v":{"v":83.7,"d":"83.70"}},{"$f":"[1]总成绩!G26","v":{"v":0.5,"d":"50.00%"}},{"$f":"[1]总成绩!F26","v":{"v":81.3168188679245,"d":"81.3168"}},"-",{"$f":"[1]总成绩!H26","v":{"v":73,"d":"73.00"}},{"$f":"[1]总成绩!I26","v":2},"无"]
[52,{"$f":"[1]总成绩!A12","v":2016011711},{"$f":"[1]总成绩!B12","v":"易叶清"},{"$f":"[1]总成绩!D12","v":{"v":98.261,"d":"98.261000"}},{"$f":"[1]总成绩!C12","v":{"v":76.1584,"d":"76.158400"}},{"$f":"[1]总成绩!E12","v":{"v":82.3,"d":"82.30"}},{"$f":"[1]总成绩!G12","v":{"v":0.619047619047619,"d":"61.90%"}},{"$f":"[1]总成绩!F12","v":{"v":81.19308,"d":"81.1931"}},{"$f":"[1]总成绩!J12","v":484},{"$f":"[1]总成绩!H12","v":{"v":78.4,"d":"78.40"}},{"$f":"[1]总成绩!I12","v":2},"无"]
[53,{"$f":"[2]总成绩!A21","v":2016011686},{"$f":"[2]总成绩!B21","v":"姜丰"},{"$f":"[2]总成绩!D21","v":{"v":73.46875,"d":"73.468750"}},{"$f":"[2]总成绩!C21","v":{"v":82.8,"d":"82.800000"}},{"$f":"[2]总成绩!E21","v":{"v":81.6,"d":"81.60"}},{"$f":"[2]上报规范!G23","v":{"v":0.684210526315789,"d":"68.42%"}},{"$f":"[2]上报规范!F23","v":{"v":80.81375,"d":"80.8138"}},"-",{"$f":"[2]上报规范!H23","v":{"v":61.2,"d":"61.20"}},{"$f":"[2]总成绩!I21","v":1},"严重警告"]
[54,{"$f":"[1]总成绩!A19","v":2016011718},{"$f":"[1]总成绩!B19","v":"阿拉帕提·塔拉甫"},{"$f":"[1]总成绩!D19","v":{"v":106.318,"d":"106.318000"}},{"$f":"[1]总成绩!C19","v":{"v":71.4994666666667,"d":"71.499467"}},{"$f":"[1]总成绩!E19","v":{"v":85.8,"d":"85.80"}},{"$f":"[1]总成绩!G19","v":{"v":0.428571428571429,"d":"42.86%"}},{"$f":"[1]总成绩!F19","v":{"v":79.8932266666667,"d":"79.8932"}},"-",{"$f":"[1]总成绩!H19","v":{"v":77.1,"d":"77.10"}},{"$f":"[1]总成绩!I19","v":2},"无"]
[55,{"$f":"[2]总成绩!A20","v":2016011684},{"$f":"[2]总成绩!B20","v":"陈宇暄"},{"$f":"[2]总成绩!D20","v":{"v":98.1034483,"d":"98.103448"}},{"$f":"[2]总成绩!C20","v":{"v":75.0700709219858,"d":"75.070071"}},{"$f":"[2]总成绩!E20","v":{"v":77.1,"d":"77.10"}},{"$f":"[2]上报规范!G22","v":{"v":0.7,"d":"70.00%"}},{"$f":"[2]上报规范!F22","v":{"v":79.8797393053901,"d":"79.8797"}},562,{"$f":"[2]上报规范!H22","v":{"v":59.6,"d":"59.60"}},{"$f":"[2]总成绩!I20","v":2},"无"]
[56,{"$f":"[2]总成绩!A27","v":2016011692},{"$f":"[2]总成绩!B27","v":"马鑫"},{"$f":"[2]总成绩!D27","v":{"v":96.93,"d":"96.930000"}},{"$f":"[2]总成绩!C27","v":{"v":72.6765957446809,"d":"72.676596"}},{"$f":"[2]总成绩!E27","v":{"v":93.3,"d":"93.30"}},{"$f":"[2]上报规范!G29","v":{"v":0.45,"d":"45.00%"}},{"$f":"[2]上报规范!F29","v":{"v":79.5896170212766,"d":"79.5896"}},"-",{"$f":"[2]上报规范!H29","v":{"v":75.2,"d":"75.20"}},{"$f":"[2]总成绩!I27","v":2},"无"]
[57,{"$f":"[2]总成绩!A26","v":2016011691},{"$f":"[2]总成绩!B26","v":"卢雨松"},{"$f":"[2]总成绩!D26","v":{"v":103.6,"d":"103.600000"}},{"$f":"[2]总成绩!C26","v":{"v":71.0853333333333,"d":"71.085333"}},{"$f":"[2]总成绩!E26","v":{"v":86.4,"d":"86.40"}},{"$f":"[2]上报规范!G28","v":{"v":0.380952380952381,"d":"38.10%"}},{"$f":"[2]上报规范!F28","v":{"v":79.1197333333333,"d":"79.1197"}},"-",{"$f":"[2]上报规范!H28","v":{"v":74.6,"d":"74.60"}},{"$f":"[2]总成绩!I26","v":1},"无"]
[58,{"$f":"[2]总成绩!A22","v":2016011687},{"$f":"[2]总成绩!B22","v":"解启星"},{"$f":"[2]总成绩!D22","v":{"v":98.46875,"d":"98.468750"}},{"$f":"[2]总成绩!C22","v":{"v":71.3049645390071,"d":"71.304965"}},{"$f":"[2]总成绩!E22","v":{"v":89.4,"d":"89.40"}},{"$f":"[2]上报规范!G24","v":{"v":0.45,"d":"45.00%"}},{"$f":"[2]上报规范!F24","v":{"v":78.547225177305,"d":"78.5472"}},"-",{"$f":"[2]上报规范!H24","v":{"v":71,"d":"71.00"}},{"$f":"[2]总成绩!I22","v":2},"无"]
[59,{"$f":"[2]总成绩!A15","v":2016011679},{"$f":"[2]总成绩!B15","v":"张铭"},{"$f":"[2]总成绩!D15","v":{"v":98.125,"d":"98.125000"}},{"$f":"[2]总成绩!C15","v":{"v":71.1627450980392,"d":"71.162745"}},{"$f":"[2]总成绩!E15","v":{"v":82.8,"d":"82.80"}},{"$f":"[2]上报规范!G17","v":{"v":0.619047619047619,"d":"61.90%"}},{"$f":"[2]上报规范!F17","v":{"v":77.7189215686275,"d":"77.7189"}},"-",{"$f":"[2]上报规范!H17","v":{"v":73.2,"d":"73.20"}},{"$f":"[2]总成绩!I15","v":2},"无"]
[60,{"$f":"[1]总成绩!A27","v":2016011727},{"$f":"[1]总成绩!B27","v":"孙健淞"},{"$f":"[1]总成绩!D27","v":{"v":107.049,"d":"107.049000"}},{"$f":"[1]总成绩!C27","v":{"v":65.7016666666667,"d":"65.701667"}},{"$f":"[1]总成绩!E27","v":{"v":77.4,"d":"77.40"}},{"$f":"[1]总成绩!G27","v":{"v":0.5,"d":"50.00%"}},{"$f":"[1]总成绩!F27","v":{"v":75.1409666666667,"d":"75.1410"}},"-",{"$f":"[1]总成绩!H27","v":{"v":65.1,"d":"65.10"}},{"$f":"[1]总成绩!I27","v":4},"无"]
[61,{"$f":"[2]总成绩!A23","v":2016011688},"喀吾萨尔·买买提敏",{"$f":"[2]总成绩!D23","v":{"v":73.65265,"d":"73.652650"}},{"$f":"[2]总成绩!C23","v":{"v":68.3992,"d":"68.399200"}},{"$f":"[2]总成绩!E23","v":{"v":84.6,"d":"84.60"}},{"$f":"[2]上报规范!G25","v":{"v":0.333333333333333,"d":"33.33%"}},{"$f":"[2]上报规范!F25","v":{"v":71.06997,"d":"71.0700"}},"-",{"$f":"[2]上报规范!H25","v":{"v":70.6,"d":"70.60"}},{"$f":"[2]总成绩!I23","v":2},"严重警告"]

{"sheet":"Sheet2","index":1,"n_rows":0,"n_cols":0,"rows_kept":0}

{"sheet":"Sheet3","index":2,"n_rows":0,"n_cols":0,"rows_kept":0}