{"text_format":"3","workbook":"xlsx","n_sheets":1,"sheets":["Sheet1"],"not_rendered":{"external_links":1},"read":"whole","date_system":"1900"}

{"sheet":"Sheet1","index":0,"n_rows":23,"n_cols":21,"rows_kept":23,"merged":[[0,0,0,20],[2,1,2,2],[2,9,2,12],[5,7,19,7],[5,14,19,14]]}
["第七分党校第6期入党积极分子培训班坐位平面图(2-101)"]
[]
[null,"门口",{"$nulls":7},"讲台"]
[]
["列号\n排号",1,2,3,4,5,6,null,7,8,9,10,11,12,null,13,14,15,16,17,18]
[1,"唐敏","贾伟","覃昌焱","冯亚汝","王佳琳","何俊丽","过\n\n\n\n道","姜仁杰","李星辰","叶梅子","王菲","肖继星","太明霞","过\n\n\n\n道",{"$f":"[1]校内学员!B3","v":"郭珂"},{"$f":"[1]校内学员!B4","v":"刘亿魁"},{"$f":"[1]校内学员!B5","v":"许雅如"},{"$f":"[1]校内学员!B6","v":"金康丽"},{"$f":"[1]校内学员!B7","v":"刘萌萌"},{"$f":"[1]校内学员!B8","v":"薛同晖"}]
[2,"赵洲","张怡雯","袁思琦","张衡","王欣玲","王佳伟",null,"崔建康","张川","周启萌","段泓安妮","吴瑶","余静",null,{"$f":"[1]校内学员!B9","v":"孟令刚"},{"$f":"[1]校内学员!B10","v":"施文可"},{"$f":"[1]校内学员!B11","v":"潘彩文"},{"$f":"[1]校内学员!B12","v":"甄笑笑"},{"$f":"[1]校内学员!B13","v":"石丽杰"},{"$f":"[1]校内学员!B14","v":"孙丰涛"}]
[3,"刘忻颜","姚江南","李壮","王鹏伦","德嘎","刘清华",null,"赵滢","刘书岚","魏玉娟","左文雯","罗雪心","王彪",null,{"$f":"[1]校内学员!B15","v":"谭翔"},{"$f":"[1]校内学员!B16","v":"王鹏"},{"$f":"[1]校内学员!B17","v":"任嘉"},{"$f":"[1]校内学员!B18","v":"张鹏"},{"$f":"[1]校内学员!B19","v":"孙琦"},{"$f":"[1]校内学员!B20","v":"李文景"}]
[4,"吴志强","李沁桐","丁乐南","康娜","李梦雨","张威",null,"周雨洪","朱太康","林津亦","刘登敏","冯异立","刘天宇",null,{"$f":"[1]校内学员!B21","v":"杨美艳"},{"$f":"[1]校内学员!B22","v":"刘伯瑜"},{"$f":"[1]校内学员!B23","v":"牛越"},{"$f":"[1]校内学员!B24","v":"陶洁"},{"$f":"[1]校内学员!B25","v":"潘梦瑶"},{"$f":"[1]校内学员!B26","v":"周宇婷"}]
[5,"闫丽辰","张安琪","杨新强","韩怡婷","王佳韵","汪烨",null,"刘思远","许多","李博文","李唯嘉","高茗萱","扈语伦",null,{"$f":"[1]校内学员!B27","v":"郑铎"},{"$f":"[1]校内学员!B28","v":"赵颖"},{"$f":"[1]校内学员!B29","v":"陈缘"},{"$f":"[1]校内学员!B30","v":"王俊翔"},{"$f":"[1]校内学员!B31","v":"张天玮"},{"$f":"[1]校内学员!B32","v":"程子云"}]
[6,"袁琳","周礼萌","陈萌","王博文","李鑫","黄逸群",null,"任悦","巫佳潞","宋佳","王超人","胡晔南","赵晨旭",null,{"$f":"[1]校内学员!B33","v":"苏航"},{"$f":"[1]校内学员!B34","v":"刘敦卿"},{"$f":"[1]校内学员!B35","v":"金玲"},{"$f":"[1]校内学员!B36","v":"于林姣"},{"$f":"[1]校内学员!B37","v":"宋志鹏"},{"$f":"[1]校内学员!B38","v":"赵清"}]
[7,"姚琼","李嘉豪","杜佳宁","赵丛雨","张昊煜","胡娜",null,"黄晨","胡紫阳","刘建英","李敏之","邹婉佳","徐晗",null,{"$f":"[1]校内学员!B39","v":"陈杰"},{"$f":"[1]校内学员!B40","v":"易雄健"},{"$f":"[1]校内学员!B41","v":"刘玉梅"},{"$f":"[1]校内学员!B42","v":"蔡勇"},{"$f":"[1]校内学员!B43","v":"沈浩"},{"$f":"[1]校内学员!B44","v":"田亚凯"}]
[8,"惠佳钰","王立顺","徐瑞","孟椿雨","刘文博","池月婷",null,"刘扬","谭源","周敏","卢思羽",{"$nulls":3},{"$f":"[1]校内学员!B45","v":"朱林"},{"$f":"[1]校内学员!B46","v":"王天昊"},{"$f":"[1]校内学员!B47","v":"尹龙"},{"$f":"[1]校内学员!B48","v":"蔡剑锋"},{"$f":"[1]校内学员!B49","v":"王建兴"}]
[9,"陈果","李瑞"]
[10]
[11]
[12]
[13]
[14]
[15]
[null,"本15级-17人",null,"本16级-29人",null,"本14级-4人",null,null,"本17级-32人",null,"研16级-8人",null,"研17级-6人",{"$nulls":4},"科学研究院-47人"]
[]
[{"$nulls":10},"总计143人"]